{"text_format":"1","workbook":"xlsx","n_sheets":7,"sheets":["Results 2023","Handicaps","Club Championship Standings","Team Competition Standings","WHS","Courses","Matchplay Tournament 2023"],"not_rendered":{"charts":0,"images":0,"macros":1,"external_links":0,"defined_names":124,"comments":2,"pivot_tables":0},"unopened":[],"bounds":{"document_bytes":16777216,"sheet_cells":100000,"rows_first":2000,"rows_last":500,"rows_between":2000,"halvings":0,"cell_chars":16384,"cell_head_chars":4096},"cells_cut":0,"cells_raw":0,"read":"whole","date_system":"1900"}

{"sheet":"Results 2023","index":0,"n_rows":352,"n_cols":72,"rows_kept":352,"cut":false,"hidden":false,"merged":[[0,57,0,60]]}
[null,"Players Name",null,"Avg Score","Plyd","Score","Pfaffing","Erding","Reichertshausen","Tegernbach","Iffeldorf","Thailing","Odelzhausen","Aschheim","Garmisch","Erding","Thailing","Iffeldorf","Tegernbach","Pfaffing","Reichertshausen","Aschheim",null,null,null,null,null,null,null,null,null,null,null,null,null,null,null,null,null,null,null,null,null,null,null,null,null,null,null,null,null,null,null,null,null,null,null,"CC: Best 4 Scores",null,null,null,"TieBreak",null,null,null,"Played","Total Pts",null,"1st  ","2nd  ","3rd  ","Prize"]
[null,null,null,null,null,null,"2023-03-26","2023-04-02","2023-04-07","2023-04-14","2023-04-23","2023-04-26","2023-05-07","2023-05-10","2023-05-19","2023-05-28","2023-05-31","2023-06-04","2023-06-09","2023-06-18","2023-06-23","2023-06-28",null,null,null,null,null,null,null,null,null,null,null,null,null,null,null,null,null,null,null,null,null,null,null,null,null,null,null,null,null,null,null,null,null,null,null,"1st","2nd","3rd","4th","5th","6th","Total","Rank","CC",null,null,15,10,5,"Money"]
[null,"Anderson","David",{"$f":"IF(BN3=0,0,BO3/BN3)","v":0},{"$f":"COUNT(G3:AW3)","v":0},"S'ford",null,null,null,null,null,null,null,null,null,null,null,null,null,null,null,null,null,null,null,null,null,null,null,null,null,null,null,null,null,null,null,null,null,null,null,null,null,null,null,null,null,null,null,null,null,null,null,null,null,null,null,{"$f":"IF($BN3<1,0,LARGE($G3:$AW3,1))","v":0},{"$f":"IF($BN3<2,0,LARGE($G3:$AW3,2))","v":0},{"$f":"IF($BN3<3,0,LARGE($G3:$AW3,3))","v":0},{"$f":"IF($BN3<4,0,LARGE($G3:$AW3,4))","v":0},null,null,{"$f":"SUM(BF3:BI3)","v":0},{"$f":"RANK(BL3,$BL$3:$BL$279,0)","v":39},{"$f":"COUNT(G3:AW3)","v":0},{"$f":"SUM(G3:AW3)","v":0},null,null,null,null,{"$f":"(BQ3*$BQ$2)+(BR3*$BR$2)+(BS3*$BS$2)","v":0}]
[null,null,null,null,null,"Ad Gr",null,null,null,null,null,null,89]
[null,null,null,null,null,"Place",null,null,null,null,null,null,null,null,null,null,null,null,null,null,null,null,null,null,null,null,null,null,null,null,null,null,null,null,null,null,null,null,null,null,null,null,null,null,null,null,null,null,null,null,null,null,null,null,null,null,null,null,null,null,null,null,null,null,null,null,null,null,{"$f":"COUNTIF($G5:$AW5,\"=1\")","v":0},{"$f":"COUNTIF($G5:$AW5,\"=2\")","v":0},{"$f":"COUNTIF($G5:$AW5,\"=3\")","v":0}]
[null,"Bacelic","Danijel",{"$f":"IF(BN6=0,0,BO6/BN6)","v":0},{"$f":"COUNT(G6:AW6)","v":0},"S'ford",null,null,null,null,null,null,null,null,null,null,null,null,null,null,null,null,null,null,null,null,null,null,null,null,null,null,null,null,null,null,null,null,null,null,null,null,null,null,null,null,null,null,null,null,null,null,null,null,null,null,null,{"$f":"IF($BN6<1,0,LARGE($G6:$AW6,1))","v":0},{"$f":"IF($BN6<2,0,LARGE($G6:$AW6,2))","v":0},{"$f":"IF($BN6<3,0,LARGE($G6:$AW6,3))","v":0},{"$f":"IF($BN6<4,0,LARGE($G6:$AW6,4))","v":0},null,null,{"$f":"SUM(BF6:BI6)","v":0},{"$f":"RANK(BL6,$BL$3:$BL$279,0)","v":39},{"$f":"COUNT(G6:AW6)","v":0},{"$f":"SUM(G6:AW6)","v":0},null,null,null,null,{"$f":"(BQ6*$BQ$2)+(BR6*$BR$2)+(BS6*$BS$2)","v":0}]
[null,null,null,null,null,"Ad Gr",null,null,null,null,null,null,null,null,118,106,null,null,110]
[null,null,null,null,null,"Place",null,null,null,null,null,null,null,null,null,null,null,null,null,null,null,null,null,null,null,null,null,null,null,null,null,null,null,null,null,null,null,null,null,null,null,null,null,null,null,null,null,null,null,null,null,null,null,null,null,null,null,null,null,null,null,null,null,null,null,null,null,null,{"$f":"COUNTIF($G8:$AW8,\"=1\")","v":0},{"$f":"COUNTIF($G8:$AW8,\"=2\")","v":0},{"$f":"COUNTIF($G8:$AW8,\"=3\")","v":0}]
[null,"Bacelic","Samira",{"$f":"IF(BN9=0,0,BO9/BN9)","v":0},{"$f":"COUNT(G9:AW9)","v":0},"S'ford",null,null,null,null,null,null,null,null,null,null,null,null,null,null,null,null,null,null,null,null,null,null,null,null,null,null,null,null,null,null,null,null,null,null,null,null,null,null,null,null,null,null,null,null,null,null,null,null,null,null,null,{"$f":"IF($BN9<1,0,LARGE($G9:$AW9,1))","v":0},{"$f":"IF($BN9<2,0,LARGE($G9:$AW9,2))","v":0},{"$f":"IF($BN9<3,0,LARGE($G9:$AW9,3))","v":0},{"$f":"IF($BN9<4,0,LARGE($G9:$AW9,4))","v":0},null,null,{"$f":"SUM(BF9:BI9)","v":0},{"$f":"RANK(BL9,$BL$3:$BL$279,0)","v":39},{"$f":"COUNT(G9:AW9)","v":0},{"$f":"SUM(G9:AW9)","v":0},null,null,null,null,{"$f":"(BQ9*$BQ$2)+(BR9*$BR$2)+(BS9*$BS$2)","v":0}]
[null,null,null,null,null,"Ad Gr"]
[null,null,null,null,null,"Place",null,null,null,null,null,null,null,null,null,null,null,null,null,null,null,null,null,null,null,null,null,null,null,null,null,null,null,null,null,null,null,null,null,null,null,null,null,null,null,null,null,null,null,null,null,null,null,null,null,null,null,null,null,null,null,null,null,null,null,null,null,null,{"$f":"COUNTIF($G11:$AW11,\"=1\")","v":0},{"$f":"COUNTIF($G11:$AW11,\"=2\")","v":0},{"$f":"COUNTIF($G11:$AW11,\"=3\")","v":0}]
[null,"Bargna","David ",{"$f":"IF(BN12=0,0,BO12/BN12)","v":30.4},{"$f":"COUNT(G12:AW12)","v":5},"S'ford",31,null,null,null,null,34,null,28,null,null,35,24,null,null,null,null,null,null,null,null,null,null,null,null,null,null,null,null,null,null,null,null,null,null,null,null,null,null,null,null,null,null,null,null,null,null,null,null,null,null,null,{"$f":"IF($BN12<1,0,LARGE($G12:$AW12,1))","v":35},{"$f":"IF($BN12<2,0,LARGE($G12:$AW12,2))","v":34},{"$f":"IF($BN12<3,0,LARGE($G12:$AW12,3))","v":31},{"$f":"IF($BN12<4,0,LARGE($G12:$AW12,4))","v":28},{"$f":"IF($BN12<5,0,LARGE($G12:$AW12,5))","v":24},{"$f":"IF($BN12<6,0,LARGE($G12:$AW12,6))","v":0},{"$f":"SUM(BF12:BI12)","v":128},{"$f":"RANK(BL12,$BL$3:$BL$279,0)","v":8},{"$f":"COUNT(G12:AW12)","v":5},{"$f":"SUM(G12:AW12)","v":152},null,null,null,null,{"$f":"(BQ12*$BQ$2)+(BR12*$BR$2)+(BS12*$BS$2)","v":0}]
[null,null,null,null,null,"Ad Gr",92,null,null,null,null,87,null,93,null,null,85,95]
[null,null,null,null,null,"Place",null,null,null,null,null,null,null,null,null,null,1,null,null,null,null,null,null,null,null,null,null,null,null,null,null,null,null,null,null,null,null,null,null,null,null,null,null,null,null,null,null,null,null,null,null,null,null,null,null,null,null,null,null,null,null,null,null,null,null,null,null,null,{"$f":"COUNTIF($G14:$AW14,\"=1\")","v":1},{"$f":"COUNTIF($G14:$AW14,\"=2\")","v":0},{"$f":"COUNTIF($G14:$AW14,\"=3\")","v":0}]
[null,"Bennett","Lee",{"$f":"IF(BN15=0,0,BO15/BN15)","v":0},{"$f":"COUNT(G15:AW15)","v":0},"S'ford",null,null,null,null,null,null,null,null,null,null,null,null,null,null,null,null,null,null,null,null,null,null,null,null,null,null,null,null,null,null,null,null,null,null,null,null,null,null,null,null,null,null,null,null,null,null,null,null,null,null,null,{"$f":"IF($BN15<1,0,LARGE($G15:$AW15,1))","v":0},{"$f":"IF($BN15<2,0,LARGE($G15:$AW15,2))","v":0},{"$f":"IF($BN15<3,0,LARGE($G15:$AW15,3))","v":0},{"$f":"IF($BN15<4,0,LARGE($G15:$AW15,4))","v":0},null,null,{"$f":"SUM(BF15:BI15)","v":0},{"$f":"RANK(BL15,$BL$3:$BL$279,0)","v":39},{"$f":"COUNT(G15:AW15)","v":0},{"$f":"SUM(G15:AW15)","v":0},null,null,null,null,{"$f":"(BQ15*$BQ$2)+(BR15*$BR$2)+(BS15*$BS$2)","v":0}]
[null,null,null,null,null,"Ad Gr"]
[null,null,null,null,null,"Place",null,null,null,null,null,null,null,null,null,null,null,null,null,null,null,null,null,null,null,null,null,null,null,null,null,null,null,null,null,null,null,null,null,null,null,null,null,null,null,null,null,null,null,null,null,null,null,null,null,null,null,null,null,null,null,null,null,null,null,null,null,null,{"$f":"COUNTIF($G17:$AW17,\"=1\")","v":0},{"$f":"COUNTIF($G17:$AW17,\"=2\")","v":0},{"$f":"COUNTIF($G17:$AW17,\"=3\")","v":0}]
[null,"Breed","Geoff",{"$f":"IF(BN18=0,0,BO18/BN18)","v":0},{"$f":"COUNT(G18:AW18)","v":0},"S'ford",null,null,null,null,null,null,null,null,null,null,null,null,null,null,null,null,null,null,null,null,null,null,null,null,null,null,null,null,null,null,null,null,null,null,null,null,null,null,null,null,null,null,null,null,null,null,null,null,null,null,null,{"$f":"IF($BN18<1,0,LARGE($G18:$AW18,1))","v":0},{"$f":"IF($BN18<2,0,LARGE($G18:$AW18,2))","v":0},{"$f":"IF($BN18<3,0,LARGE($G18:$AW18,3))","v":0},{"$f":"IF($BN18<4,0,LARGE($G18:$AW18,4))","v":0},null,null,{"$f":"SUM(BF18:BI18)","v":0},{"$f":"RANK(BL18,$BL$3:$BL$279,0)","v":39},{"$f":"COUNT(G18:AW18)","v":0},{"$f":"SUM(G18:AW18)","v":0},null,null,null,null,{"$f":"(BQ18*$BQ$2)+(BR18*$BR$2)+(BS18*$BS$2)","v":0}]
[null,null,null,null,null,"Ad Gr",null,null,null,null,null,null,null,null,92,99]
[null,null,null,null,null,"Place",null,null,null,null,null,null,null,null,null,null,null,null,null,null,null,null,null,null,null,null,null,null,null,null,null,null,null,null,null,null,null,null,null,null,null,null,null,null,null,null,null,null,null,null,null,null,null,null,null,null,null,null,null,null,null,null,null,null,null,null,null,null,{"$f":"COUNTIF($G20:$AW20,\"=1\")","v":0},{"$f":"COUNTIF($G20:$AW20,\"=2\")","v":0},{"$f":"COUNTIF($G20:$AW20,\"=3\")","v":0}]
[null,"Britnell","Simon",{"$f":"IF(BN21=0,0,BO21/BN21)","v":34},{"$f":"COUNT(G21:AW21)","v":3},"S'ford",38,null,null,null,null,null,32,null,null,null,null,32,null,null,null,null,null,null,null,null,null,null,null,null,null,null,null,null,null,null,null,null,null,null,null,null,null,null,null,null,null,null,null,null,null,null,null,null,null,null,null,{"$f":"IF($BN21<1,0,LARGE($G21:$AW21,1))","v":38},{"$f":"IF($BN21<2,0,LARGE($G21:$AW21,2))","v":32},{"$f":"IF($BN21<3,0,LARGE($G21:$AW21,3))","v":32},{"$f":"IF($BN21<4,0,LARGE($G21:$AW21,4))","v":0},null,null,{"$f":"SUM(BF21:BI21)","v":102},{"$f":"RANK(BL21,$BL$3:$BL$279,0)","v":12},{"$f":"COUNT(G21:AW21)","v":3},{"$f":"SUM(G21:AW21)","v":102},null,null,null,null,{"$f":"(BQ21*$BQ$2)+(BR21*$BR$2)+(BS21*$BS$2)","v":0}]
[null,null,null,null,null,"Ad Gr",93,null,null,null,null,null,96,null,null,null,null,95]
[null,null,null,null,null,"Place",null,null,null,null,null,null,2,null,null,null,null,null,null,null,null,null,null,null,null,null,null,null,null,null,null,null,null,null,null,null,null,null,null,null,null,null,null,null,null,null,null,null,null,null,null,null,null,null,null,null,null,null,null,null,null,null,null,null,null,null,null,null,{"$f":"COUNTIF($G23:$AW23,\"=1\")","v":0},{"$f":"COUNTIF($G23:$AW23,\"=2\")","v":1},{"$f":"COUNTIF($G23:$AW23,\"=3\")","v":0}]
[null,"Brogan","Padraig",{"$f":"IF(BN24=0,0,BO24/BN24)","v":38},{"$f":"COUNT(G24:AW24)","v":2},"S'ford",null,null,null,null,null,null,null,null,null,37,null,39,null,null,null,null,null,null,null,null,null,null,null,null,null,null,null,null,null,null,null,null,null,null,null,null,null,null,null,null,null,null,null,null,null,null,null,null,null,null,null,{"$f":"IF($BN24<1,0,LARGE($G24:$AW24,1))","v":39},{"$f":"IF($BN24<2,0,LARGE($G24:$AW24,2))","v":37},{"$f":"IF($BN24<3,0,LARGE($G24:$AW24,3))","v":0},{"$f":"IF($BN24<4,0,LARGE($G24:$AW24,4))","v":0},null,null,{"$f":"SUM(BF24:BI24)","v":76},{"$f":"RANK(BL24,$BL$3:$BL$279,0)","v":22},{"$f":"COUNT(G24:AW24)","v":2},{"$f":"SUM(G24:AW24)","v":76},null,null,null,null,{"$f":"(BQ24*$BQ$2)+(BR24*$BR$2)+(BS24*$BS$2)","v":0}]
[null,null,null,null,null,"Ad Gr",null,null,null,null,null,null,null,null,null,90,null,88]
[null,null,null,null,null,"Place",null,null,null,null,null,null,null,null,null,3,null,2,null,null,null,null,null,null,null,null,null,null,null,null,null,null,null,null,null,null,null,null,null,null,null,null,null,null,null,null,null,null,null,null,null,null,null,null,null,null,null,null,null,null,null,null,null,null,null,null,null,null,{"$f":"COUNTIF($G26:$AW26,\"=1\")","v":0},{"$f":"COUNTIF($G26:$AW26,\"=2\")","v":1},{"$f":"COUNTIF($G26:$AW26,\"=3\")","v":1}]
[null,"Brown","Martin",{"$f":"IF(BN27=0,0,BO27/BN27)","v":0},{"$f":"COUNT(G27:AW27)","v":0},"S'ford",null,null,null,null,null,null,null,null,null,null,null,null,null,null,null,null,null,null,null,null,null,null,null,null,null,null,null,null,null,null,null,null,null,null,null,null,null,null,null,null,null,null,null,null,null,null,null,null,null,null,null,{"$f":"IF($BN27<1,0,LARGE($G27:$AW27,1))","v":0},{"$f":"IF($BN27<2,0,LARGE($G27:$AW27,2))","v":0},{"$f":"IF($BN27<3,0,LARGE($G27:$AW27,3))","v":0},{"$f":"IF($BN27<4,0,LARGE($G27:$AW27,4))","v":0},null,null,{"$f":"SUM(BF27:BI27)","v":0},{"$f":"RANK(BL27,$BL$3:$BL$279,0)","v":39},{"$f":"COUNT(G27:AW27)","v":0},{"$f":"SUM(G27:AW27)","v":0},null,null,null,null,{"$f":"(BQ27*$BQ$2)+(BR27*$BR$2)+(BS27*$BS$2)","v":0}]
[null,null,null,null,null,"Ad Gr"]
[null,null,null,null,null,"Place",null,null,null,null,null,null,null,null,null,null,null,null,null,null,null,null,null,null,null,null,null,null,null,null,null,null,null,null,null,null,null,null,null,null,null,null,null,null,null,null,null,null,null,null,null,null,null,null,null,null,null,null,null,null,null,null,null,null,null,null,null,null,{"$f":"COUNTIF($G29:$AW29,\"=1\")","v":0},{"$f":"COUNTIF($G29:$AW29,\"=2\")","v":0},{"$f":"COUNTIF($G29:$AW29,\"=3\")","v":0}]
[null,"Bull","Greg",{"$f":"IF(BN30=0,0,BO30/BN30)","v":0},{"$f":"COUNT(G30:AW30)","v":0},"S'ford",null,null,null,null,null,null,null,null,null,null,null,null,null,null,null,null,null,null,null,null,null,null,null,null,null,null,null,null,null,null,null,null,null,null,null,null,null,null,null,null,null,null,null,null,null,null,null,null,null,null,null,{"$f":"IF($BN30<1,0,LARGE($G30:$AW30,1))","v":0},{"$f":"IF($BN30<2,0,LARGE($G30:$AW30,2))","v":0},{"$f":"IF($BN30<3,0,LARGE($G30:$AW30,3))","v":0},{"$f":"IF($BN30<4,0,LARGE($G30:$AW30,4))","v":0},null,null,{"$f":"SUM(BF30:BI30)","v":0},{"$f":"RANK(BL30,$BL$3:$BL$279,0)","v":39},{"$f":"COUNT(G30:AW30)","v":0},{"$f":"SUM(G30:AW30)","v":0},null,null,null,null,{"$f":"(BQ30*$BQ$2)+(BR30*$BR$2)+(BS30*$BS$2)","v":0}]
[null,null,null,null,null,"Ad Gr"]
[null,null,null,null,null,"Place",null,null,null,null,null,null,null,null,null,null,null,null,null,null,null,null,null,null,null,null,null,null,null,null,null,null,null,null,null,null,null,null,null,null,null,null,null,null,null,null,null,null,null,null,null,null,null,null,null,null,null,null,null,null,null,null,null,null,null,null,null,null,{"$f":"COUNTIF($G32:$AW32,\"=1\")","v":0},{"$f":"COUNTIF($G32:$AW32,\"=2\")","v":0},{"$f":"COUNTIF($G32:$AW32,\"=3\")","v":0}]
[null,"Chalk","Paul",{"$f":"IF(BN33=0,0,BO33/BN33)","v":0},{"$f":"COUNT(G33:AW33)","v":0},"S'ford",null,null,null,null,null,null,null,null,null,null,null,null,null,null,null,null,null,null,null,null,null,null,null,null,null,null,null,null,null,null,null,null,null,null,null,null,null,null,null,null,null,null,null,null,null,null,null,null,null,null,null,{"$f":"IF($BN33<1,0,LARGE($G33:$AW33,1))","v":0},{"$f":"IF($BN33<2,0,LARGE($G33:$AW33,2))","v":0},{"$f":"IF($BN33<3,0,LARGE($G33:$AW33,3))","v":0},{"$f":"IF($BN33<4,0,LARGE($G33:$AW33,4))","v":0},null,null,{"$f":"SUM(BF33:BI33)","v":0},{"$f":"RANK(BL33,$BL$3:$BL$279,0)","v":39},{"$f":"COUNT(G33:AW33)","v":0},{"$f":"SUM(G33:AW33)","v":0},null,null,null,null,{"$f":"(BQ33*$BQ$2)+(BR33*$BR$2)+(BS33*$BS$2)","v":0}]
[null,null,null,null,null,"Ad Gr"]
[null,null,null,null,null,"Place",null,null,null,null,null,null,null,null,null,null,null,null,null,null,null,null,null,null,null,null,null,null,null,null,null,null,null,null,null,null,null,null,null,null,null,null,null,null,null,null,null,null,null,null,null,null,null,null,null,null,null,null,null,null,null,null,null,null,null,null,null,null,{"$f":"COUNTIF($G35:$AW35,\"=1\")","v":0},{"$f":"COUNTIF($G35:$AW35,\"=2\")","v":0},{"$f":"COUNTIF($G35:$AW35,\"=3\")","v":0}]
[null,"Cherickel","Ranjith",{"$f":"IF(BN36=0,0,BO36/BN36)","v":0},{"$f":"COUNT(G36:AW36)","v":0},"S'ford",null,null,null,null,null,null,null,null,null,null,null,null,null,null,null,null,null,null,null,null,null,null,null,null,null,null,null,null,null,null,null,null,null,null,null,null,null,null,null,null,null,null,null,null,null,null,null,null,null,null,null,{"$f":"IF($BN36<1,0,LARGE($G36:$AW36,1))","v":0},{"$f":"IF($BN36<2,0,LARGE($G36:$AW36,2))","v":0},{"$f":"IF($BN36<3,0,LARGE($G36:$AW36,3))","v":0},{"$f":"IF($BN36<4,0,LARGE($G36:$AW36,4))","v":0},null,null,{"$f":"SUM(BF36:BI36)","v":0},{"$f":"RANK(BL36,$BL$3:$BL$279,0)","v":39},{"$f":"COUNT(G36:AW36)","v":0},{"$f":"SUM(G36:AW36)","v":0},null,null,null,null,{"$f":"(BQ36*$BQ$2)+(BR36*$BR$2)+(BS36*$BS$2)","v":0}]
[null,null,null,null,null,"Ad Gr"]
[null,null,null,null,null,"Place",null,null,null,null,null,null,null,null,null,null,null,null,null,null,null,null,null,null,null,null,null,null,null,null,null,null,null,null,null,null,null,null,null,null,null,null,null,null,null,null,null,null,null,null,null,null,null,null,null,null,null,null,null,null,null,null,null,null,null,null,null,null,{"$f":"COUNTIF($G38:$AW38,\"=1\")","v":0},{"$f":"COUNTIF($G38:$AW38,\"=2\")","v":0},{"$f":"COUNTIF($G38:$AW38,\"=3\")","v":0}]
[null,"Chester","Allan",{"$f":"IF(BN39=0,0,BO39/BN39)","v":26},{"$f":"COUNT(G39:AW39)","v":3},"S'ford",null,null,null,null,null,null,25,null,19,34,null,null,null,null,null,null,null,null,null,null,null,null,null,null,null,null,null,null,null,null,null,null,null,null,null,null,null,null,null,null,null,null,null,null,null,null,null,null,null,null,null,{"$f":"IF($BN39<1,0,LARGE($G39:$AW39,1))","v":34},{"$f":"IF($BN39<2,0,LARGE($G39:$AW39,2))","v":25},{"$f":"IF($BN39<3,0,LARGE($G39:$AW39,3))","v":19},{"$f":"IF($BN39<4,0,LARGE($G39:$AW39,4))","v":0},null,null,{"$f":"SUM(BF39:BI39)","v":78},{"$f":"RANK(BL39,$BL$3:$BL$279,0)","v":20},{"$f":"COUNT(G39:AW39)","v":3},{"$f":"SUM(G39:AW39)","v":78},null,null,null,null,{"$f":"(BQ39*$BQ$2)+(BR39*$BR$2)+(BS39*$BS$2)","v":0}]
[null,null,null,null,null,"Ad Gr",null,null,null,null,null,null,96,null,105,87]
[null,null,null,null,null,"Place",null,null,null,null,null,null,null,null,null,null,null,null,null,null,null,null,null,null,null,null,null,null,null,null,null,null,null,null,null,null,null,null,null,null,null,null,null,null,null,null,null,null,null,null,null,null,null,null,null,null,null,null,null,null,null,null,null,null,null,null,null,null,{"$f":"COUNTIF($G41:$AW41,\"=1\")","v":0},{"$f":"COUNTIF($G41:$AW41,\"=2\")","v":0},{"$f":"COUNTIF($G41:$AW41,\"=3\")","v":0}]
[null,"Chlebek","Mark",{"$f":"IF(BN42=0,0,BO42/BN42)","v":0},{"$f":"COUNT(G42:AW42)","v":0},"S'ford",null,null,null,null,null,null,null,null,null,null,null,null,null,null,null,null,null,null,null,null,null,null,null,null,null,null,null,null,null,null,null,null,null,null,null,null,null,null,null,null,null,null,null,null,null,null,null,null,null,null,null,{"$f":"IF($BN42<1,0,LARGE($G42:$AW42,1))","v":0},{"$f":"IF($BN42<2,0,LARGE($G42:$AW42,2))","v":0},{"$f":"IF($BN42<3,0,LARGE($G42:$AW42,3))","v":0},{"$f":"IF($BN42<4,0,LARGE($G42:$AW42,4))","v":0},null,null,{"$f":"SUM(BF42:BI42)","v":0},{"$f":"RANK(BL42,$BL$3:$BL$279,0)","v":39},{"$f":"COUNT(G42:AW42)","v":0},{"$f":"SUM(G42:AW42)","v":0},null,null,null,null,{"$f":"(BQ42*$BQ$2)+(BR42*$BR$2)+(BS42*$BS$2)","v":0}]
[null,null,null,null,null,"Ad Gr"]
[null,null,null,null,null,"Place",null,null,null,null,null,null,null,null,null,null,null,null,null,null,null,null,null,null,null,null,null,null,null,null,null,null,null,null,null,null,null,null,null,null,null,null,null,null,null,null,null,null,null,null,null,null,null,null,null,null,null,null,null,null,null,null,null,null,null,null,null,null,{"$f":"COUNTIF($G44:$AW44,\"=1\")","v":0},{"$f":"COUNTIF($G44:$AW44,\"=2\")","v":0},{"$f":"COUNTIF($G44:$AW44,\"=3\")","v":0}]
[null,"Chung","Gonjin",{"$f":"IF(BN45=0,0,BO45/BN45)","v":39},{"$f":"COUNT(G45:AW45)","v":2},"S'ford",null,null,null,null,null,null,null,null,37,41,null,null,null,null,null,null,null,null,null,null,null,null,null,null,null,null,null,null,null,null,null,null,null,null,null,null,null,null,null,null,null,null,null,null,null,null,null,null,null,null,null,{"$f":"IF($BN45<1,0,LARGE($G45:$AW45,1))","v":41},{"$f":"IF($BN45<2,0,LARGE($G45:$AW45,2))","v":37},{"$f":"IF($BN45<3,0,LARGE($G45:$AW45,3))","v":0},{"$f":"IF($BN45<4,0,LARGE($G45:$AW45,4))","v":0},null,null,{"$f":"SUM(BF45:BI45)","v":78},{"$f":"RANK(BL45,$BL$3:$BL$279,0)","v":20},{"$f":"COUNT(G45:AW45)","v":2},{"$f":"SUM(G45:AW45)","v":78},null,null,null,null,{"$f":"(BQ45*$BQ$2)+(BR45*$BR$2)+(BS45*$BS$2)","v":0}]
[null,null,null,null,null,"Ad Gr",null,null,null,null,null,null,null,null,100,94]
[null,null,null,null,null,"Place",null,null,null,null,null,null,null,null,1,1,null,null,null,null,null,null,null,null,null,null,null,null,null,null,null,null,null,null,null,null,null,null,null,null,null,null,null,null,null,null,null,null,null,null,null,null,null,null,null,null,null,null,null,null,null,null,null,null,null,null,null,null,{"$f":"COUNTIF($G47:$AW47,\"=1\")","v":2},{"$f":"COUNTIF($G47:$AW47,\"=2\")","v":0},{"$f":"COUNTIF($G47:$AW47,\"=3\")","v":0}]
[null,"Cockill","Adam",{"$f":"IF(BN48=0,0,BO48/BN48)","v":30.333333333333332},{"$f":"COUNT(G48:AW48)","v":3},"S'ford",null,null,null,null,null,null,26,null,30,null,null,null,35,null,null,null,null,null,null,null,null,null,null,null,null,null,null,null,null,null,null,null,null,null,null,null,null,null,null,null,null,null,null,null,null,null,null,null,null,null,null,{"$f":"IF($BN48<1,0,LARGE($G48:$AW48,1))","v":35},{"$f":"IF($BN48<2,0,LARGE($G48:$AW48,2))","v":30},{"$f":"IF($BN48<3,0,LARGE($G48:$AW48,3))","v":26},{"$f":"IF($BN48<4,0,LARGE($G48:$AW48,4))","v":0},null,null,{"$f":"SUM(BF48:BI48)","v":91},{"$f":"RANK(BL48,$BL$3:$BL$279,0)","v":14},{"$f":"COUNT(G48:AW48)","v":3},{"$f":"SUM(G48:AW48)","v":91},null,null,null,null,{"$f":"(BQ48*$BQ$2)+(BR48*$BR$2)+(BS48*$BS$2)","v":0}]
[null,null,null,null,null,"Ad Gr",null,null,null,null,null,null,97,null,93,null,null,null,89]
[null,null,null,null,null,"Place",null,null,null,null,null,null,null,null,null,null,null,null,2,null,null,null,null,null,null,null,null,null,null,null,null,null,null,null,null,null,null,null,null,null,null,null,null,null,null,null,null,null,null,null,null,null,null,null,null,null,null,null,null,null,null,null,null,null,null,null,null,null,{"$f":"COUNTIF($G50:$AW50,\"=1\")","v":0},{"$f":"COUNTIF($G50:$AW50,\"=2\")","v":1},{"$f":"COUNTIF($G50:$AW50,\"=3\")","v":0}]
[null,"Cottrell","John",{"$f":"IF(BN51=0,0,BO51/BN51)","v":15},{"$f":"COUNT(G51:AW51)","v":1},"S'ford",null,null,null,null,null,null,null,null,15,null,null,null,null,null,null,null,null,null,null,null,null,null,null,null,null,null,null,null,null,null,null,null,null,null,null,null,null,null,null,null,null,null,null,null,null,null,null,null,null,null,null,{"$f":"IF($BN51<1,0,LARGE($G51:$AW51,1))","v":15},{"$f":"IF($BN51<2,0,LARGE($G51:$AW51,2))","v":0},{"$f":"IF($BN51<3,0,LARGE($G51:$AW51,3))","v":0},{"$f":"IF($BN51<4,0,LARGE($G51:$AW51,4))","v":0},null,null,{"$f":"SUM(BF51:BI51)","v":15},{"$f":"RANK(BL51,$BL$3:$BL$279,0)","v":37},{"$f":"COUNT(G51:AW51)","v":1},{"$f":"SUM(G51:AW51)","v":15},null,null,null,null,{"$f":"(BQ51*$BQ$2)+(BR51*$BR$2)+(BS51*$BS$2)","v":0}]
[null,null,null,null,null,"Ad Gr",null,null,null,null,null,null,null,null,119]
[null,null,null,null,null,"Place",null,null,null,null,null,null,null,null,null,null,null,null,null,null,null,null,null,null,null,null,null,null,null,null,null,null,null,null,null,null,null,null,null,null,null,null,null,null,null,null,null,null,null,null,null,null,null,null,null,null,null,null,null,null,null,null,null,null,null,null,null,null,{"$f":"COUNTIF($G53:$AW53,\"=1\")","v":0},{"$f":"COUNTIF($G53:$AW53,\"=2\")","v":0},{"$f":"COUNTIF($G53:$AW53,\"=3\")","v":0}]
[null,"Cox","Patrick",{"$f":"IF(BN54=0,0,BO54/BN54)","v":26.333333333333332},{"$f":"COUNT(G54:AW54)","v":3},"S'ford",null,null,null,null,null,null,20,null,34,null,null,25,null,null,null,null,null,null,null,null,null,null,null,null,null,null,null,null,null,null,null,null,null,null,null,null,null,null,null,null,null,null,null,null,null,null,null,null,null,null,null,{"$f":"IF($BN54<1,0,LARGE($G54:$AW54,1))","v":34},{"$f":"IF($BN54<2,0,LARGE($G54:$AW54,2))","v":25},{"$f":"IF($BN54<3,0,LARGE($G54:$AW54,3))","v":20},{"$f":"IF($BN54<4,0,LARGE($G54:$AW54,4))","v":0},null,null,{"$f":"SUM(BF54:BI54)","v":79},{"$f":"RANK(BL54,$BL$3:$BL$279,0)","v":19},{"$f":"COUNT(G54:AW54)","v":3},{"$f":"SUM(G54:AW54)","v":79},null,null,null,null,{"$f":"(BQ54*$BQ$2)+(BR54*$BR$2)+(BS54*$BS$2)","v":0}]
[null,null,null,null,null,"Ad Gr",null,null,null,null,null,null,121,null,112,null,null,120]
[null,null,null,null,null,"Place",null,null,null,null,null,null,null,null,3,null,null,null,null,null,null,null,null,null,null,null,null,null,null,null,null,null,null,null,null,null,null,null,null,null,null,null,null,null,null,null,null,null,null,null,null,null,null,null,null,null,null,null,null,null,null,null,null,null,null,null,null,null,{"$f":"COUNTIF($G56:$AW56,\"=1\")","v":0},{"$f":"COUNTIF($G56:$AW56,\"=2\")","v":0},{"$f":"COUNTIF($G56:$AW56,\"=3\")","v":1}]
[null,"Craig","John",{"$f":"IF(BN57=0,0,BO57/BN57)","v":30.5},{"$f":"COUNT(G57:AW57)","v":6},"S'ford",39,null,null,33,null,27,33,25,null,null,null,null,26,null,null,null,null,null,null,null,null,null,null,null,null,null,null,null,null,null,null,null,null,null,null,null,null,null,null,null,null,null,null,null,null,null,null,null,null,null,null,{"$f":"IF($BN57<1,0,LARGE($G57:$AW57,1))","v":39},{"$f":"IF($BN57<2,0,LARGE($G57:$AW57,2))","v":33},{"$f":"IF($BN57<3,0,LARGE($G57:$AW57,3))","v":33},{"$f":"IF($BN57<4,0,LARGE($G57:$AW57,4))","v":27},null,null,{"$f":"SUM(BF57:BI57)","v":132},{"$f":"RANK(BL57,$BL$3:$BL$279,0)","v":5},{"$f":"COUNT(G57:AW57)","v":6},{"$f":"SUM(G57:AW57)","v":183},null,null,null,null,{"$f":"(BQ57*$BQ$2)+(BR57*$BR$2)+(BS57*$BS$2)","v":0}]
[null,null,null,null,null,"Ad Gr",94,null,null,97,null,101,95,104,null,null,null,null,101]
[null,null,null,null,null,"Place",3,null,null,null,null,null,1,null,null,null,null,null,null,null,null,null,null,null,null,null,null,null,null,null,null,null,null,null,null,null,null,null,null,null,null,null,null,null,null,null,null,null,null,null,null,null,null,null,null,null,null,null,null,null,null,null,null,null,null,null,null,null,{"$f":"COUNTIF($G59:$AW59,\"=1\")","v":1},{"$f":"COUNTIF($G59:$AW59,\"=2\")","v":0},{"$f":"COUNTIF($G59:$AW59,\"=3\")","v":1}]
[null,"Cunney","Donal",{"$f":"IF(BN60=0,0,BO60/BN60)","v":0},{"$f":"COUNT(G60:AW60)","v":0},"S'ford",null,null,null,null,null,null,null,null,null,null,null,null,null,null,null,null,null,null,null,null,null,null,null,null,null,null,null,null,null,null,null,null,null,null,null,null,null,null,null,null,null,null,null,null,null,null,null,null,null,null,null,{"$f":"IF($BN60<1,0,LARGE($G60:$AW60,1))","v":0},{"$f":"IF($BN60<2,0,LARGE($G60:$AW60,2))","v":0},{"$f":"IF($BN60<3,0,LARGE($G60:$AW60,3))","v":0},{"$f":"IF($BN60<4,0,LARGE($G60:$AW60,4))","v":0},null,null,{"$f":"SUM(BF60:BI60)","v":0},{"$f":"RANK(BL60,$BL$3:$BL$279,0)","v":39},{"$f":"COUNT(G60:AW60)","v":0},{"$f":"SUM(G60:AW60)","v":0},null,null,null,null,{"$f":"(BQ60*$BQ$2)+(BR60*$BR$2)+(BS60*$BS$2)","v":0}]
[null,null,null,null,null,"Ad Gr"]
[null,null,null,null,null,"Place",null,null,null,null,null,null,null,null,null,null,null,null,null,null,null,null,null,null,null,null,null,null,null,null,null,null,null,null,null,null,null,null,null,null,null,null,null,null,null,null,null,null,null,null,null,null,null,null,null,null,null,null,null,null,null,null,null,null,null,null,null,null,{"$f":"COUNTIF($G62:$AW62,\"=1\")","v":0},{"$f":"COUNTIF($G62:$AW62,\"=2\")","v":0},{"$f":"COUNTIF($G62:$AW62,\"=3\")","v":0}]
[null,"Cutmore","Clark",{"$f":"IF(BN63=0,0,BO63/BN63)","v":0},{"$f":"COUNT(G63:AW63)","v":0},"S'ford",null,null,null,null,null,null,null,null,null,null,null,null,null,null,null,null,null,null,null,null,null,null,null,null,null,null,null,null,null,null,null,null,null,null,null,null,null,null,null,null,null,null,null,null,null,null,null,null,null,null,null,{"$f":"IF($BN63<1,0,LARGE($G63:$AW63,1))","v":0},{"$f":"IF($BN63<2,0,LARGE($G63:$AW63,2))","v":0},{"$f":"IF($BN63<3,0,LARGE($G63:$AW63,3))","v":0},{"$f":"IF($BN63<4,0,LARGE($G63:$AW63,4))","v":0},null,null,{"$f":"SUM(BF63:BI63)","v":0},{"$f":"RANK(BL63,$BL$3:$BL$279,0)","v":39},{"$f":"COUNT(G63:AW63)","v":0},{"$f":"SUM(G63:AW63)","v":0},null,null,null,null,{"$f":"(BQ63*$BQ$2)+(BR63*$BR$2)+(BS63*$BS$2)","v":0}]
[null,null,null,null,null,"Ad Gr",null,null,null,null,null,null,117]
[null,null,null,null,null,"Place",null,null,null,null,null,null,null,null,null,null,null,null,null,null,null,null,null,null,null,null,null,null,null,null,null,null,null,null,null,null,null,null,null,null,null,null,null,null,null,null,null,null,null,null,null,null,null,null,null,null,null,null,null,null,null,null,null,null,null,null,null,null,{"$f":"COUNTIF($G65:$AW65,\"=1\")","v":0},{"$f":"COUNTIF($G65:$AW65,\"=2\")","v":0},{"$f":"COUNTIF($G65:$AW65,\"=3\")","v":0}]
[null,"Daly","Kevin",{"$f":"IF(BN66=0,0,BO66/BN66)","v":0},{"$f":"COUNT(G66:AW66)","v":0},"S'ford",null,null,null,null,null,null,null,null,null,null,null,null,null,null,null,null,null,null,null,null,null,null,null,null,null,null,null,null,null,null,null,null,null,null,null,null,null,null,null,null,null,null,null,null,null,null,null,null,null,null,null,{"$f":"IF($BN66<1,0,LARGE($G66:$AW66,1))","v":0},{"$f":"IF($BN66<2,0,LARGE($G66:$AW66,2))","v":0},{"$f":"IF($BN66<3,0,LARGE($G66:$AW66,3))","v":0},{"$f":"IF($BN66<4,0,LARGE($G66:$AW66,4))","v":0},null,null,{"$f":"SUM(BF66:BI66)","v":0},{"$f":"RANK(BL66,$BL$3:$BL$279,0)","v":39},{"$f":"COUNT(G66:AW66)","v":0},{"$f":"SUM(G66:AW66)","v":0},null,null,null,null,{"$f":"(BQ66*$BQ$2)+(BR66*$BR$2)+(BS66*$BS$2)","v":0}]
[null,null,null,null,null,"Ad Gr"]
[null,null,null,null,null,"Place",null,null,null,null,null,null,null,null,null,null,null,null,null,null,null,null,null,null,null,null,null,null,null,null,null,null,null,null,null,null,null,null,null,null,null,null,null,null,null,null,null,null,null,null,null,null,null,null,null,null,null,null,null,null,null,null,null,null,null,null,null,null,{"$f":"COUNTIF($G68:$AW68,\"=1\")","v":0},{"$f":"COUNTIF($G68:$AW68,\"=2\")","v":0},{"$f":"COUNTIF($G68:$AW68,\"=3\")","v":0}]
[null,"Daly","Liam",{"$f":"IF(BN69=0,0,BO69/BN69)","v":0},{"$f":"COUNT(G69:AW69)","v":0},"S'ford",null,null,null,null,null,null,null,null,null,null,null,null,null,null,null,null,null,null,null,null,null,null,null,null,null,null,null,null,null,null,null,null,null,null,null,null,null,null,null,null,null,null,null,null,null,null,null,null,null,null,null,{"$f":"IF($BN69<1,0,LARGE($G69:$AW69,1))","v":0},{"$f":"IF($BN69<2,0,LARGE($G69:$AW69,2))","v":0},{"$f":"IF($BN69<3,0,LARGE($G69:$AW69,3))","v":0},{"$f":"IF($BN69<4,0,LARGE($G69:$AW69,4))","v":0},null,null,{"$f":"SUM(BF69:BI69)","v":0},{"$f":"RANK(BL69,$BL$3:$BL$279,0)","v":39},{"$f":"COUNT(G69:AW69)","v":0},{"$f":"SUM(G69:AW69)","v":0},null,null,null,null,{"$f":"(BQ69*$BQ$2)+(BR69*$BR$2)+(BS69*$BS$2)","v":0}]
[null,null,null,null,null,"Ad Gr"]
[null,null,null,null,null,"Place",null,null,null,null,null,null,null,null,null,null,null,null,null,null,null,null,null,null,null,null,null,null,null,null,null,null,null,null,null,null,null,null,null,null,null,null,null,null,null,null,null,null,null,null,null,null,null,null,null,null,null,null,null,null,null,null,null,null,null,null,null,null,{"$f":"COUNTIF($G71:$AW71,\"=1\")","v":0},{"$f":"COUNTIF($G71:$AW71,\"=2\")","v":0},{"$f":"COUNTIF($G71:$AW71,\"=3\")","v":0}]
[null,"Daly","Paul",{"$f":"IF(BN72=0,0,BO72/BN72)","v":0},{"$f":"COUNT(G72:AW72)","v":0},"S'ford",null,null,null,null,null,null,null,null,null,null,null,null,null,null,null,null,null,null,null,null,null,null,null,null,null,null,null,null,null,null,null,null,null,null,null,null,null,null,null,null,null,null,null,null,null,null,null,null,null,null,null,{"$f":"IF($BN72<1,0,LARGE($G72:$AW72,1))","v":0},{"$f":"IF($BN72<2,0,LARGE($G72:$AW72,2))","v":0},{"$f":"IF($BN72<3,0,LARGE($G72:$AW72,3))","v":0},{"$f":"IF($BN72<4,0,LARGE($G72:$AW72,4))","v":0},null,null,{"$f":"SUM(BF72:BI72)","v":0},{"$f":"RANK(BL72,$BL$3:$BL$279,0)","v":39},{"$f":"COUNT(G72:AW72)","v":0},{"$f":"SUM(G72:AW72)","v":0},null,null,null,null,{"$f":"(BQ72*$BQ$2)+(BR72*$BR$2)+(BS72*$BS$2)","v":0}]
[null,null,null,null,null,"Ad Gr"]
[null,null,null,null,null,"Place",null,null,null,null,null,null,null,null,null,null,null,null,null,null,null,null,null,null,null,null,null,null,null,null,null,null,null,null,null,null,null,null,null,null,null,null,null,null,null,null,null,null,null,null,null,null,null,null,null,null,null,null,null,null,null,null,null,null,null,null,null,null,{"$f":"COUNTIF($G74:$AW74,\"=1\")","v":0},{"$f":"COUNTIF($G74:$AW74,\"=2\")","v":0},{"$f":"COUNTIF($G74:$AW74,\"=3\")","v":0}]
[null,"Dean","Simon",{"$f":"IF(BN75=0,0,BO75/BN75)","v":32.25},{"$f":"COUNT(G75:AW75)","v":4},"S'ford",null,null,30,35,null,null,29,null,null,35,null,null,null,null,null,null,null,null,null,null,null,null,null,null,null,null,null,null,null,null,null,null,null,null,null,null,null,null,null,null,null,null,null,null,null,null,null,null,null,null,null,{"$f":"IF($BN75<1,0,LARGE($G75:$AW75,1))","v":35},{"$f":"IF($BN75<2,0,LARGE($G75:$AW75,2))","v":35},{"$f":"IF($BN75<3,0,LARGE($G75:$AW75,3))","v":30},{"$f":"IF($BN75<4,0,LARGE($G75:$AW75,4))","v":29},null,null,{"$f":"SUM(BF75:BI75)","v":129},{"$f":"RANK(BL75,$BL$3:$BL$279,0)","v":6},{"$f":"COUNT(G75:AW75)","v":4},{"$f":"SUM(G75:AW75)","v":129},null,null,null,null,{"$f":"(BQ75*$BQ$2)+(BR75*$BR$2)+(BS75*$BS$2)","v":0}]
[null,null,null,null,null,"Ad Gr",null,null,93,90,null,null,94,null,null,89]
[null,null,null,null,null,"Place",null,null,3,1,null,null,null,null,null,null,null,null,null,null,null,null,null,null,null,null,null,null,null,null,null,null,null,null,null,null,null,null,null,null,null,null,null,null,null,null,null,null,null,null,null,null,null,null,null,null,null,null,null,null,null,null,null,null,null,null,null,null,{"$f":"COUNTIF($G77:$AW77,\"=1\")","v":1},{"$f":"COUNTIF($G77:$AW77,\"=2\")","v":0},{"$f":"COUNTIF($G77:$AW77,\"=3\")","v":1}]
[null,"Doyle","Ronan",{"$f":"IF(BN78=0,0,BO78/BN78)","v":27.333333333333332},{"$f":"COUNT(G78:AW78)","v":3},"S'ford",null,null,null,9,null,null,null,null,null,39,null,34,null,null,null,null,null,null,null,null,null,null,null,null,null,null,null,null,null,null,null,null,null,null,null,null,null,null,null,null,null,null,null,null,null,null,null,null,null,null,null,{"$f":"IF($BN78<1,0,LARGE($G78:$AW78,1))","v":39},{"$f":"IF($BN78<2,0,LARGE($G78:$AW78,2))","v":34},{"$f":"IF($BN78<3,0,LARGE($G78:$AW78,3))","v":9},{"$f":"IF($BN78<4,0,LARGE($G78:$AW78,4))","v":0},null,null,{"$f":"SUM(BF78:BI78)","v":82},{"$f":"RANK(BL78,$BL$3:$BL$279,0)","v":18},{"$f":"COUNT(G78:AW78)","v":3},{"$f":"SUM(G78:AW78)","v":82},null,null,null,null,{"$f":"(BQ78*$BQ$2)+(BR78*$BR$2)+(BS78*$BS$2)","v":0}]
[null,null,null,null,null,"Ad Gr",null,null,null,113,null,null,null,null,null,82,null,85]
[null,null,null,null,null,"Place",null,null,null,null,null,null,null,null,null,2,null,null,null,null,null,null,null,null,null,null,null,null,null,null,null,null,null,null,null,null,null,null,null,null,null,null,null,null,null,null,null,null,null,null,null,null,null,null,null,null,null,null,null,null,null,null,null,null,null,null,null,null,{"$f":"COUNTIF($G80:$AW80,\"=1\")","v":0},{"$f":"COUNTIF($G80:$AW80,\"=2\")","v":1},{"$f":"COUNTIF($G80:$AW80,\"=3\")","v":0}]
[null,"Drage","Kevin",{"$f":"IF(BN81=0,0,BO81/BN81)","v":0},{"$f":"COUNT(G81:AW81)","v":0},"S'ford",null,null,null,null,null,null,null,null,null,null,null,null,null,null,null,null,null,null,null,null,null,null,null,null,null,null,null,null,null,null,null,null,null,null,null,null,null,null,null,null,null,null,null,null,null,null,null,null,null,null,null,{"$f":"IF($BN81<1,0,LARGE($G81:$AW81,1))","v":0},{"$f":"IF($BN81<2,0,LARGE($G81:$AW81,2))","v":0},{"$f":"IF($BN81<3,0,LARGE($G81:$AW81,3))","v":0},{"$f":"IF($BN81<4,0,LARGE($G81:$AW81,4))","v":0},null,null,{"$f":"SUM(BF81:BI81)","v":0},{"$f":"RANK(BL81,$BL$3:$BL$279,0)","v":39},{"$f":"COUNT(G81:AW81)","v":0},{"$f":"SUM(G81:AW81)","v":0},null,null,null,null,{"$f":"(BQ81*$BQ$2)+(BR81*$BR$2)+(BS81*$BS$2)","v":0}]
[null,null,null,null,null,"Ad Gr"]
[null,null,null,null,null,"Place",null,null,null,null,null,null,null,null,null,null,null,null,null,null,null,null,null,null,null,null,null,null,null,null,null,null,null,null,null,null,null,null,null,null,null,null,null,null,null,null,null,null,null,null,null,null,null,null,null,null,null,null,null,null,null,null,null,null,null,null,null,null,{"$f":"COUNTIF($G83:$AW83,\"=1\")","v":0},{"$f":"COUNTIF($G83:$AW83,\"=2\")","v":0},{"$f":"COUNTIF($G83:$AW83,\"=3\")","v":0}]
[null,"Duffell","Martin",{"$f":"IF(BN84=0,0,BO84/BN84)","v":0},{"$f":"COUNT(G84:AW84)","v":0},"S'ford",null,null,null,null,null,null,null,null,null,null,null,null,null,null,null,null,null,null,null,null,null,null,null,null,null,null,null,null,null,null,null,null,null,null,null,null,null,null,null,null,null,null,null,null,null,null,null,null,null,null,null,{"$f":"IF($BN84<1,0,LARGE($G84:$AW84,1))","v":0},{"$f":"IF($BN84<2,0,LARGE($G84:$AW84,2))","v":0},{"$f":"IF($BN84<3,0,LARGE($G84:$AW84,3))","v":0},{"$f":"IF($BN84<4,0,LARGE($G84:$AW84,4))","v":0},null,null,{"$f":"SUM(BF84:BI84)","v":0},{"$f":"RANK(BL84,$BL$3:$BL$279,0)","v":39},{"$f":"COUNT(G84:AW84)","v":0},{"$f":"SUM(G84:AW84)","v":0},null,null,null,null,{"$f":"(BQ84*$BQ$2)+(BR84*$BR$2)+(BS84*$BS$2)","v":0}]
[null,null,null,null,null,"Ad Gr"]
[null,null,null,null,null,"Place",null,null,null,null,null,null,null,null,null,null,null,null,null,null,null,null,null,null,null,null,null,null,null,null,null,null,null,null,null,null,null,null,null,null,null,null,null,null,null,null,null,null,null,null,null,null,null,null,null,null,null,null,null,null,null,null,null,null,null,null,null,null,{"$f":"COUNTIF($G86:$AW86,\"=1\")","v":0},{"$f":"COUNTIF($G86:$AW86,\"=2\")","v":0},{"$f":"COUNTIF($G86:$AW86,\"=3\")","v":0}]
[null,"East","Paul",{"$f":"IF(BN87=0,0,BO87/BN87)","v":0},{"$f":"COUNT(G87:AW87)","v":0},"S'ford",null,null,null,null,null,null,null,null,null,null,null,null,null,null,null,null,null,null,null,null,null,null,null,null,null,null,null,null,null,null,null,null,null,null,null,null,null,null,null,null,null,null,null,null,null,null,null,null,null,null,null,{"$f":"IF($BN87<1,0,LARGE($G87:$AW87,1))","v":0},{"$f":"IF($BN87<2,0,LARGE($G87:$AW87,2))","v":0},{"$f":"IF($BN87<3,0,LARGE($G87:$AW87,3))","v":0},{"$f":"IF($BN87<4,0,LARGE($G87:$AW87,4))","v":0},null,null,{"$f":"SUM(BF87:BI87)","v":0},{"$f":"RANK(BL87,$BL$3:$BL$279,0)","v":39},{"$f":"COUNT(G87:AW87)","v":0},{"$f":"SUM(G87:AW87)","v":0},null,null,null,null,{"$f":"(BQ87*$BQ$2)+(BR87*$BR$2)+(BS87*$BS$2)","v":0}]
[null,null,null,null,null,"Ad Gr"]
[null,null,null,null,null,"Place",null,null,null,null,null,null,null,null,null,null,null,null,null,null,null,null,null,null,null,null,null,null,null,null,null,null,null,null,null,null,null,null,null,null,null,null,null,null,null,null,null,null,null,null,null,null,null,null,null,null,null,null,null,null,null,null,null,null,null,null,null,null,{"$f":"COUNTIF($G89:$AW89,\"=1\")","v":0},{"$f":"COUNTIF($G89:$AW89,\"=2\")","v":0},{"$f":"COUNTIF($G89:$AW89,\"=3\")","v":0}]
[null,"Engel","Andreas",{"$f":"IF(BN90=0,0,BO90/BN90)","v":0},{"$f":"COUNT(G90:AW90)","v":0},"S'ford",null,null,null,null,null,null,null,null,null,null,null,null,null,null,null,null,null,null,null,null,null,null,null,null,null,null,null,null,null,null,null,null,null,null,null,null,null,null,null,null,null,null,null,null,null,null,null,null,null,null,null,{"$f":"IF($BN90<1,0,LARGE($G90:$AW90,1))","v":0},{"$f":"IF($BN90<2,0,LARGE($G90:$AW90,2))","v":0},{"$f":"IF($BN90<3,0,LARGE($G90:$AW90,3))","v":0},{"$f":"IF($BN90<4,0,LARGE($G90:$AW90,4))","v":0},null,null,{"$f":"SUM(BF90:BI90)","v":0},{"$f":"RANK(BL90,$BL$3:$BL$279,0)","v":39},{"$f":"COUNT(G90:AW90)","v":0},{"$f":"SUM(G90:AW90)","v":0},null,null,null,null,{"$f":"(BQ90*$BQ$2)+(BR90*$BR$2)+(BS90*$BS$2)","v":0}]
[null,null,null,null,null,"Ad Gr"]
[null,null,null,null,null,"Place",null,null,null,null,null,null,null,null,null,null,null,null,null,null,null,null,null,null,null,null,null,null,null,null,null,null,null,null,null,null,null,null,null,null,null,null,null,null,null,null,null,null,null,null,null,null,null,null,null,null,null,null,null,null,null,null,null,null,null,null,null,null,{"$f":"COUNTIF($G92:$AW92,\"=1\")","v":0},{"$f":"COUNTIF($G92:$AW92,\"=2\")","v":0},{"$f":"COUNTIF($G92:$AW92,\"=3\")","v":0}]
[null,"Fey","Eva",{"$f":"IF(BN93=0,0,BO93/BN93)","v":0},{"$f":"COUNT(G93:AW93)","v":0},"S'ford",null,null,null,null,null,null,null,null,null,null,null,null,null,null,null,null,null,null,null,null,null,null,null,null,null,null,null,null,null,null,null,null,null,null,null,null,null,null,null,null,null,null,null,null,null,null,null,null,null,null,null,{"$f":"IF($BN93<1,0,LARGE($G93:$AW93,1))","v":0},{"$f":"IF($BN93<2,0,LARGE($G93:$AW93,2))","v":0},{"$f":"IF($BN93<3,0,LARGE($G93:$AW93,3))","v":0},{"$f":"IF($BN93<4,0,LARGE($G93:$AW93,4))","v":0},null,null,{"$f":"SUM(BF93:BI93)","v":0},{"$f":"RANK(BL93,$BL$3:$BL$279,0)","v":39},{"$f":"COUNT(G93:AW93)","v":0},{"$f":"SUM(G93:AW93)","v":0},null,null,null,null,{"$f":"(BQ93*$BQ$2)+(BR93*$BR$2)+(BS93*$BS$2)","v":0}]
[null,null,null,null,null,"Ad Gr"]
[null,null,null,null,null,"Place",null,null,null,null,null,null,null,null,null,null,null,null,null,null,null,null,null,null,null,null,null,null,null,null,null,null,null,null,null,null,null,null,null,null,null,null,null,null,null,null,null,null,null,null,null,null,null,null,null,null,null,null,null,null,null,null,null,null,null,null,null,null,{"$f":"COUNTIF($G95:$AW95,\"=1\")","v":0},{"$f":"COUNTIF($G95:$AW95,\"=2\")","v":0},{"$f":"COUNTIF($G95:$AW95,\"=3\")","v":0}]
[null,"Fraunholz","Markus",{"$f":"IF(BN96=0,0,BO96/BN96)","v":30.25},{"$f":"COUNT(G96:AW96)","v":8},"S'ford",31,null,31,31,null,null,24,null,29,30,null,34,32,null,null,null,null,null,null,null,null,null,null,null,null,null,null,null,null,null,null,null,null,null,null,null,null,null,null,null,null,null,null,null,null,null,null,null,null,null,null,{"$f":"IF($BN96<1,0,LARGE($G96:$AW96,1))","v":34},{"$f":"IF($BN96<2,0,LARGE($G96:$AW96,2))","v":32},{"$f":"IF($BN96<3,0,LARGE($G96:$AW96,3))","v":31},{"$f":"IF($BN96<4,0,LARGE($G96:$AW96,4))","v":31},null,null,{"$f":"SUM(BF96:BI96)","v":128},{"$f":"RANK(BL96,$BL$3:$BL$279,0)","v":8},{"$f":"COUNT(G96:AW96)","v":8},{"$f":"SUM(G96:AW96)","v":242},null,null,null,null,{"$f":"(BQ96*$BQ$2)+(BR96*$BR$2)+(BS96*$BS$2)","v":0}]
[null,null,null,null,null,"Ad Gr",98,null,97,97,null,null,103,null,98,97,null,93,96]
[null,null,null,null,null,"Place",null,null,2,null,null,null,null,null,null,null,null,null,null,null,null,null,null,null,null,null,null,null,null,null,null,null,null,null,null,null,null,null,null,null,null,null,null,null,null,null,null,null,null,null,null,null,null,null,null,null,null,null,null,null,null,null,null,null,null,null,null,null,{"$f":"COUNTIF($G98:$AW98,\"=1\")","v":0},{"$f":"COUNTIF($G98:$AW98,\"=2\")","v":1},{"$f":"COUNTIF($G98:$AW98,\"=3\")","v":0}]
[null,"Furlong","Ian",{"$f":"IF(BN99=0,0,BO99/BN99)","v":32},{"$f":"COUNT(G99:AW99)","v":2},"S'ford",null,null,null,null,null,null,null,null,null,null,null,31,33,null,null,null,null,null,null,null,null,null,null,null,null,null,null,null,null,null,null,null,null,null,null,null,null,null,null,null,null,null,null,null,null,null,null,null,null,null,null,{"$f":"IF($BN99<1,0,LARGE($G99:$AW99,1))","v":33},{"$f":"IF($BN99<2,0,LARGE($G99:$AW99,2))","v":31},{"$f":"IF($BN99<3,0,LARGE($G99:$AW99,3))","v":0},{"$f":"IF($BN99<4,0,LARGE($G99:$AW99,4))","v":0},null,null,{"$f":"SUM(BF99:BI99)","v":64},{"$f":"RANK(BL99,$BL$3:$BL$279,0)","v":23},{"$f":"COUNT(G99:AW99)","v":2},{"$f":"SUM(G99:AW99)","v":64},null,null,null,null,{"$f":"(BQ99*$BQ$2)+(BR99*$BR$2)+(BS99*$BS$2)","v":0}]
[null,null,null,null,null,"Ad Gr",null,null,null,null,null,null,null,null,null,null,null,97,95]
[null,null,null,null,null,"Place",null,null,null,null,null,null,null,null,null,null,null,null,null,null,null,null,null,null,null,null,null,null,null,null,null,null,null,null,null,null,null,null,null,null,null,null,null,null,null,null,null,null,null,null,null,null,null,null,null,null,null,null,null,null,null,null,null,null,null,null,null,null,{"$f":"COUNTIF($G101:$AW101,\"=1\")","v":0},{"$f":"COUNTIF($G101:$AW101,\"=2\")","v":0},{"$f":"COUNTIF($G101:$AW101,\"=3\")","v":0}]
[null,"Fyans","David",{"$f":"IF(BN102=0,0,BO102/BN102)","v":32.200000000000003},{"$f":"COUNT(G102:AW102)","v":5},"S'ford",42,27,27,null,null,null,29,null,null,36,null,null,null,null,null,null,null,null,null,null,null,null,null,null,null,null,null,null,null,null,null,null,null,null,null,null,null,null,null,null,null,null,null,null,null,null,null,null,null,null,null,{"$f":"IF($BN102<1,0,LARGE($G102:$AW102,1))","v":42},{"$f":"IF($BN102<2,0,LARGE($G102:$AW102,2))","v":36},{"$f":"IF($BN102<3,0,LARGE($G102:$AW102,3))","v":29},{"$f":"IF($BN102<4,0,LARGE($G102:$AW102,4))","v":27},null,null,{"$f":"SUM(BF102:BI102)","v":134},{"$f":"RANK(BL102,$BL$3:$BL$279,0)","v":3},{"$f":"COUNT(G102:AW102)","v":5},{"$f":"SUM(G102:AW102)","v":161},null,null,null,null,{"$f":"(BQ102*$BQ$2)+(BR102*$BR$2)+(BS102*$BS$2)","v":0}]
[null,null,null,null,null,"Ad Gr",84,94,93,null,null,null,92,null,null,86]
[null,null,null,null,null,"Place",1,null,null,null,null,null,null,null,null,null,null,null,null,null,null,null,null,null,null,null,null,null,null,null,null,null,null,null,null,null,null,null,null,null,null,null,null,null,null,null,null,null,null,null,null,null,null,null,null,null,null,null,null,null,null,null,null,null,null,null,null,null,{"$f":"COUNTIF($G104:$AW104,\"=1\")","v":1},{"$f":"COUNTIF($G104:$AW104,\"=2\")","v":0},{"$f":"COUNTIF($G104:$AW104,\"=3\")","v":0}]
[null,"Garvey","Richard",{"$f":"IF(BN105=0,0,BO105/BN105)","v":0},{"$f":"COUNT(G105:AW105)","v":0},"S'ford",null,null,null,null,null,null,null,null,null,null,null,null,null,null,null,null,null,null,null,null,null,null,null,null,null,null,null,null,null,null,null,null,null,null,null,null,null,null,null,null,null,null,null,null,null,null,null,null,null,null,null,{"$f":"IF($BN105<1,0,LARGE($G105:$AW105,1))","v":0},{"$f":"IF($BN105<2,0,LARGE($G105:$AW105,2))","v":0},{"$f":"IF($BN105<3,0,LARGE($G105:$AW105,3))","v":0},{"$f":"IF($BN105<4,0,LARGE($G105:$AW105,4))","v":0},null,null,{"$f":"SUM(BF105:BI105)","v":0},{"$f":"RANK(BL105,$BL$3:$BL$279,0)","v":39},{"$f":"COUNT(G105:AW105)","v":0},{"$f":"SUM(G105:AW105)","v":0},null,null,null,null,{"$f":"(BQ105*$BQ$2)+(BR105*$BR$2)+(BS105*$BS$2)","v":0}]
[null,null,null,null,null,"Ad Gr"]
[null,null,null,null,null,"Place",null,null,null,null,null,null,null,null,null,null,null,null,null,null,null,null,null,null,null,null,null,null,null,null,null,null,null,null,null,null,null,null,null,null,null,null,null,null,null,null,null,null,null,null,null,null,null,null,null,null,null,null,null,null,null,null,null,null,null,null,null,null,{"$f":"COUNTIF($G107:$AW107,\"=1\")","v":0},{"$f":"COUNTIF($G107:$AW107,\"=2\")","v":0},{"$f":"COUNTIF($G107:$AW107,\"=3\")","v":0}]
[null,"Gill","Andy",{"$f":"IF(BN108=0,0,BO108/BN108)","v":29},{"$f":"COUNT(G108:AW108)","v":7},"S'ford",37,null,25,16,null,null,null,37,26,37,25,null,null,null,null,null,null,null,null,null,null,null,null,null,null,null,null,null,null,null,null,null,null,null,null,null,null,null,null,null,null,null,null,null,null,null,null,null,null,null,null,{"$f":"IF($BN108<1,0,LARGE($G108:$AW108,1))","v":37},{"$f":"IF($BN108<2,0,LARGE($G108:$AW108,2))","v":37},{"$f":"IF($BN108<3,0,LARGE($G108:$AW108,3))","v":37},{"$f":"IF($BN108<4,0,LARGE($G108:$AW108,4))","v":26},null,null,{"$f":"SUM(BF108:BI108)","v":137},{"$f":"RANK(BL108,$BL$3:$BL$279,0)","v":2},{"$f":"COUNT(G108:AW108)","v":7},{"$f":"SUM(G108:AW108)","v":203},null,null,null,null,{"$f":"(BQ108*$BQ$2)+(BR108*$BR$2)+(BS108*$BS$2)","v":0}]
[null,null,null,null,null,"Ad Gr",84,null,92,102,null,null,null,81,91,80,91]
[null,null,null,null,null,"Place",null,null,null,null,null,null,null,1,null,null,null,null,null,null,null,null,null,null,null,null,null,null,null,null,null,null,null,null,null,null,null,null,null,null,null,null,null,null,null,null,null,null,null,null,null,null,null,null,null,null,null,null,null,null,null,null,null,null,null,null,null,null,{"$f":"COUNTIF($G110:$AW110,\"=1\")","v":1},{"$f":"COUNTIF($G110:$AW110,\"=2\")","v":0},{"$f":"COUNTIF($G110:$AW110,\"=3\")","v":0}]
[null,"Girdler","David ",{"$f":"IF(BN111=0,0,BO111/BN111)","v":21},{"$f":"COUNT(G111:AW111)","v":2},"S'ford",null,null,null,null,null,null,21,21,null,null,null,null,null,null,null,null,null,null,null,null,null,null,null,null,null,null,null,null,null,null,null,null,null,null,null,null,null,null,null,null,null,null,null,null,null,null,null,null,null,null,null,{"$f":"IF($BN111<1,0,LARGE($G111:$AW111,1))","v":21},{"$f":"IF($BN111<2,0,LARGE($G111:$AW111,2))","v":21},{"$f":"IF($BN111<3,0,LARGE($G111:$AW111,3))","v":0},{"$f":"IF($BN111<4,0,LARGE($G111:$AW111,4))","v":0},null,null,{"$f":"SUM(BF111:BI111)","v":42},{"$f":"RANK(BL111,$BL$3:$BL$279,0)","v":30},{"$f":"COUNT(G111:AW111)","v":2},{"$f":"SUM(G111:AW111)","v":42},null,null,null,null,{"$f":"(BQ111*$BQ$2)+(BR111*$BR$2)+(BS111*$BS$2)","v":0}]
[null,null,null,null,null,"Ad Gr",null,null,null,null,null,null,101,102]
[null,null,null,null,null,"Place",null,null,null,null,null,null,null,null,null,null,null,null,null,null,null,null,null,null,null,null,null,null,null,null,null,null,null,null,null,null,null,null,null,null,null,null,null,null,null,null,null,null,null,null,null,null,null,null,null,null,null,null,null,null,null,null,null,null,null,null,null,null,{"$f":"COUNTIF($G113:$AW113,\"=1\")","v":0},{"$f":"COUNTIF($G113:$AW113,\"=2\")","v":0},{"$f":"COUNTIF($G113:$AW113,\"=3\")","v":0}]
[null,"Goldner","Jake",{"$f":"IF(BN114=0,0,BO114/BN114)","v":0},{"$f":"COUNT(G114:AW114)","v":0},"S'ford",null,null,null,null,null,null,null,null,null,null,null,null,null,null,null,null,null,null,null,null,null,null,null,null,null,null,null,null,null,null,null,null,null,null,null,null,null,null,null,null,null,null,null,null,null,null,null,null,null,null,null,{"$f":"IF($BN114<1,0,LARGE($G114:$AW114,1))","v":0},{"$f":"IF($BN114<2,0,LARGE($G114:$AW114,2))","v":0},{"$f":"IF($BN114<3,0,LARGE($G114:$AW114,3))","v":0},{"$f":"IF($BN114<4,0,LARGE($G114:$AW114,4))","v":0},null,null,{"$f":"SUM(BF114:BI114)","v":0},{"$f":"RANK(BL114,$BL$3:$BL$279,0)","v":39},{"$f":"COUNT(G114:AW114)","v":0},{"$f":"SUM(G114:AW114)","v":0},null,null,null,null,{"$f":"(BQ114*$BQ$2)+(BR114*$BR$2)+(BS114*$BS$2)","v":0}]
[null,null,null,null,null,"Ad Gr"]
[null,null,null,null,null,"Place",null,null,null,null,null,null,null,null,null,null,null,null,null,null,null,null,null,null,null,null,null,null,null,null,null,null,null,null,null,null,null,null,null,null,null,null,null,null,null,null,null,null,null,null,null,null,null,null,null,null,null,null,null,null,null,null,null,null,null,null,null,null,{"$f":"COUNTIF($G116:$AW116,\"=1\")","v":0},{"$f":"COUNTIF($G116:$AW116,\"=2\")","v":0},{"$f":"COUNTIF($G116:$AW116,\"=3\")","v":0}]
[null,"Gomer","Lindsay",{"$f":"IF(BN117=0,0,BO117/BN117)","v":0},{"$f":"COUNT(G117:AW117)","v":0},"S'ford",null,null,null,null,null,null,null,null,null,null,null,null,null,null,null,null,null,null,null,null,null,null,null,null,null,null,null,null,null,null,null,null,null,null,null,null,null,null,null,null,null,null,null,null,null,null,null,null,null,null,null,{"$f":"IF($BN117<1,0,LARGE($G117:$AW117,1))","v":0},{"$f":"IF($BN117<2,0,LARGE($G117:$AW117,2))","v":0},{"$f":"IF($BN117<3,0,LARGE($G117:$AW117,3))","v":0},{"$f":"IF($BN117<4,0,LARGE($G117:$AW117,4))","v":0},null,null,{"$f":"SUM(BF117:BI117)","v":0},{"$f":"RANK(BL117,$BL$3:$BL$279,0)","v":39},{"$f":"COUNT(G117:AW117)","v":0},{"$f":"SUM(G117:AW117)","v":0},null,null,null,null,{"$f":"(BQ117*$BQ$2)+(BR117*$BR$2)+(BS117*$BS$2)","v":0}]
[null,null,null,null,null,"Ad Gr"]
[null,null,null,null,null,"Place",null,null,null,null,null,null,null,null,null,null,null,null,null,null,null,null,null,null,null,null,null,null,null,null,null,null,null,null,null,null,null,null,null,null,null,null,null,null,null,null,null,null,null,null,null,null,null,null,null,null,null,null,null,null,null,null,null,null,null,null,null,null,{"$f":"COUNTIF($G119:$AW119,\"=1\")","v":0},{"$f":"COUNTIF($G119:$AW119,\"=2\")","v":0},{"$f":"COUNTIF($G119:$AW119,\"=3\")","v":0}]
[null,"Guluk","Cody",{"$f":"IF(BN120=0,0,BO120/BN120)","v":0},{"$f":"COUNT(G120:AW120)","v":0},"S'ford",null,null,null,null,null,null,null,null,null,null,null,null,null,null,null,null,null,null,null,null,null,null,null,null,null,null,null,null,null,null,null,null,null,null,null,null,null,null,null,null,null,null,null,null,null,null,null,null,null,null,null,{"$f":"IF($BN120<1,0,LARGE($G120:$AW120,1))","v":0},{"$f":"IF($BN120<2,0,LARGE($G120:$AW120,2))","v":0},{"$f":"IF($BN120<3,0,LARGE($G120:$AW120,3))","v":0},{"$f":"IF($BN120<4,0,LARGE($G120:$AW120,4))","v":0},null,null,{"$f":"SUM(BF120:BI120)","v":0},{"$f":"RANK(BL120,$BL$3:$BL$279,0)","v":39},{"$f":"COUNT(G120:AW120)","v":0},{"$f":"SUM(G120:AW120)","v":0},null,null,null,null,{"$f":"(BQ120*$BQ$2)+(BR120*$BR$2)+(BS120*$BS$2)","v":0}]
[null,null,null,null,null,"Ad Gr"]
[null,null,null,null,null,"Place",null,null,null,null,null,null,null,null,null,null,null,null,null,null,null,null,null,null,null,null,null,null,null,null,null,null,null,null,null,null,null,null,null,null,null,null,null,null,null,null,null,null,null,null,null,null,null,null,null,null,null,null,null,null,null,null,null,null,null,null,null,null,{"$f":"COUNTIF($G122:$AW122,\"=1\")","v":0},{"$f":"COUNTIF($G122:$AW122,\"=2\")","v":0},{"$f":"COUNTIF($G122:$AW122,\"=3\")","v":0}]
[null,"Gurman","Marc",{"$f":"IF(BN123=0,0,BO123/BN123)","v":0},{"$f":"COUNT(G123:AW123)","v":0},"S'ford",null,null,null,null,null,null,null,null,null,null,null,null,null,null,null,null,null,null,null,null,null,null,null,null,null,null,null,null,null,null,null,null,null,null,null,null,null,null,null,null,null,null,null,null,null,null,null,null,null,null,null,{"$f":"IF($BN123<1,0,LARGE($G123:$AW123,1))","v":0},{"$f":"IF($BN123<2,0,LARGE($G123:$AW123,2))","v":0},{"$f":"IF($BN123<3,0,LARGE($G123:$AW123,3))","v":0},{"$f":"IF($BN123<4,0,LARGE($G123:$AW123,4))","v":0},null,null,{"$f":"SUM(BF123:BI123)","v":0},{"$f":"RANK(BL123,$BL$3:$BL$279,0)","v":39},{"$f":"COUNT(G123:AW123)","v":0},{"$f":"SUM(G123:AW123)","v":0},null,null,null,null,{"$f":"(BQ123*$BQ$2)+(BR123*$BR$2)+(BS123*$BS$2)","v":0}]
[null,null,null,null,null,"Ad Gr"]
[null,null,null,null,null,"Place",null,null,null,null,null,null,null,null,null,null,null,null,null,null,null,null,null,null,null,null,null,null,null,null,null,null,null,null,null,null,null,null,null,null,null,null,null,null,null,null,null,null,null,null,null,null,null,null,null,null,null,null,null,null,null,null,null,null,null,null,null,null,{"$f":"COUNTIF($G125:$AW125,\"=1\")","v":0},{"$f":"COUNTIF($G125:$AW125,\"=2\")","v":0},{"$f":"COUNTIF($G125:$AW125,\"=3\")","v":0}]
[null,"Hall","Byron",{"$f":"IF(BN126=0,0,BO126/BN126)","v":0},{"$f":"COUNT(G126:AW126)","v":0},"S'ford",null,null,null,null,null,null,null,null,null,null,null,null,null,null,null,null,null,null,null,null,null,null,null,null,null,null,null,null,null,null,null,null,null,null,null,null,null,null,null,null,null,null,null,null,null,null,null,null,null,null,null,{"$f":"IF($BN126<1,0,LARGE($G126:$AW126,1))","v":0},{"$f":"IF($BN126<2,0,LARGE($G126:$AW126,2))","v":0},{"$f":"IF($BN126<3,0,LARGE($G126:$AW126,3))","v":0},{"$f":"IF($BN126<4,0,LARGE($G126:$AW126,4))","v":0},null,null,{"$f":"SUM(BF126:BI126)","v":0},{"$f":"RANK(BL126,$BL$3:$BL$279,0)","v":39},{"$f":"COUNT(G126:AW126)","v":0},{"$f":"SUM(G126:AW126)","v":0},null,null,null,null,{"$f":"(BQ126*$BQ$2)+(BR126*$BR$2)+(BS126*$BS$2)","v":0}]
[null,null,null,null,null,"Ad Gr",null,null,null,null,null,null,null,null,112]
[null,null,null,null,null,"Place",null,null,null,null,null,null,null,null,null,null,null,null,null,null,null,null,null,null,null,null,null,null,null,null,null,null,null,null,null,null,null,null,null,null,null,null,null,null,null,null,null,null,null,null,null,null,null,null,null,null,null,null,null,null,null,null,null,null,null,null,null,null,{"$f":"COUNTIF($G128:$AW128,\"=1\")","v":0},{"$f":"COUNTIF($G128:$AW128,\"=2\")","v":0},{"$f":"COUNTIF($G128:$AW128,\"=3\")","v":0}]
[null,"Henderson","Peter ",{"$f":"IF(BN129=0,0,BO129/BN129)","v":0},{"$f":"COUNT(G129:AW129)","v":0},"S'ford",null,null,null,null,null,null,null,null,null,null,null,null,null,null,null,null,null,null,null,null,null,null,null,null,null,null,null,null,null,null,null,null,null,null,null,null,null,null,null,null,null,null,null,null,null,null,null,null,null,null,null,{"$f":"IF($BN129<1,0,LARGE($G129:$AW129,1))","v":0},{"$f":"IF($BN129<2,0,LARGE($G129:$AW129,2))","v":0},{"$f":"IF($BN129<3,0,LARGE($G129:$AW129,3))","v":0},{"$f":"IF($BN129<4,0,LARGE($G129:$AW129,4))","v":0},null,null,{"$f":"SUM(BF129:BI129)","v":0},{"$f":"RANK(BL129,$BL$3:$BL$279,0)","v":39},{"$f":"COUNT(G129:AW129)","v":0},{"$f":"SUM(G129:AW129)","v":0},null,null,null,null,{"$f":"(BQ129*$BQ$2)+(BR129*$BR$2)+(BS129*$BS$2)","v":0}]
[null,null,null,null,null,"Ad Gr"]
[null,null,null,null,null,"Place",null,null,null,null,null,null,null,null,null,null,null,null,null,null,null,null,null,null,null,null,null,null,null,null,null,null,null,null,null,null,null,null,null,null,null,null,null,null,null,null,null,null,null,null,null,null,null,null,null,null,null,null,null,null,null,null,null,null,null,null,null,null,{"$f":"COUNTIF($G131:$AW131,\"=1\")","v":0},{"$f":"COUNTIF($G131:$AW131,\"=2\")","v":0},{"$f":"COUNTIF($G131:$AW131,\"=3\")","v":0}]
[null,"Henderson","Ursula",{"$f":"IF(BN132=0,0,BO132/BN132)","v":0},{"$f":"COUNT(G132:AW132)","v":0},"S'ford",null,null,null,null,null,null,null,null,null,null,null,null,null,null,null,null,null,null,null,null,null,null,null,null,null,null,null,null,null,null,null,null,null,null,null,null,null,null,null,null,null,null,null,null,null,null,null,null,null,null,null,{"$f":"IF($BN132<1,0,LARGE($G132:$AW132,1))","v":0},{"$f":"IF($BN132<2,0,LARGE($G132:$AW132,2))","v":0},{"$f":"IF($BN132<3,0,LARGE($G132:$AW132,3))","v":0},{"$f":"IF($BN132<4,0,LARGE($G132:$AW132,4))","v":0},null,null,{"$f":"SUM(BF132:BI132)","v":0},{"$f":"RANK(BL132,$BL$3:$BL$279,0)","v":39},{"$f":"COUNT(G132:AW132)","v":0},{"$f":"SUM(G132:AW132)","v":0},null,null,null,null,{"$f":"(BQ132*$BQ$2)+(BR132*$BR$2)+(BS132*$BS$2)","v":0}]
[null,null,null,null,null,"Ad Gr"]
[null,null,null,null,null,"Place",null,null,null,null,null,null,null,null,null,null,null,null,null,null,null,null,null,null,null,null,null,null,null,null,null,null,null,null,null,null,null,null,null,null,null,null,null,null,null,null,null,null,null,null,null,null,null,null,null,null,null,null,null,null,null,null,null,null,null,null,null,null,{"$f":"COUNTIF($G134:$AW134,\"=1\")","v":0},{"$f":"COUNTIF($G134:$AW134,\"=2\")","v":0},{"$f":"COUNTIF($G134:$AW134,\"=3\")","v":0}]
[null,"Hirst","Simon",{"$f":"IF(BN135=0,0,BO135/BN135)","v":0},{"$f":"COUNT(G135:AW135)","v":0},"S'ford",null,null,null,null,null,null,null,null,null,null,null,null,null,null,null,null,null,null,null,null,null,null,null,null,null,null,null,null,null,null,null,null,null,null,null,null,null,null,null,null,null,null,null,null,null,null,null,null,null,null,null,{"$f":"IF($BN135<1,0,LARGE($G135:$AW135,1))","v":0},{"$f":"IF($BN135<2,0,LARGE($G135:$AW135,2))","v":0},{"$f":"IF($BN135<3,0,LARGE($G135:$AW135,3))","v":0},{"$f":"IF($BN135<4,0,LARGE($G135:$AW135,4))","v":0},null,null,{"$f":"SUM(BF135:BI135)","v":0},{"$f":"RANK(BL135,$BL$3:$BL$279,0)","v":39},{"$f":"COUNT(G135:AW135)","v":0},{"$f":"SUM(G135:AW135)","v":0},null,null,null,null,{"$f":"(BQ135*$BQ$2)+(BR135*$BR$2)+(BS135*$BS$2)","v":0}]
[null,null,null,null,null,"Ad Gr"]
[null,null,null,null,null,"Place",null,null,null,null,null,null,null,null,null,null,null,null,null,null,null,null,null,null,null,null,null,null,null,null,null,null,null,null,null,null,null,null,null,null,null,null,null,null,null,null,null,null,null,null,null,null,null,null,null,null,null,null,null,null,null,null,null,null,null,null,null,null,{"$f":"COUNTIF($G137:$AW137,\"=1\")","v":0},{"$f":"COUNTIF($G137:$AW137,\"=2\")","v":0},{"$f":"COUNTIF($G137:$AW137,\"=3\")","v":0}]
[null,"Hollins","Gary",{"$f":"IF(BN138=0,0,BO138/BN138)","v":0},{"$f":"COUNT(G138:AW138)","v":0},"S'ford",null,null,null,null,null,null,null,null,null,null,null,null,null,null,null,null,null,null,null,null,null,null,null,null,null,null,null,null,null,null,null,null,null,null,null,null,null,null,null,null,null,null,null,null,null,null,null,null,null,null,null,{"$f":"IF($BN138<1,0,LARGE($G138:$AW138,1))","v":0},{"$f":"IF($BN138<2,0,LARGE($G138:$AW138,2))","v":0},{"$f":"IF($BN138<3,0,LARGE($G138:$AW138,3))","v":0},{"$f":"IF($BN138<4,0,LARGE($G138:$AW138,4))","v":0},null,null,{"$f":"SUM(BF138:BI138)","v":0},{"$f":"RANK(BL138,$BL$3:$BL$279,0)","v":39},{"$f":"COUNT(G138:AW138)","v":0},{"$f":"SUM(G138:AW138)","v":0},null,null,null,null,{"$f":"(BQ138*$BQ$2)+(BR138*$BR$2)+(BS138*$BS$2)","v":0}]
[null,null,null,null,null,"Ad Gr"]
[null,null,null,null,null,"Place",null,null,null,null,null,null,null,null,null,null,null,null,null,null,null,null,null,null,null,null,null,null,null,null,null,null,null,null,null,null,null,null,null,null,null,null,null,null,null,null,null,null,null,null,null,null,null,null,null,null,null,null,null,null,null,null,null,null,null,null,null,null,{"$f":"COUNTIF($G140:$AW140,\"=1\")","v":0},{"$f":"COUNTIF($G140:$AW140,\"=2\")","v":0},{"$f":"COUNTIF($G140:$AW140,\"=3\")","v":0}]
[null,"Howieson","Alasdair",{"$f":"IF(BN141=0,0,BO141/BN141)","v":0},{"$f":"COUNT(G141:AW141)","v":0},"S'ford",null,null,null,null,null,null,null,null,null,null,null,null,null,null,null,null,null,null,null,null,null,null,null,null,null,null,null,null,null,null,null,null,null,null,null,null,null,null,null,null,null,null,null,null,null,null,null,null,null,null,null,{"$f":"IF($BN141<1,0,LARGE($G141:$AW141,1))","v":0},{"$f":"IF($BN141<2,0,LARGE($G141:$AW141,2))","v":0},{"$f":"IF($BN141<3,0,LARGE($G141:$AW141,3))","v":0},{"$f":"IF($BN141<4,0,LARGE($G141:$AW141,4))","v":0},null,null,{"$f":"SUM(BF141:BI141)","v":0},{"$f":"RANK(BL141,$BL$3:$BL$279,0)","v":39},{"$f":"COUNT(G141:AW141)","v":0},{"$f":"SUM(G141:AW141)","v":0},null,null,null,null,{"$f":"(BQ141*$BQ$2)+(BR141*$BR$2)+(BS141*$BS$2)","v":0}]
[null,null,null,null,null,"Ad Gr"]
[null,null,null,null,null,"Place",null,null,null,null,null,null,null,null,null,null,null,null,null,null,null,null,null,null,null,null,null,null,null,null,null,null,null,null,null,null,null,null,null,null,null,null,null,null,null,null,null,null,null,null,null,null,null,null,null,null,null,null,null,null,null,null,null,null,null,null,null,null,{"$f":"COUNTIF($G143:$AW143,\"=1\")","v":0},{"$f":"COUNTIF($G143:$AW143,\"=2\")","v":0},{"$f":"COUNTIF($G143:$AW143,\"=3\")","v":0}]
[null,"Hunt","Ian",{"$f":"IF(BN144=0,0,BO144/BN144)","v":25},{"$f":"COUNT(G144:AW144)","v":2},"S'ford",null,null,null,null,null,null,null,30,null,null,20,null,null,null,null,null,null,null,null,null,null,null,null,null,null,null,null,null,null,null,null,null,null,null,null,null,null,null,null,null,null,null,null,null,null,null,null,null,null,null,null,{"$f":"IF($BN144<1,0,LARGE($G144:$AW144,1))","v":30},{"$f":"IF($BN144<2,0,LARGE($G144:$AW144,2))","v":20},{"$f":"IF($BN144<3,0,LARGE($G144:$AW144,3))","v":0},{"$f":"IF($BN144<4,0,LARGE($G144:$AW144,4))","v":0},null,null,{"$f":"SUM(BF144:BI144)","v":50},{"$f":"RANK(BL144,$BL$3:$BL$279,0)","v":28},{"$f":"COUNT(G144:AW144)","v":2},{"$f":"SUM(G144:AW144)","v":50},null,null,null,null,{"$f":"(BQ144*$BQ$2)+(BR144*$BR$2)+(BS144*$BS$2)","v":0}]
[null,null,null,null,null,"Ad Gr",null,null,null,null,null,null,null,97,null,null,104]
[null,null,null,null,null,"Place",null,null,null,null,null,null,null,3,null,null,null,null,null,null,null,null,null,null,null,null,null,null,null,null,null,null,null,null,null,null,null,null,null,null,null,null,null,null,null,null,null,null,null,null,null,null,null,null,null,null,null,null,null,null,null,null,null,null,null,null,null,null,{"$f":"COUNTIF($G146:$AW146,\"=1\")","v":0},{"$f":"COUNTIF($G146:$AW146,\"=2\")","v":0},{"$f":"COUNTIF($G146:$AW146,\"=3\")","v":1}]
[null,"Jagger","Chris",{"$f":"IF(BN147=0,0,BO147/BN147)","v":32},{"$f":"COUNT(G147:AW147)","v":2},"S'ford",null,null,null,null,null,null,30,null,34,null,null,null,null,null,null,null,null,null,null,null,null,null,null,null,null,null,null,null,null,null,null,null,null,null,null,null,null,null,null,null,null,null,null,null,null,null,null,null,null,null,null,{"$f":"IF($BN147<1,0,LARGE($G147:$AW147,1))","v":34},{"$f":"IF($BN147<2,0,LARGE($G147:$AW147,2))","v":30},{"$f":"IF($BN147<3,0,LARGE($G147:$AW147,3))","v":0},{"$f":"IF($BN147<4,0,LARGE($G147:$AW147,4))","v":0},null,null,{"$f":"SUM(BF147:BI147)","v":64},{"$f":"RANK(BL147,$BL$3:$BL$279,0)","v":23},{"$f":"COUNT(G147:AW147)","v":2},{"$f":"SUM(G147:AW147)","v":64},null,null,null,null,{"$f":"(BQ147*$BQ$2)+(BR147*$BR$2)+(BS147*$BS$2)","v":0}]
[null,null,null,null,null,"Ad Gr",null,null,null,null,null,null,94,null,89]
[null,null,null,null,null,"Place",null,null,null,null,null,null,null,null,2,null,null,null,null,null,null,null,null,null,null,null,null,null,null,null,null,null,null,null,null,null,null,null,null,null,null,null,null,null,null,null,null,null,null,null,null,null,null,null,null,null,null,null,null,null,null,null,null,null,null,null,null,null,{"$f":"COUNTIF($G149:$AW149,\"=1\")","v":0},{"$f":"COUNTIF($G149:$AW149,\"=2\")","v":1},{"$f":"COUNTIF($G149:$AW149,\"=3\")","v":0}]
[null,"Johnson","Adam",{"$f":"IF(BN150=0,0,BO150/BN150)","v":31},{"$f":"COUNT(G150:AW150)","v":2},"S'ford",null,null,null,null,null,null,null,null,null,31,null,31,null,null,null,null,null,null,null,null,null,null,null,null,null,null,null,null,null,null,null,null,null,null,null,null,null,null,null,null,null,null,null,null,null,null,null,null,null,null,null,{"$f":"IF($BN150<1,0,LARGE($G150:$AW150,1))","v":31},{"$f":"IF($BN150<2,0,LARGE($G150:$AW150,2))","v":31},{"$f":"IF($BN150<3,0,LARGE($G150:$AW150,3))","v":0},{"$f":"IF($BN150<4,0,LARGE($G150:$AW150,4))","v":0},null,null,{"$f":"SUM(BF150:BI150)","v":62},{"$f":"RANK(BL150,$BL$3:$BL$279,0)","v":25},{"$f":"COUNT(G150:AW150)","v":2},{"$f":"SUM(G150:AW150)","v":62},null,null,null,null,{"$f":"(BQ150*$BQ$2)+(BR150*$BR$2)+(BS150*$BS$2)","v":0}]
[null,null,null,null,null,"Ad Gr",null,null,null,null,null,null,null,null,null,97,null,96]
[null,null,null,null,null,"Place",null,null,null,null,null,null,null,null,null,null,null,null,null,null,null,null,null,null,null,null,null,null,null,null,null,null,null,null,null,null,null,null,null,null,null,null,null,null,null,null,null,null,null,null,null,null,null,null,null,null,null,null,null,null,null,null,null,null,null,null,null,null,{"$f":"COUNTIF($G152:$AW152,\"=1\")","v":0},{"$f":"COUNTIF($G152:$AW152,\"=2\")","v":0},{"$f":"COUNTIF($G152:$AW152,\"=3\")","v":0}]
[null,"Jones","Anthony",{"$f":"IF(BN153=0,0,BO153/BN153)","v":0},{"$f":"COUNT(G153:AW153)","v":0},"S'ford",null,null,null,null,null,null,null,null,null,null,null,null,null,null,null,null,null,null,null,null,null,null,null,null,null,null,null,null,null,null,null,null,null,null,null,null,null,null,null,null,null,null,null,null,null,null,null,null,null,null,null,{"$f":"IF($BN153<1,0,LARGE($G153:$AW153,1))","v":0},{"$f":"IF($BN153<2,0,LARGE($G153:$AW153,2))","v":0},{"$f":"IF($BN153<3,0,LARGE($G153:$AW153,3))","v":0},{"$f":"IF($BN153<4,0,LARGE($G153:$AW153,4))","v":0},null,null,{"$f":"SUM(BF153:BI153)","v":0},{"$f":"RANK(BL153,$BL$3:$BL$279,0)","v":39},{"$f":"COUNT(G153:AW153)","v":0},{"$f":"SUM(G153:AW153)","v":0},null,null,null,null,{"$f":"(BQ153*$BQ$2)+(BR153*$BR$2)+(BS153*$BS$2)","v":0}]
[null,null,null,null,null,"Ad Gr"]
[null,null,null,null,null,"Place",null,null,null,null,null,null,null,null,null,null,null,null,null,null,null,null,null,null,null,null,null,null,null,null,null,null,null,null,null,null,null,null,null,null,null,null,null,null,null,null,null,null,null,null,null,null,null,null,null,null,null,null,null,null,null,null,null,null,null,null,null,null,{"$f":"COUNTIF($G155:$AW155,\"=1\")","v":0},{"$f":"COUNTIF($G155:$AW155,\"=2\")","v":0},{"$f":"COUNTIF($G155:$AW155,\"=3\")","v":0}]
[null,"Jones","Jon-Paul",{"$f":"IF(BN156=0,0,BO156/BN156)","v":0},{"$f":"COUNT(G156:AW156)","v":0},"S'ford",null,null,null,null,null,null,null,null,null,null,null,null,null,null,null,null,null,null,null,null,null,null,null,null,null,null,null,null,null,null,null,null,null,null,null,null,null,null,null,null,null,null,null,null,null,null,null,null,null,null,null,{"$f":"IF($BN156<1,0,LARGE($G156:$AW156,1))","v":0},{"$f":"IF($BN156<2,0,LARGE($G156:$AW156,2))","v":0},{"$f":"IF($BN156<3,0,LARGE($G156:$AW156,3))","v":0},{"$f":"IF($BN156<4,0,LARGE($G156:$AW156,4))","v":0},null,null,{"$f":"SUM(BF156:BI156)","v":0},{"$f":"RANK(BL156,$BL$3:$BL$279,0)","v":39},{"$f":"COUNT(G156:AW156)","v":0},{"$f":"SUM(G156:AW156)","v":0},null,null,null,null,{"$f":"(BQ156*$BQ$2)+(BR156*$BR$2)+(BS156*$BS$2)","v":0}]
[null,null,null,null,null,"Ad Gr",null,null,null,null,86,null,null,null,null,91]
[null,null,null,null,null,"Place",null,null,null,null,null,null,null,null,null,null,null,null,null,null,null,null,null,null,null,null,null,null,null,null,null,null,null,null,null,null,null,null,null,null,null,null,null,null,null,null,null,null,null,null,null,null,null,null,null,null,null,null,null,null,null,null,null,null,null,null,null,null,{"$f":"COUNTIF($G158:$AW158,\"=1\")","v":0},{"$f":"COUNTIF($G158:$AW158,\"=2\")","v":0},{"$f":"COUNTIF($G158:$AW158,\"=3\")","v":0}]
[null,"Keller","Louis",{"$f":"IF(BN159=0,0,BO159/BN159)","v":0},{"$f":"COUNT(G159:AW159)","v":0},"S'ford",null,null,null,null,null,null,null,null,null,null,null,null,null,null,null,null,null,null,null,null,null,null,null,null,null,null,null,null,null,null,null,null,null,null,null,null,null,null,null,null,null,null,null,null,null,null,null,null,null,null,null,{"$f":"IF($BN159<1,0,LARGE($G159:$AW159,1))","v":0},{"$f":"IF($BN159<2,0,LARGE($G159:$AW159,2))","v":0},{"$f":"IF($BN159<3,0,LARGE($G159:$AW159,3))","v":0},{"$f":"IF($BN159<4,0,LARGE($G159:$AW159,4))","v":0},null,null,{"$f":"SUM(BF159:BI159)","v":0},{"$f":"RANK(BL159,$BL$3:$BL$279,0)","v":39},{"$f":"COUNT(G159:AW159)","v":0},{"$f":"SUM(G159:AW159)","v":0},null,null,null,null,{"$f":"(BQ159*$BQ$2)+(BR159*$BR$2)+(BS159*$BS$2)","v":0}]
[null,null,null,null,null,"Ad Gr"]
[null,null,null,null,null,"Place",null,null,null,null,null,null,null,null,null,null,null,null,null,null,null,null,null,null,null,null,null,null,null,null,null,null,null,null,null,null,null,null,null,null,null,null,null,null,null,null,null,null,null,null,null,null,null,null,null,null,null,null,null,null,null,null,null,null,null,null,null,null,{"$f":"COUNTIF($G161:$AW161,\"=1\")","v":0},{"$f":"COUNTIF($G161:$AW161,\"=2\")","v":0},{"$f":"COUNTIF($G161:$AW161,\"=3\")","v":0}]
[null,"Klapdor","Stephan",{"$f":"IF(BN162=0,0,BO162/BN162)","v":29.666666666666668},{"$f":"COUNT(G162:AW162)","v":3},"S'ford",null,null,28,null,null,null,null,null,19,null,null,42,null,null,null,null,null,null,null,null,null,null,null,null,null,null,null,null,null,null,null,null,null,null,null,null,null,null,null,null,null,null,null,null,null,null,null,null,null,null,null,{"$f":"IF($BN162<1,0,LARGE($G162:$AW162,1))","v":42},{"$f":"IF($BN162<2,0,LARGE($G162:$AW162,2))","v":28},{"$f":"IF($BN162<3,0,LARGE($G162:$AW162,3))","v":19},{"$f":"IF($BN162<4,0,LARGE($G162:$AW162,4))","v":0},null,null,{"$f":"SUM(BF162:BI162)","v":89},{"$f":"RANK(BL162,$BL$3:$BL$279,0)","v":16},{"$f":"COUNT(G162:AW162)","v":3},{"$f":"SUM(G162:AW162)","v":89},null,null,null,null,{"$f":"(BQ162*$BQ$2)+(BR162*$BR$2)+(BS162*$BS$2)","v":0}]
[null,null,null,null,null,"Ad Gr",null,null,101,null,null,null,null,null,111,null,null,87]
[null,null,null,null,null,"Place",null,null,null,null,null,null,null,null,null,null,null,1,null,null,null,null,null,null,null,null,null,null,null,null,null,null,null,null,null,null,null,null,null,null,null,null,null,null,null,null,null,null,null,null,null,null,null,null,null,null,null,null,null,null,null,null,null,null,null,null,null,null,{"$f":"COUNTIF($G164:$AW164,\"=1\")","v":1},{"$f":"COUNTIF($G164:$AW164,\"=2\")","v":0},{"$f":"COUNTIF($G164:$AW164,\"=3\")","v":0}]
[null,"Krieg","Edith",{"$f":"IF(BN165=0,0,BO165/BN165)","v":0},{"$f":"COUNT(G165:AW165)","v":0},"S'ford",null,null,null,null,null,null,null,null,null,null,null,null,null,null,null,null,null,null,null,null,null,null,null,null,null,null,null,null,null,null,null,null,null,null,null,null,null,null,null,null,null,null,null,null,null,null,null,null,null,null,null,{"$f":"IF($BN165<1,0,LARGE($G165:$AW165,1))","v":0},{"$f":"IF($BN165<2,0,LARGE($G165:$AW165,2))","v":0},{"$f":"IF($BN165<3,0,LARGE($G165:$AW165,3))","v":0},{"$f":"IF($BN165<4,0,LARGE($G165:$AW165,4))","v":0},null,null,{"$f":"SUM(BF165:BI165)","v":0},{"$f":"RANK(BL165,$BL$3:$BL$279,0)","v":39},{"$f":"COUNT(G165:AW165)","v":0},{"$f":"SUM(G165:AW165)","v":0},null,null,null,null,{"$f":"(BQ165*$BQ$2)+(BR165*$BR$2)+(BS165*$BS$2)","v":0}]
[null,null,null,null,null,"Ad Gr",null,null,null,null,null,null,null,null,112]
[null,null,null,null,null,"Place",null,null,null,null,null,null,null,null,null,null,null,null,null,null,null,null,null,null,null,null,null,null,null,null,null,null,null,null,null,null,null,null,null,null,null,null,null,null,null,null,null,null,null,null,null,null,null,null,null,null,null,null,null,null,null,null,null,null,null,null,null,null,{"$f":"COUNTIF($G167:$AW167,\"=1\")","v":0},{"$f":"COUNTIF($G167:$AW167,\"=2\")","v":0},{"$f":"COUNTIF($G167:$AW167,\"=3\")","v":0}]
[null,"Lawrence","Mike",{"$f":"IF(BN168=0,0,BO168/BN168)","v":28.5},{"$f":"COUNT(G168:AW168)","v":4},"S'ford",null,null,26,null,null,null,null,null,20,34,null,34,null,null,null,null,null,null,null,null,null,null,null,null,null,null,null,null,null,null,null,null,null,null,null,null,null,null,null,null,null,null,null,null,null,null,null,null,null,null,null,{"$f":"IF($BN168<1,0,LARGE($G168:$AW168,1))","v":34},{"$f":"IF($BN168<2,0,LARGE($G168:$AW168,2))","v":34},{"$f":"IF($BN168<3,0,LARGE($G168:$AW168,3))","v":26},{"$f":"IF($BN168<4,0,LARGE($G168:$AW168,4))","v":20},null,null,{"$f":"SUM(BF168:BI168)","v":114},{"$f":"RANK(BL168,$BL$3:$BL$279,0)","v":11},{"$f":"COUNT(G168:AW168)","v":4},{"$f":"SUM(G168:AW168)","v":114},null,null,null,null,{"$f":"(BQ168*$BQ$2)+(BR168*$BR$2)+(BS168*$BS$2)","v":0}]
[null,null,null,null,null,"Ad Gr",null,null,112,null,null,null,null,null,117,104,null,105]
[null,null,null,null,null,"Place",null,null,null,null,null,null,null,null,null,null,null,null,null,null,null,null,null,null,null,null,null,null,null,null,null,null,null,null,null,null,null,null,null,null,null,null,null,null,null,null,null,null,null,null,null,null,null,null,null,null,null,null,null,null,null,null,null,null,null,null,null,null,{"$f":"COUNTIF($G170:$AW170,\"=1\")","v":0},{"$f":"COUNTIF($G170:$AW170,\"=2\")","v":0},{"$f":"COUNTIF($G170:$AW170,\"=3\")","v":0}]
[null,"Lechner","Svenja",{"$f":"IF(BN171=0,0,BO171/BN171)","v":29.571428571428573},{"$f":"COUNT(G171:AW171)","v":7},"S'ford",23,null,34,28,null,null,27,null,29,30,null,36,null,null,null,null,null,null,null,null,null,null,null,null,null,null,null,null,null,null,null,null,null,null,null,null,null,null,null,null,null,null,null,null,null,null,null,null,null,null,null,{"$f":"IF($BN171<1,0,LARGE($G171:$AW171,1))","v":36},{"$f":"IF($BN171<2,0,LARGE($G171:$AW171,2))","v":34},{"$f":"IF($BN171<3,0,LARGE($G171:$AW171,3))","v":30},{"$f":"IF($BN171<4,0,LARGE($G171:$AW171,4))","v":29},null,null,{"$f":"SUM(BF171:BI171)","v":129},{"$f":"RANK(BL171,$BL$3:$BL$279,0)","v":6},{"$f":"COUNT(G171:AW171)","v":7},{"$f":"SUM(G171:AW171)","v":207},null,null,null,null,{"$f":"(BQ171*$BQ$2)+(BR171*$BR$2)+(BS171*$BS$2)","v":0}]
[null,null,null,null,null,"Ad Gr",104,null,92,99,null,null,99,null,98,96,null,92]
[null,null,null,null,null,"Place",null,null,1,null,null,null,null,null,null,null,null,null,null,null,null,null,null,null,null,null,null,null,null,null,null,null,null,null,null,null,null,null,null,null,null,null,null,null,null,null,null,null,null,null,null,null,null,null,null,null,null,null,null,null,null,null,null,null,null,null,null,null,{"$f":"COUNTIF($G173:$AW173,\"=1\")","v":1},{"$f":"COUNTIF($G173:$AW173,\"=2\")","v":0},{"$f":"COUNTIF($G173:$AW173,\"=3\")","v":0}]
[null,"Leigh","David ",{"$f":"IF(BN174=0,0,BO174/BN174)","v":0},{"$f":"COUNT(G174:AW174)","v":0},"S'ford",null,null,null,null,null,null,null,null,null,null,null,null,null,null,null,null,null,null,null,null,null,null,null,null,null,null,null,null,null,null,null,null,null,null,null,null,null,null,null,null,null,null,null,null,null,null,null,null,null,null,null,{"$f":"IF($BN174<1,0,LARGE($G174:$AW174,1))","v":0},{"$f":"IF($BN174<2,0,LARGE($G174:$AW174,2))","v":0},{"$f":"IF($BN174<3,0,LARGE($G174:$AW174,3))","v":0},{"$f":"IF($BN174<4,0,LARGE($G174:$AW174,4))","v":0},null,null,{"$f":"SUM(BF174:BI174)","v":0},{"$f":"RANK(BL174,$BL$3:$BL$279,0)","v":39},{"$f":"COUNT(G174:AW174)","v":0},{"$f":"SUM(G174:AW174)","v":0},null,null,null,null,{"$f":"(BQ174*$BQ$2)+(BR174*$BR$2)+(BS174*$BS$2)","v":0}]
[null,null,null,null,null,"Ad Gr"]
[null,null,null,null,null,"Place",null,null,null,null,null,null,null,null,null,null,null,null,null,null,null,null,null,null,null,null,null,null,null,null,null,null,null,null,null,null,null,null,null,null,null,null,null,null,null,null,null,null,null,null,null,null,null,null,null,null,null,null,null,null,null,null,null,null,null,null,null,null,{"$f":"COUNTIF($G176:$AW176,\"=1\")","v":0},{"$f":"COUNTIF($G176:$AW176,\"=2\")","v":0},{"$f":"COUNTIF($G176:$AW176,\"=3\")","v":0}]
[null,"Lightfoot","Matthew",{"$f":"IF(BN177=0,0,BO177/BN177)","v":33.666666666666664},{"$f":"COUNT(G177:AW177)","v":3},"S'ford",40,null,null,null,null,null,32,null,29,null,null,"NR",null,null,null,null,null,null,null,null,null,null,null,null,null,null,null,null,null,null,null,null,null,null,null,null,null,null,null,null,null,null,null,null,null,null,null,null,null,null,null,{"$f":"IF($BN177<1,0,LARGE($G177:$AW177,1))","v":40},{"$f":"IF($BN177<2,0,LARGE($G177:$AW177,2))","v":32},{"$f":"IF($BN177<3,0,LARGE($G177:$AW177,3))","v":29},{"$f":"IF($BN177<4,0,LARGE($G177:$AW177,4))","v":0},null,null,{"$f":"SUM(BF177:BI177)","v":101},{"$f":"RANK(BL177,$BL$3:$BL$279,0)","v":13},{"$f":"COUNT(G177:AW177)","v":3},{"$f":"SUM(G177:AW177)","v":101},null,null,null,null,{"$f":"(BQ177*$BQ$2)+(BR177*$BR$2)+(BS177*$BS$2)","v":0}]
[null,null,null,null,null,"Ad Gr",95,null,null,null,null,null,99,null,102]
[null,null,null,null,null,"Place",2,null,null,null,null,null,3,null,null,null,null,null,null,null,null,null,null,null,null,null,null,null,null,null,null,null,null,null,null,null,null,null,null,null,null,null,null,null,null,null,null,null,null,null,null,null,null,null,null,null,null,null,null,null,null,null,null,null,null,null,null,null,{"$f":"COUNTIF($G179:$AW179,\"=1\")","v":0},{"$f":"COUNTIF($G179:$AW179,\"=2\")","v":1},{"$f":"COUNTIF($G179:$AW179,\"=3\")","v":1}]
[null,"Longworth","Robin",{"$f":"IF(BN180=0,0,BO180/BN180)","v":0},{"$f":"COUNT(G180:AW180)","v":0},"S'ford",null,null,null,null,null,null,null,null,null,null,null,null,null,null,null,null,null,null,null,null,null,null,null,null,null,null,null,null,null,null,null,null,null,null,null,null,null,null,null,null,null,null,null,null,null,null,null,null,null,null,null,{"$f":"IF($BN180<1,0,LARGE($G180:$AW180,1))","v":0},{"$f":"IF($BN180<2,0,LARGE($G180:$AW180,2))","v":0},{"$f":"IF($BN180<3,0,LARGE($G180:$AW180,3))","v":0},{"$f":"IF($BN180<4,0,LARGE($G180:$AW180,4))","v":0},null,null,{"$f":"SUM(BF180:BI180)","v":0},{"$f":"RANK(BL180,$BL$3:$BL$279,0)","v":39},{"$f":"COUNT(G180:AW180)","v":0},{"$f":"SUM(G180:AW180)","v":0},null,null,null,null,{"$f":"(BQ180*$BQ$2)+(BR180*$BR$2)+(BS180*$BS$2)","v":0}]
[null,null,null,null,null,"Ad Gr"]
[null,null,null,null,null,"Place",null,null,null,null,null,null,null,null,null,null,null,null,null,null,null,null,null,null,null,null,null,null,null,null,null,null,null,null,null,null,null,null,null,null,null,null,null,null,null,null,null,null,null,null,null,null,null,null,null,null,null,null,null,null,null,null,null,null,null,null,null,null,{"$f":"COUNTIF($G182:$AW182,\"=1\")","v":0},{"$f":"COUNTIF($G182:$AW182,\"=2\")","v":0},{"$f":"COUNTIF($G182:$AW182,\"=3\")","v":0}]
[null,"McCorley","Niall",{"$f":"IF(BN183=0,0,BO183/BN183)","v":32},{"$f":"COUNT(G183:AW183)","v":1},"S'ford",null,null,null,null,null,null,null,null,null,null,32,null,null,null,null,null,null,null,null,null,null,null,null,null,null,null,null,null,null,null,null,null,null,null,null,null,null,null,null,null,null,null,null,null,null,null,null,null,null,null,null,{"$f":"IF($BN183<1,0,LARGE($G183:$AW183,1))","v":32},{"$f":"IF($BN183<2,0,LARGE($G183:$AW183,2))","v":0},{"$f":"IF($BN183<3,0,LARGE($G183:$AW183,3))","v":0},{"$f":"IF($BN183<4,0,LARGE($G183:$AW183,4))","v":0},null,null,{"$f":"SUM(BF183:BI183)","v":32},{"$f":"RANK(BL183,$BL$3:$BL$279,0)","v":32},{"$f":"COUNT(G183:AW183)","v":1},{"$f":"SUM(G183:AW183)","v":32},null,null,null,null,{"$f":"(BQ183*$BQ$2)+(BR183*$BR$2)+(BS183*$BS$2)","v":0}]
[null,null,null,null,null,"Ad Gr",null,null,null,null,null,null,null,null,null,null,101]
[null,null,null,null,null,"Place",null,null,null,null,null,null,null,null,null,null,3,null,null,null,null,null,null,null,null,null,null,null,null,null,null,null,null,null,null,null,null,null,null,null,null,null,null,null,null,null,null,null,null,null,null,null,null,null,null,null,null,null,null,null,null,null,null,null,null,null,null,null,{"$f":"COUNTIF($G185:$AW185,\"=1\")","v":0},{"$f":"COUNTIF($G185:$AW185,\"=2\")","v":0},{"$f":"COUNTIF($G185:$AW185,\"=3\")","v":1}]
[null,"McDonald","Martin",{"$f":"IF(BN186=0,0,BO186/BN186)","v":0},{"$f":"COUNT(G186:AW186)","v":0},"S'ford",null,null,null,null,null,null,null,null,null,null,null,null,null,null,null,null,null,null,null,null,null,null,null,null,null,null,null,null,null,null,null,null,null,null,null,null,null,null,null,null,null,null,null,null,null,null,null,null,null,null,null,{"$f":"IF($BN186<1,0,LARGE($G186:$AW186,1))","v":0},{"$f":"IF($BN186<2,0,LARGE($G186:$AW186,2))","v":0},{"$f":"IF($BN186<3,0,LARGE($G186:$AW186,3))","v":0},{"$f":"IF($BN186<4,0,LARGE($G186:$AW186,4))","v":0},null,null,{"$f":"SUM(BF186:BI186)","v":0},{"$f":"RANK(BL186,$BL$3:$BL$279,0)","v":39},{"$f":"COUNT(G186:AW186)","v":0},{"$f":"SUM(G186:AW186)","v":0},null,null,null,null,{"$f":"(BQ186*$BQ$2)+(BR186*$BR$2)+(BS186*$BS$2)","v":0}]
[null,null,null,null,null,"Ad Gr"]
[null,null,null,null,null,"Place",null,null,null,null,null,null,null,null,null,null,null,null,null,null,null,null,null,null,null,null,null,null,null,null,null,null,null,null,null,null,null,null,null,null,null,null,null,null,null,null,null,null,null,null,null,null,null,null,null,null,null,null,null,null,null,null,null,null,null,null,null,null,{"$f":"COUNTIF($G188:$AW188,\"=1\")","v":0},{"$f":"COUNTIF($G188:$AW188,\"=2\")","v":0},{"$f":"COUNTIF($G188:$AW188,\"=3\")","v":0}]
[null,"Molloy","David ",{"$f":"IF(BN189=0,0,BO189/BN189)","v":0},{"$f":"COUNT(G189:AW189)","v":0},"S'ford",null,null,null,null,null,null,null,null,null,null,null,null,null,null,null,null,null,null,null,null,null,null,null,null,null,null,null,null,null,null,null,null,null,null,null,null,null,null,null,null,null,null,null,null,null,null,null,null,null,null,null,{"$f":"IF($BN189<1,0,LARGE($G189:$AW189,1))","v":0},{"$f":"IF($BN189<2,0,LARGE($G189:$AW189,2))","v":0},{"$f":"IF($BN189<3,0,LARGE($G189:$AW189,3))","v":0},{"$f":"IF($BN189<4,0,LARGE($G189:$AW189,4))","v":0},null,null,{"$f":"SUM(BF189:BI189)","v":0},{"$f":"RANK(BL189,$BL$3:$BL$279,0)","v":39},{"$f":"COUNT(G189:AW189)","v":0},{"$f":"SUM(G189:AW189)","v":0},null,null,null,null,{"$f":"(BQ189*$BQ$2)+(BR189*$BR$2)+(BS189*$BS$2)","v":0}]
[null,null,null,null,null,"Ad Gr"]
[null,null,null,null,null,"Place",null,null,null,null,null,null,null,null,null,null,null,null,null,null,null,null,null,null,null,null,null,null,null,null,null,null,null,null,null,null,null,null,null,null,null,null,null,null,null,null,null,null,null,null,null,null,null,null,null,null,null,null,null,null,null,null,null,null,null,null,null,null,{"$f":"COUNTIF($G191:$AW191,\"=1\")","v":0},{"$f":"COUNTIF($G191:$AW191,\"=2\")","v":0},{"$f":"COUNTIF($G191:$AW191,\"=3\")","v":0}]
[null,"Morris","Brian",{"$f":"IF(BN192=0,0,BO192/BN192)","v":0},{"$f":"COUNT(G192:AW192)","v":0},"S'ford",null,null,null,null,null,null,null,null,null,null,null,null,null,null,null,null,null,null,null,null,null,null,null,null,null,null,null,null,null,null,null,null,null,null,null,null,null,null,null,null,null,null,null,null,null,null,null,null,null,null,null,{"$f":"IF($BN192<1,0,LARGE($G192:$AW192,1))","v":0},{"$f":"IF($BN192<2,0,LARGE($G192:$AW192,2))","v":0},{"$f":"IF($BN192<3,0,LARGE($G192:$AW192,3))","v":0},{"$f":"IF($BN192<4,0,LARGE($G192:$AW192,4))","v":0},null,null,{"$f":"SUM(BF192:BI192)","v":0},{"$f":"RANK(BL192,$BL$3:$BL$279,0)","v":39},{"$f":"COUNT(G192:AW192)","v":0},{"$f":"SUM(G192:AW192)","v":0},null,null,null,null,{"$f":"(BQ192*$BQ$2)+(BR192*$BR$2)+(BS192*$BS$2)","v":0}]
[null,null,null,null,null,"Ad Gr"]
[null,null,null,null,null,"Place",null,null,null,null,null,null,null,null,null,null,null,null,null,null,null,null,null,null,null,null,null,null,null,null,null,null,null,null,null,null,null,null,null,null,null,null,null,null,null,null,null,null,null,null,null,null,null,null,null,null,null,null,null,null,null,null,null,null,null,null,null,null,{"$f":"COUNTIF($G194:$AW194,\"=1\")","v":0},{"$f":"COUNTIF($G194:$AW194,\"=2\")","v":0},{"$f":"COUNTIF($G194:$AW194,\"=3\")","v":0}]
[null,"Moss","Clyde",{"$f":"IF(BN195=0,0,BO195/BN195)","v":25},{"$f":"COUNT(G195:AW195)","v":1},"S'ford",null,null,null,null,null,null,25,null,null,null,null,null,null,null,null,null,null,null,null,null,null,null,null,null,null,null,null,null,null,null,null,null,null,null,null,null,null,null,null,null,null,null,null,null,null,null,null,null,null,null,null,{"$f":"IF($BN195<1,0,LARGE($G195:$AW195,1))","v":25},{"$f":"IF($BN195<2,0,LARGE($G195:$AW195,2))","v":0},{"$f":"IF($BN195<3,0,LARGE($G195:$AW195,3))","v":0},{"$f":"IF($BN195<4,0,LARGE($G195:$AW195,4))","v":0},null,null,{"$f":"SUM(BF195:BI195)","v":25},{"$f":"RANK(BL195,$BL$3:$BL$279,0)","v":36},{"$f":"COUNT(G195:AW195)","v":1},{"$f":"SUM(G195:AW195)","v":25},null,null,null,null,{"$f":"(BQ195*$BQ$2)+(BR195*$BR$2)+(BS195*$BS$2)","v":0}]
[null,null,null,null,null,"Ad Gr",null,null,null,null,null,null,106]
[null,null,null,null,null,"Place",null,null,null,null,null,null,null,null,null,null,null,null,null,null,null,null,null,null,null,null,null,null,null,null,null,null,null,null,null,null,null,null,null,null,null,null,null,null,null,null,null,null,null,null,null,null,null,null,null,null,null,null,null,null,null,null,null,null,null,null,null,null,{"$f":"COUNTIF($G197:$AW197,\"=1\")","v":0},{"$f":"COUNTIF($G197:$AW197,\"=2\")","v":0},{"$f":"COUNTIF($G197:$AW197,\"=3\")","v":0}]
[null,"Naudet","Thomas",{"$f":"IF(BN198=0,0,BO198/BN198)","v":29},{"$f":"COUNT(G198:AW198)","v":1},"S'ford",null,null,29,null,null,null,null,null,null,null,null,null,null,null,null,null,null,null,null,null,null,null,null,null,null,null,null,null,null,null,null,null,null,null,null,null,null,null,null,null,null,null,null,null,null,null,null,null,null,null,null,{"$f":"IF($BN198<1,0,LARGE($G198:$AW198,1))","v":29},{"$f":"IF($BN198<2,0,LARGE($G198:$AW198,2))","v":0},{"$f":"IF($BN198<3,0,LARGE($G198:$AW198,3))","v":0},{"$f":"IF($BN198<4,0,LARGE($G198:$AW198,4))","v":0},null,null,{"$f":"SUM(BF198:BI198)","v":29},{"$f":"RANK(BL198,$BL$3:$BL$279,0)","v":33},{"$f":"COUNT(G198:AW198)","v":1},{"$f":"SUM(G198:AW198)","v":29},null,null,null,null,{"$f":"(BQ198*$BQ$2)+(BR198*$BR$2)+(BS198*$BS$2)","v":0}]
[null,null,null,null,null,"Ad Gr",null,null,100]
[null,null,null,null,null,"Place",null,null,null,null,null,null,null,null,null,null,null,null,null,null,null,null,null,null,null,null,null,null,null,null,null,null,null,null,null,null,null,null,null,null,null,null,null,null,null,null,null,null,null,null,null,null,null,null,null,null,null,null,null,null,null,null,null,null,null,null,null,null,{"$f":"COUNTIF($G200:$AW200,\"=1\")","v":0},{"$f":"COUNTIF($G200:$AW200,\"=2\")","v":0},{"$f":"COUNTIF($G200:$AW200,\"=3\")","v":0}]
[null,"Niklas","Martina",{"$f":"IF(BN201=0,0,BO201/BN201)","v":0},{"$f":"COUNT(G201:AW201)","v":0},"S'ford",null,null,null,null,null,null,null,null,null,null,null,null,null,null,null,null,null,null,null,null,null,null,null,null,null,null,null,null,null,null,null,null,null,null,null,null,null,null,null,null,null,null,null,null,null,null,null,null,null,null,null,{"$f":"IF($BN201<1,0,LARGE($G201:$AW201,1))","v":0},{"$f":"IF($BN201<2,0,LARGE($G201:$AW201,2))","v":0},{"$f":"IF($BN201<3,0,LARGE($G201:$AW201,3))","v":0},{"$f":"IF($BN201<4,0,LARGE($G201:$AW201,4))","v":0},null,null,{"$f":"SUM(BF201:BI201)","v":0},{"$f":"RANK(BL201,$BL$3:$BL$279,0)","v":39},{"$f":"COUNT(G201:AW201)","v":0},{"$f":"SUM(G201:AW201)","v":0},null,null,null,null,{"$f":"(BQ201*$BQ$2)+(BR201*$BR$2)+(BS201*$BS$2)","v":0}]
[null,null,null,null,null,"Ad Gr"]
[null,null,null,null,null,"Place",null,null,null,null,null,null,null,null,null,null,null,null,null,null,null,null,null,null,null,null,null,null,null,null,null,null,null,null,null,null,null,null,null,null,null,null,null,null,null,null,null,null,null,null,null,null,null,null,null,null,null,null,null,null,null,null,null,null,null,null,null,null,{"$f":"COUNTIF($G203:$AW203,\"=1\")","v":0},{"$f":"COUNTIF($G203:$AW203,\"=2\")","v":0},{"$f":"COUNTIF($G203:$AW203,\"=3\")","v":0}]
[null,"O'Reilly","Derek",{"$f":"IF(BN204=0,0,BO204/BN204)","v":29.166666666666668},{"$f":"COUNT(G204:AW204)","v":6},"S'ford",34,27,null,34,null,null,null,22,27,null,null,null,31,null,null,null,null,null,null,null,null,null,null,null,null,null,null,null,null,null,null,null,null,null,null,null,null,null,null,null,null,null,null,null,null,null,null,null,null,null,null,{"$f":"IF($BN204<1,0,LARGE($G204:$AW204,1))","v":34},{"$f":"IF($BN204<2,0,LARGE($G204:$AW204,2))","v":34},{"$f":"IF($BN204<3,0,LARGE($G204:$AW204,3))","v":31},{"$f":"IF($BN204<4,0,LARGE($G204:$AW204,4))","v":27},null,null,{"$f":"SUM(BF204:BI204)","v":126},{"$f":"RANK(BL204,$BL$3:$BL$279,0)","v":10},{"$f":"COUNT(G204:AW204)","v":6},{"$f":"SUM(G204:AW204)","v":175},null,null,null,null,{"$f":"(BQ204*$BQ$2)+(BR204*$BR$2)+(BS204*$BS$2)","v":0}]
[null,null,null,null,null,"Ad Gr",88,96,null,87,null,null,null,101,95,null,null,null,92]
[null,null,null,null,null,"Place",null,null,null,2,null,null,null,null,null,null,null,null,null,null,null,null,null,null,null,null,null,null,null,null,null,null,null,null,null,null,null,null,null,null,null,null,null,null,null,null,null,null,null,null,null,null,null,null,null,null,null,null,null,null,null,null,null,null,null,null,null,null,{"$f":"COUNTIF($G206:$AW206,\"=1\")","v":0},{"$f":"COUNTIF($G206:$AW206,\"=2\")","v":1},{"$f":"COUNTIF($G206:$AW206,\"=3\")","v":0}]
[null,"Osborne","Robert",{"$f":"IF(BN207=0,0,BO207/BN207)","v":0},{"$f":"COUNT(G207:AW207)","v":0},"S'ford",null,null,null,null,null,null,null,null,null,null,null,null,null,null,null,null,null,null,null,null,null,null,null,null,null,null,null,null,null,null,null,null,null,null,null,null,null,null,null,null,null,null,null,null,null,null,null,null,null,null,null,{"$f":"IF($BN207<1,0,LARGE($G207:$AW207,1))","v":0},{"$f":"IF($BN207<2,0,LARGE($G207:$AW207,2))","v":0},{"$f":"IF($BN207<3,0,LARGE($G207:$AW207,3))","v":0},{"$f":"IF($BN207<4,0,LARGE($G207:$AW207,4))","v":0},null,null,{"$f":"SUM(BF207:BI207)","v":0},{"$f":"RANK(BL207,$BL$3:$BL$279,0)","v":39},{"$f":"COUNT(G207:AW207)","v":0},{"$f":"SUM(G207:AW207)","v":0},null,null,null,null,{"$f":"(BQ207*$BQ$2)+(BR207*$BR$2)+(BS207*$BS$2)","v":0}]
[null,null,null,null,null,"Ad Gr"]
[null,null,null,null,null,"Place",null,null,null,null,null,null,null,null,null,null,null,null,null,null,null,null,null,null,null,null,null,null,null,null,null,null,null,null,null,null,null,null,null,null,null,null,null,null,null,null,null,null,null,null,null,null,null,null,null,null,null,null,null,null,null,null,null,null,null,null,null,null,{"$f":"COUNTIF($G209:$AW209,\"=1\")","v":0},{"$f":"COUNTIF($G209:$AW209,\"=2\")","v":0},{"$f":"COUNTIF($G209:$AW209,\"=3\")","v":0}]
[null,"Parry","Rick",{"$f":"IF(BN210=0,0,BO210/BN210)","v":0},{"$f":"COUNT(G210:AW210)","v":0},"S'ford",null,null,null,null,null,null,null,null,null,null,null,null,null,null,null,null,null,null,null,null,null,null,null,null,null,null,null,null,null,null,null,null,null,null,null,null,null,null,null,null,null,null,null,null,null,null,null,null,null,null,null,{"$f":"IF($BN210<1,0,LARGE($G210:$AW210,1))","v":0},{"$f":"IF($BN210<2,0,LARGE($G210:$AW210,2))","v":0},{"$f":"IF($BN210<3,0,LARGE($G210:$AW210,3))","v":0},{"$f":"IF($BN210<4,0,LARGE($G210:$AW210,4))","v":0},null,null,{"$f":"SUM(BF210:BI210)","v":0},{"$f":"RANK(BL210,$BL$3:$BL$279,0)","v":39},{"$f":"COUNT(G210:AW210)","v":0},{"$f":"SUM(G210:AW210)","v":0},null,null,null,null,{"$f":"(BQ210*$BQ$2)+(BR210*$BR$2)+(BS210*$BS$2)","v":0}]
[null,null,null,null,null,"Ad Gr"]
[null,null,null,null,null,"Place",null,null,null,null,null,null,null,null,null,null,null,null,null,null,null,null,null,null,null,null,null,null,null,null,null,null,null,null,null,null,null,null,null,null,null,null,null,null,null,null,null,null,null,null,null,null,null,null,null,null,null,null,null,null,null,null,null,null,null,null,null,null,{"$f":"COUNTIF($G212:$AW212,\"=1\")","v":0},{"$f":"COUNTIF($G212:$AW212,\"=2\")","v":0},{"$f":"COUNTIF($G212:$AW212,\"=3\")","v":0}]
[null,"Portisch","Eva",{"$f":"IF(BN213=0,0,BO213/BN213)","v":0},{"$f":"COUNT(G213:AW213)","v":0},"S'ford",null,null,null,null,null,null,null,null,null,null,null,null,null,null,null,null,null,null,null,null,null,null,null,null,null,null,null,null,null,null,null,null,null,null,null,null,null,null,null,null,null,null,null,null,null,null,null,null,null,null,null,{"$f":"IF($BN213<1,0,LARGE($G213:$AW213,1))","v":0},{"$f":"IF($BN213<2,0,LARGE($G213:$AW213,2))","v":0},{"$f":"IF($BN213<3,0,LARGE($G213:$AW213,3))","v":0},{"$f":"IF($BN213<4,0,LARGE($G213:$AW213,4))","v":0},null,null,{"$f":"SUM(BF213:BI213)","v":0},{"$f":"RANK(BL213,$BL$3:$BL$279,0)","v":39},{"$f":"COUNT(G213:AW213)","v":0},{"$f":"SUM(G213:AW213)","v":0},null,null,null,null,{"$f":"(BQ213*$BQ$2)+(BR213*$BR$2)+(BS213*$BS$2)","v":0}]
[null,null,null,null,null,"Ad Gr"]
[null,null,null,null,null,"Place",null,null,null,null,null,null,null,null,null,null,null,null,null,null,null,null,null,null,null,null,null,null,null,null,null,null,null,null,null,null,null,null,null,null,null,null,null,null,null,null,null,null,null,null,null,null,null,null,null,null,null,null,null,null,null,null,null,null,null,null,null,null,{"$f":"COUNTIF($G215:$AW215,\"=1\")","v":0},{"$f":"COUNTIF($G215:$AW215,\"=2\")","v":0},{"$f":"COUNTIF($G215:$AW215,\"=3\")","v":0}]
[null,"Pritchard","Alena",{"$f":"IF(BN216=0,0,BO216/BN216)","v":0},{"$f":"COUNT(G216:AW216)","v":0},"S'ford",null,null,null,null,null,null,null,null,null,null,null,null,null,null,null,null,null,null,null,null,null,null,null,null,null,null,null,null,null,null,null,null,null,null,null,null,null,null,null,null,null,null,null,null,null,null,null,null,null,null,null,{"$f":"IF($BN216<1,0,LARGE($G216:$AW216,1))","v":0},{"$f":"IF($BN216<2,0,LARGE($G216:$AW216,2))","v":0},{"$f":"IF($BN216<3,0,LARGE($G216:$AW216,3))","v":0},{"$f":"IF($BN216<4,0,LARGE($G216:$AW216,4))","v":0},null,null,{"$f":"SUM(BF216:BI216)","v":0},{"$f":"RANK(BL216,$BL$3:$BL$279,0)","v":39},{"$f":"COUNT(G216:AW216)","v":0},{"$f":"SUM(G216:AW216)","v":0},null,null,null,null,{"$f":"(BQ216*$BQ$2)+(BR216*$BR$2)+(BS216*$BS$2)","v":0}]
[null,null,null,null,null,"Ad Gr"]
[null,null,null,null,null,"Place",null,null,null,null,null,null,null,null,null,null,null,null,null,null,null,null,null,null,null,null,null,null,null,null,null,null,null,null,null,null,null,null,null,null,null,null,null,null,null,null,null,null,null,null,null,null,null,null,null,null,null,null,null,null,null,null,null,null,null,null,null,null,{"$f":"COUNTIF($G218:$AW218,\"=1\")","v":0},{"$f":"COUNTIF($G218:$AW218,\"=2\")","v":0},{"$f":"COUNTIF($G218:$AW218,\"=3\")","v":0}]
[null,"Pritchard","Steve",{"$f":"IF(BN219=0,0,BO219/BN219)","v":0},{"$f":"COUNT(G219:AW219)","v":0},"S'ford",null,null,null,null,null,null,null,null,null,null,null,null,null,null,null,null,null,null,null,null,null,null,null,null,null,null,null,null,null,null,null,null,null,null,null,null,null,null,null,null,null,null,null,null,null,null,null,null,null,null,null,{"$f":"IF($BN219<1,0,LARGE($G219:$AW219,1))","v":0},{"$f":"IF($BN219<2,0,LARGE($G219:$AW219,2))","v":0},{"$f":"IF($BN219<3,0,LARGE($G219:$AW219,3))","v":0},{"$f":"IF($BN219<4,0,LARGE($G219:$AW219,4))","v":0},null,null,{"$f":"SUM(BF219:BI219)","v":0},{"$f":"RANK(BL219,$BL$3:$BL$279,0)","v":39},{"$f":"COUNT(G219:AW219)","v":0},{"$f":"SUM(G219:AW219)","v":0},null,null,null,null,{"$f":"(BQ219*$BQ$2)+(BR219*$BR$2)+(BS219*$BS$2)","v":0}]
[null,null,null,null,null,"Ad Gr"]
[null,null,null,null,null,"Place",null,null,null,null,null,null,null,null,null,null,null,null,null,null,null,null,null,null,null,null,null,null,null,null,null,null,null,null,null,null,null,null,null,null,null,null,null,null,null,null,null,null,null,null,null,null,null,null,null,null,null,null,null,null,null,null,null,null,null,null,null,null,{"$f":"COUNTIF($G221:$AW221,\"=1\")","v":0},{"$f":"COUNTIF($G221:$AW221,\"=2\")","v":0},{"$f":"COUNTIF($G221:$AW221,\"=3\")","v":0}]
[null,"Ptok","Daniela",{"$f":"IF(BN222=0,0,BO222/BN222)","v":0},{"$f":"COUNT(G222:AW222)","v":0},"S'ford",null,null,null,null,null,null,null,null,null,null,null,null,null,null,null,null,null,null,null,null,null,null,null,null,null,null,null,null,null,null,null,null,null,null,null,null,null,null,null,null,null,null,null,null,null,null,null,null,null,null,null,{"$f":"IF($BN222<1,0,LARGE($G222:$AW222,1))","v":0},{"$f":"IF($BN222<2,0,LARGE($G222:$AW222,2))","v":0},{"$f":"IF($BN222<3,0,LARGE($G222:$AW222,3))","v":0},{"$f":"IF($BN222<4,0,LARGE($G222:$AW222,4))","v":0},null,null,{"$f":"SUM(BF222:BI222)","v":0},{"$f":"RANK(BL222,$BL$3:$BL$279,0)","v":39},{"$f":"COUNT(G222:AW222)","v":0},{"$f":"SUM(G222:AW222)","v":0},null,null,null,null,{"$f":"(BQ222*$BQ$2)+(BR222*$BR$2)+(BS222*$BS$2)","v":0}]
[null,null,null,null,null,"Ad Gr"]
[null,null,null,null,null,"Place",null,null,null,null,null,null,null,null,null,null,null,null,null,null,null,null,null,null,null,null,null,null,null,null,null,null,null,null,null,null,null,null,null,null,null,null,null,null,null,null,null,null,null,null,null,null,null,null,null,null,null,null,null,null,null,null,null,null,null,null,null,null,{"$f":"COUNTIF($G224:$AW224,\"=1\")","v":0},{"$f":"COUNTIF($G224:$AW224,\"=2\")","v":0},{"$f":"COUNTIF($G224:$AW224,\"=3\")","v":0}]
[null,"Reilly","Martin",{"$f":"IF(BN225=0,0,BO225/BN225)","v":31.25},{"$f":"COUNT(G225:AW225)","v":8},"S'ford",25,37,null,29,null,null,24,35,23,null,null,37,40,null,null,null,null,null,null,null,null,null,null,null,null,null,null,null,null,null,null,null,null,null,null,null,null,null,null,null,null,null,null,null,null,null,null,null,null,null,null,{"$f":"IF($BN225<1,0,LARGE($G225:$AW225,1))","v":40},{"$f":"IF($BN225<2,0,LARGE($G225:$AW225,2))","v":37},{"$f":"IF($BN225<3,0,LARGE($G225:$AW225,3))","v":37},{"$f":"IF($BN225<4,0,LARGE($G225:$AW225,4))","v":35},null,null,{"$f":"SUM(BF225:BI225)","v":149},{"$f":"RANK(BL225,$BL$3:$BL$279,0)","v":1},{"$f":"COUNT(G225:AW225)","v":8},{"$f":"SUM(G225:AW225)","v":250},null,null,null,null,{"$f":"(BQ225*$BQ$2)+(BR225*$BR$2)+(BS225*$BS$2)","v":0}]
[null,null,null,null,null,"Ad Gr",101,87,null,96,null,null,101,91,101,null,null,88,96]
[null,null,null,null,null,"Place",null,null,null,null,null,null,null,2,null,null,null,3,1,null,null,null,null,null,null,null,null,null,null,null,null,null,null,null,null,null,null,null,null,null,null,null,null,null,null,null,null,null,null,null,null,null,null,null,null,null,null,null,null,null,null,null,null,null,null,null,null,null,{"$f":"COUNTIF($G227:$AW227,\"=1\")","v":1},{"$f":"COUNTIF($G227:$AW227,\"=2\")","v":1},{"$f":"COUNTIF($G227:$AW227,\"=3\")","v":1}]
[null,"Roe","Sean",{"$f":"IF(BN228=0,0,BO228/BN228)","v":29},{"$f":"COUNT(G228:AW228)","v":1},"S'ford",null,null,null,null,null,null,null,null,29,null,null,null,null,null,null,null,null,null,null,null,null,null,null,null,null,null,null,null,null,null,null,null,null,null,null,null,null,null,null,null,null,null,null,null,null,null,null,null,null,null,null,{"$f":"IF($BN228<1,0,LARGE($G228:$AW228,1))","v":29},{"$f":"IF($BN228<2,0,LARGE($G228:$AW228,2))","v":0},{"$f":"IF($BN228<3,0,LARGE($G228:$AW228,3))","v":0},{"$f":"IF($BN228<4,0,LARGE($G228:$AW228,4))","v":0},null,null,{"$f":"SUM(BF228:BI228)","v":29},{"$f":"RANK(BL228,$BL$3:$BL$279,0)","v":33},{"$f":"COUNT(G228:AW228)","v":1},{"$f":"SUM(G228:AW228)","v":29},null,null,null,null,{"$f":"(BQ228*$BQ$2)+(BR228*$BR$2)+(BS228*$BS$2)","v":0}]
[null,null,null,null,null,"Ad Gr",null,null,null,null,null,null,null,null,113]
[null,null,null,null,null,"Place",null,null,null,null,null,null,null,null,null,null,null,null,null,null,null,null,null,null,null,null,null,null,null,null,null,null,null,null,null,null,null,null,null,null,null,null,null,null,null,null,null,null,null,null,null,null,null,null,null,null,null,null,null,null,null,null,null,null,null,null,null,null,{"$f":"COUNTIF($G230:$AW230,\"=1\")","v":0},{"$f":"COUNTIF($G230:$AW230,\"=2\")","v":0},{"$f":"COUNTIF($G230:$AW230,\"=3\")","v":0}]
[null,"Roe","Sieglinde",{"$f":"IF(BN231=0,0,BO231/BN231)","v":0},{"$f":"COUNT(G231:AW231)","v":0},"S'ford",null,null,null,null,null,null,null,null,null,null,null,null,null,null,null,null,null,null,null,null,null,null,null,null,null,null,null,null,null,null,null,null,null,null,null,null,null,null,null,null,null,null,null,null,null,null,null,null,null,null,null,{"$f":"IF($BN231<1,0,LARGE($G231:$AW231,1))","v":0},{"$f":"IF($BN231<2,0,LARGE($G231:$AW231,2))","v":0},{"$f":"IF($BN231<3,0,LARGE($G231:$AW231,3))","v":0},{"$f":"IF($BN231<4,0,LARGE($G231:$AW231,4))","v":0},null,null,{"$f":"SUM(BF231:BI231)","v":0},{"$f":"RANK(BL231,$BL$3:$BL$279,0)","v":39},{"$f":"COUNT(G231:AW231)","v":0},{"$f":"SUM(G231:AW231)","v":0},null,null,null,null,{"$f":"(BQ231*$BQ$2)+(BR231*$BR$2)+(BS231*$BS$2)","v":0}]
[null,null,null,null,null,"Ad Gr",null,null,null,null,null,null,null,null,126]
[null,null,null,null,null,"Place",null,null,null,null,null,null,null,null,null,null,null,null,null,null,null,null,null,null,null,null,null,null,null,null,null,null,null,null,null,null,null,null,null,null,null,null,null,null,null,null,null,null,null,null,null,null,null,null,null,null,null,null,null,null,null,null,null,null,null,null,null,null,{"$f":"COUNTIF($G233:$AW233,\"=1\")","v":0},{"$f":"COUNTIF($G233:$AW233,\"=2\")","v":0},{"$f":"COUNTIF($G233:$AW233,\"=3\")","v":0}]
[null,"Roeckl","Petra",{"$f":"IF(BN234=0,0,BO234/BN234)","v":28},{"$f":"COUNT(G234:AW234)","v":1},"S'ford",null,null,null,null,null,null,null,null,null,null,null,28,null,null,null,null,null,null,null,null,null,null,null,null,null,null,null,null,null,null,null,null,null,null,null,null,null,null,null,null,null,null,null,null,null,null,null,null,null,null,null,{"$f":"IF($BN234<1,0,LARGE($G234:$AW234,1))","v":28},{"$f":"IF($BN234<2,0,LARGE($G234:$AW234,2))","v":0},{"$f":"IF($BN234<3,0,LARGE($G234:$AW234,3))","v":0},{"$f":"IF($BN234<4,0,LARGE($G234:$AW234,4))","v":0},null,null,{"$f":"SUM(BF234:BI234)","v":28},{"$f":"RANK(BL234,$BL$3:$BL$279,0)","v":35},{"$f":"COUNT(G234:AW234)","v":1},{"$f":"SUM(G234:AW234)","v":28},null,null,null,null,{"$f":"(BQ234*$BQ$2)+(BR234*$BR$2)+(BS234*$BS$2)","v":0}]
[null,null,null,null,null,"Ad Gr",null,null,null,null,null,null,null,null,null,null,null,102]
[null,null,null,null,null,"Place",null,null,null,null,null,null,null,null,null,null,null,null,null,null,null,null,null,null,null,null,null,null,null,null,null,null,null,null,null,null,null,null,null,null,null,null,null,null,null,null,null,null,null,null,null,null,null,null,null,null,null,null,null,null,null,null,null,null,null,null,null,null,{"$f":"COUNTIF($G236:$AW236,\"=1\")","v":0},{"$f":"COUNTIF($G236:$AW236,\"=2\")","v":0},{"$f":"COUNTIF($G236:$AW236,\"=3\")","v":0}]
[null,"Ruppli","Andrew",{"$f":"IF(BN237=0,0,BO237/BN237)","v":29.5},{"$f":"COUNT(G237:AW237)","v":2},"S'ford",null,null,null,null,null,null,27,null,null,32,null,null,null,null,null,null,null,null,null,null,null,null,null,null,null,null,null,null,null,null,null,null,null,null,null,null,null,null,null,null,null,null,null,null,null,null,null,null,null,null,null,{"$f":"IF($BN237<1,0,LARGE($G237:$AW237,1))","v":32},{"$f":"IF($BN237<2,0,LARGE($G237:$AW237,2))","v":27},{"$f":"IF($BN237<3,0,LARGE($G237:$AW237,3))","v":0},{"$f":"IF($BN237<4,0,LARGE($G237:$AW237,4))","v":0},null,null,{"$f":"SUM(BF237:BI237)","v":59},{"$f":"RANK(BL237,$BL$3:$BL$279,0)","v":26},{"$f":"COUNT(G237:AW237)","v":2},{"$f":"SUM(G237:AW237)","v":59},null,null,null,null,{"$f":"(BQ237*$BQ$2)+(BR237*$BR$2)+(BS237*$BS$2)","v":0}]
[null,null,null,null,null,"Ad Gr",null,null,null,null,null,null,93,null,null,88]
[null,null,null,null,null,"Place",null,null,null,null,null,null,null,null,null,null,null,null,null,null,null,null,null,null,null,null,null,null,null,null,null,null,null,null,null,null,null,null,null,null,null,null,null,null,null,null,null,null,null,null,null,null,null,null,null,null,null,null,null,null,null,null,null,null,null,null,null,null,{"$f":"COUNTIF($G239:$AW239,\"=1\")","v":0},{"$f":"COUNTIF($G239:$AW239,\"=2\")","v":0},{"$f":"COUNTIF($G239:$AW239,\"=3\")","v":0}]
[null,"Singh","Vijay",{"$f":"IF(BN240=0,0,BO240/BN240)","v":0},{"$f":"COUNT(G240:AW240)","v":0},"S'ford",null,null,null,null,null,null,null,null,null,null,null,null,null,null,null,null,null,null,null,null,null,null,null,null,null,null,null,null,null,null,null,null,null,null,null,null,null,null,null,null,null,null,null,null,null,null,null,null,null,null,null,{"$f":"IF($BN240<1,0,LARGE($G240:$AW240,1))","v":0},{"$f":"IF($BN240<2,0,LARGE($G240:$AW240,2))","v":0},{"$f":"IF($BN240<3,0,LARGE($G240:$AW240,3))","v":0},{"$f":"IF($BN240<4,0,LARGE($G240:$AW240,4))","v":0},null,null,{"$f":"SUM(BF240:BI240)","v":0},{"$f":"RANK(BL240,$BL$3:$BL$279,0)","v":39},{"$f":"COUNT(G240:AW240)","v":0},{"$f":"SUM(G240:AW240)","v":0},null,null,null,null,{"$f":"(BQ240*$BQ$2)+(BR240*$BR$2)+(BS240*$BS$2)","v":0}]
[null,null,null,null,null,"Ad Gr",null,null,106,null,null,null,null,null,106,103]
[null,null,null,null,null,"Place",null,null,null,null,null,null,null,null,null,null,null,null,null,null,null,null,null,null,null,null,null,null,null,null,null,null,null,null,null,null,null,null,null,null,null,null,null,null,null,null,null,null,null,null,null,null,null,null,null,null,null,null,null,null,null,null,null,null,null,null,null,null,{"$f":"COUNTIF($G242:$AW242,\"=1\")","v":0},{"$f":"COUNTIF($G242:$AW242,\"=2\")","v":0},{"$f":"COUNTIF($G242:$AW242,\"=3\")","v":0}]
[null,"Skelton","Nick",{"$f":"IF(BN243=0,0,BO243/BN243)","v":0},{"$f":"COUNT(G243:AW243)","v":0},"S'ford",null,null,null,null,null,null,null,null,null,null,null,null,null,null,null,null,null,null,null,null,null,null,null,null,null,null,null,null,null,null,null,null,null,null,null,null,null,null,null,null,null,null,null,null,null,null,null,null,null,null,null,{"$f":"IF($BN243<1,0,LARGE($G243:$AW243,1))","v":0},{"$f":"IF($BN243<2,0,LARGE($G243:$AW243,2))","v":0},{"$f":"IF($BN243<3,0,LARGE($G243:$AW243,3))","v":0},{"$f":"IF($BN243<4,0,LARGE($G243:$AW243,4))","v":0},null,null,{"$f":"SUM(BF243:BI243)","v":0},{"$f":"RANK(BL243,$BL$3:$BL$279,0)","v":39},{"$f":"COUNT(G243:AW243)","v":0},{"$f":"SUM(G243:AW243)","v":0},null,null,null,null,{"$f":"(BQ243*$BQ$2)+(BR243*$BR$2)+(BS243*$BS$2)","v":0}]
[null,null,null,null,null,"Ad Gr"]
[null,null,null,null,null,"Place",null,null,null,null,null,null,null,null,null,null,null,null,null,null,null,null,null,null,null,null,null,null,null,null,null,null,null,null,null,null,null,null,null,null,null,null,null,null,null,null,null,null,null,null,null,null,null,null,null,null,null,null,null,null,null,null,null,null,null,null,null,null,{"$f":"COUNTIF($G245:$AW245,\"=1\")","v":0},{"$f":"COUNTIF($G245:$AW245,\"=2\")","v":0},{"$f":"COUNTIF($G245:$AW245,\"=3\")","v":0}]
[null,"Smith","Jonathan",{"$f":"IF(BN246=0,0,BO246/BN246)","v":0},{"$f":"COUNT(G246:AW246)","v":0},"S'ford",null,null,null,null,null,null,null,null,null,null,null,null,null,null,null,null,null,null,null,null,null,null,null,null,null,null,null,null,null,null,null,null,null,null,null,null,null,null,null,null,null,null,null,null,null,null,null,null,null,null,null,{"$f":"IF($BN246<1,0,LARGE($G246:$AW246,1))","v":0},{"$f":"IF($BN246<2,0,LARGE($G246:$AW246,2))","v":0},{"$f":"IF($BN246<3,0,LARGE($G246:$AW246,3))","v":0},{"$f":"IF($BN246<4,0,LARGE($G246:$AW246,4))","v":0},null,null,{"$f":"SUM(BF246:BI246)","v":0},{"$f":"RANK(BL246,$BL$3:$BL$279,0)","v":39},{"$f":"COUNT(G246:AW246)","v":0},{"$f":"SUM(G246:AW246)","v":0},null,null,null,null,{"$f":"(BQ246*$BQ$2)+(BR246*$BR$2)+(BS246*$BS$2)","v":0}]
[null,null,null,null,null,"Ad Gr",null,null,null,null,null,null,101,null,null,null,null,90]
[null,null,null,null,null,"Place",null,null,null,null,null,null,null,null,null,null,null,null,null,null,null,null,null,null,null,null,null,null,null,null,null,null,null,null,null,null,null,null,null,null,null,null,null,null,null,null,null,null,null,null,null,null,null,null,null,null,null,null,null,null,null,null,null,null,null,null,null,null,{"$f":"COUNTIF($G248:$AW248,\"=1\")","v":0},{"$f":"COUNTIF($G248:$AW248,\"=2\")","v":0},{"$f":"COUNTIF($G248:$AW248,\"=3\")","v":0}]
[null,"Storey","Carl",{"$f":"IF(BN249=0,0,BO249/BN249)","v":33},{"$f":"COUNT(G249:AW249)","v":1},"S'ford",null,null,null,null,null,null,null,null,null,33,null,null,null,null,null,null,null,null,null,null,null,null,null,null,null,null,null,null,null,null,null,null,null,null,null,null,null,null,null,null,null,null,null,null,null,null,null,null,null,null,null,{"$f":"IF($BN249<1,0,LARGE($G249:$AW249,1))","v":33},{"$f":"IF($BN249<2,0,LARGE($G249:$AW249,2))","v":0},{"$f":"IF($BN249<3,0,LARGE($G249:$AW249,3))","v":0},{"$f":"IF($BN249<4,0,LARGE($G249:$AW249,4))","v":0},null,null,{"$f":"SUM(BF249:BI249)","v":33},{"$f":"RANK(BL249,$BL$3:$BL$279,0)","v":31},{"$f":"COUNT(G249:AW249)","v":1},{"$f":"SUM(G249:AW249)","v":33},null,null,null,null,{"$f":"(BQ249*$BQ$2)+(BR249*$BR$2)+(BS249*$BS$2)","v":0}]
[null,null,null,null,null,"Ad Gr",null,null,null,null,null,null,null,null,null,103]
[null,null,null,null,null,"Place",null,null,null,null,null,null,null,null,null,null,null,null,null,null,null,null,null,null,null,null,null,null,null,null,null,null,null,null,null,null,null,null,null,null,null,null,null,null,null,null,null,null,null,null,null,null,null,null,null,null,null,null,null,null,null,null,null,null,null,null,null,null,{"$f":"COUNTIF($G251:$AW251,\"=1\")","v":0},{"$f":"COUNTIF($G251:$AW251,\"=2\")","v":0},{"$f":"COUNTIF($G251:$AW251,\"=3\")","v":0}]
[null,"Swanepoel","Bruwer",{"$f":"IF(BN252=0,0,BO252/BN252)","v":27.666666666666668},{"$f":"COUNT(G252:AW252)","v":3},"S'ford",null,null,null,null,null,null,32,null,25,null,null,null,26,null,null,null,null,null,null,null,null,null,null,null,null,null,null,null,null,null,null,null,null,null,null,null,null,null,null,null,null,null,null,null,null,null,null,null,null,null,null,{"$f":"IF($BN252<1,0,LARGE($G252:$AW252,1))","v":32},{"$f":"IF($BN252<2,0,LARGE($G252:$AW252,2))","v":26},{"$f":"IF($BN252<3,0,LARGE($G252:$AW252,3))","v":25},{"$f":"IF($BN252<4,0,LARGE($G252:$AW252,4))","v":0},null,null,{"$f":"SUM(BF252:BI252)","v":83},{"$f":"RANK(BL252,$BL$3:$BL$279,0)","v":17},{"$f":"COUNT(G252:AW252)","v":3},{"$f":"SUM(G252:AW252)","v":83},null,null,null,null,{"$f":"(BQ252*$BQ$2)+(BR252*$BR$2)+(BS252*$BS$2)","v":0}]
[null,null,null,null,null,"Ad Gr",null,null,null,null,null,null,92,null,98,null,null,null,99]
[null,null,null,null,null,"Place",null,null,null,null,null,null,null,null,null,null,null,null,null,null,null,null,null,null,null,null,null,null,null,null,null,null,null,null,null,null,null,null,null,null,null,null,null,null,null,null,null,null,null,null,null,null,null,null,null,null,null,null,null,null,null,null,null,null,null,null,null,null,{"$f":"COUNTIF($G254:$AW254,\"=1\")","v":0},{"$f":"COUNTIF($G254:$AW254,\"=2\")","v":0},{"$f":"COUNTIF($G254:$AW254,\"=3\")","v":0}]
[null,"Swanepoel","Elvira",{"$f":"IF(BN255=0,0,BO255/BN255)","v":6},{"$f":"COUNT(G255:AW255)","v":1},"S'ford",null,null,null,null,null,null,null,null,6,null,null,null,null,null,null,null,null,null,null,null,null,null,null,null,null,null,null,null,null,null,null,null,null,null,null,null,null,null,null,null,null,null,null,null,null,null,null,null,null,null,null,{"$f":"IF($BN255<1,0,LARGE($G255:$AW255,1))","v":6},{"$f":"IF($BN255<2,0,LARGE($G255:$AW255,2))","v":0},{"$f":"IF($BN255<3,0,LARGE($G255:$AW255,3))","v":0},{"$f":"IF($BN255<4,0,LARGE($G255:$AW255,4))","v":0},null,null,{"$f":"SUM(BF255:BI255)","v":6},{"$f":"RANK(BL255,$BL$3:$BL$279,0)","v":38},{"$f":"COUNT(G255:AW255)","v":1},{"$f":"SUM(G255:AW255)","v":6},null,null,null,null,{"$f":"(BQ255*$BQ$2)+(BR255*$BR$2)+(BS255*$BS$2)","v":0}]
[null,null,null,null,null,"Ad Gr",null,null,null,null,null,null,null,null,144]
[null,null,null,null,null,"Place",null,null,null,null,null,null,null,null,null,null,null,null,null,null,null,null,null,null,null,null,null,null,null,null,null,null,null,null,null,null,null,null,null,null,null,null,null,null,null,null,null,null,null,null,null,null,null,null,null,null,null,null,null,null,null,null,null,null,null,null,null,null,{"$f":"COUNTIF($G257:$AW257,\"=1\")","v":0},{"$f":"COUNTIF($G257:$AW257,\"=2\")","v":0},{"$f":"COUNTIF($G257:$AW257,\"=3\")","v":0}]
[null,"Synnott","Paul",{"$f":"IF(BN258=0,0,BO258/BN258)","v":30.333333333333332},{"$f":"COUNT(G258:AW258)","v":3},"S'ford",null,null,25,34,null,null,null,null,32,null,null,null,null,null,null,null,null,null,null,null,null,null,null,null,null,null,null,null,null,null,null,null,null,null,null,null,null,null,null,null,null,null,null,null,null,null,null,null,null,null,null,{"$f":"IF($BN258<1,0,LARGE($G258:$AW258,1))","v":34},{"$f":"IF($BN258<2,0,LARGE($G258:$AW258,2))","v":32},{"$f":"IF($BN258<3,0,LARGE($G258:$AW258,3))","v":25},{"$f":"IF($BN258<4,0,LARGE($G258:$AW258,4))","v":0},null,null,{"$f":"SUM(BF258:BI258)","v":91},{"$f":"RANK(BL258,$BL$3:$BL$279,0)","v":14},{"$f":"COUNT(G258:AW258)","v":3},{"$f":"SUM(G258:AW258)","v":91},null,null,null,null,{"$f":"(BQ258*$BQ$2)+(BR258*$BR$2)+(BS258*$BS$2)","v":0}]
[null,null,null,null,null,"Ad Gr",null,null,104,97,null,null,null,null,98]
[null,null,null,null,null,"Place",null,null,null,3,null,null,null,null,null,null,null,null,null,null,null,null,null,null,null,null,null,null,null,null,null,null,null,null,null,null,null,null,null,null,null,null,null,null,null,null,null,null,null,null,null,null,null,null,null,null,null,null,null,null,null,null,null,null,null,null,null,null,{"$f":"COUNTIF($G260:$AW260,\"=1\")","v":0},{"$f":"COUNTIF($G260:$AW260,\"=2\")","v":0},{"$f":"COUNTIF($G260:$AW260,\"=3\")","v":1}]
[null,"Thom","Martin",{"$f":"IF(BN261=0,0,BO261/BN261)","v":0},{"$f":"COUNT(G261:AW261)","v":0},"S'ford",null,null,null,null,null,null,null,null,null,null,null,null,null,null,null,null,null,null,null,null,null,null,null,null,null,null,null,null,null,null,null,null,null,null,null,null,null,null,null,null,null,null,null,null,null,null,null,null,null,null,null,{"$f":"IF($BN261<1,0,LARGE($G261:$AW261,1))","v":0},{"$f":"IF($BN261<2,0,LARGE($G261:$AW261,2))","v":0},{"$f":"IF($BN261<3,0,LARGE($G261:$AW261,3))","v":0},{"$f":"IF($BN261<4,0,LARGE($G261:$AW261,4))","v":0},null,null,{"$f":"SUM(BF261:BI261)","v":0},{"$f":"RANK(BL261,$BL$3:$BL$279,0)","v":39},{"$f":"COUNT(G261:AW261)","v":0},{"$f":"SUM(G261:AW261)","v":0},null,null,null,null,{"$f":"(BQ261*$BQ$2)+(BR261*$BR$2)+(BS261*$BS$2)","v":0}]
[null,null,null,null,null,"Ad Gr"]
[null,null,null,null,null,"Place",null,null,null,null,null,null,null,null,null,null,null,null,null,null,null,null,null,null,null,null,null,null,null,null,null,null,null,null,null,null,null,null,null,null,null,null,null,null,null,null,null,null,null,null,null,null,null,null,null,null,null,null,null,null,null,null,null,null,null,null,null,null,{"$f":"COUNTIF($G263:$AW263,\"=1\")","v":0},{"$f":"COUNTIF($G263:$AW263,\"=2\")","v":0},{"$f":"COUNTIF($G263:$AW263,\"=3\")","v":0}]
[null,"Turck","Chris",{"$f":"IF(BN264=0,0,BO264/BN264)","v":0},{"$f":"COUNT(G264:AW264)","v":0},"S'ford",null,null,null,null,null,null,null,null,null,null,null,null,null,null,null,null,null,null,null,null,null,null,null,null,null,null,null,null,null,null,null,null,null,null,null,null,null,null,null,null,null,null,null,null,null,null,null,null,null,null,null,{"$f":"IF($BN264<1,0,LARGE($G264:$AW264,1))","v":0},{"$f":"IF($BN264<2,0,LARGE($G264:$AW264,2))","v":0},{"$f":"IF($BN264<3,0,LARGE($G264:$AW264,3))","v":0},{"$f":"IF($BN264<4,0,LARGE($G264:$AW264,4))","v":0},null,null,{"$f":"SUM(BF264:BI264)","v":0},{"$f":"RANK(BL264,$BL$3:$BL$279,0)","v":39},{"$f":"COUNT(G264:AW264)","v":0},{"$f":"SUM(G264:AW264)","v":0},null,null,null,null,{"$f":"(BQ264*$BQ$2)+(BR264*$BR$2)+(BS264*$BS$2)","v":0}]
[null,null,null,null,null,"Ad Gr"]
[null,null,null,null,null,"Place",null,null,null,null,null,null,null,null,null,null,null,null,null,null,null,null,null,null,null,null,null,null,null,null,null,null,null,null,null,null,null,null,null,null,null,null,null,null,null,null,null,null,null,null,null,null,null,null,null,null,null,null,null,null,null,null,null,null,null,null,null,null,{"$f":"COUNTIF($G266:$AW266,\"=1\")","v":0},{"$f":"COUNTIF($G266:$AW266,\"=2\")","v":0},{"$f":"COUNTIF($G266:$AW266,\"=3\")","v":0}]
[null,"Turner","Tina",{"$f":"IF(BN267=0,0,BO267/BN267)","v":25.5},{"$f":"COUNT(G267:AW267)","v":2},"S'ford",null,null,null,null,null,null,null,null,null,23,null,28,null,null,null,null,null,null,null,null,null,null,null,null,null,null,null,null,null,null,null,null,null,null,null,null,null,null,null,null,null,null,null,null,null,null,null,null,null,null,null,{"$f":"IF($BN267<1,0,LARGE($G267:$AW267,1))","v":28},{"$f":"IF($BN267<2,0,LARGE($G267:$AW267,2))","v":23},{"$f":"IF($BN267<3,0,LARGE($G267:$AW267,3))","v":0},{"$f":"IF($BN267<4,0,LARGE($G267:$AW267,4))","v":0},null,null,{"$f":"SUM(BF267:BI267)","v":51},{"$f":"RANK(BL267,$BL$3:$BL$279,0)","v":27},{"$f":"COUNT(G267:AW267)","v":2},{"$f":"SUM(G267:AW267)","v":51},null,null,null,null,{"$f":"(BQ267*$BQ$2)+(BR267*$BR$2)+(BS267*$BS$2)","v":0}]
[null,null,null,null,null,"Ad Gr",null,null,null,null,null,null,null,null,null,107,null,106]
[null,null,null,null,null,"Place",null,null,null,null,null,null,null,null,null,null,null,null,null,null,null,null,null,null,null,null,null,null,null,null,null,null,null,null,null,null,null,null,null,null,null,null,null,null,null,null,null,null,null,null,null,null,null,null,null,null,null,null,null,null,null,null,null,null,null,null,null,null,{"$f":"COUNTIF($G269:$AW269,\"=1\")","v":0},{"$f":"COUNTIF($G269:$AW269,\"=2\")","v":0},{"$f":"COUNTIF($G269:$AW269,\"=3\")","v":0}]
[null,"Wallace","Steve",{"$f":"IF(BN270=0,0,BO270/BN270)","v":29.1},{"$f":"COUNT(G270:AW270)","v":10},"S'ford",31,null,28,33,null,23,29,24,26,null,35,28,34,null,null,null,null,null,null,null,null,null,null,null,null,null,null,null,null,null,null,null,null,null,null,null,null,null,null,null,null,null,null,null,null,null,null,null,null,null,null,{"$f":"IF($BN270<1,0,LARGE($G270:$AW270,1))","v":35},{"$f":"IF($BN270<2,0,LARGE($G270:$AW270,2))","v":34},{"$f":"IF($BN270<3,0,LARGE($G270:$AW270,3))","v":33},{"$f":"IF($BN270<4,0,LARGE($G270:$AW270,4))","v":31},null,null,{"$f":"SUM(BF270:BI270)","v":133},{"$f":"RANK(BL270,$BL$3:$BL$279,0)","v":4},{"$f":"COUNT(G270:AW270)","v":10},{"$f":"SUM(G270:AW270)","v":291},null,null,null,null,{"$f":"(BQ270*$BQ$2)+(BR270*$BR$2)+(BS270*$BS$2)","v":0}]
[null,null,null,null,null,"Ad Gr",94,null,96,92,null,101,95,101,100,null,90,97,93]
[null,null,null,null,null,"Place",null,null,null,null,null,null,null,null,null,null,2,null,3,null,null,null,null,null,null,null,null,null,null,null,null,null,null,null,null,null,null,null,null,null,null,null,null,null,null,null,null,null,null,null,null,null,null,null,null,null,null,null,null,null,null,null,null,null,null,null,null,null,{"$f":"COUNTIF($G272:$AW272,\"=1\")","v":0},{"$f":"COUNTIF($G272:$AW272,\"=2\")","v":1},{"$f":"COUNTIF($G272:$AW272,\"=3\")","v":1}]
[null,"Wilde","William",{"$f":"IF(BN273=0,0,BO273/BN273)","v":24.5},{"$f":"COUNT(G273:AW273)","v":2},"S'ford",null,null,null,null,null,null,null,null,null,23,null,null,26,null,null,null,null,null,null,null,null,null,null,null,null,null,null,null,null,null,null,null,null,null,null,null,null,null,null,null,null,null,null,null,null,null,null,null,null,null,null,{"$f":"IF($BN273<1,0,LARGE($G273:$AW273,1))","v":26},{"$f":"IF($BN273<2,0,LARGE($G273:$AW273,2))","v":23},{"$f":"IF($BN273<3,0,LARGE($G273:$AW273,3))","v":0},{"$f":"IF($BN273<4,0,LARGE($G273:$AW273,4))","v":0},null,null,{"$f":"SUM(BF273:BI273)","v":49},{"$f":"RANK(BL273,$BL$3:$BL$279,0)","v":29},{"$f":"COUNT(G273:AW273)","v":2},{"$f":"SUM(G273:AW273)","v":49},null,null,null,null,{"$f":"(BQ273*$BQ$2)+(BR273*$BR$2)+(BS273*$BS$2)","v":0}]
[null,null,null,null,null,"Ad Gr",null,null,null,null,null,null,null,null,null,93,null,null,93]
[null,null,null,null,null,"Place",null,null,null,null,null,null,null,null,null,null,null,null,null,null,null,null,null,null,null,null,null,null,null,null,null,null,null,null,null,null,null,null,null,null,null,null,null,null,null,null,null,null,null,null,null,null,null,null,null,null,null,null,null,null,null,null,null,null,null,null,null,null,{"$f":"COUNTIF($G275:$AW275,\"=1\")","v":0},{"$f":"COUNTIF($G275:$AW275,\"=2\")","v":0},{"$f":"COUNTIF($G275:$AW275,\"=3\")","v":0}]
[null,"Zieder-Gurman","Anne",{"$f":"IF(BN276=0,0,BO276/BN276)","v":0},{"$f":"COUNT(G276:AW276)","v":0},"S'ford",null,null,null,null,null,null,null,null,null,null,null,null,null,null,null,null,null,null,null,null,null,null,null,null,null,null,null,null,null,null,null,null,null,null,null,null,null,null,null,null,null,null,null,null,null,null,null,null,null,null,null,{"$f":"IF($BN276<1,0,LARGE($G276:$AW276,1))","v":0},{"$f":"IF($BN276<2,0,LARGE($G276:$AW276,2))","v":0},{"$f":"IF($BN276<3,0,LARGE($G276:$AW276,3))","v":0},{"$f":"IF($BN276<4,0,LARGE($G276:$AW276,4))","v":0},null,null,{"$f":"SUM(BF276:BI276)","v":0},{"$f":"RANK(BL276,$BL$3:$BL$279,0)","v":39},{"$f":"COUNT(G276:AW276)","v":0},{"$f":"SUM(G276:AW276)","v":0},null,null,null,null,{"$f":"(BQ276*$BQ$2)+(BR276*$BR$2)+(BS276*$BS$2)","v":0}]
[null,null,null,null,null,"Ad Gr"]
[null,null,null,null,null,"Place",null,null,null,null,null,null,null,null,null,null,null,null,null,null,null,null,null,null,null,null,null,null,null,null,null,null,null,null,null,null,null,null,null,null,null,null,null,null,null,null,null,null,null,null,null,null,null,null,null,null,null,null,null,null,null,null,null,null,null,null,null,null,{"$f":"COUNTIF($G278:$AW278,\"=1\")","v":0},{"$f":"COUNTIF($G278:$AW278,\"=2\")","v":0},{"$f":"COUNTIF($G278:$AW278,\"=3\")","v":0}]
[null,null,null,null,"Total Stableford Points",null,{"$f":"SUMIF($F$3:$F$278,\"S'ford\",G$3:G$278)","v":371},91,283,282,0,84,465,222,489,495,147,483,283,0,0,0,0,0,0,0,0,0,0,0,0,0,0,0,0,0,0,0,0,0,0,0,0,0,0,0,0,0,0,{"$f":"SUMIF($F$3:$F$274,\"Score\",AX$3:AX$274)","v":0},null,null,null,null,null,null,null,null,null,null,null,null,null,null,null,null,{"$f":"SUM(BO2:BO277)","v":3695},null,{"$f":"SUM(BQ3:BQ277)","v":10},{"$f":"SUM(BR3:BR277)","v":10},{"$f":"SUM(BS3:BS277)","v":10},{"$f":"(BQ279*$BQ$2)+(BR279*$BR$2)+(BS279*$BS$2)","v":300}]
[null,null,null,null,"Average Stableford Score",null,{"$f":"IF(G283=0,0,G279/(G283-G281))","v":33.727272727272727},{"$f":"IF(H283=0,0,H279/(H283-H281))","v":30.333333333333332},28.3,28.2,null,28,25.833333333333332,27.75,25.736842105263158,33,29.4,30.1875,31.444444444444443,0,0,0,0,0,0,0,0,0,0,0,0,0,0,0,0,0,0,0,0,0,0,0,0,0,0,0,0,0,0,{"$f":"SUM(G279:AG279)/SUM(G283:AW283)","v":22.950310559006212},null,null,null,null,null,null,null,null,null,null,null,null,null,null,null,null,{"$f":"BO279/BO281","v":29.094488188976378},null,{"$f":"SUM(BQ3:BQ277)","v":10},{"$f":"SUM(BR3:BR277)","v":10},{"$f":"SUM(BS3:BS277)","v":10}]
[null,null,null,null,"NR",null,1,null,1,null,16,null,2,null,6,5,null,2,1,null,null,null,null,null,null,null,null,null,null,null,null,null,null,null,null,null,null,null,null,null,null,null,null,null,null,null,null,null,null,null,null,null,null,null,null,null,null,null,null,null,null,null,null,null,null,{"$f":"AVERAGE(G283:AW283)","v":12.384615384615385},{"$f":"SUM(G283:AW283)-SUM(G281:AW281)","v":127},null,{"$f":"BQ280*BQ2","v":150},{"$f":"BR280*BR2","v":100},{"$f":"BS280*BS2","v":50},{"$f":"SUM(BT3:BT274)","v":0}]
[null,null,null,null,"Number of Prizes",null,{"$f":"IF(G283=0,0,IF(G283<4,1,IF(G283=4,2,3)))","v":3},{"$f":"IF(H283=0,0,IF(H283<4,1,IF(H283=4,2,3)))","v":1},{"$f":"IF(I283=0,0,IF(I283<4,1,IF(I283=4,2,3)))","v":3},3,3,1,3,3,3,3,3,3,3,0,0,0,0,0,0,0,0,0,0,0,0,0,0,0,0,0,0,0,0,0,0,0,0,0,0,0,0,0,0]
[null,"Members",{"$f":"COUNTA(C3:C279)","v":92},null,"Attendance (inc NR)",null,12,3,11,10,16,3,20,8,25,20,5,18,10,null,null,null,null,null,null,null,null,null,null,null,null,null,null,null,null,null,null,null,null,null,null,null,null,null,null,null,null,null,null,{"$f":"AVERAGEIF(G283:AW283,\"<>0\")","v":12.384615384615385},"Visits","Rounds","NR","Max","Total Pts","Avg Score"]
[null,"Erding",null,null,"Average Stableford Score",null,{"$f":"IF(G$1=$B284,G$280,)","v":0},30.333333333333332,0,0,0,0,0,0,0,33,0,0,0,0,0,0,0,0,0,0,0,0,0,0,0,0,0,0,0,0,0,0,0,0,0,0,0,0,0,0,0,0,0]
[null,null,null,null,"Total Stableford Points",null,{"$f":"IF(G$1=$B284,G$279,)","v":0},91,0,0,0,0,0,0,0,495,0,0,0,0,0,0,0,0,0,0,0,0,0,0,0,0,0,0,0,0,0,0,0,0,0,0,0,0,0,0,0,0,0,null,null,null,null,null,{"$f":"SUM(G285:AW285)","v":586}]
[null,null,null,null,"No Returns",null,{"$f":"IF(G$1=$B284,G$281,)","v":0},0,0,0,0,0,0,0,0,5,0,0,0,0,0,0,0,0,0,0,0,0,0,0,0,0,0,0,0,0,0,0,0,0,0,0,0,0,0,0,0,0,0,null,null,null,{"$f":"SUM(G286:AW286)","v":5}]
[null,null,null,null,"Attendance",null,{"$f":"IF(G$1=$B284,G$283,)","v":0},3,0,0,0,0,0,0,0,20,0,0,0,0,0,0,0,0,0,0,0,0,0,0,0,0,0,0,0,0,0,0,0,0,0,0,0,0,0,0,0,0,0,11.5,{"$f":"COUNTIF(G287:AW287,\"<>0\")","v":2},{"$f":"SUM(G287:AW287)","v":23},null,{"$f":"MAX(G287:AW287)","v":20},null,{"$f":"BC285/(AZ287-BA286)","v":32.555555555555557}]
[null,"Pfaffing",null,null,"Average Stableford Score",null,{"$f":"IF(G$1=$B288,G$280,)","v":33.727272727272727},0,0,0,0,0,0,0,0,0,0,0,0,0,0,0,0,0,0,0,0,0,0,0,0,0,0,0,0,0,0,0,0,0,0,0,0,0,0,0,0,0,0]
[null,null,null,null,"Total Stableford Points",null,{"$f":"IF(G$1=$B288,G$279,)","v":371},0,0,0,0,0,0,0,0,0,0,0,0,0,0,0,0,0,0,0,0,0,0,0,0,0,0,0,0,0,0,0,0,0,0,0,0,0,0,0,0,0,0,null,null,null,null,null,{"$f":"SUM(G289:AW289)","v":371}]
[null,null,null,null,"No Returns",null,{"$f":"IF(G$1=$B288,G$281,)","v":1},0,0,0,0,0,0,0,0,0,0,0,0,0,0,0,0,0,0,0,0,0,0,0,0,0,0,0,0,0,0,0,0,0,0,0,0,0,0,0,0,0,0,null,null,{"$f":"SUM(G290:AW290)","v":1}]
[null,null,null,null,"Attendance",null,{"$f":"IF(G$1=$B288,G$283,)","v":12},0,0,0,0,0,0,0,0,0,0,0,0,0,0,0,0,0,0,0,0,0,0,0,0,0,0,0,0,0,0,0,0,0,0,0,0,0,0,0,0,0,0,12,{"$f":"COUNTIF(G291:AW291,\"<>0\")","v":1},{"$f":"SUM(G291:AW291)","v":12},null,{"$f":"MAX(G291:AW291)","v":12},null,{"$f":"BC289/(AZ291-BA290)","v":30.916666666666668}]
[null,"Odelzhausen",null,null,"Average Stableford Score",null,{"$f":"IF(G$1=$B292,G$280,)","v":0},0,0,0,0,0,25.833333333333332,0,0,0,0,0,0,0,0,0,0,0,0,0,0,0,0,0,0,0,0,0,0,0,0,0,0,0,0,0,0,0,0,0,0,0,0]
[null,null,null,null,"Total Stableford Points",null,{"$f":"IF(G$1=$B292,G$279,)","v":0},0,0,0,0,0,465,0,0,0,0,0,0,0,0,0,0,0,0,0,0,0,0,0,0,0,0,0,0,0,0,0,0,0,0,0,0,0,0,0,0,0,0,null,null,null,null,null,{"$f":"SUM(G293:AW293)","v":465}]
[null,null,null,null,"No Returns",null,{"$f":"IF(G$1=$B292,G$281,)","v":0},0,0,0,0,0,2,0,0,0,0,0,0,0,0,0,0,0,0,0,0,0,0,0,0,0,0,0,0,0,0,0,0,0,0,0,0,0,0,0,0,0,0,null,null,{"$f":"SUM(G294:AW294)","v":2}]
[null,null,null,null,"Attendance",null,{"$f":"IF(G$1=$B292,G$283,)","v":0},0,0,0,0,0,20,0,0,0,0,0,0,0,0,0,0,0,0,0,0,0,0,0,0,0,0,0,0,0,0,0,0,0,0,0,0,0,0,0,0,0,0,20,{"$f":"COUNTIF(G295:AW295,\"<>0\")","v":1},{"$f":"SUM(G295:AW295)","v":20},null,{"$f":"MAX(G295:AW295)","v":20},null,{"$f":"BC293/(AZ295-BA294)","v":23.25}]
[null,"Tegernbach",null,null,"Average Stableford Score",null,{"$f":"IF(G$1=$B296,G$280,)","v":0},0,0,28.2,0,0,0,0,0,0,0,0,31.444444444444443,0,0,0,0,0,0,0,0,0,0,0,0,0,0,0,0,0,0,0,0,0,0,0,0,0,0,0,0,0,0]
[null,null,null,null,"Total Stableford Points",null,{"$f":"IF(G$1=$B296,G$279,)","v":0},0,0,282,0,0,0,0,0,0,0,0,283,0,0,0,0,0,0,0,0,0,0,0,0,0,0,0,0,0,0,0,0,0,0,0,0,0,0,0,0,0,0,null,null,null,null,null,{"$f":"SUM(G297:AW297)","v":565}]
[null,null,null,null,"No Returns",null,{"$f":"IF(G$1=$B296,G$281,)","v":0},0,0,0,0,0,0,0,0,0,0,0,1,0,0,0,0,0,0,0,0,0,0,0,0,0,0,0,0,0,0,0,0,0,0,0,0,0,0,0,0,0,0,null,null,{"$f":"SUM(G298:AW298)","v":1}]
[null,null,null,null,"Attendance",null,{"$f":"IF(G$1=$B296,G$283,)","v":0},0,0,10,0,0,0,0,0,0,0,0,10,0,0,0,0,0,0,0,0,0,0,0,0,0,0,0,0,0,0,0,0,0,0,0,0,0,0,0,0,0,0,{"$f":"AVERAGEIF(G299:AW299,\"<>0\")","v":10},{"$f":"COUNTIF(G299:AW299,\"<>0\")","v":2},{"$f":"SUM(G299:AW299)","v":20},null,{"$f":"MAX(G299:AW299)","v":10},null,{"$f":"BC297/(AZ299-BA298)","v":28.25}]
[null,"Thailing",null,null,"Average Stableford Score",null,{"$f":"IF(G$1=$B300,G$280,)","v":0},0,0,0,0,28,0,0,0,0,29.4,0,0,0,0,0,0,0,0,0,0,0,0,0,0,0,0,0,0,0,0,0,0,0,0,0,0,0,0,0,0,0,0]
[null,null,null,null,"Total Stableford Points",null,{"$f":"IF(G$1=$B300,G$279,)","v":0},0,0,0,0,84,0,0,0,0,147,0,0,0,0,0,0,0,0,0,0,0,0,0,0,0,0,0,0,0,0,0,0,0,0,0,0,0,0,0,0,0,0,null,null,null,null,null,{"$f":"SUM(G301:AW301)","v":231}]
[null,null,null,null,"No Returns",null,{"$f":"IF(G$1=$B300,G$281,)","v":0},0,0,0,0,0,0,0,0,0,0,0,0,0,0,0,0,0,0,0,0,0,0,0,0,0,0,0,0,0,0,0,0,0,0,0,0,0,0,0,0,0,0,null,null,{"$f":"SUM(G302:AW302)","v":0}]
[null,null,null,null,"Attendance",null,{"$f":"IF(G$1=$B300,G$283,)","v":0},0,0,0,0,3,0,0,0,0,5,0,0,0,0,0,0,0,0,0,0,0,0,0,0,0,0,0,0,0,0,0,0,0,0,0,0,0,0,0,0,0,0,4,{"$f":"COUNTIF(G303:AW303,\"<>0\")","v":2},{"$f":"SUM(G303:AW303)","v":8},null,{"$f":"MAX(G303:AW303)","v":5},null,{"$f":"BC301/(AZ303-BA302)","v":28.875}]
[null,"Iffeldorf",null,null,"Average Stableford Score",null,{"$f":"IF(G$1=$B304,G$280,)","v":0},0,0,0,0,0,0,0,0,0,0,30.1875,0,0,0,0,0,0,0,0,0,0,0,0,0,0,0,0,0,0,0,0,0,0,0,0,0,0,0,0,0,0,0]
[null,null,null,null,"Total Stableford Points",null,{"$f":"IF(G$1=$B304,G$279,)","v":0},0,0,0,0,0,0,0,0,0,0,483,0,0,0,0,0,0,0,0,0,0,0,0,0,0,0,0,0,0,0,0,0,0,0,0,0,0,0,0,0,0,0,null,null,null,null,null,{"$f":"SUM(G305:AW305)","v":483}]
[null,null,null,null,"No Returns",null,{"$f":"IF(G$1=$B304,G$281,)","v":0},0,0,0,16,0,0,0,0,0,0,2,0,0,0,0,0,0,0,0,0,0,0,0,0,0,0,0,0,0,0,0,0,0,0,0,0,0,0,0,0,0,0,null,null,{"$f":"SUM(G306:AW306)","v":18}]
[null,null,null,null,"Attendance",null,{"$f":"IF(G$1=$B304,G$283,)","v":0},0,0,0,16,0,0,0,0,0,0,18,0,0,0,0,0,0,0,0,0,0,0,0,0,0,0,0,0,0,0,0,0,0,0,0,0,0,0,0,0,0,0,{"$f":"AVERAGEIF(G307:AW307,\"<>0\")","v":17},{"$f":"COUNTIF(G307:AW307,\"<>0\")","v":2},{"$f":"SUM(G307:AW307)","v":34},null,{"$f":"MAX(G307:AW307)","v":18},null,{"$f":"BC305/(AZ307-BA306)","v":14.205882352941176}]
[null,"Reichertshausen",null,null,"Average Stableford Score",null,{"$f":"IF(G$1=$B308,G$280,)","v":0},0,28.3,0,0,0,0,0,0,0,0,0,0,0,0,0,0,0,0,0,0,0,0,0,0,0,0,0,0,0,0,0,0,0,0,0,0,0,0,0,0,0,0]
[null,null,null,null,"Total Stableford Points",null,{"$f":"IF(G$1=$B308,G$279,)","v":0},0,283,0,0,0,0,0,0,0,0,0,0,0,0,0,0,0,0,0,0,0,0,0,0,0,0,0,0,0,0,0,0,0,0,0,0,0,0,0,0,0,0,null,null,null,null,null,{"$f":"SUM(G309:AW309)","v":283}]
[null,null,null,null,"No Returns",null,{"$f":"IF(G$1=$B308,G$281,)","v":0},0,1,0,0,0,0,0,0,0,0,0,0,0,0,0,0,0,0,0,0,0,0,0,0,0,0,0,0,0,0,0,0,0,0,0,0,0,0,0,0,0,0,null,null,{"$f":"SUM(G310:AW310)","v":1}]
[null,null,null,null,"Attendance",null,{"$f":"IF(G$1=$B308,G$283,)","v":0},0,11,0,0,0,0,0,0,0,0,0,0,0,0,0,0,0,0,0,0,0,0,0,0,0,0,0,0,0,0,0,0,0,0,0,0,0,0,0,0,0,0,{"$f":"AVERAGEIF(G311:AW311,\"<>0\")","v":11},{"$f":"COUNTIF(G311:AW311,\"<>0\")","v":1},{"$f":"SUM(G311:AW311)","v":11},null,{"$f":"MAX(G311:AW311)","v":11},null,{"$f":"BC309/(AZ311-BA310)","v":25.727272727272727}]
[null,"St Eurach",null,null,"Average Stableford Score",null,{"$f":"IF(G$1=$B312,G$280,)","v":0},0,0,0,0,0,0,0,0,0,0,0,0,0,0,0,0,0,0,0,0,0,0,0,0,0,0,0,0,0,0,0,0,0,0,0,0,0,0,0,0,0,0]
[null,null,null,null,"Total Stableford Points",null,{"$f":"IF(G$1=$B312,G$279,)","v":0},0,0,0,0,0,0,0,0,0,0,0,0,0,0,0,0,0,0,0,0,0,0,0,0,0,0,0,0,0,0,0,0,0,0,0,0,0,0,0,0,0,0,null,null,null,null,null,{"$f":"SUM(G313:AW313)","v":0}]
[null,null,null,null,"No Returns",null,{"$f":"IF(G$1=$B312,G$281,)","v":0},0,0,0,0,0,0,0,0,0,0,0,0,0,0,0,0,0,0,0,0,0,0,0,0,0,0,0,0,0,0,0,0,0,0,0,0,0,0,0,0,0,0,null,null,{"$f":"SUM(G314:AW314)","v":0}]
[null,null,null,null,"Attendance",null,{"$f":"IF(G$1=$B312,G$283,)","v":0},0,0,0,0,0,0,0,0,0,0,0,0,0,0,0,0,0,0,0,0,0,0,0,0,0,0,0,0,0,0,0,0,0,0,0,0,0,0,0,0,0,0,{"$f":"AVERAGEIF(G315:AW315,\"<>0\")","v":{"$error":"#DIV/0!"}},{"$f":"COUNTIF(G315:AW315,\"<>0\")","v":0},{"$f":"SUM(G315:AW315)","v":0},null,{"$f":"MAX(G315:AW315)","v":0},null,{"$f":"BC313/(AZ315-BA314)","v":{"$error":"#DIV/0!"}}]
[null,"Gut Haeusen",null,null,"Average Stableford Score",null,{"$f":"IF(G$1=$B316,G$280,)","v":0},0,0,0,0,0,0,0,0,0,0,0,0,0,0,0,0,0,0,0,0,0,0,0,0,0,0,0,0,0,0,0,0,0,0,0,0,0,0,0,0,0,0]
[null,null,null,null,"Total Stableford Points",null,{"$f":"IF(G$1=$B316,G$279,)","v":0},0,0,0,0,0,0,0,0,0,0,0,0,0,0,0,0,0,0,0,0,0,0,0,0,0,0,0,0,0,0,0,0,0,0,0,0,0,0,0,0,0,0,null,null,null,null,null,{"$f":"SUM(G317:AW317)","v":0}]
[null,null,null,null,"No Returns",null,{"$f":"IF(G$1=$B316,G$281,)","v":0},0,0,0,0,0,0,0,0,0,0,0,0,0,0,0,0,0,0,0,0,0,0,0,0,0,0,0,0,0,0,0,0,0,0,0,0,0,0,0,0,0,0,null,null,{"$f":"SUM(G318:AW318)","v":0}]
[null,null,null,null,"Attendance",null,{"$f":"IF(G$1=$B316,G$283,)","v":0},0,0,0,0,0,0,0,0,0,0,0,0,0,0,0,0,0,0,0,0,0,0,0,0,0,0,0,0,0,0,0,0,0,0,0,0,0,0,0,0,0,0,{"$f":"AVERAGEIF(G319:AW319,\"<>0\")","v":{"$error":"#DIV/0!"}},{"$f":"COUNTIF(G319:AW319,\"<>0\")","v":0},{"$f":"SUM(G319:AW319)","v":0},null,{"$f":"MAX(G319:AW319)","v":0},null,{"$f":"BC317/(AZ319-BA318)","v":{"$error":"#DIV/0!"}}]
[null,"Aschheim",null,null,"Average Stableford Score",null,{"$f":"IF(G$1=$B320,G$280,)","v":0},0,0,0,0,0,0,27.75,0,0,0,0,0,0,0,0,0,0,0,0,0,0,0,0,0,0,0,0,0,0,0,0,0,0,0,0,0,0,0,0,0,0,0]
[null,null,null,null,"Total Stableford Points",null,{"$f":"IF(G$1=$B320,G$279,)","v":0},0,0,0,0,0,0,222,0,0,0,0,0,0,0,0,0,0,0,0,0,0,0,0,0,0,0,0,0,0,0,0,0,0,0,0,0,0,0,0,0,0,0,null,null,null,null,null,{"$f":"SUM(G321:AW321)","v":222}]
[null,null,null,null,"No Returns",null,{"$f":"IF(G$1=$B320,G$281,)","v":0},0,0,0,0,0,0,0,0,0,0,0,0,0,0,0,0,0,0,0,0,0,0,0,0,0,0,0,0,0,0,0,0,0,0,0,0,0,0,0,0,0,0,null,null,{"$f":"SUM(G322:AW322)","v":0}]
[null,null,null,null,"Attendance",null,{"$f":"IF(G$1=$B320,G$283,)","v":0},0,0,0,0,0,0,8,0,0,0,0,0,0,0,0,0,0,0,0,0,0,0,0,0,0,0,0,0,0,0,0,0,0,0,0,0,0,0,0,0,0,0,{"$f":"AVERAGEIF(G323:AW323,\"<>0\")","v":8},{"$f":"COUNTIF(G323:AW323,\"<>0\")","v":1},{"$f":"SUM(G323:AW323)","v":8},null,{"$f":"MAX(G323:AW323)","v":8},null,{"$f":"BC321/(AZ323-BA322)","v":27.75}]
[null,"Algaeuer",null,null,"Average Stableford Score",null,{"$f":"IF(G$1=$B324,G$280,)","v":0},0,0,0,0,0,0,0,0,0,0,0,0,0,0,0,0,0,0,0,0,0,0,0,0,0,0,0,0,0,0,0,0,0,0,0,0,0,0,0,0,0,0]
[null,null,null,null,"Total Stableford Points",null,{"$f":"IF(G$1=$B324,G$279,)","v":0},0,0,0,0,0,0,0,0,0,0,0,0,0,0,0,0,0,0,0,0,0,0,0,0,0,0,0,0,0,0,0,0,0,0,0,0,0,0,0,0,0,0,null,null,null,null,null,{"$f":"SUM(G325:AW325)","v":0}]
[null,null,null,null,"No Returns",null,{"$f":"IF(G$1=$B324,G$281,)","v":0},0,0,0,0,0,0,0,0,0,0,0,0,0,0,0,0,0,0,0,0,0,0,0,0,0,0,0,0,0,0,0,0,0,0,0,0,0,0,0,0,0,0,null,null,{"$f":"SUM(G326:AW326)","v":0}]
[null,null,null,null,"Attendance",null,{"$f":"IF(G$1=$B324,G$283,)","v":0},0,0,0,0,0,0,0,0,0,0,0,0,0,0,0,0,0,0,0,0,0,0,0,0,0,0,0,0,0,0,0,0,0,0,0,0,0,0,0,0,0,0,{"$f":"AVERAGEIF(G327:AW327,\"<>0\")","v":{"$error":"#DIV/0!"}},{"$f":"COUNTIF(G327:AW327,\"<>0\")","v":0},{"$f":"SUM(G327:AW327)","v":0},null,{"$f":"MAX(G327:AW327)","v":0},null,{"$f":"BC325/(AZ327-BA326)","v":{"$error":"#DIV/0!"}}]
[null,"Maxlrain",null,null,"Average Stableford Score",null,{"$f":"IF(G$1=$B328,G$280,)","v":0},0,0,0,0,0,0,0,0,0,0,0,0,0,0,0,0,0,0,0,0,0,0,0,0,0,0,0,0,0,0,0,0,0,0,0,0,0,0,0,0,0,0]
[null,null,null,null,"Total Stableford Points",null,{"$f":"IF(G$1=$B328,G$279,)","v":0},0,0,0,0,0,0,0,0,0,0,0,0,0,0,0,0,0,0,0,0,0,0,0,0,0,0,0,0,0,0,0,0,0,0,0,0,0,0,0,0,0,0,null,null,null,null,null,{"$f":"SUM(G329:AW329)","v":0}]
[null,null,null,null,"No Returns",null,{"$f":"IF(G$1=$B328,G$281,)","v":0},0,0,0,0,0,0,0,0,0,0,0,0,0,0,0,0,0,0,0,0,0,0,0,0,0,0,0,0,0,0,0,0,0,0,0,0,0,0,0,0,0,0,null,null,{"$f":"SUM(G330:AW330)","v":0}]
[null,null,null,null,"Attendance",null,{"$f":"IF(G$1=$B328,G$283,)","v":0},0,0,0,0,0,0,0,0,0,0,0,0,0,0,0,0,0,0,0,0,0,0,0,0,0,0,0,0,0,0,0,0,0,0,0,0,0,0,0,0,0,0,{"$f":"AVERAGEIF(G331:AW331,\"<>0\")","v":{"$error":"#DIV/0!"}},{"$f":"COUNTIF(G331:AW331,\"<>0\")","v":0},{"$f":"SUM(G331:AW331)","v":0},null,{"$f":"MAX(G331:AW331)","v":0},null,{"$f":"BC329/(AZ331-BA330)","v":{"$error":"#DIV/0!"}}]
[null,"Garmisch",null,null,"Average Stableford Score",null,{"$f":"IF(G$1=$B332,G$280,)","v":0},0,0,0,0,0,0,0,25.736842105263158,0,0,0,0,0,0,0,0,0,0,0,0,0,0,0,0,0,0,0,0,0,0,0,0,0,0,0,0,0,0,0,0,0,0]
[null,null,null,null,"Total Stableford Points",null,{"$f":"IF(G$1=$B332,G$279,)","v":0},0,0,0,0,0,0,0,489,0,0,0,0,0,0,0,0,0,0,0,0,0,0,0,0,0,0,0,0,0,0,0,0,0,0,0,0,0,0,0,0,0,0,null,null,null,null,null,{"$f":"SUM(G333:AW333)","v":489}]
[null,null,null,null,"No Returns",null,{"$f":"IF(G$1=$B332,G$281,)","v":0},0,0,0,0,0,0,0,6,0,0,0,0,0,0,0,0,0,0,0,0,0,0,0,0,0,0,0,0,0,0,0,0,0,0,0,0,0,0,0,0,0,0,null,null,{"$f":"SUM(G334:AW334)","v":6}]
[null,null,null,null,"Attendance",null,{"$f":"IF(G$1=$B332,G$283,)","v":0},0,0,0,0,0,0,0,25,0,0,0,0,0,0,0,0,0,0,0,0,0,0,0,0,0,0,0,0,0,0,0,0,0,0,0,0,0,0,0,0,0,0,{"$f":"AVERAGEIF(G335:AW335,\"<>0\")","v":25},{"$f":"COUNTIF(G335:AW335,\"<>0\")","v":1},{"$f":"SUM(G335:AW335)","v":25},null,{"$f":"MAX(G335:AW335)","v":25},null,{"$f":"BC333/(AZ335-BA334)","v":19.559999999999999}]
[null,"Valley",null,null,"Average Stableford Score",null,{"$f":"IF(G$1=$B336,G$280,)","v":0},0,0,0,0,0,0,0,0,0,0,0,0,0,0,0,0,0,0,0,0,0,0,0,0,0,0,0,0,0,0,0,0,0,0,0,0,0,0,0,0,0,0]
[null,null,null,null,"Total Stableford Points",null,{"$f":"IF(G$1=$B336,G$279,)","v":0},0,0,0,0,0,0,0,0,0,0,0,0,0,0,0,0,0,0,0,0,0,0,0,0,0,0,0,0,0,0,0,0,0,0,0,0,0,0,0,0,0,0,null,null,null,null,null,{"$f":"SUM(G337:AW337)","v":0}]
[null,null,null,null,"No Returns",null,{"$f":"IF(G$1=$B336,G$281,)","v":0},0,0,0,0,0,0,0,0,0,0,0,0,0,0,0,0,0,0,0,0,0,0,0,0,0,0,0,0,0,0,0,0,0,0,0,0,0,0,0,0,0,0,null,null,{"$f":"SUM(G338:AW338)","v":0}]
[null,null,null,null,"Attendance",null,{"$f":"IF(G$1=$B336,G$283,)","v":0},0,0,0,0,0,0,0,0,0,0,0,0,0,0,0,0,0,0,0,0,0,0,0,0,0,0,0,0,0,0,0,0,0,0,0,0,0,0,0,0,0,0,{"$f":"AVERAGEIF(G339:AW339,\"<>0\")","v":{"$error":"#DIV/0!"}},{"$f":"COUNTIF(G339:AW339,\"<>0\")","v":0},{"$f":"SUM(G339:AW339)","v":0},null,{"$f":"MAX(G339:AW339)","v":0},null,{"$f":"BC337/(AZ339-BA338)","v":{"$error":"#DIV/0!"}}]
[null,"Eschenried",null,null,"Average Stableford Score",null,{"$f":"IF(G$1=$B340,G$280,)","v":0},0,0,0,0,0,0,0,0,0,0,0,0,0,0,0,0,0,0,0,0,0,0,0,0,0,0,0,0,0,0,0,0,0,0,0,0,0,0,0,0,0,0]
[null,null,null,null,"Total Stableford Points",null,{"$f":"IF(G$1=$B340,G$279,)","v":0},0,0,0,0,0,0,0,0,0,0,0,0,0,0,0,0,0,0,0,0,0,0,0,0,0,0,0,0,0,0,0,0,0,0,0,0,0,0,0,0,0,0,null,null,null,null,null,{"$f":"SUM(G341:AW341)","v":0}]
[null,null,null,null,"No Returns",null,{"$f":"IF(G$1=$B340,G$281,)","v":0},0,0,0,0,0,0,0,0,0,0,0,0,0,0,0,0,0,0,0,0,0,0,0,0,0,0,0,0,0,0,0,0,0,0,0,0,0,0,0,0,0,0,null,null,{"$f":"SUM(G342:AW342)","v":0}]
[null,null,null,null,"Attendance",null,{"$f":"IF(G$1=$B340,G$283,)","v":0},0,0,0,0,0,0,0,0,0,0,0,0,0,0,0,0,0,0,0,0,0,0,0,0,0,0,0,0,0,0,0,0,0,0,0,0,0,0,0,0,0,0,{"$f":"AVERAGEIF(G343:AW343,\"<>0\")","v":{"$error":"#DIV/0!"}},{"$f":"COUNTIF(G343:AW343,\"<>0\")","v":0},{"$f":"SUM(G343:AW343)","v":0},null,{"$f":"MAX(G343:AW343)","v":0},null,{"$f":"BC341/(AZ343-BA342)","v":{"$error":"#DIV/0!"}}]
[null,"Egmating",null,null,"Average Stableford Score",null,{"$f":"IF(G$1=$B344,G$280,)","v":0},0,0,0,0,0,0,0,0,0,0,0,0,0,0,0,0,0,0,0,0,0,0,0,0,0,0,0,0,0,0,0,0,0,0,0,0,0,0,0,0,0,0]
[null,null,null,null,"Total Stableford Points",null,{"$f":"IF(G$1=$B344,G$279,)","v":0},0,0,0,0,0,0,0,0,0,0,0,0,0,0,0,0,0,0,0,0,0,0,0,0,0,0,0,0,0,0,0,0,0,0,0,0,0,0,0,0,0,0,null,null,null,null,null,{"$f":"SUM(G345:AW345)","v":0}]
[null,null,null,null,"No Returns",null,{"$f":"IF(G$1=$B344,G$281,)","v":0},0,0,0,0,0,0,0,0,0,0,0,0,0,0,0,0,0,0,0,0,0,0,0,0,0,0,0,0,0,0,0,0,0,0,0,0,0,0,0,0,0,0,null,null,{"$f":"SUM(G346:AW346)","v":0}]
[null,null,null,null,"Attendance",null,{"$f":"IF(G$1=$B344,G$283,)","v":0},0,0,0,0,0,0,0,0,0,0,0,0,0,0,0,0,0,0,0,0,0,0,0,0,0,0,0,0,0,0,0,0,0,0,0,0,0,0,0,0,0,0,{"$f":"AVERAGEIF(G347:AW347,\"<>0\")","v":{"$error":"#DIV/0!"}},{"$f":"COUNTIF(G347:AW347,\"<>0\")","v":0},{"$f":"SUM(G347:AW347)","v":0},null,{"$f":"MAX(G347:AW347)","v":0},null,{"$f":"BC345/(AZ347-BA346)","v":{"$error":"#DIV/0!"}}]
[null,null,null,null,null,null,null,null,null,null,null,null,null,null,null,null,null,null,null,null,null,null,null,null,null,null,null,null,null,null,null,null,null,null,null,null,null,null,null,null,null,null,null,null,null,null,null,null,null,null,{"$f":"SUM(AY287:AY347)","v":13},{"$f":"SUM(AZ287:AZ347)","v":190},{"$f":"SUM(BA286:BA347)","v":5},null,{"$f":"SUM(BC285:BC347)","v":3695},{"$f":"BC348/(AZ348-BA348)","v":19.972972972972972}]
[null,null,40," = 1st Place (3 or less)"]
[null,null,38," = 2nd Place (4 or more)"]
[null,null,36," = 3rd Place (5 or more)"]
[null,null,null," = Played but no score returned"]

{"sheet":"Handicaps","index":1,"n_rows":557,"n_cols":120,"rows_kept":557,"cut":false,"hidden":false,"merged":[]}
[null,"Players Name",null,"Old Hcap","DGV","Prov","Joined","Plyd",null,null,null,null,null,null,null,null,null,null,null,null,null,null,null,null,null,null,null,null,null,null,null,null,null,null,null,null,null,null,null,null,null,null,null,null,null,null,null,null,null,null,null,null,null,null,null,null,null,null,null,null,null,null,null,null,null,null,null,null,null,null,null,null,null,null,null,null,null,null,null,null,null,null,null,null,null,null,null,null,null,null,null,null,null,null,null,null,null,null,null,null,null,null,"Hcap","Hcap","Hcap",null,"Max Hcap=",36]
[null,null,null,"2020-12-01","Hcap",null,null,null,null,null,null,null,null,null,null,null,null,null,null,null,null,null,null,null,null,null,null,null,null,null,null,null,null,null,null,null,null,null,null,null,null,null,null,null,null,null,null,null,null,null,null,null,null,null,null,null,null,null,null,null,null,null,null,null,null,null,null,null,null,null,null,null,null,null,null,null,null,null,null,null,null,null,null,null,null,null,null,null,null,null,null,null,null,null,null,null,null,null,null,null,null,null,null,"1/1/23","Change"]
[null,"Anderson","David",36,null,{"$f":"IF(H3<4,\"Y\",)","v":"Y"},2023,{"$f":"COUNT(J3:CX3)","v":1},"Date",null,"2023-05-07",null,null,null,null,null,null,null,null,null,null,null,null,null,null,null,null,null,null,null,null,null,null,null,null,null,null,null,null,null,null,null,null,null,null,null,null,null,null,null,null,null,null,null,null,null,null,null,null,null,null,null,null,null,null,null,null,null,null,null,null,null,null,null,null,null,null,null,null,null,null,null,null,null,null,null,null,null,null,null,null,null,null,null,null,null,null,null,null,null,null,null,{"$f":"IF(CW7>$DD$1,36,CW7)","v":13.856451612903232},36,{"$f":"CZ3-CY3","v":22.143548387096768}]
[null,null,null,null,null,null,null,null,"Course",null,"Odelzhausen2023HG"]
[null,null,null,null,null,null,null,null,"Ad Gr",null,89]
[null,null,null,null,null,null,null,null,"SD",38,{"$f":"IF(K5=\"\",0,(K5-INDIRECT(CONCATENATE(K4,\"CR\")))*113/INDIRECT(CONCATENATE(K4,\"SR\")))","v":15.856451612903232},0,0,0,0,0,0,0,0,0,0,0,0,0,0,0,0,0,0,0,0,0,0,0,0,0,0,0,0,0,0,0,0,0,0,0,0,0,0,0,0,0,0,0,0,0,0,0,0,0,0,0,0,0,0,0,0,0,0,0,0,0,0,0,{"$f":"IF(BW5=\"\",0,(BW5-INDIRECT(CONCATENATE(BW4,\"CR\")))*113/INDIRECT(CONCATENATE(BW4,\"SR\")))","v":0},0,0,0,0,0,0,0,0,0,0,0,0,0,0,0,0,0,0,0,0,0,0,0,0,0,0]
[null,null,null,null,null,null,null,null,"New Hcap",{"$f":"J6-2","v":36},{"$f":"IF(K6>0,MIN(J6:K6)-2,J7)","v":13.856451612903232},{"$f":"IF(L6>0,MIN(J6:L6)-2,K7)","v":13.856451612903232},{"$f":"IF(M6>0,MIN(J6:M6)-1,L7)","v":13.856451612903232},{"$f":"IF(N6>0,MIN(J6:N6),M7)","v":13.856451612903232},{"$f":"IF(O6>0,AVERAGE(SMALL(IF(J6:O6>0,J6:O6),{1,2}))-1,N7)","v":13.856451612903232},{"$f":"IF(P6>0,AVERAGE(SMALL(IF(J6:P6>0,J6:P6),{1,2})),O7)","v":13.856451612903232},{"$f":"IF(Q6>0,AVERAGE(SMALL(IF(J6:Q6>0,J6:Q6),{1,2})),P7)","v":13.856451612903232},{"$f":"IF(R6>0,AVERAGE(SMALL(IF(J6:R6>0,J6:R6),{1,2,3})),Q7)","v":13.856451612903232},{"$f":"IF(S6>0,AVERAGE(SMALL(IF(J6:S6>0,J6:S6),{1,2,3})),R7)","v":13.856451612903232},{"$f":"IF(T6>0,AVERAGE(SMALL(IF(J6:T6>0,J6:T6),{1,2,3})),S7)","v":13.856451612903232},{"$f":"IF(U6>0,AVERAGE(SMALL(IF(J6:U6>0,J6:U6),{1,2,3,4})),T7)","v":13.856451612903232},{"$f":"IF(V6>0,AVERAGE(SMALL(IF(J6:V6>0,J6:V6),{1,2,3,4})),U7)","v":13.856451612903232},{"$f":"IF(W6>0,AVERAGE(SMALL(IF(J6:W6>0,J6:W6),{1,2,3,4})),V7)","v":13.856451612903232},{"$f":"IF(X6>0,AVERAGE(SMALL(IF(J6:X6>0,J6:X6),{1,2,3,4,5})),W7)","v":13.856451612903232},{"$f":"IF(Y6>0,AVERAGE(SMALL(IF(J6:Y6>0,J6:Y6),{1,2,3,4,5})),X7)","v":13.856451612903232},{"$f":"IF(Z6>0,AVERAGE(SMALL(IF(J6:Z6>0,J6:Z6),{1,2,3,4,5,6})),Y7)","v":13.856451612903232},{"$f":"IF(AA6>0,AVERAGE(SMALL(IF(J6:AA6>0,J6:AA6),{1,2,3,4,5,6})),Z7)","v":13.856451612903232},{"$f":"IF(AB6>0,AVERAGE(SMALL(IF(J6:AB6>0,J6:AB6),{1,2,3,4,5,6,7})),AA7)","v":13.856451612903232},{"$f":"IF(AC6>0,AVERAGE(SMALL(IF(J6:AC6>0,J6:AC6),{1,2,3,4,5,6,7,8})),AB7)","v":13.856451612903232},{"$f":"IF(AD6>0,AVERAGE(SMALL(IF(K6:AD6>0,K6:AD6),{1,2,3,4,5,6,7,8})),AC7)","v":13.856451612903232},{"$f":"IF(AE6>0,AVERAGE(SMALL(IF(L6:AE6>0,L6:AE6),{1,2,3,4,5,6,7,8})),AD7)","v":13.856451612903232},{"$f":"IF(AF6>0,AVERAGE(SMALL(IF(M6:AF6>0,M6:AF6),{1,2,3,4,5,6,7,8})),AE7)","v":13.856451612903232},{"$f":"IF(AG6>0,AVERAGE(SMALL(IF(N6:AG6>0,N6:AG6),{1,2,3,4,5,6,7,8})),AF7)","v":13.856451612903232},{"$f":"IF(AH6>0,AVERAGE(SMALL(IF(O6:AH6>0,O6:AH6),{1,2,3,4,5,6,7,8})),AG7)","v":13.856451612903232},{"$f":"IF(AI6>0,AVERAGE(SMALL(IF(P6:AI6>0,P6:AI6),{1,2,3,4,5,6,7,8})),AH7)","v":13.856451612903232},{"$f":"IF(AJ6>0,AVERAGE(SMALL(IF(Q6:AJ6>0,Q6:AJ6),{1,2,3,4,5,6,7,8})),AI7)","v":13.856451612903232},{"$f":"IF(AK6>0,AVERAGE(SMALL(IF(R6:AK6>0,R6:AK6),{1,2,3,4,5,6,7,8})),AJ7)","v":13.856451612903232},{"$f":"IF(AL6>0,AVERAGE(SMALL(IF(S6:AL6>0,S6:AL6),{1,2,3,4,5,6,7,8})),AK7)","v":13.856451612903232},{"$f":"IF(AM6>0,AVERAGE(SMALL(IF(T6:AM6>0,T6:AM6),{1,2,3,4,5,6,7,8})),AL7)","v":13.856451612903232},{"$f":"IF(AN6>0,AVERAGE(SMALL(IF(U6:AN6>0,U6:AN6),{1,2,3,4,5,6,7,8})),AM7)","v":13.856451612903232},{"$f":"IF(AO6>0,AVERAGE(SMALL(IF(V6:AO6>0,V6:AO6),{1,2,3,4,5,6,7,8})),AN7)","v":13.856451612903232},{"$f":"IF(AP6>0,AVERAGE(SMALL(IF(W6:AP6>0,W6:AP6),{1,2,3,4,5,6,7,8})),AO7)","v":13.856451612903232},{"$f":"IF(AQ6>0,AVERAGE(SMALL(IF(X6:AQ6>0,X6:AQ6),{1,2,3,4,5,6,7,8})),AP7)","v":13.856451612903232},{"$f":"IF(AR6>0,AVERAGE(SMALL(IF(Y6:AR6>0,Y6:AR6),{1,2,3,4,5,6,7,8})),AQ7)","v":13.856451612903232},{"$f":"IF(AS6>0,AVERAGE(SMALL(IF(Z6:AS6>0,Z6:AS6),{1,2,3,4,5,6,7,8})),AR7)","v":13.856451612903232},{"$f":"IF(AT6>0,AVERAGE(SMALL(IF(AA6:AT6>0,AA6:AT6),{1,2,3,4,5,6,7,8})),AS7)","v":13.856451612903232},{"$f":"IF(AU6>0,AVERAGE(SMALL(IF(AB6:AU6>0,AB6:AU6),{1,2,3,4,5,6,7,8})),AT7)","v":13.856451612903232},{"$f":"IF(AV6>0,AVERAGE(SMALL(IF(AC6:AV6>0,AC6:AV6),{1,2,3,4,5,6,7,8})),AU7)","v":13.856451612903232},{"$f":"IF(AW6>0,AVERAGE(SMALL(IF(AD6:AW6>0,AD6:AW6),{1,2,3,4,5,6,7,8})),AV7)","v":13.856451612903232},{"$f":"IF(AX6>0,AVERAGE(SMALL(IF(AE6:AX6>0,AE6:AX6),{1,2,3,4,5,6,7,8})),AW7)","v":13.856451612903232},{"$f":"IF(AY6>0,AVERAGE(SMALL(IF(AF6:AY6>0,AF6:AY6),{1,2,3,4,5,6,7,8})),AX7)","v":13.856451612903232},{"$f":"IF(AZ6>0,AVERAGE(SMALL(IF(AG6:AZ6>0,AG6:AZ6),{1,2,3,4,5,6,7,8})),AY7)","v":13.856451612903232},{"$f":"IF(BA6>0,AVERAGE(SMALL(IF(AH6:BA6>0,AH6:BA6),{1,2,3,4,5,6,7,8})),AZ7)","v":13.856451612903232},{"$f":"IF(BB6>0,AVERAGE(SMALL(IF(AI6:BB6>0,AI6:BB6),{1,2,3,4,5,6,7,8})),BA7)","v":13.856451612903232},{"$f":"IF(BC6>0,AVERAGE(SMALL(IF(AJ6:BC6>0,AJ6:BC6),{1,2,3,4,5,6,7,8})),BB7)","v":13.856451612903232},{"$f":"IF(BD6>0,AVERAGE(SMALL(IF(AK6:BD6>0,AK6:BD6),{1,2,3,4,5,6,7,8})),BC7)","v":13.856451612903232},{"$f":"IF(BE6>0,AVERAGE(SMALL(IF(AL6:BE6>0,AL6:BE6),{1,2,3,4,5,6,7,8})),BD7)","v":13.856451612903232},{"$f":"IF(BF6>0,AVERAGE(SMALL(IF(AM6:BF6>0,AM6:BF6),{1,2,3,4,5,6,7,8})),BE7)","v":13.856451612903232},{"$f":"IF(BG6>0,AVERAGE(SMALL(IF(AN6:BG6>0,AN6:BG6),{1,2,3,4,5,6,7,8})),BF7)","v":13.856451612903232},{"$f":"IF(BH6>0,AVERAGE(SMALL(IF(AO6:BH6>0,AO6:BH6),{1,2,3,4,5,6,7,8})),BG7)","v":13.856451612903232},{"$f":"IF(BI6>0,AVERAGE(SMALL(IF(AP6:BI6>0,AP6:BI6),{1,2,3,4,5,6,7,8})),BH7)","v":13.856451612903232},{"$f":"IF(BJ6>0,AVERAGE(SMALL(IF(AQ6:BJ6>0,AQ6:BJ6),{1,2,3,4,5,6,7,8})),BI7)","v":13.856451612903232},{"$f":"IF(BK6>0,AVERAGE(SMALL(IF(AR6:BK6>0,AR6:BK6),{1,2,3,4,5,6,7,8})),BJ7)","v":13.856451612903232},{"$f":"IF(BL6>0,AVERAGE(SMALL(IF(AS6:BL6>0,AS6:BL6),{1,2,3,4,5,6,7,8})),BK7)","v":13.856451612903232},{"$f":"IF(BM6>0,AVERAGE(SMALL(IF(AT6:BM6>0,AT6:BM6),{1,2,3,4,5,6,7,8})),BL7)","v":13.856451612903232},{"$f":"IF(BN6>0,AVERAGE(SMALL(IF(AU6:BN6>0,AU6:BN6),{1,2,3,4,5,6,7,8})),BM7)","v":13.856451612903232},{"$f":"IF(BO6>0,AVERAGE(SMALL(IF(AV6:BO6>0,AV6:BO6),{1,2,3,4,5,6,7,8})),BN7)","v":13.856451612903232},{"$f":"IF(BP6>0,AVERAGE(SMALL(IF(AW6:BP6>0,AW6:BP6),{1,2,3,4,5,6,7,8})),BO7)","v":13.856451612903232},{"$f":"IF(BQ6>0,AVERAGE(SMALL(IF(AX6:BQ6>0,AX6:BQ6),{1,2,3,4,5,6,7,8})),BP7)","v":13.856451612903232},{"$f":"IF(BR6>0,AVERAGE(SMALL(IF(AY6:BR6>0,AY6:BR6),{1,2,3,4,5,6,7,8})),BQ7)","v":13.856451612903232},{"$f":"IF(BS6>0,AVERAGE(SMALL(IF(AZ6:BS6>0,AZ6:BS6),{1,2,3,4,5,6,7,8})),BR7)","v":13.856451612903232},{"$f":"IF(BT6>0,AVERAGE(SMALL(IF(BA6:BT6>0,BA6:BT6),{1,2,3,4,5,6,7,8})),BS7)","v":13.856451612903232},{"$f":"IF(BU6>0,AVERAGE(SMALL(IF(BB6:BU6>0,BB6:BU6),{1,2,3,4,5,6,7,8})),BT7)","v":13.856451612903232},{"$f":"IF(BV6>0,AVERAGE(SMALL(IF(BC6:BV6>0,BC6:BV6),{1,2,3,4,5,6,7,8})),BU7)","v":13.856451612903232},{"$f":"IF(BW6>0,AVERAGE(SMALL(IF(BD6:BW6>0,BD6:BW6),{1,2,3,4,5,6,7,8})),BV7)","v":13.856451612903232},{"$f":"IF(BX6>0,AVERAGE(SMALL(IF(BE6:BX6>0,BE6:BX6),{1,2,3,4,5,6,7,8})),BW7)","v":13.856451612903232},{"$f":"IF(BY6>0,AVERAGE(SMALL(IF(BF6:BY6>0,BF6:BY6),{1,2,3,4,5,6,7,8})),BX7)","v":13.856451612903232},{"$f":"IF(BZ6>0,AVERAGE(SMALL(IF(BG6:BZ6>0,BG6:BZ6),{1,2,3,4,5,6,7,8})),BY7)","v":13.856451612903232},{"$f":"IF(CA6>0,AVERAGE(SMALL(IF(BH6:CA6>0,BH6:CA6),{1,2,3,4,5,6,7,8})),BZ7)","v":13.856451612903232},{"$f":"IF(CB6>0,AVERAGE(SMALL(IF(BI6:CB6>0,BI6:CB6),{1,2,3,4,5,6,7,8})),CA7)","v":13.856451612903232},{"$f":"IF(CC6>0,AVERAGE(SMALL(IF(BJ6:CC6>0,BJ6:CC6),{1,2,3,4,5,6,7,8})),CB7)","v":13.856451612903232},{"$f":"IF(CD6>0,AVERAGE(SMALL(IF(BK6:CD6>0,BK6:CD6),{1,2,3,4,5,6,7,8})),CC7)","v":13.856451612903232},{"$f":"IF(CE6>0,AVERAGE(SMALL(IF(BL6:CE6>0,BL6:CE6),{1,2,3,4,5,6,7,8})),CD7)","v":13.856451612903232},{"$f":"IF(CF6>0,AVERAGE(SMALL(IF(BM6:CF6>0,BM6:CF6),{1,2,3,4,5,6,7,8})),CE7)","v":13.856451612903232},{"$f":"IF(CG6>0,AVERAGE(SMALL(IF(BN6:CG6>0,BN6:CG6),{1,2,3,4,5,6,7,8})),CF7)","v":13.856451612903232},{"$f":"IF(CH6>0,AVERAGE(SMALL(IF(BO6:CH6>0,BO6:CH6),{1,2,3,4,5,6,7,8})),CG7)","v":13.856451612903232},{"$f":"IF(CI6>0,AVERAGE(SMALL(IF(BP6:CI6>0,BP6:CI6),{1,2,3,4,5,6,7,8})),CH7)","v":13.856451612903232},{"$f":"IF(CJ6>0,AVERAGE(SMALL(IF(BQ6:CJ6>0,BQ6:CJ6),{1,2,3,4,5,6,7,8})),CI7)","v":13.856451612903232},{"$f":"IF(CK6>0,AVERAGE(SMALL(IF(BR6:CK6>0,BR6:CK6),{1,2,3,4,5,6,7,8})),CJ7)","v":13.856451612903232},{"$f":"IF(CL6>0,AVERAGE(SMALL(IF(BS6:CL6>0,BS6:CL6),{1,2,3,4,5,6,7,8})),CK7)","v":13.856451612903232},{"$f":"IF(CM6>0,AVERAGE(SMALL(IF(BT6:CM6>0,BT6:CM6),{1,2,3,4,5,6,7,8})),CL7)","v":13.856451612903232},{"$f":"IF(CN6>0,AVERAGE(SMALL(IF(BU6:CN6>0,BU6:CN6),{1,2,3,4,5,6,7,8})),CM7)","v":13.856451612903232},{"$f":"IF(CO6>0,AVERAGE(SMALL(IF(BV6:CO6>0,BV6:CO6),{1,2,3,4,5,6,7,8})),CN7)","v":13.856451612903232},{"$f":"IF(CP6>0,AVERAGE(SMALL(IF(BW6:CP6>0,BW6:CP6),{1,2,3,4,5,6,7,8})),CO7)","v":13.856451612903232},{"$f":"IF(CQ6>0,AVERAGE(SMALL(IF(BX6:CQ6>0,BX6:CQ6),{1,2,3,4,5,6,7,8})),CP7)","v":13.856451612903232},{"$f":"IF(CR6>0,AVERAGE(SMALL(IF(BY6:CR6>0,BY6:CR6),{1,2,3,4,5,6,7,8})),CQ7)","v":13.856451612903232},{"$f":"IF(CS6>0,AVERAGE(SMALL(IF(BZ6:CS6>0,BZ6:CS6),{1,2,3,4,5,6,7,8})),CR7)","v":13.856451612903232},{"$f":"IF(CT6>0,AVERAGE(SMALL(IF(CA6:CT6>0,CA6:CT6),{1,2,3,4,5,6,7,8})),CS7)","v":13.856451612903232},{"$f":"IF(CU6>0,AVERAGE(SMALL(IF(CB6:CU6>0,CB6:CU6),{1,2,3,4,5,6,7,8})),CT7)","v":13.856451612903232},{"$f":"IF(CV6>0,AVERAGE(SMALL(IF(CC6:CV6>0,CC6:CV6),{1,2,3,4,5,6,7,8})),CU7)","v":13.856451612903232},{"$f":"IF(CW6>0,AVERAGE(SMALL(IF(CD6:CW6>0,CD6:CW6),{1,2,3,4,5,6,7,8})),CV7)","v":13.856451612903232}]
[null,null,null,null,null,null,null,null,"Low Hcap",null,null,null,null,null,null,null,null,null,null,null,null,null,null,null,null,null,null,null,{"$f":"MIN($J7:AC7)","v":13.856451612903232},{"$f":"MIN($J7:AD7)","v":13.856451612903232},{"$f":"MIN($J7:AE7)","v":13.856451612903232},{"$f":"MIN($J7:AF7)","v":13.856451612903232},{"$f":"MIN($J7:AG7)","v":13.856451612903232},{"$f":"MIN($J7:AH7)","v":13.856451612903232},{"$f":"MIN($J7:AI7)","v":13.856451612903232},{"$f":"MIN($J7:AJ7)","v":13.856451612903232},{"$f":"MIN($J7:AK7)","v":13.856451612903232},{"$f":"MIN($J7:AL7)","v":13.856451612903232},{"$f":"MIN($J7:AM7)","v":13.856451612903232},{"$f":"MIN($J7:AN7)","v":13.856451612903232},{"$f":"MIN($J7:AO7)","v":13.856451612903232},{"$f":"MIN($J7:AP7)","v":13.856451612903232},{"$f":"MIN($J7:AQ7)","v":13.856451612903232},{"$f":"MIN($J7:AR7)","v":13.856451612903232},{"$f":"MIN($J7:AS7)","v":13.856451612903232},{"$f":"MIN($J7:AT7)","v":13.856451612903232},{"$f":"MIN($J7:AU7)","v":13.856451612903232},{"$f":"MIN($J7:AV7)","v":13.856451612903232},{"$f":"MIN($J7:AW7)","v":13.856451612903232},{"$f":"MIN($J7:AX7)","v":13.856451612903232},{"$f":"MIN($J7:AY7)","v":13.856451612903232},{"$f":"MIN($J7:AZ7)","v":13.856451612903232},{"$f":"MIN($J7:BA7)","v":13.856451612903232},{"$f":"MIN($J7:BB7)","v":13.856451612903232},{"$f":"MIN($J7:BC7)","v":13.856451612903232},{"$f":"MIN($J7:BD7)","v":13.856451612903232},{"$f":"MIN($J7:BE7)","v":13.856451612903232},{"$f":"MIN($J7:BF7)","v":13.856451612903232},{"$f":"MIN($J7:BG7)","v":13.856451612903232},{"$f":"MIN($J7:BH7)","v":13.856451612903232},{"$f":"MIN($J7:BI7)","v":13.856451612903232},{"$f":"MIN($J7:BJ7)","v":13.856451612903232},{"$f":"MIN($J7:BK7)","v":13.856451612903232},{"$f":"MIN($J7:BL7)","v":13.856451612903232},{"$f":"MIN($J7:BM7)","v":13.856451612903232},{"$f":"MIN($J7:BN7)","v":13.856451612903232},{"$f":"MIN($J7:BO7)","v":13.856451612903232},{"$f":"MIN($J7:BP7)","v":13.856451612903232},{"$f":"MIN($J7:BQ7)","v":13.856451612903232},{"$f":"MIN($J7:BR7)","v":13.856451612903232},{"$f":"MIN($J7:BS7)","v":13.856451612903232},{"$f":"MIN($J7:BT7)","v":13.856451612903232},{"$f":"MIN($J7:BU7)","v":13.856451612903232},{"$f":"MIN($J7:BV7)","v":13.856451612903232},{"$f":"MIN($J7:BW7)","v":13.856451612903232},{"$f":"MIN($J7:BX7)","v":13.856451612903232},{"$f":"MIN($J7:BY7)","v":13.856451612903232},{"$f":"MIN($J7:BZ7)","v":13.856451612903232},{"$f":"MIN($J7:CA7)","v":13.856451612903232},{"$f":"MIN($J7:CB7)","v":13.856451612903232},{"$f":"MIN($J7:CC7)","v":13.856451612903232},{"$f":"MIN($J7:CD7)","v":13.856451612903232},{"$f":"MIN($J7:CE7)","v":13.856451612903232},{"$f":"MIN($J7:CF7)","v":13.856451612903232},{"$f":"MIN($J7:CG7)","v":13.856451612903232},{"$f":"MIN($J7:CH7)","v":13.856451612903232},{"$f":"MIN($J7:CI7)","v":13.856451612903232},{"$f":"MIN($J7:CJ7)","v":13.856451612903232},{"$f":"MIN($J7:CK7)","v":13.856451612903232},{"$f":"MIN($J7:CL7)","v":13.856451612903232},{"$f":"MIN($J7:CM7)","v":13.856451612903232},{"$f":"MIN($J7:CN7)","v":13.856451612903232},{"$f":"MIN($J7:CO7)","v":13.856451612903232},{"$f":"MIN($J7:CP7)","v":13.856451612903232},{"$f":"MIN($J7:CQ7)","v":13.856451612903232},{"$f":"MIN($J7:CR7)","v":13.856451612903232},{"$f":"MIN($J7:CS7)","v":13.856451612903232},{"$f":"MIN($J7:CT7)","v":13.856451612903232},{"$f":"MIN($J7:CU7)","v":13.856451612903232},{"$f":"MIN($J7:CV7)","v":13.856451612903232},{"$f":"MIN($J7:CW7)","v":13.856451612903232}]
[null,"Bacelic","Danijel",30,null,{"$f":"IF(H9<4,\"Y\",)","v":"Y"},2021,{"$f":"COUNT(J9:CX9)","v":3},"Date",null,"2023-05-19","2023-05-28","2023-06-09",null,null,null,null,null,null,null,null,null,null,null,null,null,null,null,null,null,null,null,null,null,null,null,null,null,null,null,null,null,null,null,null,null,null,null,null,null,null,null,null,null,null,null,null,null,null,null,null,null,null,null,null,null,null,null,null,null,null,null,null,null,null,null,null,null,null,null,null,null,null,null,null,null,null,null,null,null,null,null,null,null,null,null,null,null,null,null,null,null,{"$f":"IF(CW13>$DD$1,36,CW13)","v":29.423076923076923},30,{"$f":"CZ9-CY9","v":0.57692307692307665}]
[null,null,null,null,null,null,null,null,"Course",null,"GarmischHG","ErdingHG","TegernbachHG"]
[null,null,null,null,null,null,null,null,"Ad Gr",null,118,106,110]
[null,null,null,null,null,null,null,null,"SD",32,{"$f":"IF(K11=\"\",0,(K11-INDIRECT(CONCATENATE(K10,\"CR\")))*113/INDIRECT(CONCATENATE(K10,\"SR\")))","v":41.462992125984243},{"$f":"IF(L11=\"\",0,(L11-INDIRECT(CONCATENATE(L10,\"CR\")))*113/INDIRECT(CONCATENATE(L10,\"SR\")))","v":30.423076923076923},32.787121212121207,0,0,0,0,0,0,0,0,0,0,0,0,0,0,0,0,0,0,0,0,0,0,0,0,0,0,0,0,0,0,0,0,0,0,0,0,0,0,0,0,0,0,0,0,0,0,0,0,0,0,0,0,0,0,0,0,0,0,0,0,0,{"$f":"IF(BW11=\"\",0,(BW11-INDIRECT(CONCATENATE(BW10,\"CR\")))*113/INDIRECT(CONCATENATE(BW10,\"SR\")))","v":0},0,0,0,0,0,0,0,0,0,0,0,0,0,0,0,{"$f":"IF(CM11=\"\",0,(CM11-INDIRECT(CONCATENATE(CM10,\"CR\")))*113/INDIRECT(CONCATENATE(CM10,\"SR\")))","v":0},0,{"$f":"IF(CO11=\"\",0,(CO11-INDIRECT(CONCATENATE(CO10,\"CR\")))*113/INDIRECT(CONCATENATE(CO10,\"SR\")))","v":0},0,{"$f":"IF(CQ11=\"\",0,(CQ11-INDIRECT(CONCATENATE(CQ10,\"CR\")))*113/INDIRECT(CONCATENATE(CQ10,\"SR\")))","v":0},0,{"$f":"IF(CS11=\"\",0,(CS11-INDIRECT(CONCATENATE(CS10,\"CR\")))*113/INDIRECT(CONCATENATE(CS10,\"SR\")))","v":0},0,{"$f":"IF(CU11=\"\",0,(CU11-INDIRECT(CONCATENATE(CU10,\"CR\")))*113/INDIRECT(CONCATENATE(CU10,\"SR\")))","v":0},0,{"$f":"IF(CW11=\"\",0,(CW11-INDIRECT(CONCATENATE(CW10,\"CR\")))*113/INDIRECT(CONCATENATE(CW10,\"SR\")))","v":0}]
[null,null,null,null,null,null,null,null,"New Hcap",{"$f":"J12-2","v":30},{"$f":"IF(K12>0,MIN(J12:K12)-2,J13)","v":30},{"$f":"IF(L12>0,MIN(J12:L12)-2,K13)","v":28.423076923076923},{"$f":"IF(M12>0,MIN(J12:M12)-1,L13)","v":29.423076923076923},{"$f":"IF(N12>0,MIN(J12:N12),M13)","v":29.423076923076923},{"$f":"IF(O12>0,AVERAGE(SMALL(IF(J12:O12>0,J12:O12),{1,2}))-1,N13)","v":29.423076923076923},{"$f":"IF(P12>0,AVERAGE(SMALL(IF(J12:P12>0,J12:P12),{1,2})),O13)","v":29.423076923076923},{"$f":"IF(Q12>0,AVERAGE(SMALL(IF(J12:Q12>0,J12:Q12),{1,2})),P13)","v":29.423076923076923},{"$f":"IF(R12>0,AVERAGE(SMALL(IF(J12:R12>0,J12:R12),{1,2,3})),Q13)","v":29.423076923076923},{"$f":"IF(S12>0,AVERAGE(SMALL(IF(J12:S12>0,J12:S12),{1,2,3})),R13)","v":29.423076923076923},{"$f":"IF(T12>0,AVERAGE(SMALL(IF(J12:T12>0,J12:T12),{1,2,3})),S13)","v":29.423076923076923},{"$f":"IF(U12>0,AVERAGE(SMALL(IF(J12:U12>0,J12:U12),{1,2,3,4})),T13)","v":29.423076923076923},{"$f":"IF(V12>0,AVERAGE(SMALL(IF(J12:V12>0,J12:V12),{1,2,3,4})),U13)","v":29.423076923076923},{"$f":"IF(W12>0,AVERAGE(SMALL(IF(J12:W12>0,J12:W12),{1,2,3,4})),V13)","v":29.423076923076923},{"$f":"IF(X12>0,AVERAGE(SMALL(IF(J12:X12>0,J12:X12),{1,2,3,4,5})),W13)","v":29.423076923076923},{"$f":"IF(Y12>0,AVERAGE(SMALL(IF(J12:Y12>0,J12:Y12),{1,2,3,4,5})),X13)","v":29.423076923076923},{"$f":"IF(Z12>0,AVERAGE(SMALL(IF(J12:Z12>0,J12:Z12),{1,2,3,4,5,6})),Y13)","v":29.423076923076923},{"$f":"IF(AA12>0,AVERAGE(SMALL(IF(J12:AA12>0,J12:AA12),{1,2,3,4,5,6})),Z13)","v":29.423076923076923},{"$f":"IF(AB12>0,AVERAGE(SMALL(IF(J12:AB12>0,J12:AB12),{1,2,3,4,5,6,7})),AA13)","v":29.423076923076923},{"$f":"IF(AC12>0,AVERAGE(SMALL(IF(J12:AC12>0,J12:AC12),{1,2,3,4,5,6,7,8})),AB13)","v":29.423076923076923},{"$f":"IF(AD12>0,AVERAGE(SMALL(IF(K12:AD12>0,K12:AD12),{1,2,3,4,5,6,7,8})),AC13)","v":29.423076923076923},{"$f":"IF(AE12>0,AVERAGE(SMALL(IF(L12:AE12>0,L12:AE12),{1,2,3,4,5,6,7,8})),AD13)","v":29.423076923076923},{"$f":"IF(AF12>0,AVERAGE(SMALL(IF(M12:AF12>0,M12:AF12),{1,2,3,4,5,6,7,8})),AE13)","v":29.423076923076923},{"$f":"IF(AG12>0,AVERAGE(SMALL(IF(N12:AG12>0,N12:AG12),{1,2,3,4,5,6,7,8})),AF13)","v":29.423076923076923},{"$f":"IF(AH12>0,AVERAGE(SMALL(IF(O12:AH12>0,O12:AH12),{1,2,3,4,5,6,7,8})),AG13)","v":29.423076923076923},{"$f":"IF(AI12>0,AVERAGE(SMALL(IF(P12:AI12>0,P12:AI12),{1,2,3,4,5,6,7,8})),AH13)","v":29.423076923076923},{"$f":"IF(AJ12>0,AVERAGE(SMALL(IF(Q12:AJ12>0,Q12:AJ12),{1,2,3,4,5,6,7,8})),AI13)","v":29.423076923076923},{"$f":"IF(AK12>0,AVERAGE(SMALL(IF(R12:AK12>0,R12:AK12),{1,2,3,4,5,6,7,8})),AJ13)","v":29.423076923076923},{"$f":"IF(AL12>0,AVERAGE(SMALL(IF(S12:AL12>0,S12:AL12),{1,2,3,4,5,6,7,8})),AK13)","v":29.423076923076923},{"$f":"IF(AM12>0,AVERAGE(SMALL(IF(T12:AM12>0,T12:AM12),{1,2,3,4,5,6,7,8})),AL13)","v":29.423076923076923},{"$f":"IF(AN12>0,AVERAGE(SMALL(IF(U12:AN12>0,U12:AN12),{1,2,3,4,5,6,7,8})),AM13)","v":29.423076923076923},{"$f":"IF(AO12>0,AVERAGE(SMALL(IF(V12:AO12>0,V12:AO12),{1,2,3,4,5,6,7,8})),AN13)","v":29.423076923076923},{"$f":"IF(AP12>0,AVERAGE(SMALL(IF(W12:AP12>0,W12:AP12),{1,2,3,4,5,6,7,8})),AO13)","v":29.423076923076923},{"$f":"IF(AQ12>0,AVERAGE(SMALL(IF(X12:AQ12>0,X12:AQ12),{1,2,3,4,5,6,7,8})),AP13)","v":29.423076923076923},{"$f":"IF(AR12>0,AVERAGE(SMALL(IF(Y12:AR12>0,Y12:AR12),{1,2,3,4,5,6,7,8})),AQ13)","v":29.423076923076923},{"$f":"IF(AS12>0,AVERAGE(SMALL(IF(Z12:AS12>0,Z12:AS12),{1,2,3,4,5,6,7,8})),AR13)","v":29.423076923076923},{"$f":"IF(AT12>0,AVERAGE(SMALL(IF(AA12:AT12>0,AA12:AT12),{1,2,3,4,5,6,7,8})),AS13)","v":29.423076923076923},{"$f":"IF(AU12>0,AVERAGE(SMALL(IF(AB12:AU12>0,AB12:AU12),{1,2,3,4,5,6,7,8})),AT13)","v":29.423076923076923},{"$f":"IF(AV12>0,AVERAGE(SMALL(IF(AC12:AV12>0,AC12:AV12),{1,2,3,4,5,6,7,8})),AU13)","v":29.423076923076923},{"$f":"IF(AW12>0,AVERAGE(SMALL(IF(AD12:AW12>0,AD12:AW12),{1,2,3,4,5,6,7,8})),AV13)","v":29.423076923076923},{"$f":"IF(AX12>0,AVERAGE(SMALL(IF(AE12:AX12>0,AE12:AX12),{1,2,3,4,5,6,7,8})),AW13)","v":29.423076923076923},{"$f":"IF(AY12>0,AVERAGE(SMALL(IF(AF12:AY12>0,AF12:AY12),{1,2,3,4,5,6,7,8})),AX13)","v":29.423076923076923},{"$f":"IF(AZ12>0,AVERAGE(SMALL(IF(AG12:AZ12>0,AG12:AZ12),{1,2,3,4,5,6,7,8})),AY13)","v":29.423076923076923},{"$f":"IF(BA12>0,AVERAGE(SMALL(IF(AH12:BA12>0,AH12:BA12),{1,2,3,4,5,6,7,8})),AZ13)","v":29.423076923076923},{"$f":"IF(BB12>0,AVERAGE(SMALL(IF(AI12:BB12>0,AI12:BB12),{1,2,3,4,5,6,7,8})),BA13)","v":29.423076923076923},{"$f":"IF(BC12>0,AVERAGE(SMALL(IF(AJ12:BC12>0,AJ12:BC12),{1,2,3,4,5,6,7,8})),BB13)","v":29.423076923076923},{"$f":"IF(BD12>0,AVERAGE(SMALL(IF(AK12:BD12>0,AK12:BD12),{1,2,3,4,5,6,7,8})),BC13)","v":29.423076923076923},{"$f":"IF(BE12>0,AVERAGE(SMALL(IF(AL12:BE12>0,AL12:BE12),{1,2,3,4,5,6,7,8})),BD13)","v":29.423076923076923},{"$f":"IF(BF12>0,AVERAGE(SMALL(IF(AM12:BF12>0,AM12:BF12),{1,2,3,4,5,6,7,8})),BE13)","v":29.423076923076923},{"$f":"IF(BG12>0,AVERAGE(SMALL(IF(AN12:BG12>0,AN12:BG12),{1,2,3,4,5,6,7,8})),BF13)","v":29.423076923076923},{"$f":"IF(BH12>0,AVERAGE(SMALL(IF(AO12:BH12>0,AO12:BH12),{1,2,3,4,5,6,7,8})),BG13)","v":29.423076923076923},{"$f":"IF(BI12>0,AVERAGE(SMALL(IF(AP12:BI12>0,AP12:BI12),{1,2,3,4,5,6,7,8})),BH13)","v":29.423076923076923},{"$f":"IF(BJ12>0,AVERAGE(SMALL(IF(AQ12:BJ12>0,AQ12:BJ12),{1,2,3,4,5,6,7,8})),BI13)","v":29.423076923076923},{"$f":"IF(BK12>0,AVERAGE(SMALL(IF(AR12:BK12>0,AR12:BK12),{1,2,3,4,5,6,7,8})),BJ13)","v":29.423076923076923},{"$f":"IF(BL12>0,AVERAGE(SMALL(IF(AS12:BL12>0,AS12:BL12),{1,2,3,4,5,6,7,8})),BK13)","v":29.423076923076923},{"$f":"IF(BM12>0,AVERAGE(SMALL(IF(AT12:BM12>0,AT12:BM12),{1,2,3,4,5,6,7,8})),BL13)","v":29.423076923076923},{"$f":"IF(BN12>0,AVERAGE(SMALL(IF(AU12:BN12>0,AU12:BN12),{1,2,3,4,5,6,7,8})),BM13)","v":29.423076923076923},{"$f":"IF(BO12>0,AVERAGE(SMALL(IF(AV12:BO12>0,AV12:BO12),{1,2,3,4,5,6,7,8})),BN13)","v":29.423076923076923},{"$f":"IF(BP12>0,AVERAGE(SMALL(IF(AW12:BP12>0,AW12:BP12),{1,2,3,4,5,6,7,8})),BO13)","v":29.423076923076923},{"$f":"IF(BQ12>0,AVERAGE(SMALL(IF(AX12:BQ12>0,AX12:BQ12),{1,2,3,4,5,6,7,8})),BP13)","v":29.423076923076923},{"$f":"IF(BR12>0,AVERAGE(SMALL(IF(AY12:BR12>0,AY12:BR12),{1,2,3,4,5,6,7,8})),BQ13)","v":29.423076923076923},{"$f":"IF(BS12>0,AVERAGE(SMALL(IF(AZ12:BS12>0,AZ12:BS12),{1,2,3,4,5,6,7,8})),BR13)","v":29.423076923076923},{"$f":"IF(BT12>0,AVERAGE(SMALL(IF(BA12:BT12>0,BA12:BT12),{1,2,3,4,5,6,7,8})),BS13)","v":29.423076923076923},{"$f":"IF(BU12>0,AVERAGE(SMALL(IF(BB12:BU12>0,BB12:BU12),{1,2,3,4,5,6,7,8})),BT13)","v":29.423076923076923},{"$f":"IF(BV12>0,AVERAGE(SMALL(IF(BC12:BV12>0,BC12:BV12),{1,2,3,4,5,6,7,8})),BU13)","v":29.423076923076923},{"$f":"IF(BW12>0,AVERAGE(SMALL(IF(BD12:BW12>0,BD12:BW12),{1,2,3,4,5,6,7,8})),BV13)","v":29.423076923076923},{"$f":"IF(BX12>0,AVERAGE(SMALL(IF(BE12:BX12>0,BE12:BX12),{1,2,3,4,5,6,7,8})),BW13)","v":29.423076923076923},{"$f":"IF(BY12>0,AVERAGE(SMALL(IF(BF12:BY12>0,BF12:BY12),{1,2,3,4,5,6,7,8})),BX13)","v":29.423076923076923},{"$f":"IF(BZ12>0,AVERAGE(SMALL(IF(BG12:BZ12>0,BG12:BZ12),{1,2,3,4,5,6,7,8})),BY13)","v":29.423076923076923},{"$f":"IF(CA12>0,AVERAGE(SMALL(IF(BH12:CA12>0,BH12:CA12),{1,2,3,4,5,6,7,8})),BZ13)","v":29.423076923076923},{"$f":"IF(CB12>0,AVERAGE(SMALL(IF(BI12:CB12>0,BI12:CB12),{1,2,3,4,5,6,7,8})),CA13)","v":29.423076923076923},{"$f":"IF(CC12>0,AVERAGE(SMALL(IF(BJ12:CC12>0,BJ12:CC12),{1,2,3,4,5,6,7,8})),CB13)","v":29.423076923076923},{"$f":"IF(CD12>0,AVERAGE(SMALL(IF(BK12:CD12>0,BK12:CD12),{1,2,3,4,5,6,7,8})),CC13)","v":29.423076923076923},{"$f":"IF(CE12>0,AVERAGE(SMALL(IF(BL12:CE12>0,BL12:CE12),{1,2,3,4,5,6,7,8})),CD13)","v":29.423076923076923},{"$f":"IF(CF12>0,AVERAGE(SMALL(IF(BM12:CF12>0,BM12:CF12),{1,2,3,4,5,6,7,8})),CE13)","v":29.423076923076923},{"$f":"IF(CG12>0,AVERAGE(SMALL(IF(BN12:CG12>0,BN12:CG12),{1,2,3,4,5,6,7,8})),CF13)","v":29.423076923076923},{"$f":"IF(CH12>0,AVERAGE(SMALL(IF(BO12:CH12>0,BO12:CH12),{1,2,3,4,5,6,7,8})),CG13)","v":29.423076923076923},{"$f":"IF(CI12>0,AVERAGE(SMALL(IF(BP12:CI12>0,BP12:CI12),{1,2,3,4,5,6,7,8})),CH13)","v":29.423076923076923},{"$f":"IF(CJ12>0,AVERAGE(SMALL(IF(BQ12:CJ12>0,BQ12:CJ12),{1,2,3,4,5,6,7,8})),CI13)","v":29.423076923076923},{"$f":"IF(CK12>0,AVERAGE(SMALL(IF(BR12:CK12>0,BR12:CK12),{1,2,3,4,5,6,7,8})),CJ13)","v":29.423076923076923},{"$f":"IF(CL12>0,AVERAGE(SMALL(IF(BS12:CL12>0,BS12:CL12),{1,2,3,4,5,6,7,8})),CK13)","v":29.423076923076923},{"$f":"IF(CM12>0,AVERAGE(SMALL(IF(BT12:CM12>0,BT12:CM12),{1,2,3,4,5,6,7,8})),CL13)","v":29.423076923076923},{"$f":"IF(CN12>0,AVERAGE(SMALL(IF(BU12:CN12>0,BU12:CN12),{1,2,3,4,5,6,7,8})),CM13)","v":29.423076923076923},{"$f":"IF(CO12>0,AVERAGE(SMALL(IF(BV12:CO12>0,BV12:CO12),{1,2,3,4,5,6,7,8})),CN13)","v":29.423076923076923},{"$f":"IF(CP12>0,AVERAGE(SMALL(IF(BW12:CP12>0,BW12:CP12),{1,2,3,4,5,6,7,8})),CO13)","v":29.423076923076923},{"$f":"IF(CQ12>0,AVERAGE(SMALL(IF(BX12:CQ12>0,BX12:CQ12),{1,2,3,4,5,6,7,8})),CP13)","v":29.423076923076923},{"$f":"IF(CR12>0,AVERAGE(SMALL(IF(BY12:CR12>0,BY12:CR12),{1,2,3,4,5,6,7,8})),CQ13)","v":29.423076923076923},{"$f":"IF(CS12>0,AVERAGE(SMALL(IF(BZ12:CS12>0,BZ12:CS12),{1,2,3,4,5,6,7,8})),CR13)","v":29.423076923076923},{"$f":"IF(CT12>0,AVERAGE(SMALL(IF(CA12:CT12>0,CA12:CT12),{1,2,3,4,5,6,7,8})),CS13)","v":29.423076923076923},{"$f":"IF(CU12>0,AVERAGE(SMALL(IF(CB12:CU12>0,CB12:CU12),{1,2,3,4,5,6,7,8})),CT13)","v":29.423076923076923},{"$f":"IF(CV12>0,AVERAGE(SMALL(IF(CC12:CV12>0,CC12:CV12),{1,2,3,4,5,6,7,8})),CU13)","v":29.423076923076923},{"$f":"IF(CW12>0,AVERAGE(SMALL(IF(CD12:CW12>0,CD12:CW12),{1,2,3,4,5,6,7,8})),CV13)","v":29.423076923076923}]
[null,null,null,null,null,null,null,null,"Low Hcap",null,null,null,null,null,null,null,null,null,null,null,null,null,null,null,null,null,null,null,{"$f":"MIN($J13:AC13)","v":28.423076923076923},{"$f":"MIN($J13:AD13)","v":28.423076923076923},{"$f":"MIN($J13:AE13)","v":28.423076923076923},{"$f":"MIN($J13:AF13)","v":28.423076923076923},{"$f":"MIN($J13:AG13)","v":28.423076923076923},{"$f":"MIN($J13:AH13)","v":28.423076923076923},{"$f":"MIN($J13:AI13)","v":28.423076923076923},{"$f":"MIN($J13:AJ13)","v":28.423076923076923},{"$f":"MIN($J13:AK13)","v":28.423076923076923},{"$f":"MIN($J13:AL13)","v":28.423076923076923},{"$f":"MIN($J13:AM13)","v":28.423076923076923},{"$f":"MIN($J13:AN13)","v":28.423076923076923},{"$f":"MIN($J13:AO13)","v":28.423076923076923},{"$f":"MIN($J13:AP13)","v":28.423076923076923},{"$f":"MIN($J13:AQ13)","v":28.423076923076923},{"$f":"MIN($J13:AR13)","v":28.423076923076923},{"$f":"MIN($J13:AS13)","v":28.423076923076923},{"$f":"MIN($J13:AT13)","v":28.423076923076923},{"$f":"MIN($J13:AU13)","v":28.423076923076923},{"$f":"MIN($J13:AV13)","v":28.423076923076923},{"$f":"MIN($J13:AW13)","v":28.423076923076923},{"$f":"MIN($J13:AX13)","v":28.423076923076923},{"$f":"MIN($J13:AY13)","v":28.423076923076923},{"$f":"MIN($J13:AZ13)","v":28.423076923076923},{"$f":"MIN($J13:BA13)","v":28.423076923076923},{"$f":"MIN($J13:BB13)","v":28.423076923076923},{"$f":"MIN($J13:BC13)","v":28.423076923076923},{"$f":"MIN($J13:BD13)","v":28.423076923076923},{"$f":"MIN($J13:BE13)","v":28.423076923076923},{"$f":"MIN($J13:BF13)","v":28.423076923076923},{"$f":"MIN($J13:BG13)","v":28.423076923076923},{"$f":"MIN($J13:BH13)","v":28.423076923076923},{"$f":"MIN($J13:BI13)","v":28.423076923076923},{"$f":"MIN($J13:BJ13)","v":28.423076923076923},{"$f":"MIN($J13:BK13)","v":28.423076923076923},{"$f":"MIN($J13:BL13)","v":28.423076923076923},{"$f":"MIN($J13:BM13)","v":28.423076923076923},{"$f":"MIN($J13:BN13)","v":28.423076923076923},{"$f":"MIN($J13:BO13)","v":28.423076923076923},{"$f":"MIN($J13:BP13)","v":28.423076923076923},{"$f":"MIN($J13:BQ13)","v":28.423076923076923},{"$f":"MIN($J13:BR13)","v":28.423076923076923},{"$f":"MIN($J13:BS13)","v":28.423076923076923},{"$f":"MIN($J13:BT13)","v":28.423076923076923},{"$f":"MIN($J13:BU13)","v":28.423076923076923},{"$f":"MIN($J13:BV13)","v":28.423076923076923},{"$f":"MIN($J13:BW13)","v":28.423076923076923},{"$f":"MIN($J13:BX13)","v":28.423076923076923},{"$f":"MIN($J13:BY13)","v":28.423076923076923},{"$f":"MIN($J13:BZ13)","v":28.423076923076923},{"$f":"MIN($J13:CA13)","v":28.423076923076923},{"$f":"MIN($J13:CB13)","v":28.423076923076923},{"$f":"MIN($J13:CC13)","v":28.423076923076923},{"$f":"MIN($J13:CD13)","v":28.423076923076923},{"$f":"MIN($J13:CE13)","v":28.423076923076923},{"$f":"MIN($J13:CF13)","v":28.423076923076923},{"$f":"MIN($J13:CG13)","v":28.423076923076923},{"$f":"MIN($J13:CH13)","v":28.423076923076923},{"$f":"MIN($J13:CI13)","v":28.423076923076923},{"$f":"MIN($J13:CJ13)","v":28.423076923076923},{"$f":"MIN($J13:CK13)","v":28.423076923076923},{"$f":"MIN($J13:CL13)","v":28.423076923076923},{"$f":"MIN($J13:CM13)","v":28.423076923076923},{"$f":"MIN($J13:CN13)","v":28.423076923076923},{"$f":"MIN($J13:CO13)","v":28.423076923076923},{"$f":"MIN($J13:CP13)","v":28.423076923076923},{"$f":"MIN($J13:CQ13)","v":28.423076923076923},{"$f":"MIN($J13:CR13)","v":28.423076923076923},{"$f":"MIN($J13:CS13)","v":28.423076923076923},{"$f":"MIN($J13:CT13)","v":28.423076923076923},{"$f":"MIN($J13:CU13)","v":28.423076923076923},{"$f":"MIN($J13:CV13)","v":28.423076923076923},{"$f":"MIN($J13:CW13)","v":28.423076923076923}]
[null,"Bacelic","Samira",36,null,{"$f":"IF(H15<4,\"Y\",)","v":"Y"},2021,{"$f":"COUNT(J15:CX15)","v":0},"Date",null,null,null,null,null,null,null,null,null,null,null,null,null,null,null,null,null,null,null,null,null,null,null,null,null,null,null,null,null,null,null,null,null,null,null,null,null,null,null,null,null,null,null,null,null,null,null,null,null,null,null,null,null,null,null,null,null,null,null,null,null,null,null,null,null,null,null,null,null,null,null,null,null,null,null,null,null,null,null,null,null,null,null,null,null,null,null,null,null,null,null,null,null,{"$f":"IF(CW19>$DD$1,36,CW19)","v":36},36,{"$f":"CZ15-CY15","v":0}]
[null,null,null,null,null,null,null,null,"Course"]
[null,null,null,null,null,null,null,null,"Ad Gr"]
[null,null,null,null,null,null,null,null,"SD",38,{"$f":"IF(K17=\"\",0,(K17-INDIRECT(CONCATENATE(K16,\"CR\")))*113/INDIRECT(CONCATENATE(K16,\"SR\")))","v":0},0,0,0,0,0,0,0,0,0,0,0,0,0,0,0,0,0,0,0,0,0,0,0,0,0,0,0,0,0,0,0,0,0,0,0,0,0,0,0,0,0,0,0,0,0,0,0,0,0,0,0,0,0,0,0,0,0,0,0,0,0,0,0,{"$f":"IF(BW17=\"\",0,(BW17-INDIRECT(CONCATENATE(BW16,\"CR\")))*113/INDIRECT(CONCATENATE(BW16,\"SR\")))","v":0},0,0,0,0,0,0,0,0,0,0,0,0,0,0,0,{"$f":"IF(CM17=\"\",0,(CM17-INDIRECT(CONCATENATE(CM16,\"CR\")))*113/INDIRECT(CONCATENATE(CM16,\"SR\")))","v":0},0,{"$f":"IF(CO17=\"\",0,(CO17-INDIRECT(CONCATENATE(CO16,\"CR\")))*113/INDIRECT(CONCATENATE(CO16,\"SR\")))","v":0},0,{"$f":"IF(CQ17=\"\",0,(CQ17-INDIRECT(CONCATENATE(CQ16,\"CR\")))*113/INDIRECT(CONCATENATE(CQ16,\"SR\")))","v":0},0,{"$f":"IF(CS17=\"\",0,(CS17-INDIRECT(CONCATENATE(CS16,\"CR\")))*113/INDIRECT(CONCATENATE(CS16,\"SR\")))","v":0},0,{"$f":"IF(CU17=\"\",0,(CU17-INDIRECT(CONCATENATE(CU16,\"CR\")))*113/INDIRECT(CONCATENATE(CU16,\"SR\")))","v":0},0,{"$f":"IF(CW17=\"\",0,(CW17-INDIRECT(CONCATENATE(CW16,\"CR\")))*113/INDIRECT(CONCATENATE(CW16,\"SR\")))","v":0}]
[null,null,null,null,null,null,null,null,"New Hcap",{"$f":"J18-2","v":36},{"$f":"IF(K18>0,MIN(J18:K18)-2,J19)","v":36},{"$f":"IF(L18>0,MIN(J18:L18)-2,K19)","v":36},{"$f":"IF(M18>0,MIN(J18:M18)-1,L19)","v":36},{"$f":"IF(N18>0,MIN(J18:N18),M19)","v":36},{"$f":"IF(O18>0,AVERAGE(SMALL(IF(J18:O18>0,J18:O18),{1,2}))-1,N19)","v":36},{"$f":"IF(P18>0,AVERAGE(SMALL(IF(J18:P18>0,J18:P18),{1,2})),O19)","v":36},{"$f":"IF(Q18>0,AVERAGE(SMALL(IF(J18:Q18>0,J18:Q18),{1,2})),P19)","v":36},{"$f":"IF(R18>0,AVERAGE(SMALL(IF(J18:R18>0,J18:R18),{1,2,3})),Q19)","v":36},{"$f":"IF(S18>0,AVERAGE(SMALL(IF(J18:S18>0,J18:S18),{1,2,3})),R19)","v":36},{"$f":"IF(T18>0,AVERAGE(SMALL(IF(J18:T18>0,J18:T18),{1,2,3})),S19)","v":36},{"$f":"IF(U18>0,AVERAGE(SMALL(IF(J18:U18>0,J18:U18),{1,2,3,4})),T19)","v":36},{"$f":"IF(V18>0,AVERAGE(SMALL(IF(J18:V18>0,J18:V18),{1,2,3,4})),U19)","v":36},{"$f":"IF(W18>0,AVERAGE(SMALL(IF(J18:W18>0,J18:W18),{1,2,3,4})),V19)","v":36},{"$f":"IF(X18>0,AVERAGE(SMALL(IF(J18:X18>0,J18:X18),{1,2,3,4,5})),W19)","v":36},{"$f":"IF(Y18>0,AVERAGE(SMALL(IF(J18:Y18>0,J18:Y18),{1,2,3,4,5})),X19)","v":36},{"$f":"IF(Z18>0,AVERAGE(SMALL(IF(J18:Z18>0,J18:Z18),{1,2,3,4,5,6})),Y19)","v":36},{"$f":"IF(AA18>0,AVERAGE(SMALL(IF(J18:AA18>0,J18:AA18),{1,2,3,4,5,6})),Z19)","v":36},{"$f":"IF(AB18>0,AVERAGE(SMALL(IF(J18:AB18>0,J18:AB18),{1,2,3,4,5,6,7})),AA19)","v":36},{"$f":"IF(AC18>0,AVERAGE(SMALL(IF(J18:AC18>0,J18:AC18),{1,2,3,4,5,6,7,8})),AB19)","v":36},{"$f":"IF(AD18>0,AVERAGE(SMALL(IF(K18:AD18>0,K18:AD18),{1,2,3,4,5,6,7,8})),AC19)","v":36},{"$f":"IF(AE18>0,AVERAGE(SMALL(IF(L18:AE18>0,L18:AE18),{1,2,3,4,5,6,7,8})),AD19)","v":36},{"$f":"IF(AF18>0,AVERAGE(SMALL(IF(M18:AF18>0,M18:AF18),{1,2,3,4,5,6,7,8})),AE19)","v":36},{"$f":"IF(AG18>0,AVERAGE(SMALL(IF(N18:AG18>0,N18:AG18),{1,2,3,4,5,6,7,8})),AF19)","v":36},{"$f":"IF(AH18>0,AVERAGE(SMALL(IF(O18:AH18>0,O18:AH18),{1,2,3,4,5,6,7,8})),AG19)","v":36},{"$f":"IF(AI18>0,AVERAGE(SMALL(IF(P18:AI18>0,P18:AI18),{1,2,3,4,5,6,7,8})),AH19)","v":36},{"$f":"IF(AJ18>0,AVERAGE(SMALL(IF(Q18:AJ18>0,Q18:AJ18),{1,2,3,4,5,6,7,8})),AI19)","v":36},{"$f":"IF(AK18>0,AVERAGE(SMALL(IF(R18:AK18>0,R18:AK18),{1,2,3,4,5,6,7,8})),AJ19)","v":36},{"$f":"IF(AL18>0,AVERAGE(SMALL(IF(S18:AL18>0,S18:AL18),{1,2,3,4,5,6,7,8})),AK19)","v":36},{"$f":"IF(AM18>0,AVERAGE(SMALL(IF(T18:AM18>0,T18:AM18),{1,2,3,4,5,6,7,8})),AL19)","v":36},{"$f":"IF(AN18>0,AVERAGE(SMALL(IF(U18:AN18>0,U18:AN18),{1,2,3,4,5,6,7,8})),AM19)","v":36},{"$f":"IF(AO18>0,AVERAGE(SMALL(IF(V18:AO18>0,V18:AO18),{1,2,3,4,5,6,7,8})),AN19)","v":36},{"$f":"IF(AP18>0,AVERAGE(SMALL(IF(W18:AP18>0,W18:AP18),{1,2,3,4,5,6,7,8})),AO19)","v":36},{"$f":"IF(AQ18>0,AVERAGE(SMALL(IF(X18:AQ18>0,X18:AQ18),{1,2,3,4,5,6,7,8})),AP19)","v":36},{"$f":"IF(AR18>0,AVERAGE(SMALL(IF(Y18:AR18>0,Y18:AR18),{1,2,3,4,5,6,7,8})),AQ19)","v":36},{"$f":"IF(AS18>0,AVERAGE(SMALL(IF(Z18:AS18>0,Z18:AS18),{1,2,3,4,5,6,7,8})),AR19)","v":36},{"$f":"IF(AT18>0,AVERAGE(SMALL(IF(AA18:AT18>0,AA18:AT18),{1,2,3,4,5,6,7,8})),AS19)","v":36},{"$f":"IF(AU18>0,AVERAGE(SMALL(IF(AB18:AU18>0,AB18:AU18),{1,2,3,4,5,6,7,8})),AT19)","v":36},{"$f":"IF(AV18>0,AVERAGE(SMALL(IF(AC18:AV18>0,AC18:AV18),{1,2,3,4,5,6,7,8})),AU19)","v":36},{"$f":"IF(AW18>0,AVERAGE(SMALL(IF(AD18:AW18>0,AD18:AW18),{1,2,3,4,5,6,7,8})),AV19)","v":36},{"$f":"IF(AX18>0,AVERAGE(SMALL(IF(AE18:AX18>0,AE18:AX18),{1,2,3,4,5,6,7,8})),AW19)","v":36},{"$f":"IF(AY18>0,AVERAGE(SMALL(IF(AF18:AY18>0,AF18:AY18),{1,2,3,4,5,6,7,8})),AX19)","v":36},{"$f":"IF(AZ18>0,AVERAGE(SMALL(IF(AG18:AZ18>0,AG18:AZ18),{1,2,3,4,5,6,7,8})),AY19)","v":36},{"$f":"IF(BA18>0,AVERAGE(SMALL(IF(AH18:BA18>0,AH18:BA18),{1,2,3,4,5,6,7,8})),AZ19)","v":36},{"$f":"IF(BB18>0,AVERAGE(SMALL(IF(AI18:BB18>0,AI18:BB18),{1,2,3,4,5,6,7,8})),BA19)","v":36},{"$f":"IF(BC18>0,AVERAGE(SMALL(IF(AJ18:BC18>0,AJ18:BC18),{1,2,3,4,5,6,7,8})),BB19)","v":36},{"$f":"IF(BD18>0,AVERAGE(SMALL(IF(AK18:BD18>0,AK18:BD18),{1,2,3,4,5,6,7,8})),BC19)","v":36},{"$f":"IF(BE18>0,AVERAGE(SMALL(IF(AL18:BE18>0,AL18:BE18),{1,2,3,4,5,6,7,8})),BD19)","v":36},{"$f":"IF(BF18>0,AVERAGE(SMALL(IF(AM18:BF18>0,AM18:BF18),{1,2,3,4,5,6,7,8})),BE19)","v":36},{"$f":"IF(BG18>0,AVERAGE(SMALL(IF(AN18:BG18>0,AN18:BG18),{1,2,3,4,5,6,7,8})),BF19)","v":36},{"$f":"IF(BH18>0,AVERAGE(SMALL(IF(AO18:BH18>0,AO18:BH18),{1,2,3,4,5,6,7,8})),BG19)","v":36},{"$f":"IF(BI18>0,AVERAGE(SMALL(IF(AP18:BI18>0,AP18:BI18),{1,2,3,4,5,6,7,8})),BH19)","v":36},{"$f":"IF(BJ18>0,AVERAGE(SMALL(IF(AQ18:BJ18>0,AQ18:BJ18),{1,2,3,4,5,6,7,8})),BI19)","v":36},{"$f":"IF(BK18>0,AVERAGE(SMALL(IF(AR18:BK18>0,AR18:BK18),{1,2,3,4,5,6,7,8})),BJ19)","v":36},{"$f":"IF(BL18>0,AVERAGE(SMALL(IF(AS18:BL18>0,AS18:BL18),{1,2,3,4,5,6,7,8})),BK19)","v":36},{"$f":"IF(BM18>0,AVERAGE(SMALL(IF(AT18:BM18>0,AT18:BM18),{1,2,3,4,5,6,7,8})),BL19)","v":36},{"$f":"IF(BN18>0,AVERAGE(SMALL(IF(AU18:BN18>0,AU18:BN18),{1,2,3,4,5,6,7,8})),BM19)","v":36},{"$f":"IF(BO18>0,AVERAGE(SMALL(IF(AV18:BO18>0,AV18:BO18),{1,2,3,4,5,6,7,8})),BN19)","v":36},{"$f":"IF(BP18>0,AVERAGE(SMALL(IF(AW18:BP18>0,AW18:BP18),{1,2,3,4,5,6,7,8})),BO19)","v":36},{"$f":"IF(BQ18>0,AVERAGE(SMALL(IF(AX18:BQ18>0,AX18:BQ18),{1,2,3,4,5,6,7,8})),BP19)","v":36},{"$f":"IF(BR18>0,AVERAGE(SMALL(IF(AY18:BR18>0,AY18:BR18),{1,2,3,4,5,6,7,8})),BQ19)","v":36},{"$f":"IF(BS18>0,AVERAGE(SMALL(IF(AZ18:BS18>0,AZ18:BS18),{1,2,3,4,5,6,7,8})),BR19)","v":36},{"$f":"IF(BT18>0,AVERAGE(SMALL(IF(BA18:BT18>0,BA18:BT18),{1,2,3,4,5,6,7,8})),BS19)","v":36},{"$f":"IF(BU18>0,AVERAGE(SMALL(IF(BB18:BU18>0,BB18:BU18),{1,2,3,4,5,6,7,8})),BT19)","v":36},{"$f":"IF(BV18>0,AVERAGE(SMALL(IF(BC18:BV18>0,BC18:BV18),{1,2,3,4,5,6,7,8})),BU19)","v":36},{"$f":"IF(BW18>0,AVERAGE(SMALL(IF(BD18:BW18>0,BD18:BW18),{1,2,3,4,5,6,7,8})),BV19)","v":36},{"$f":"IF(BX18>0,AVERAGE(SMALL(IF(BE18:BX18>0,BE18:BX18),{1,2,3,4,5,6,7,8})),BW19)","v":36},{"$f":"IF(BY18>0,AVERAGE(SMALL(IF(BF18:BY18>0,BF18:BY18),{1,2,3,4,5,6,7,8})),BX19)","v":36},{"$f":"IF(BZ18>0,AVERAGE(SMALL(IF(BG18:BZ18>0,BG18:BZ18),{1,2,3,4,5,6,7,8})),BY19)","v":36},{"$f":"IF(CA18>0,AVERAGE(SMALL(IF(BH18:CA18>0,BH18:CA18),{1,2,3,4,5,6,7,8})),BZ19)","v":36},{"$f":"IF(CB18>0,AVERAGE(SMALL(IF(BI18:CB18>0,BI18:CB18),{1,2,3,4,5,6,7,8})),CA19)","v":36},{"$f":"IF(CC18>0,AVERAGE(SMALL(IF(BJ18:CC18>0,BJ18:CC18),{1,2,3,4,5,6,7,8})),CB19)","v":36},{"$f":"IF(CD18>0,AVERAGE(SMALL(IF(BK18:CD18>0,BK18:CD18),{1,2,3,4,5,6,7,8})),CC19)","v":36},{"$f":"IF(CE18>0,AVERAGE(SMALL(IF(BL18:CE18>0,BL18:CE18),{1,2,3,4,5,6,7,8})),CD19)","v":36},{"$f":"IF(CF18>0,AVERAGE(SMALL(IF(BM18:CF18>0,BM18:CF18),{1,2,3,4,5,6,7,8})),CE19)","v":36},{"$f":"IF(CG18>0,AVERAGE(SMALL(IF(BN18:CG18>0,BN18:CG18),{1,2,3,4,5,6,7,8})),CF19)","v":36},{"$f":"IF(CH18>0,AVERAGE(SMALL(IF(BO18:CH18>0,BO18:CH18),{1,2,3,4,5,6,7,8})),CG19)","v":36},{"$f":"IF(CI18>0,AVERAGE(SMALL(IF(BP18:CI18>0,BP18:CI18),{1,2,3,4,5,6,7,8})),CH19)","v":36},{"$f":"IF(CJ18>0,AVERAGE(SMALL(IF(BQ18:CJ18>0,BQ18:CJ18),{1,2,3,4,5,6,7,8})),CI19)","v":36},{"$f":"IF(CK18>0,AVERAGE(SMALL(IF(BR18:CK18>0,BR18:CK18),{1,2,3,4,5,6,7,8})),CJ19)","v":36},{"$f":"IF(CL18>0,AVERAGE(SMALL(IF(BS18:CL18>0,BS18:CL18),{1,2,3,4,5,6,7,8})),CK19)","v":36},{"$f":"IF(CM18>0,AVERAGE(SMALL(IF(BT18:CM18>0,BT18:CM18),{1,2,3,4,5,6,7,8})),CL19)","v":36},{"$f":"IF(CN18>0,AVERAGE(SMALL(IF(BU18:CN18>0,BU18:CN18),{1,2,3,4,5,6,7,8})),CM19)","v":36},{"$f":"IF(CO18>0,AVERAGE(SMALL(IF(BV18:CO18>0,BV18:CO18),{1,2,3,4,5,6,7,8})),CN19)","v":36},{"$f":"IF(CP18>0,AVERAGE(SMALL(IF(BW18:CP18>0,BW18:CP18),{1,2,3,4,5,6,7,8})),CO19)","v":36},{"$f":"IF(CQ18>0,AVERAGE(SMALL(IF(BX18:CQ18>0,BX18:CQ18),{1,2,3,4,5,6,7,8})),CP19)","v":36},{"$f":"IF(CR18>0,AVERAGE(SMALL(IF(BY18:CR18>0,BY18:CR18),{1,2,3,4,5,6,7,8})),CQ19)","v":36},{"$f":"IF(CS18>0,AVERAGE(SMALL(IF(BZ18:CS18>0,BZ18:CS18),{1,2,3,4,5,6,7,8})),CR19)","v":36},{"$f":"IF(CT18>0,AVERAGE(SMALL(IF(CA18:CT18>0,CA18:CT18),{1,2,3,4,5,6,7,8})),CS19)","v":36},{"$f":"IF(CU18>0,AVERAGE(SMALL(IF(CB18:CU18>0,CB18:CU18),{1,2,3,4,5,6,7,8})),CT19)","v":36},{"$f":"IF(CV18>0,AVERAGE(SMALL(IF(CC18:CV18>0,CC18:CV18),{1,2,3,4,5,6,7,8})),CU19)","v":36},{"$f":"IF(CW18>0,AVERAGE(SMALL(IF(CD18:CW18>0,CD18:CW18),{1,2,3,4,5,6,7,8})),CV19)","v":36}]
[null,null,null,null,null,null,null,null,"Low Hcap",null,null,null,null,null,null,null,null,null,null,null,null,null,null,null,null,null,null,null,{"$f":"MIN($J19:AC19)","v":36},{"$f":"MIN($J19:AD19)","v":36},{"$f":"MIN($J19:AE19)","v":36},{"$f":"MIN($J19:AF19)","v":36},{"$f":"MIN($J19:AG19)","v":36},{"$f":"MIN($J19:AH19)","v":36},{"$f":"MIN($J19:AI19)","v":36},{"$f":"MIN($J19:AJ19)","v":36},{"$f":"MIN($J19:AK19)","v":36},{"$f":"MIN($J19:AL19)","v":36},{"$f":"MIN($J19:AM19)","v":36},{"$f":"MIN($J19:AN19)","v":36},{"$f":"MIN($J19:AO19)","v":36},{"$f":"MIN($J19:AP19)","v":36},{"$f":"MIN($J19:AQ19)","v":36},{"$f":"MIN($J19:AR19)","v":36},{"$f":"MIN($J19:AS19)","v":36},{"$f":"MIN($J19:AT19)","v":36},{"$f":"MIN($J19:AU19)","v":36},{"$f":"MIN($J19:AV19)","v":36},{"$f":"MIN($J19:AW19)","v":36},{"$f":"MIN($J19:AX19)","v":36},{"$f":"MIN($J19:AY19)","v":36},{"$f":"MIN($J19:AZ19)","v":36},{"$f":"MIN($J19:BA19)","v":36},{"$f":"MIN($J19:BB19)","v":36},{"$f":"MIN($J19:BC19)","v":36},{"$f":"MIN($J19:BD19)","v":36},{"$f":"MIN($J19:BE19)","v":36},{"$f":"MIN($J19:BF19)","v":36},{"$f":"MIN($J19:BG19)","v":36},{"$f":"MIN($J19:BH19)","v":36},{"$f":"MIN($J19:BI19)","v":36},{"$f":"MIN($J19:BJ19)","v":36},{"$f":"MIN($J19:BK19)","v":36},{"$f":"MIN($J19:BL19)","v":36},{"$f":"MIN($J19:BM19)","v":36},{"$f":"MIN($J19:BN19)","v":36},{"$f":"MIN($J19:BO19)","v":36},{"$f":"MIN($J19:BP19)","v":36},{"$f":"MIN($J19:BQ19)","v":36},{"$f":"MIN($J19:BR19)","v":36},{"$f":"MIN($J19:BS19)","v":36},{"$f":"MIN($J19:BT19)","v":36},{"$f":"MIN($J19:BU19)","v":36},{"$f":"MIN($J19:BV19)","v":36},{"$f":"MIN($J19:BW19)","v":36},{"$f":"MIN($J19:BX19)","v":36},{"$f":"MIN($J19:BY19)","v":36},{"$f":"MIN($J19:BZ19)","v":36},{"$f":"MIN($J19:CA19)","v":36},{"$f":"MIN($J19:CB19)","v":36},{"$f":"MIN($J19:CC19)","v":36},{"$f":"MIN($J19:CD19)","v":36},{"$f":"MIN($J19:CE19)","v":36},{"$f":"MIN($J19:CF19)","v":36},{"$f":"MIN($J19:CG19)","v":36},{"$f":"MIN($J19:CH19)","v":36},{"$f":"MIN($J19:CI19)","v":36},{"$f":"MIN($J19:CJ19)","v":36},{"$f":"MIN($J19:CK19)","v":36},{"$f":"MIN($J19:CL19)","v":36},{"$f":"MIN($J19:CM19)","v":36},{"$f":"MIN($J19:CN19)","v":36},{"$f":"MIN($J19:CO19)","v":36},{"$f":"MIN($J19:CP19)","v":36},{"$f":"MIN($J19:CQ19)","v":36},{"$f":"MIN($J19:CR19)","v":36},{"$f":"MIN($J19:CS19)","v":36},{"$f":"MIN($J19:CT19)","v":36},{"$f":"MIN($J19:CU19)","v":36},{"$f":"MIN($J19:CV19)","v":36},{"$f":"MIN($J19:CW19)","v":36}]
[null,"Bargna","David",12,null,{"$f":"IF(H21<4,\"Y\",)","v":0},null,{"$f":"COUNT(J21:CX21)","v":51},"Date",null,"2018-07-25","2019-07-07","2019-07-31","2019-08-18","2019-08-28","2019-10-13","2019-10-23","2020-05-20","2020-06-10","2020-06-19","2020-07-12","2020-07-15","2020-07-31","2020-08-09","2020-11-01","2021-03-28","2021-04-11","2021-05-09","2021-05-14","2021-06-04","2021-06-13","2021-06-23","2021-07-11","2021-07-30","2021-09-19","2021-10-06","2021-11-14","2022-03-27","2022-05-01","2022-05-11","2022-05-29","2022-06-12","2022-06-17","2022-06-22","2022-07-15","2022-08-07","2022-08-12","2022-08-17","2022-08-21","2022-09-02","2022-09-07","2022-09-11","2022-09-14","2022-10-07","2022-11-09","2022-11-13","2023-03-26","2023-04-26","2023-05-10","2023-05-31","2023-06-04",null,null,null,null,null,null,null,null,null,null,null,null,null,null,null,null,null,null,null,null,null,null,null,null,null,null,null,null,null,null,null,null,null,null,null,null,null,null,null,null,null,{"$f":"IF(CW25>$DD$1,36,CW25)","v":11.115899474019843},11.444322761004175,{"$f":"CZ21-CY21","v":0.32842328698433221}]
[null,null,null,null,null,null,null,null,"Course",null,"GutThailingHG","ErdingHG","GutThailingHG","PfaffingHG","GutThailingHG","PfaffingHG","GutThailingHG","GutThailingHG","GutThailingHG","StEurachHG","PfaffingHG","GutThailingHG","StEurachHG","ErdingHG","ErdingHG","OdelzhausenHG","ErdingHR","ErdingHG","StEurachHG","EgmatingHG","PfaffingHG","GutThailingHG","PfaffingHG","MangfalltalHG","ErdingHG","GutThailingHG","OdelzhausenHG","OdelzhausenHG","ErdingHG","AschheimHG","OdelzhausenHG","ErdingHG","StEurachHG","GutThailing2022HG","MaxlrainHG","IffeldorfHG","ValleyHG","GutThailing2022HG","Pfaffing2022HG","StEurachHG","AschheimHG","Pfaffing2022HG","GutThailing2022HG","EgmatingHG","GutThailing2022HG","ErdingHG","Pfaffing2023HG","GutThailing2022HG","AschheimHG","GutThailing2022HG","IffeldorfHG"]
[null,null,null,null,null,null,null,null,"Ad Gr",null,91,90,91,93,87,95,87,83,86,95,97,93,95,82,91,93,88,88,87,92,95,91,92,103,92,90,91,93,89,96,92,95,83,89,86,88,87,86,91,83,81,94,86,98,91,99,92,87,93,85,95]
[null,null,null,null,null,null,null,null,"SD",12.5,{"$f":"IF(K23=\"\",0,(K23-INDIRECT(CONCATENATE(K22,\"CR\")))*113/INDIRECT(CONCATENATE(K22,\"SR\")))","v":17.68320610687023},{"$f":"IF(L23=\"\",0,(L23-INDIRECT(CONCATENATE(L22,\"CR\")))*113/INDIRECT(CONCATENATE(L22,\"SR\")))","v":16.515384615384615},17.68320610687023,18.253846153846155,14.232824427480915,19.992307692307691,14.232824427480915,10.782442748091603,13.370229007633588,19.925954198473278,21.73076923076923,19.408396946564885,19.925954198473278,9.5615384615384613,17.384615384615383,18.862992125984256,20.036134453781507,14.776923076923078,13.02519083969465,16.993129770992368,19.992307692307691,17.68320610687023,17.384615384615383,26.366666666666671,18.253846153846155,16.820610687022899,17.083464566929138,18.862992125984256,15.646153846153846,21.144696969696973,17.973228346456697,20.861538461538462,9.5748091603053371,15.99384615384616,10.884558823529407,14.716279069767438,11.3,13.386153846153851,15.906923076923075,9.5748091603053371,8.3037878787878814,18.514615384615382,13.386153846153851,22.16870229007634,17.7323076923077,24.338461538461537,16.154814814814813,14.255384615384621,18.576515151515153,12.516923076923083,20.848062015503874,0,0,0,0,0,0,0,0,0,0,0,0,0,0,{"$f":"IF(BX23=\"\",0,(BX23-INDIRECT(CONCATENATE(BX22,\"CR\")))*113/INDIRECT(CONCATENATE(BX22,\"SR\")))","v":0},0,0,0,0,0,0,0,0,0,0,0,0,0,0,{"$f":"IF(CM23=\"\",0,(CM23-INDIRECT(CONCATENATE(CM22,\"CR\")))*113/INDIRECT(CONCATENATE(CM22,\"SR\")))","v":0},0,{"$f":"IF(CO23=\"\",0,(CO23-INDIRECT(CONCATENATE(CO22,\"CR\")))*113/INDIRECT(CONCATENATE(CO22,\"SR\")))","v":0},0,{"$f":"IF(CQ23=\"\",0,(CQ23-INDIRECT(CONCATENATE(CQ22,\"CR\")))*113/INDIRECT(CONCATENATE(CQ22,\"SR\")))","v":0},0,{"$f":"IF(CS23=\"\",0,(CS23-INDIRECT(CONCATENATE(CS22,\"CR\")))*113/INDIRECT(CONCATENATE(CS22,\"SR\")))","v":0},0,{"$f":"IF(CU23=\"\",0,(CU23-INDIRECT(CONCATENATE(CU22,\"CR\")))*113/INDIRECT(CONCATENATE(CU22,\"SR\")))","v":0},0,{"$f":"IF(CW23=\"\",0,(CW23-INDIRECT(CONCATENATE(CW22,\"CR\")))*113/INDIRECT(CONCATENATE(CW22,\"SR\")))","v":0}]
[null,null,null,null,null,null,null,null,"New Hcap",{"$f":"J24-2","v":10.5},{"$f":"IF(K24>0,MIN(J24:K24)-2,J25)","v":10.5},{"$f":"IF(L24>0,MIN(J24:L24)-2,K25)","v":10.5},{"$f":"IF(M24>0,MIN(J24:M24)-1,L25)","v":11.5},{"$f":"IF(N24>0,MIN(J24:N24),M25)","v":12.5},{"$f":"IF(O24>0,AVERAGE(SMALL(IF(J24:O24>0,J24:O24),{1,2}))-1,N25)","v":12.366412213740457},{"$f":"IF(P24>0,AVERAGE(SMALL(IF(J24:P24>0,J24:P24),{1,2})),O25)","v":13.366412213740457},{"$f":"IF(Q24>0,AVERAGE(SMALL(IF(J24:Q24>0,J24:Q24),{1,2})),P25)","v":13.366412213740457},{"$f":"IF(R24>0,AVERAGE(SMALL(IF(J24:R24>0,J24:R24),{1,2,3})),Q25)","v":12.505089058524172},{"$f":"IF(S24>0,AVERAGE(SMALL(IF(J24:S24>0,J24:S24),{1,2,3})),R25)","v":12.217557251908397},{"$f":"IF(T24>0,AVERAGE(SMALL(IF(J24:T24>0,J24:T24),{1,2,3})),S25)","v":12.217557251908397},{"$f":"IF(U24>0,AVERAGE(SMALL(IF(J24:U24>0,J24:U24),{1,2,3,4})),T25)","v":12.721374045801527},{"$f":"IF(V24>0,AVERAGE(SMALL(IF(J24:V24>0,J24:V24),{1,2,3,4})),U25)","v":12.721374045801527},{"$f":"IF(W24>0,AVERAGE(SMALL(IF(J24:W24>0,J24:W24),{1,2,3,4})),V25)","v":12.721374045801527},{"$f":"IF(X24>0,AVERAGE(SMALL(IF(J24:X24>0,J24:X24),{1,2,3,4,5})),W25)","v":12.089406928948915},{"$f":"IF(Y24>0,AVERAGE(SMALL(IF(J24:Y24>0,J24:Y24),{1,2,3,4,5})),X25)","v":12.089406928948915},{"$f":"IF(Z24>0,AVERAGE(SMALL(IF(J24:Z24>0,J24:Z24),{1,2,3,4,5,6})),Y25)","v":12.446643178704248},{"$f":"IF(AA24>0,AVERAGE(SMALL(IF(J24:AA24>0,J24:AA24),{1,2,3,4,5,6})),Z25)","v":12.446643178704248},{"$f":"IF(AB24>0,AVERAGE(SMALL(IF(J24:AB24>0,J24:AB24),{1,2,3,4,5,6,7})),AA25)","v":12.779540307021223},{"$f":"IF(AC24>0,AVERAGE(SMALL(IF(J24:AC24>0,J24:AC24),{1,2,3,4,5,6,7,8})),AB25)","v":12.810246623605403},{"$f":"IF(AD24>0,AVERAGE(SMALL(IF(K24:AD24>0,K24:AD24),{1,2,3,4,5,6,7,8})),AC25)","v":13.31216970052848},{"$f":"IF(AE24>0,AVERAGE(SMALL(IF(L24:AE24>0,L24:AE24),{1,2,3,4,5,6,7,8})),AD25)","v":13.31216970052848},{"$f":"IF(AF24>0,AVERAGE(SMALL(IF(M24:AF24>0,M24:AF24),{1,2,3,4,5,6,7,8})),AE25)","v":13.371887844979449},{"$f":"IF(AG24>0,AVERAGE(SMALL(IF(N24:AG24>0,N24:AG24),{1,2,3,4,5,6,7,8})),AF25)","v":13.371887844979449},{"$f":"IF(AH24>0,AVERAGE(SMALL(IF(O24:AH24>0,O24:AH24),{1,2,3,4,5,6,7,8})),AG25)","v":13.371887844979449},{"$f":"IF(AI24>0,AVERAGE(SMALL(IF(P24:AI24>0,P24:AI24),{1,2,3,4,5,6,7,8})),AH25)","v":13.765861714621257},{"$f":"IF(AJ24>0,AVERAGE(SMALL(IF(Q24:AJ24>0,Q24:AJ24),{1,2,3,4,5,6,7,8})),AI25)","v":13.695361127422196},{"$f":"IF(AK24>0,AVERAGE(SMALL(IF(R24:AK24>0,R24:AK24),{1,2,3,4,5,6,7,8})),AJ25)","v":14.051691144853223},{"$f":"IF(AL24>0,AVERAGE(SMALL(IF(S24:AL24>0,S24:AL24),{1,2,3,4,5,6,7,8})),AK25)","v":14.876962724418696},{"$f":"IF(AM24>0,AVERAGE(SMALL(IF(T24:AM24>0,T24:AM24),{1,2,3,4,5,6,7,8})),AL25)","v":15.161453329233728},{"$f":"IF(AN24>0,AVERAGE(SMALL(IF(U24:AN24>0,U24:AN24),{1,2,3,4,5,6,7,8})),AM25)","v":15.161453329233728},{"$f":"IF(AO24>0,AVERAGE(SMALL(IF(V24:AO24>0,V24:AO24),{1,2,3,4,5,6,7,8})),AN25)","v":15.161453329233728},{"$f":"IF(AP24>0,AVERAGE(SMALL(IF(W24:AP24>0,W24:AP24),{1,2,3,4,5,6,7,8})),AO25)","v":15.161453329233728},{"$f":"IF(AQ24>0,AVERAGE(SMALL(IF(X24:AQ24>0,X24:AQ24),{1,2,3,4,5,6,7,8})),AP25)","v":14.185227551194972},{"$f":"IF(AR24>0,AVERAGE(SMALL(IF(Y24:AR24>0,Y24:AR24),{1,2,3,4,5,6,7,8})),AQ25)","v":14.989266012733435},{"$f":"IF(AS24>0,AVERAGE(SMALL(IF(Z24:AS24>0,Z24:AS24),{1,2,3,4,5,6,7,8})),AR25)","v":14.214402794808468},{"$f":"IF(AT24>0,AVERAGE(SMALL(IF(AA24:AT24>0,AA24:AT24),{1,2,3,4,5,6,7,8})),AS25)","v":13.929796457155351},{"$f":"IF(AU24>0,AVERAGE(SMALL(IF(AB24:AU24>0,AB24:AU24),{1,2,3,4,5,6,7,8})),AT25)","v":13.239720121277491},{"$f":"IF(AV24>0,AVERAGE(SMALL(IF(AC24:AV24>0,AC24:AV24),{1,2,3,4,5,6,7,8})),AU25)","v":13.065873967431337},{"$f":"IF(AW24>0,AVERAGE(SMALL(IF(AD24:AW24>0,AD24:AW24),{1,2,3,4,5,6,7,8})),AV25)","v":13.426090497084891},{"$f":"IF(AX24>0,AVERAGE(SMALL(IF(AE24:AX24>0,AE24:AX24),{1,2,3,4,5,6,7,8})),AW25)","v":12.623710872892289},{"$f":"IF(AY24>0,AVERAGE(SMALL(IF(AF24:AY24>0,AF24:AY24),{1,2,3,4,5,6,7,8})),AX25)","v":11.673318973125387},{"$f":"IF(AZ24>0,AVERAGE(SMALL(IF(AG24:AZ24>0,AG24:AZ24),{1,2,3,4,5,6,7,8})),AY25)","v":11.673318973125387},{"$f":"IF(BA24>0,AVERAGE(SMALL(IF(AH24:BA24>0,AH24:BA24),{1,2,3,4,5,6,7,8})),AZ25)","v":11.390818973125388},{"$f":"IF(BB24>0,AVERAGE(SMALL(IF(AI24:BB24>0,AI24:BB24),{1,2,3,4,5,6,7,8})),BA25)","v":11.390818973125388},{"$f":"IF(BC24>0,AVERAGE(SMALL(IF(AJ24:BC24>0,AJ24:BC24),{1,2,3,4,5,6,7,8})),BB25)","v":11.390818973125388},{"$f":"IF(BD24>0,AVERAGE(SMALL(IF(AK24:BD24>0,AK24:BD24),{1,2,3,4,5,6,7,8})),BC25)","v":11.390818973125388},{"$f":"IF(BE24>0,AVERAGE(SMALL(IF(AL24:BE24>0,AL24:BE24),{1,2,3,4,5,6,7,8})),BD25)","v":11.390818973125388},{"$f":"IF(BF24>0,AVERAGE(SMALL(IF(AM24:BF24>0,AM24:BF24),{1,2,3,4,5,6,7,8})),BE25)","v":11.333207166327536},{"$f":"IF(BG24>0,AVERAGE(SMALL(IF(AN24:BG24>0,AN24:BG24),{1,2,3,4,5,6,7,8})),BF25)","v":11.333207166327536},{"$f":"IF(BH24>0,AVERAGE(SMALL(IF(AO24:BH24>0,AO24:BH24),{1,2,3,4,5,6,7,8})),BG25)","v":11.115899474019843},{"$f":"IF(BI24>0,AVERAGE(SMALL(IF(AP24:BI24>0,AP24:BI24),{1,2,3,4,5,6,7,8})),BH25)","v":11.115899474019843},{"$f":"IF(BJ24>0,AVERAGE(SMALL(IF(AQ24:BJ24>0,AQ24:BJ24),{1,2,3,4,5,6,7,8})),BI25)","v":11.115899474019843},{"$f":"IF(BK24>0,AVERAGE(SMALL(IF(AR24:BK24>0,AR24:BK24),{1,2,3,4,5,6,7,8})),BJ25)","v":11.115899474019843},{"$f":"IF(BL24>0,AVERAGE(SMALL(IF(AS24:BL24>0,AS24:BL24),{1,2,3,4,5,6,7,8})),BK25)","v":11.115899474019843},{"$f":"IF(BM24>0,AVERAGE(SMALL(IF(AT24:BM24>0,AT24:BM24),{1,2,3,4,5,6,7,8})),BL25)","v":11.115899474019843},{"$f":"IF(BN24>0,AVERAGE(SMALL(IF(AU24:BN24>0,AU24:BN24),{1,2,3,4,5,6,7,8})),BM25)","v":11.115899474019843},{"$f":"IF(BO24>0,AVERAGE(SMALL(IF(AV24:BO24>0,AV24:BO24),{1,2,3,4,5,6,7,8})),BN25)","v":11.115899474019843},{"$f":"IF(BP24>0,AVERAGE(SMALL(IF(AW24:BP24>0,AW24:BP24),{1,2,3,4,5,6,7,8})),BO25)","v":11.115899474019843},{"$f":"IF(BQ24>0,AVERAGE(SMALL(IF(AX24:BQ24>0,AX24:BQ24),{1,2,3,4,5,6,7,8})),BP25)","v":11.115899474019843},{"$f":"IF(BR24>0,AVERAGE(SMALL(IF(AY24:BR24>0,AY24:BR24),{1,2,3,4,5,6,7,8})),BQ25)","v":11.115899474019843},{"$f":"IF(BS24>0,AVERAGE(SMALL(IF(AZ24:BS24>0,AZ24:BS24),{1,2,3,4,5,6,7,8})),BR25)","v":11.115899474019843},{"$f":"IF(BT24>0,AVERAGE(SMALL(IF(BA24:BT24>0,BA24:BT24),{1,2,3,4,5,6,7,8})),BS25)","v":11.115899474019843},{"$f":"IF(BU24>0,AVERAGE(SMALL(IF(BB24:BU24>0,BB24:BU24),{1,2,3,4,5,6,7,8})),BT25)","v":11.115899474019843},{"$f":"IF(BV24>0,AVERAGE(SMALL(IF(BC24:BV24>0,BC24:BV24),{1,2,3,4,5,6,7,8})),BU25)","v":11.115899474019843},{"$f":"IF(BW24>0,AVERAGE(SMALL(IF(BD24:BW24>0,BD24:BW24),{1,2,3,4,5,6,7,8})),BV25)","v":11.115899474019843},{"$f":"IF(BX24>0,AVERAGE(SMALL(IF(BE24:BX24>0,BE24:BX24),{1,2,3,4,5,6,7,8})),BW25)","v":11.115899474019843},{"$f":"IF(BY24>0,AVERAGE(SMALL(IF(BF24:BY24>0,BF24:BY24),{1,2,3,4,5,6,7,8})),BX25)","v":11.115899474019843},{"$f":"IF(BZ24>0,AVERAGE(SMALL(IF(BG24:BZ24>0,BG24:BZ24),{1,2,3,4,5,6,7,8})),BY25)","v":11.115899474019843},{"$f":"IF(CA24>0,AVERAGE(SMALL(IF(BH24:CA24>0,BH24:CA24),{1,2,3,4,5,6,7,8})),BZ25)","v":11.115899474019843},{"$f":"IF(CB24>0,AVERAGE(SMALL(IF(BI24:CB24>0,BI24:CB24),{1,2,3,4,5,6,7,8})),CA25)","v":11.115899474019843},{"$f":"IF(CC24>0,AVERAGE(SMALL(IF(BJ24:CC24>0,BJ24:CC24),{1,2,3,4,5,6,7,8})),CB25)","v":11.115899474019843},{"$f":"IF(CD24>0,AVERAGE(SMALL(IF(BK24:CD24>0,BK24:CD24),{1,2,3,4,5,6,7,8})),CC25)","v":11.115899474019843},{"$f":"IF(CE24>0,AVERAGE(SMALL(IF(BL24:CE24>0,BL24:CE24),{1,2,3,4,5,6,7,8})),CD25)","v":11.115899474019843},{"$f":"IF(CF24>0,AVERAGE(SMALL(IF(BM24:CF24>0,BM24:CF24),{1,2,3,4,5,6,7,8})),CE25)","v":11.115899474019843},{"$f":"IF(CG24>0,AVERAGE(SMALL(IF(BN24:CG24>0,BN24:CG24),{1,2,3,4,5,6,7,8})),CF25)","v":11.115899474019843},{"$f":"IF(CH24>0,AVERAGE(SMALL(IF(BO24:CH24>0,BO24:CH24),{1,2,3,4,5,6,7,8})),CG25)","v":11.115899474019843},{"$f":"IF(CI24>0,AVERAGE(SMALL(IF(BP24:CI24>0,BP24:CI24),{1,2,3,4,5,6,7,8})),CH25)","v":11.115899474019843},{"$f":"IF(CJ24>0,AVERAGE(SMALL(IF(BQ24:CJ24>0,BQ24:CJ24),{1,2,3,4,5,6,7,8})),CI25)","v":11.115899474019843},{"$f":"IF(CK24>0,AVERAGE(SMALL(IF(BR24:CK24>0,BR24:CK24),{1,2,3,4,5,6,7,8})),CJ25)","v":11.115899474019843},{"$f":"IF(CL24>0,AVERAGE(SMALL(IF(BS24:CL24>0,BS24:CL24),{1,2,3,4,5,6,7,8})),CK25)","v":11.115899474019843},{"$f":"IF(CM24>0,AVERAGE(SMALL(IF(BT24:CM24>0,BT24:CM24),{1,2,3,4,5,6,7,8})),CL25)","v":11.115899474019843},{"$f":"IF(CN24>0,AVERAGE(SMALL(IF(BU24:CN24>0,BU24:CN24),{1,2,3,4,5,6,7,8})),CM25)","v":11.115899474019843},{"$f":"IF(CO24>0,AVERAGE(SMALL(IF(BV24:CO24>0,BV24:CO24),{1,2,3,4,5,6,7,8})),CN25)","v":11.115899474019843},{"$f":"IF(CP24>0,AVERAGE(SMALL(IF(BW24:CP24>0,BW24:CP24),{1,2,3,4,5,6,7,8})),CO25)","v":11.115899474019843},{"$f":"IF(CQ24>0,AVERAGE(SMALL(IF(BX24:CQ24>0,BX24:CQ24),{1,2,3,4,5,6,7,8})),CP25)","v":11.115899474019843},{"$f":"IF(CR24>0,AVERAGE(SMALL(IF(BY24:CR24>0,BY24:CR24),{1,2,3,4,5,6,7,8})),CQ25)","v":11.115899474019843},{"$f":"IF(CS24>0,AVERAGE(SMALL(IF(BZ24:CS24>0,BZ24:CS24),{1,2,3,4,5,6,7,8})),CR25)","v":11.115899474019843},{"$f":"IF(CT24>0,AVERAGE(SMALL(IF(CA24:CT24>0,CA24:CT24),{1,2,3,4,5,6,7,8})),CS25)","v":11.115899474019843},{"$f":"IF(CU24>0,AVERAGE(SMALL(IF(CB24:CU24>0,CB24:CU24),{1,2,3,4,5,6,7,8})),CT25)","v":11.115899474019843},{"$f":"IF(CV24>0,AVERAGE(SMALL(IF(CC24:CV24>0,CC24:CV24),{1,2,3,4,5,6,7,8})),CU25)","v":11.115899474019843},{"$f":"IF(CW24>0,AVERAGE(SMALL(IF(CD24:CW24>0,CD24:CW24),{1,2,3,4,5,6,7,8})),CV25)","v":11.115899474019843}]
[null,null,null,null,null,null,null,null,"Low Hcap",null,null,null,null,null,null,null,null,null,null,null,null,null,null,null,null,null,null,null,{"$f":"MIN($R25:AC25)","v":12.089406928948915},{"$f":"MIN($S25:AD25)","v":12.089406928948915},{"$f":"MIN($T25:AE25)","v":12.089406928948915},{"$f":"MIN($U25:AF25)","v":12.089406928948915},{"$f":"MIN($U25:AG25)","v":12.089406928948915},{"$f":"MIN($W25:AH25)","v":12.089406928948915},{"$f":"MIN($Y25:AI25)","v":12.089406928948915},{"$f":"MIN($Y25:AJ25)","v":12.089406928948915},{"$f":"MIN($Z25:AK25)","v":12.446643178704248},{"$f":"MIN($Z25:AL25)","v":12.446643178704248},{"$f":"MIN($AB25:AM25)","v":12.779540307021223},{"$f":"MIN($AC25:AN25)","v":12.810246623605403},{"$f":"MIN($AD25:AO25)","v":13.31216970052848},{"$f":"MIN($AE25:AP25)","v":13.31216970052848},{"$f":"MIN($AF25:AQ25)","v":13.371887844979449},{"$f":"MIN($AF25:AR25)","v":13.371887844979449},{"$f":"MIN($AH25:AS25)","v":13.371887844979449},{"$f":"MIN($AI25:AT25)","v":13.695361127422196},{"$f":"MIN($AI25:AU25)","v":13.239720121277491},{"$f":"MIN($AI25:AV25)","v":13.065873967431337},{"$f":"MIN($AI25:AW25)","v":13.065873967431337},{"$f":"MIN($AI25:AX25)","v":12.623710872892289},{"$f":"MIN($AI25:AY25)","v":11.673318973125387},{"$f":"MIN($AI25:AZ25)","v":11.673318973125387},{"$f":"MIN($AI25:BA25)","v":11.390818973125388},{"$f":"MIN($AK25:BB25)","v":11.390818973125388},{"$f":"MIN($AK25:BC25)","v":11.390818973125388},{"$f":"MIN($AK25:BD25)","v":11.390818973125388},{"$f":"MIN($AL25:BE25)","v":11.390818973125388},{"$f":"MIN($AL25:BF25)","v":11.333207166327536},{"$f":"MIN($AN25:BG25)","v":11.333207166327536},{"$f":"MIN($AP25:BH25)","v":11.115899474019843},{"$f":"MIN($AP25:BI25)","v":11.115899474019843},{"$f":"MIN($AP25:BJ25)","v":11.115899474019843},{"$f":"MIN($AP25:BK25)","v":11.115899474019843},{"$f":"MIN($AP25:BL25)","v":11.115899474019843},{"$f":"MIN($AP25:BM25)","v":11.115899474019843},{"$f":"MIN($AP25:BN25)","v":11.115899474019843},{"$f":"MIN($AP25:BO25)","v":11.115899474019843},{"$f":"MIN($AP25:BP25)","v":11.115899474019843},{"$f":"MIN($AP25:BQ25)","v":11.115899474019843},{"$f":"MIN($AP25:BR25)","v":11.115899474019843},{"$f":"MIN($AP25:BS25)","v":11.115899474019843},{"$f":"MIN($AP25:BT25)","v":11.115899474019843},{"$f":"MIN($AP25:BU25)","v":11.115899474019843},{"$f":"MIN($AP25:BV25)","v":11.115899474019843},{"$f":"MIN($AP25:BW25)","v":11.115899474019843},{"$f":"MIN($AP25:BX25)","v":11.115899474019843},{"$f":"MIN($AP25:BY25)","v":11.115899474019843},{"$f":"MIN($AP25:BZ25)","v":11.115899474019843},{"$f":"MIN($AP25:CA25)","v":11.115899474019843},{"$f":"MIN($AP25:CB25)","v":11.115899474019843},{"$f":"MIN($AP25:CC25)","v":11.115899474019843},{"$f":"MIN($AP25:CD25)","v":11.115899474019843},{"$f":"MIN($AP25:CE25)","v":11.115899474019843},{"$f":"MIN($AP25:CF25)","v":11.115899474019843},{"$f":"MIN($AP25:CG25)","v":11.115899474019843},{"$f":"MIN($AP25:CH25)","v":11.115899474019843},{"$f":"MIN($AP25:CI25)","v":11.115899474019843},{"$f":"MIN($AP25:CJ25)","v":11.115899474019843},{"$f":"MIN($AP25:CK25)","v":11.115899474019843},{"$f":"MIN($AP25:CL25)","v":11.115899474019843},{"$f":"MIN($AP25:CM25)","v":11.115899474019843},{"$f":"MIN($AP25:CN25)","v":11.115899474019843},{"$f":"MIN($AP25:CO25)","v":11.115899474019843},{"$f":"MIN($AP25:CP25)","v":11.115899474019843},{"$f":"MIN($AP25:CQ25)","v":11.115899474019843},{"$f":"MIN($AP25:CR25)","v":11.115899474019843},{"$f":"MIN($AP25:CS25)","v":11.115899474019843},{"$f":"MIN($AP25:CT25)","v":11.115899474019843},{"$f":"MIN($AP25:CU25)","v":11.115899474019843},{"$f":"MIN($AP25:CV25)","v":11.115899474019843},{"$f":"MIN($AP25:CW25)","v":11.115899474019843}]
[null,"Bennett","Lee",14.2,null,{"$f":"IF(H27<4,\"Y\",)","v":0},null,{"$f":"COUNT(J27:CX27)","v":45},"Date","2019-09-25","2019-09-29","2019-11-01","2019-11-10","2019-11-24","2020-05-20","2020-05-24","2020-05-31","2020-06-05","2020-06-10","2020-06-14","2020-06-19","2020-07-12","2020-07-15","2020-07-31","2020-08-09","2020-08-23","2020-09-16","2020-10-04","2020-10-09","2020-11-01","2020-11-15","2021-03-28","2021-05-09","2021-06-13","2021-07-02","2021-07-11","2021-07-16","2021-07-21","2021-07-25","2021-08-08","2021-09-03","2021-10-31","2022-04-15","2022-05-11","2022-05-15","2022-06-05","2022-06-12","2022-06-17","2022-07-10","2022-07-24","2022-07-31","2022-08-07","2022-08-21","2022-10-07",null,null,null,null,null,null,null,null,null,null,null,null,null,null,null,null,null,null,null,null,null,null,null,null,null,null,null,null,null,null,null,null,null,null,null,null,null,null,null,null,null,null,null,null,null,null,null,null,{"$f":"IF(CW31>$DD$1,36,CW31)","v":14.080219422951661},14.080219422951661,{"$f":"CZ27-CY27","v":0}]
[null,null,null,null,null,null,null,null,"Course","GutThailingHG","TegernbachHG","ErdingHG","TegernbachHG","PfaffingHG","GutThailingHG","PfaffingHG","ErdingHG","ErdingHG","GutThailingHG","OdelzhausenHG","StEurachHG","PfaffingHG","GutThailingHG","StEurachHG","ErdingHG","PfaffingHG","GutThailingHG","OdelzhausenHG","TegernbachHG","ErdingHG","OdelzhausenHG","OdelzhausenHG","ErdingHG","PfaffingHG","TegernbachHG","PfaffingHG","MaxlrainHG","GutThailingHG","OdelzhausenHG","IffeldorfHG","StEurachHG","ErdingHG","ReichertshausenHG","AschheimHG","OdelzhausenHG","IffeldorfHG","ErdingHG","StEurachHG","IffeldorfHG","Pfaffing2022HG","HohenpaehlHG","IffeldorfHG","Pfaffing2022HG","EgmatingHG"]
[null,null,null,null,null,null,null,null,"Ad Gr",92,97,92,90,91,96,95,87,89,93,91,88,90,91,91,96,90,86,93,86,89,89,102,90,94,83,90,93,92,88,87,99,100,88,94,92,92,90,99,93,94,95,83,97,98]
[null,null,null,null,null,null,null,null,"SD",{"$f":"IF(J29=\"\",0,(J29-INDIRECT(CONCATENATE(J28,\"CR\")))*113/INDIRECT(CONCATENATE(J28,\"SR\")))","v":18.545801526717558},{"$f":"IF(K29=\"\",0,(K29-INDIRECT(CONCATENATE(K28,\"CR\")))*113/INDIRECT(CONCATENATE(K28,\"SR\")))","v":21.658333333333331},18.253846153846155,15.665909090909087,16.515384615384615,21.996183206106871,19.992307692307691,13.907692307692308,15.646153846153846,19.408396946564885,17.083464566929138,13.887786259541979,15.646153846153846,17.68320610687023,16.475572519083965,21.73076923076923,15.646153846153846,13.370229007633588,18.862992125984256,12.241666666666664,15.646153846153846,15.303937007874019,26.870866141732286,16.515384615384615,19.123076923076923,9.6734848484848452,15.646153846153846,16.700735294117642,18.545801526717558,14.41417322834646,13.840310077519376,23.376335877862591,25.207692307692309,15.515079365079362,19.432575757575762,17.973228346456697,18.220155038759685,16.515384615384615,23.376335877862591,19.096124031007751,18.514615384615382,20.961068702290074,10.336434108527129,21.12230769230769,22.16870229007634,0,0,0,0,0,0,0,0,0,0,0,0,0,0,0,0,0,0,0,0,{"$f":"IF(BW29=\"\",0,(BW29-INDIRECT(CONCATENATE(BW28,\"CR\")))*113/INDIRECT(CONCATENATE(BW28,\"SR\")))","v":0},0,0,0,0,0,0,0,0,0,0,0,0,0,0,0,{"$f":"IF(CM29=\"\",0,(CM29-INDIRECT(CONCATENATE(CM28,\"CR\")))*113/INDIRECT(CONCATENATE(CM28,\"SR\")))","v":0},0,{"$f":"IF(CO29=\"\",0,(CO29-INDIRECT(CONCATENATE(CO28,\"CR\")))*113/INDIRECT(CONCATENATE(CO28,\"SR\")))","v":0},0,{"$f":"IF(CQ29=\"\",0,(CQ29-INDIRECT(CONCATENATE(CQ28,\"CR\")))*113/INDIRECT(CONCATENATE(CQ28,\"SR\")))","v":0},0,{"$f":"IF(CS29=\"\",0,(CS29-INDIRECT(CONCATENATE(CS28,\"CR\")))*113/INDIRECT(CONCATENATE(CS28,\"SR\")))","v":0},0,{"$f":"IF(CU29=\"\",0,(CU29-INDIRECT(CONCATENATE(CU28,\"CR\")))*113/INDIRECT(CONCATENATE(CU28,\"SR\")))","v":0},0,{"$f":"IF(CW29=\"\",0,(CW29-INDIRECT(CONCATENATE(CW28,\"CR\")))*113/INDIRECT(CONCATENATE(CW28,\"SR\")))","v":0}]
[null,null,null,null,null,null,null,null,"New Hcap",{"$f":"J30-2","v":16.545801526717558},{"$f":"IF(K30>0,MIN(J30:K30)-2,J31)","v":16.545801526717558},{"$f":"IF(L30>0,MIN(J30:L30)-2,K31)","v":16.253846153846155},{"$f":"IF(M30>0,MIN(J30:M30)-1,L31)","v":14.665909090909087},{"$f":"IF(N30>0,MIN(J30:N30),M31)","v":15.665909090909087},{"$f":"IF(O30>0,AVERAGE(SMALL(IF(J30:O30>0,J30:O30),{1,2}))-1,N31)","v":15.090646853146851},{"$f":"IF(P30>0,AVERAGE(SMALL(IF(J30:P30>0,J30:P30),{1,2})),O31)","v":16.090646853146851},{"$f":"IF(Q30>0,AVERAGE(SMALL(IF(J30:Q30>0,J30:Q30),{1,2})),P31)","v":14.786800699300699},{"$f":"IF(R30>0,AVERAGE(SMALL(IF(J30:R30>0,J30:R30),{1,2,3})),Q31)","v":15.073251748251748},{"$f":"IF(S30>0,AVERAGE(SMALL(IF(J30:S30>0,J30:S30),{1,2,3})),R31)","v":15.073251748251748},{"$f":"IF(T30>0,AVERAGE(SMALL(IF(J30:T30>0,J30:T30),{1,2,3})),S31)","v":15.073251748251748},{"$f":"IF(U30>0,AVERAGE(SMALL(IF(J30:U30>0,J30:U30),{1,2,3,4})),T31)","v":14.776885376074306},{"$f":"IF(V30>0,AVERAGE(SMALL(IF(J30:V30>0,J30:V30),{1,2,3,4})),U31)","v":14.771946564885495},{"$f":"IF(W30>0,AVERAGE(SMALL(IF(J30:W30>0,J30:W30),{1,2,3,4})),V31)","v":14.771946564885495},{"$f":"IF(X30>0,AVERAGE(SMALL(IF(J30:X30>0,J30:X30),{1,2,3,4,5})),W31)","v":14.950739070090213},{"$f":"IF(Y30>0,AVERAGE(SMALL(IF(J30:Y30>0,J30:Y30),{1,2,3,4,5})),X31)","v":14.950739070090213},{"$f":"IF(Z30>0,AVERAGE(SMALL(IF(J30:Z30>0,J30:Z30),{1,2,3,4,5,6})),Y31)","v":15.066641532767484},{"$f":"IF(AA30>0,AVERAGE(SMALL(IF(J30:AA30>0,J30:AA30),{1,2,3,4,5,6})),Z31)","v":14.684028185554903},{"$f":"IF(AB30>0,AVERAGE(SMALL(IF(J30:AB30>0,J30:AB30),{1,2,3,4,5,6,7})),AA31)","v":14.824296886319786},{"$f":"IF(AC30>0,AVERAGE(SMALL(IF(J30:AC30>0,J30:AC30),{1,2,3,4,5,6,7,8})),AB31)","v":14.501468108863145},{"$f":"IF(AD30>0,AVERAGE(SMALL(IF(K30:AD30>0,K30:AD30),{1,2,3,4,5,6,7,8})),AC31)","v":14.498998703268741},{"$f":"IF(AE30>0,AVERAGE(SMALL(IF(L30:AE30>0,L30:AE30),{1,2,3,4,5,6,7,8})),AD31)","v":14.456221598483763},{"$f":"IF(AF30>0,AVERAGE(SMALL(IF(M30:AF30>0,M30:AF30),{1,2,3,4,5,6,7,8})),AE31)","v":14.456221598483763},{"$f":"IF(AG30>0,AVERAGE(SMALL(IF(N30:AG30>0,N30:AG30),{1,2,3,4,5,6,7,8})),AF31)","v":14.456221598483763},{"$f":"IF(AH30>0,AVERAGE(SMALL(IF(O30:AH30>0,O30:AH30),{1,2,3,4,5,6,7,8})),AG31)","v":14.456221598483763},{"$f":"IF(AI30>0,AVERAGE(SMALL(IF(P30:AI30>0,P30:AI30),{1,2,3,4,5,6,7,8})),AH31)","v":13.709637973775138},{"$f":"IF(AJ30>0,AVERAGE(SMALL(IF(Q30:AJ30>0,Q30:AJ30),{1,2,3,4,5,6,7,8})),AI31)","v":13.709637973775138},{"$f":"IF(AK30>0,AVERAGE(SMALL(IF(R30:AK30>0,R30:AK30),{1,2,3,4,5,6,7,8})),AJ31)","v":13.92694566608283},{"$f":"IF(AL30>0,AVERAGE(SMALL(IF(S30:AL30>0,S30:AL30),{1,2,3,4,5,6,7,8})),AK31)","v":13.92694566608283},{"$f":"IF(AM30>0,AVERAGE(SMALL(IF(T30:AM30>0,T30:AM30),{1,2,3,4,5,6,7,8})),AL31)","v":13.772948088856907},{"$f":"IF(AN30>0,AVERAGE(SMALL(IF(U30:AN30>0,U30:AN30),{1,2,3,4,5,6,7,8})),AM31)","v":13.547217617777598},{"$f":"IF(AO30>0,AVERAGE(SMALL(IF(V30:AO30>0,V30:AO30),{1,2,3,4,5,6,7,8})),AN31)","v":13.767013566104083},{"$f":"IF(AP30>0,AVERAGE(SMALL(IF(W30:AP30>0,W30:AP30),{1,2,3,4,5,6,7,8})),AO31)","v":13.767013566104083},{"$f":"IF(AQ30>0,AVERAGE(SMALL(IF(X30:AQ30>0,X30:AQ30),{1,2,3,4,5,6,7,8})),AP31)","v":13.750629255969772},{"$f":"IF(AR30>0,AVERAGE(SMALL(IF(Y30:AR30>0,Y30:AR30),{1,2,3,4,5,6,7,8})),AQ31)","v":13.750629255969772},{"$f":"IF(AS30>0,AVERAGE(SMALL(IF(Z30:AS30>0,Z30:AS30),{1,2,3,4,5,6,7,8})),AR31)","v":13.750629255969772},{"$f":"IF(AT30>0,AVERAGE(SMALL(IF(AA30:AT30>0,AA30:AT30),{1,2,3,4,5,6,7,8})),AS31)","v":13.750629255969772},{"$f":"IF(AU30>0,AVERAGE(SMALL(IF(AB30:AU30>0,AB30:AU30),{1,2,3,4,5,6,7,8})),AT31)","v":14.035119860784802},{"$f":"IF(AV30>0,AVERAGE(SMALL(IF(AC30:AV30>0,AC30:AV30),{1,2,3,4,5,6,7,8})),AU31)","v":14.035119860784802},{"$f":"IF(AW30>0,AVERAGE(SMALL(IF(AD30:AW30>0,AD30:AW30),{1,2,3,4,5,6,7,8})),AV31)","v":14.569334604374548},{"$f":"IF(AX30>0,AVERAGE(SMALL(IF(AE30:AX30>0,AE30:AX30),{1,2,3,4,5,6,7,8})),AW31)","v":14.677988450528394},{"$f":"IF(AY30>0,AVERAGE(SMALL(IF(AF30:AY30>0,AF30:AY30),{1,2,3,4,5,6,7,8})),AX31)","v":14.852588236308847},{"$f":"IF(AZ30>0,AVERAGE(SMALL(IF(AG30:AZ30>0,AG30:AZ30),{1,2,3,4,5,6,7,8})),AY31)","v":14.057050588110032},{"$f":"IF(BA30>0,AVERAGE(SMALL(IF(AH30:BA30>0,AH30:BA30),{1,2,3,4,5,6,7,8})),AZ31)","v":14.080219422951661},{"$f":"IF(BB30>0,AVERAGE(SMALL(IF(AI30:BB30>0,AI30:BB30),{1,2,3,4,5,6,7,8})),BA31)","v":14.080219422951661},{"$f":"IF(BC30>0,AVERAGE(SMALL(IF(AJ30:BC30>0,AJ30:BC30),{1,2,3,4,5,6,7,8})),BB31)","v":14.080219422951661},{"$f":"IF(BD30>0,AVERAGE(SMALL(IF(AK30:BD30>0,AK30:BD30),{1,2,3,4,5,6,7,8})),BC31)","v":14.080219422951661},{"$f":"IF(BE30>0,AVERAGE(SMALL(IF(AL30:BE30>0,AL30:BE30),{1,2,3,4,5,6,7,8})),BD31)","v":14.080219422951661},{"$f":"IF(BF30>0,AVERAGE(SMALL(IF(AM30:BF30>0,AM30:BF30),{1,2,3,4,5,6,7,8})),BE31)","v":14.080219422951661},{"$f":"IF(BG30>0,AVERAGE(SMALL(IF(AN30:BG30>0,AN30:BG30),{1,2,3,4,5,6,7,8})),BF31)","v":14.080219422951661},{"$f":"IF(BH30>0,AVERAGE(SMALL(IF(AO30:BH30>0,AO30:BH30),{1,2,3,4,5,6,7,8})),BG31)","v":14.080219422951661},{"$f":"IF(BI30>0,AVERAGE(SMALL(IF(AP30:BI30>0,AP30:BI30),{1,2,3,4,5,6,7,8})),BH31)","v":14.080219422951661},{"$f":"IF(BJ30>0,AVERAGE(SMALL(IF(AQ30:BJ30>0,AQ30:BJ30),{1,2,3,4,5,6,7,8})),BI31)","v":14.080219422951661},{"$f":"IF(BK30>0,AVERAGE(SMALL(IF(AR30:BK30>0,AR30:BK30),{1,2,3,4,5,6,7,8})),BJ31)","v":14.080219422951661},{"$f":"IF(BL30>0,AVERAGE(SMALL(IF(AS30:BL30>0,AS30:BL30),{1,2,3,4,5,6,7,8})),BK31)","v":14.080219422951661},{"$f":"IF(BM30>0,AVERAGE(SMALL(IF(AT30:BM30>0,AT30:BM30),{1,2,3,4,5,6,7,8})),BL31)","v":14.080219422951661},{"$f":"IF(BN30>0,AVERAGE(SMALL(IF(AU30:BN30>0,AU30:BN30),{1,2,3,4,5,6,7,8})),BM31)","v":14.080219422951661},{"$f":"IF(BO30>0,AVERAGE(SMALL(IF(AV30:BO30>0,AV30:BO30),{1,2,3,4,5,6,7,8})),BN31)","v":14.080219422951661},{"$f":"IF(BP30>0,AVERAGE(SMALL(IF(AW30:BP30>0,AW30:BP30),{1,2,3,4,5,6,7,8})),BO31)","v":14.080219422951661},{"$f":"IF(BQ30>0,AVERAGE(SMALL(IF(AX30:BQ30>0,AX30:BQ30),{1,2,3,4,5,6,7,8})),BP31)","v":14.080219422951661},{"$f":"IF(BR30>0,AVERAGE(SMALL(IF(AY30:BR30>0,AY30:BR30),{1,2,3,4,5,6,7,8})),BQ31)","v":14.080219422951661},{"$f":"IF(BS30>0,AVERAGE(SMALL(IF(AZ30:BS30>0,AZ30:BS30),{1,2,3,4,5,6,7,8})),BR31)","v":14.080219422951661},{"$f":"IF(BT30>0,AVERAGE(SMALL(IF(BA30:BT30>0,BA30:BT30),{1,2,3,4,5,6,7,8})),BS31)","v":14.080219422951661},{"$f":"IF(BU30>0,AVERAGE(SMALL(IF(BB30:BU30>0,BB30:BU30),{1,2,3,4,5,6,7,8})),BT31)","v":14.080219422951661},{"$f":"IF(BV30>0,AVERAGE(SMALL(IF(BC30:BV30>0,BC30:BV30),{1,2,3,4,5,6,7,8})),BU31)","v":14.080219422951661},{"$f":"IF(BW30>0,AVERAGE(SMALL(IF(BD30:BW30>0,BD30:BW30),{1,2,3,4,5,6,7,8})),BV31)","v":14.080219422951661},{"$f":"IF(BX30>0,AVERAGE(SMALL(IF(BE30:BX30>0,BE30:BX30),{1,2,3,4,5,6,7,8})),BW31)","v":14.080219422951661},{"$f":"IF(BY30>0,AVERAGE(SMALL(IF(BF30:BY30>0,BF30:BY30),{1,2,3,4,5,6,7,8})),BX31)","v":14.080219422951661},{"$f":"IF(BZ30>0,AVERAGE(SMALL(IF(BG30:BZ30>0,BG30:BZ30),{1,2,3,4,5,6,7,8})),BY31)","v":14.080219422951661},{"$f":"IF(CA30>0,AVERAGE(SMALL(IF(BH30:CA30>0,BH30:CA30),{1,2,3,4,5,6,7,8})),BZ31)","v":14.080219422951661},{"$f":"IF(CB30>0,AVERAGE(SMALL(IF(BI30:CB30>0,BI30:CB30),{1,2,3,4,5,6,7,8})),CA31)","v":14.080219422951661},{"$f":"IF(CC30>0,AVERAGE(SMALL(IF(BJ30:CC30>0,BJ30:CC30),{1,2,3,4,5,6,7,8})),CB31)","v":14.080219422951661},{"$f":"IF(CD30>0,AVERAGE(SMALL(IF(BK30:CD30>0,BK30:CD30),{1,2,3,4,5,6,7,8})),CC31)","v":14.080219422951661},{"$f":"IF(CE30>0,AVERAGE(SMALL(IF(BL30:CE30>0,BL30:CE30),{1,2,3,4,5,6,7,8})),CD31)","v":14.080219422951661},{"$f":"IF(CF30>0,AVERAGE(SMALL(IF(BM30:CF30>0,BM30:CF30),{1,2,3,4,5,6,7,8})),CE31)","v":14.080219422951661},{"$f":"IF(CG30>0,AVERAGE(SMALL(IF(BN30:CG30>0,BN30:CG30),{1,2,3,4,5,6,7,8})),CF31)","v":14.080219422951661},{"$f":"IF(CH30>0,AVERAGE(SMALL(IF(BO30:CH30>0,BO30:CH30),{1,2,3,4,5,6,7,8})),CG31)","v":14.080219422951661},{"$f":"IF(CI30>0,AVERAGE(SMALL(IF(BP30:CI30>0,BP30:CI30),{1,2,3,4,5,6,7,8})),CH31)","v":14.080219422951661},{"$f":"IF(CJ30>0,AVERAGE(SMALL(IF(BQ30:CJ30>0,BQ30:CJ30),{1,2,3,4,5,6,7,8})),CI31)","v":14.080219422951661},{"$f":"IF(CK30>0,AVERAGE(SMALL(IF(BR30:CK30>0,BR30:CK30),{1,2,3,4,5,6,7,8})),CJ31)","v":14.080219422951661},{"$f":"IF(CL30>0,AVERAGE(SMALL(IF(BS30:CL30>0,BS30:CL30),{1,2,3,4,5,6,7,8})),CK31)","v":14.080219422951661},{"$f":"IF(CM30>0,AVERAGE(SMALL(IF(BT30:CM30>0,BT30:CM30),{1,2,3,4,5,6,7,8})),CL31)","v":14.080219422951661},{"$f":"IF(CN30>0,AVERAGE(SMALL(IF(BU30:CN30>0,BU30:CN30),{1,2,3,4,5,6,7,8})),CM31)","v":14.080219422951661},{"$f":"IF(CO30>0,AVERAGE(SMALL(IF(BV30:CO30>0,BV30:CO30),{1,2,3,4,5,6,7,8})),CN31)","v":14.080219422951661},{"$f":"IF(CP30>0,AVERAGE(SMALL(IF(BW30:CP30>0,BW30:CP30),{1,2,3,4,5,6,7,8})),CO31)","v":14.080219422951661},{"$f":"IF(CQ30>0,AVERAGE(SMALL(IF(BX30:CQ30>0,BX30:CQ30),{1,2,3,4,5,6,7,8})),CP31)","v":14.080219422951661},{"$f":"IF(CR30>0,AVERAGE(SMALL(IF(BY30:CR30>0,BY30:CR30),{1,2,3,4,5,6,7,8})),CQ31)","v":14.080219422951661},{"$f":"IF(CS30>0,AVERAGE(SMALL(IF(BZ30:CS30>0,BZ30:CS30),{1,2,3,4,5,6,7,8})),CR31)","v":14.080219422951661},{"$f":"IF(CT30>0,AVERAGE(SMALL(IF(CA30:CT30>0,CA30:CT30),{1,2,3,4,5,6,7,8})),CS31)","v":14.080219422951661},{"$f":"IF(CU30>0,AVERAGE(SMALL(IF(CB30:CU30>0,CB30:CU30),{1,2,3,4,5,6,7,8})),CT31)","v":14.080219422951661},{"$f":"IF(CV30>0,AVERAGE(SMALL(IF(CC30:CV30>0,CC30:CV30),{1,2,3,4,5,6,7,8})),CU31)","v":14.080219422951661},{"$f":"IF(CW30>0,AVERAGE(SMALL(IF(CD30:CW30>0,CD30:CW30),{1,2,3,4,5,6,7,8})),CV31)","v":14.080219422951661}]
[null,null,null,null,null,null,null,null,"Low Hcap",null,null,null,null,null,null,null,null,null,null,null,null,null,null,null,null,null,null,null,{"$f":"MIN($L31:AC31)","v":14.501468108863145},{"$f":"MIN($L31:AD31)","v":14.498998703268741},{"$f":"MIN($N31:AE31)","v":14.456221598483763},{"$f":"MIN($O31:AF31)","v":14.456221598483763},{"$f":"MIN($O31:AG31)","v":14.456221598483763},{"$f":"MIN($T31:AH31)","v":14.456221598483763},{"$f":"MIN($V31:AI31)","v":13.709637973775138},{"$f":"MIN($V31:AJ31)","v":13.709637973775138},{"$f":"MIN($W31:AK31)","v":13.709637973775138},{"$f":"MIN($X31:AL31)","v":13.709637973775138},{"$f":"MIN($X31:AM31)","v":13.709637973775138},{"$f":"MIN($Y31:AN31)","v":13.547217617777598},{"$f":"MIN($AA31:AO31)","v":13.547217617777598},{"$f":"MIN($AD31:AP31)","v":13.547217617777598},{"$f":"MIN($AG31:AQ31)","v":13.547217617777598},{"$f":"MIN($AH31:AR31)","v":13.547217617777598},{"$f":"MIN($AH31:AS31)","v":13.547217617777598},{"$f":"MIN($AH31:AT31)","v":13.547217617777598},{"$f":"MIN($AH31:AU31)","v":13.547217617777598},{"$f":"MIN($AI31:AV31)","v":13.547217617777598},{"$f":"MIN($AJ31:AW31)","v":13.547217617777598},{"$f":"MIN($AM31:AX31)","v":13.547217617777598},{"$f":"MIN($AN31:AY31)","v":13.547217617777598},{"$f":"MIN($AN31:AZ31)","v":13.547217617777598},{"$f":"MIN($AN31:BA31)","v":13.547217617777598},{"$f":"MIN($AP31:BB31)","v":13.750629255969772},{"$f":"MIN($AP31:BC31)","v":13.750629255969772},{"$f":"MIN($AP31:BD31)","v":13.750629255969772},{"$f":"MIN($AP31:BE31)","v":13.750629255969772},{"$f":"MIN($AP31:BF31)","v":13.750629255969772},{"$f":"MIN($AP31:BG31)","v":13.750629255969772},{"$f":"MIN($AP31:BH31)","v":13.750629255969772},{"$f":"MIN($AP31:BI31)","v":13.750629255969772},{"$f":"MIN($AP31:BJ31)","v":13.750629255969772},{"$f":"MIN($AP31:BK31)","v":13.750629255969772},{"$f":"MIN($AP31:BL31)","v":13.750629255969772},{"$f":"MIN($AP31:BM31)","v":13.750629255969772},{"$f":"MIN($AP31:BN31)","v":13.750629255969772},{"$f":"MIN($AP31:BO31)","v":13.750629255969772},{"$f":"MIN($AP31:BP31)","v":13.750629255969772},{"$f":"MIN($AP31:BQ31)","v":13.750629255969772},{"$f":"MIN($AP31:BR31)","v":13.750629255969772},{"$f":"MIN($AP31:BS31)","v":13.750629255969772},{"$f":"MIN($AP31:BT31)","v":13.750629255969772},{"$f":"MIN($AP31:BU31)","v":13.750629255969772},{"$f":"MIN($AP31:BV31)","v":13.750629255969772},{"$f":"MIN($AP31:BW31)","v":13.750629255969772},{"$f":"MIN($AP31:BX31)","v":13.750629255969772},{"$f":"MIN($AP31:BY31)","v":13.750629255969772},{"$f":"MIN($AP31:BZ31)","v":13.750629255969772},{"$f":"MIN($AP31:CA31)","v":13.750629255969772},{"$f":"MIN($AP31:CB31)","v":13.750629255969772},{"$f":"MIN($AP31:CC31)","v":13.750629255969772},{"$f":"MIN($AP31:CD31)","v":13.750629255969772},{"$f":"MIN($AP31:CE31)","v":13.750629255969772},{"$f":"MIN($AP31:CF31)","v":13.750629255969772},{"$f":"MIN($AP31:CG31)","v":13.750629255969772},{"$f":"MIN($AP31:CH31)","v":13.750629255969772},{"$f":"MIN($AP31:CI31)","v":13.750629255969772},{"$f":"MIN($AP31:CJ31)","v":13.750629255969772},{"$f":"MIN($AP31:CK31)","v":13.750629255969772},{"$f":"MIN($AP31:CL31)","v":13.750629255969772},{"$f":"MIN($AP31:CM31)","v":13.750629255969772},{"$f":"MIN($AP31:CN31)","v":13.750629255969772},{"$f":"MIN($AP31:CO31)","v":13.750629255969772},{"$f":"MIN($AP31:CP31)","v":13.750629255969772},{"$f":"MIN($AP31:CQ31)","v":13.750629255969772},{"$f":"MIN($AP31:CR31)","v":13.750629255969772},{"$f":"MIN($AP31:CS31)","v":13.750629255969772},{"$f":"MIN($AP31:CT31)","v":13.750629255969772},{"$f":"MIN($AP31:CU31)","v":13.750629255969772},{"$f":"MIN($AP31:CV31)","v":13.750629255969772},{"$f":"MIN($AP31:CW31)","v":13.750629255969772}]
[null,"Breed","Geoff",18,null,{"$f":"IF(H33<4,\"Y\",)","v":"Y"},2023,{"$f":"COUNT(J33:CX33)","v":2},"Date",null,"2023-05-19","2023-05-28",null,null,null,null,null,null,null,null,null,null,null,null,null,null,null,null,null,null,null,null,null,null,null,null,null,null,null,null,null,null,null,null,null,null,null,null,null,null,null,null,null,null,null,null,null,null,null,null,null,null,null,null,null,null,null,null,null,null,null,null,null,null,null,null,null,null,null,null,null,null,null,null,null,null,null,null,null,null,null,null,null,null,null,null,null,null,null,null,null,null,{"$f":"IF(CW37>$DD$1,36,CW37)","v":16.32913385826771},18,{"$f":"CZ33-CY33","v":1.6708661417322901}]
[null,null,null,null,null,null,null,null,"Course",null,"GarmischHG","ErdingHG"]
[null,null,null,null,null,null,null,null,"Ad Gr",null,92,99]
[null,null,null,null,null,null,null,null,"SD",20,{"$f":"IF(K35=\"\",0,(K35-INDIRECT(CONCATENATE(K34,\"CR\")))*113/INDIRECT(CONCATENATE(K34,\"SR\")))","v":18.32913385826771},{"$f":"IF(L35=\"\",0,(L35-INDIRECT(CONCATENATE(L34,\"CR\")))*113/INDIRECT(CONCATENATE(L34,\"SR\")))","v":24.338461538461537},0,0,0,0,0,0,0,0,0,0,0,0,0,0,0,0,0,0,0,0,0,0,0,0,0,0,0,0,0,0,0,0,0,0,0,0,0,0,0,0,0,0,0,0,0,0,0,0,0,0,0,0,0,0,0,0,0,0,0,0,0,0,{"$f":"IF(BW35=\"\",0,(BW35-INDIRECT(CONCATENATE(BW34,\"CR\")))*113/INDIRECT(CONCATENATE(BW34,\"SR\")))","v":0},0,0,0,0,0,0,0,0,0,0,0,0,0,0,0,0,0,0,0,0,0,0,0,0,0,0]
[null,null,null,null,null,null,null,null,"New Hcap",{"$f":"J36-2","v":18},{"$f":"IF(K36>0,MIN(J36:K36)-2,J37)","v":16.32913385826771},{"$f":"IF(L36>0,MIN(J36:L36)-2,K37)","v":16.32913385826771},{"$f":"IF(M36>0,MIN(J36:M36)-1,L37)","v":16.32913385826771},{"$f":"IF(N36>0,MIN(J36:N36),M37)","v":16.32913385826771},{"$f":"IF(O36>0,AVERAGE(SMALL(IF(J36:O36>0,J36:O36),{1,2}))-1,N37)","v":16.32913385826771},{"$f":"IF(P36>0,AVERAGE(SMALL(IF(J36:P36>0,J36:P36),{1,2})),O37)","v":16.32913385826771},{"$f":"IF(Q36>0,AVERAGE(SMALL(IF(J36:Q36>0,J36:Q36),{1,2})),P37)","v":16.32913385826771},{"$f":"IF(R36>0,AVERAGE(SMALL(IF(J36:R36>0,J36:R36),{1,2,3})),Q37)","v":16.32913385826771},{"$f":"IF(S36>0,AVERAGE(SMALL(IF(J36:S36>0,J36:S36),{1,2,3})),R37)","v":16.32913385826771},{"$f":"IF(T36>0,AVERAGE(SMALL(IF(J36:T36>0,J36:T36),{1,2,3})),S37)","v":16.32913385826771},{"$f":"IF(U36>0,AVERAGE(SMALL(IF(J36:U36>0,J36:U36),{1,2,3,4})),T37)","v":16.32913385826771},{"$f":"IF(V36>0,AVERAGE(SMALL(IF(J36:V36>0,J36:V36),{1,2,3,4})),U37)","v":16.32913385826771},{"$f":"IF(W36>0,AVERAGE(SMALL(IF(J36:W36>0,J36:W36),{1,2,3,4})),V37)","v":16.32913385826771},{"$f":"IF(X36>0,AVERAGE(SMALL(IF(J36:X36>0,J36:X36),{1,2,3,4,5})),W37)","v":16.32913385826771},{"$f":"IF(Y36>0,AVERAGE(SMALL(IF(J36:Y36>0,J36:Y36),{1,2,3,4,5})),X37)","v":16.32913385826771},{"$f":"IF(Z36>0,AVERAGE(SMALL(IF(J36:Z36>0,J36:Z36),{1,2,3,4,5,6})),Y37)","v":16.32913385826771},{"$f":"IF(AA36>0,AVERAGE(SMALL(IF(J36:AA36>0,J36:AA36),{1,2,3,4,5,6})),Z37)","v":16.32913385826771},{"$f":"IF(AB36>0,AVERAGE(SMALL(IF(J36:AB36>0,J36:AB36),{1,2,3,4,5,6,7})),AA37)","v":16.32913385826771},{"$f":"IF(AC36>0,AVERAGE(SMALL(IF(J36:AC36>0,J36:AC36),{1,2,3,4,5,6,7,8})),AB37)","v":16.32913385826771},{"$f":"IF(AD36>0,AVERAGE(SMALL(IF(K36:AD36>0,K36:AD36),{1,2,3,4,5,6,7,8})),AC37)","v":16.32913385826771},{"$f":"IF(AE36>0,AVERAGE(SMALL(IF(L36:AE36>0,L36:AE36),{1,2,3,4,5,6,7,8})),AD37)","v":16.32913385826771},{"$f":"IF(AF36>0,AVERAGE(SMALL(IF(M36:AF36>0,M36:AF36),{1,2,3,4,5,6,7,8})),AE37)","v":16.32913385826771},{"$f":"IF(AG36>0,AVERAGE(SMALL(IF(N36:AG36>0,N36:AG36),{1,2,3,4,5,6,7,8})),AF37)","v":16.32913385826771},{"$f":"IF(AH36>0,AVERAGE(SMALL(IF(O36:AH36>0,O36:AH36),{1,2,3,4,5,6,7,8})),AG37)","v":16.32913385826771},{"$f":"IF(AI36>0,AVERAGE(SMALL(IF(P36:AI36>0,P36:AI36),{1,2,3,4,5,6,7,8})),AH37)","v":16.32913385826771},{"$f":"IF(AJ36>0,AVERAGE(SMALL(IF(Q36:AJ36>0,Q36:AJ36),{1,2,3,4,5,6,7,8})),AI37)","v":16.32913385826771},{"$f":"IF(AK36>0,AVERAGE(SMALL(IF(R36:AK36>0,R36:AK36),{1,2,3,4,5,6,7,8})),AJ37)","v":16.32913385826771},{"$f":"IF(AL36>0,AVERAGE(SMALL(IF(S36:AL36>0,S36:AL36),{1,2,3,4,5,6,7,8})),AK37)","v":16.32913385826771},{"$f":"IF(AM36>0,AVERAGE(SMALL(IF(T36:AM36>0,T36:AM36),{1,2,3,4,5,6,7,8})),AL37)","v":16.32913385826771},{"$f":"IF(AN36>0,AVERAGE(SMALL(IF(U36:AN36>0,U36:AN36),{1,2,3,4,5,6,7,8})),AM37)","v":16.32913385826771},{"$f":"IF(AO36>0,AVERAGE(SMALL(IF(V36:AO36>0,V36:AO36),{1,2,3,4,5,6,7,8})),AN37)","v":16.32913385826771},{"$f":"IF(AP36>0,AVERAGE(SMALL(IF(W36:AP36>0,W36:AP36),{1,2,3,4,5,6,7,8})),AO37)","v":16.32913385826771},{"$f":"IF(AQ36>0,AVERAGE(SMALL(IF(X36:AQ36>0,X36:AQ36),{1,2,3,4,5,6,7,8})),AP37)","v":16.32913385826771},{"$f":"IF(AR36>0,AVERAGE(SMALL(IF(Y36:AR36>0,Y36:AR36),{1,2,3,4,5,6,7,8})),AQ37)","v":16.32913385826771},{"$f":"IF(AS36>0,AVERAGE(SMALL(IF(Z36:AS36>0,Z36:AS36),{1,2,3,4,5,6,7,8})),AR37)","v":16.32913385826771},{"$f":"IF(AT36>0,AVERAGE(SMALL(IF(AA36:AT36>0,AA36:AT36),{1,2,3,4,5,6,7,8})),AS37)","v":16.32913385826771},{"$f":"IF(AU36>0,AVERAGE(SMALL(IF(AB36:AU36>0,AB36:AU36),{1,2,3,4,5,6,7,8})),AT37)","v":16.32913385826771},{"$f":"IF(AV36>0,AVERAGE(SMALL(IF(AC36:AV36>0,AC36:AV36),{1,2,3,4,5,6,7,8})),AU37)","v":16.32913385826771},{"$f":"IF(AW36>0,AVERAGE(SMALL(IF(AD36:AW36>0,AD36:AW36),{1,2,3,4,5,6,7,8})),AV37)","v":16.32913385826771},{"$f":"IF(AX36>0,AVERAGE(SMALL(IF(AE36:AX36>0,AE36:AX36),{1,2,3,4,5,6,7,8})),AW37)","v":16.32913385826771},{"$f":"IF(AY36>0,AVERAGE(SMALL(IF(AF36:AY36>0,AF36:AY36),{1,2,3,4,5,6,7,8})),AX37)","v":16.32913385826771},{"$f":"IF(AZ36>0,AVERAGE(SMALL(IF(AG36:AZ36>0,AG36:AZ36),{1,2,3,4,5,6,7,8})),AY37)","v":16.32913385826771},{"$f":"IF(BA36>0,AVERAGE(SMALL(IF(AH36:BA36>0,AH36:BA36),{1,2,3,4,5,6,7,8})),AZ37)","v":16.32913385826771},{"$f":"IF(BB36>0,AVERAGE(SMALL(IF(AI36:BB36>0,AI36:BB36),{1,2,3,4,5,6,7,8})),BA37)","v":16.32913385826771},{"$f":"IF(BC36>0,AVERAGE(SMALL(IF(AJ36:BC36>0,AJ36:BC36),{1,2,3,4,5,6,7,8})),BB37)","v":16.32913385826771},{"$f":"IF(BD36>0,AVERAGE(SMALL(IF(AK36:BD36>0,AK36:BD36),{1,2,3,4,5,6,7,8})),BC37)","v":16.32913385826771},{"$f":"IF(BE36>0,AVERAGE(SMALL(IF(AL36:BE36>0,AL36:BE36),{1,2,3,4,5,6,7,8})),BD37)","v":16.32913385826771},{"$f":"IF(BF36>0,AVERAGE(SMALL(IF(AM36:BF36>0,AM36:BF36),{1,2,3,4,5,6,7,8})),BE37)","v":16.32913385826771},{"$f":"IF(BG36>0,AVERAGE(SMALL(IF(AN36:BG36>0,AN36:BG36),{1,2,3,4,5,6,7,8})),BF37)","v":16.32913385826771},{"$f":"IF(BH36>0,AVERAGE(SMALL(IF(AO36:BH36>0,AO36:BH36),{1,2,3,4,5,6,7,8})),BG37)","v":16.32913385826771},{"$f":"IF(BI36>0,AVERAGE(SMALL(IF(AP36:BI36>0,AP36:BI36),{1,2,3,4,5,6,7,8})),BH37)","v":16.32913385826771},{"$f":"IF(BJ36>0,AVERAGE(SMALL(IF(AQ36:BJ36>0,AQ36:BJ36),{1,2,3,4,5,6,7,8})),BI37)","v":16.32913385826771},{"$f":"IF(BK36>0,AVERAGE(SMALL(IF(AR36:BK36>0,AR36:BK36),{1,2,3,4,5,6,7,8})),BJ37)","v":16.32913385826771},{"$f":"IF(BL36>0,AVERAGE(SMALL(IF(AS36:BL36>0,AS36:BL36),{1,2,3,4,5,6,7,8})),BK37)","v":16.32913385826771},{"$f":"IF(BM36>0,AVERAGE(SMALL(IF(AT36:BM36>0,AT36:BM36),{1,2,3,4,5,6,7,8})),BL37)","v":16.32913385826771},{"$f":"IF(BN36>0,AVERAGE(SMALL(IF(AU36:BN36>0,AU36:BN36),{1,2,3,4,5,6,7,8})),BM37)","v":16.32913385826771},{"$f":"IF(BO36>0,AVERAGE(SMALL(IF(AV36:BO36>0,AV36:BO36),{1,2,3,4,5,6,7,8})),BN37)","v":16.32913385826771},{"$f":"IF(BP36>0,AVERAGE(SMALL(IF(AW36:BP36>0,AW36:BP36),{1,2,3,4,5,6,7,8})),BO37)","v":16.32913385826771},{"$f":"IF(BQ36>0,AVERAGE(SMALL(IF(AX36:BQ36>0,AX36:BQ36),{1,2,3,4,5,6,7,8})),BP37)","v":16.32913385826771},{"$f":"IF(BR36>0,AVERAGE(SMALL(IF(AY36:BR36>0,AY36:BR36),{1,2,3,4,5,6,7,8})),BQ37)","v":16.32913385826771},{"$f":"IF(BS36>0,AVERAGE(SMALL(IF(AZ36:BS36>0,AZ36:BS36),{1,2,3,4,5,6,7,8})),BR37)","v":16.32913385826771},{"$f":"IF(BT36>0,AVERAGE(SMALL(IF(BA36:BT36>0,BA36:BT36),{1,2,3,4,5,6,7,8})),BS37)","v":16.32913385826771},{"$f":"IF(BU36>0,AVERAGE(SMALL(IF(BB36:BU36>0,BB36:BU36),{1,2,3,4,5,6,7,8})),BT37)","v":16.32913385826771},{"$f":"IF(BV36>0,AVERAGE(SMALL(IF(BC36:BV36>0,BC36:BV36),{1,2,3,4,5,6,7,8})),BU37)","v":16.32913385826771},{"$f":"IF(BW36>0,AVERAGE(SMALL(IF(BD36:BW36>0,BD36:BW36),{1,2,3,4,5,6,7,8})),BV37)","v":16.32913385826771},{"$f":"IF(BX36>0,AVERAGE(SMALL(IF(BE36:BX36>0,BE36:BX36),{1,2,3,4,5,6,7,8})),BW37)","v":16.32913385826771},{"$f":"IF(BY36>0,AVERAGE(SMALL(IF(BF36:BY36>0,BF36:BY36),{1,2,3,4,5,6,7,8})),BX37)","v":16.32913385826771},{"$f":"IF(BZ36>0,AVERAGE(SMALL(IF(BG36:BZ36>0,BG36:BZ36),{1,2,3,4,5,6,7,8})),BY37)","v":16.32913385826771},{"$f":"IF(CA36>0,AVERAGE(SMALL(IF(BH36:CA36>0,BH36:CA36),{1,2,3,4,5,6,7,8})),BZ37)","v":16.32913385826771},{"$f":"IF(CB36>0,AVERAGE(SMALL(IF(BI36:CB36>0,BI36:CB36),{1,2,3,4,5,6,7,8})),CA37)","v":16.32913385826771},{"$f":"IF(CC36>0,AVERAGE(SMALL(IF(BJ36:CC36>0,BJ36:CC36),{1,2,3,4,5,6,7,8})),CB37)","v":16.32913385826771},{"$f":"IF(CD36>0,AVERAGE(SMALL(IF(BK36:CD36>0,BK36:CD36),{1,2,3,4,5,6,7,8})),CC37)","v":16.32913385826771},{"$f":"IF(CE36>0,AVERAGE(SMALL(IF(BL36:CE36>0,BL36:CE36),{1,2,3,4,5,6,7,8})),CD37)","v":16.32913385826771},{"$f":"IF(CF36>0,AVERAGE(SMALL(IF(BM36:CF36>0,BM36:CF36),{1,2,3,4,5,6,7,8})),CE37)","v":16.32913385826771},{"$f":"IF(CG36>0,AVERAGE(SMALL(IF(BN36:CG36>0,BN36:CG36),{1,2,3,4,5,6,7,8})),CF37)","v":16.32913385826771},{"$f":"IF(CH36>0,AVERAGE(SMALL(IF(BO36:CH36>0,BO36:CH36),{1,2,3,4,5,6,7,8})),CG37)","v":16.32913385826771},{"$f":"IF(CI36>0,AVERAGE(SMALL(IF(BP36:CI36>0,BP36:CI36),{1,2,3,4,5,6,7,8})),CH37)","v":16.32913385826771},{"$f":"IF(CJ36>0,AVERAGE(SMALL(IF(BQ36:CJ36>0,BQ36:CJ36),{1,2,3,4,5,6,7,8})),CI37)","v":16.32913385826771},{"$f":"IF(CK36>0,AVERAGE(SMALL(IF(BR36:CK36>0,BR36:CK36),{1,2,3,4,5,6,7,8})),CJ37)","v":16.32913385826771},{"$f":"IF(CL36>0,AVERAGE(SMALL(IF(BS36:CL36>0,BS36:CL36),{1,2,3,4,5,6,7,8})),CK37)","v":16.32913385826771},{"$f":"IF(CM36>0,AVERAGE(SMALL(IF(BT36:CM36>0,BT36:CM36),{1,2,3,4,5,6,7,8})),CL37)","v":16.32913385826771},{"$f":"IF(CN36>0,AVERAGE(SMALL(IF(BU36:CN36>0,BU36:CN36),{1,2,3,4,5,6,7,8})),CM37)","v":16.32913385826771},{"$f":"IF(CO36>0,AVERAGE(SMALL(IF(BV36:CO36>0,BV36:CO36),{1,2,3,4,5,6,7,8})),CN37)","v":16.32913385826771},{"$f":"IF(CP36>0,AVERAGE(SMALL(IF(BW36:CP36>0,BW36:CP36),{1,2,3,4,5,6,7,8})),CO37)","v":16.32913385826771},{"$f":"IF(CQ36>0,AVERAGE(SMALL(IF(BX36:CQ36>0,BX36:CQ36),{1,2,3,4,5,6,7,8})),CP37)","v":16.32913385826771},{"$f":"IF(CR36>0,AVERAGE(SMALL(IF(BY36:CR36>0,BY36:CR36),{1,2,3,4,5,6,7,8})),CQ37)","v":16.32913385826771},{"$f":"IF(CS36>0,AVERAGE(SMALL(IF(BZ36:CS36>0,BZ36:CS36),{1,2,3,4,5,6,7,8})),CR37)","v":16.32913385826771},{"$f":"IF(CT36>0,AVERAGE(SMALL(IF(CA36:CT36>0,CA36:CT36),{1,2,3,4,5,6,7,8})),CS37)","v":16.32913385826771},{"$f":"IF(CU36>0,AVERAGE(SMALL(IF(CB36:CU36>0,CB36:CU36),{1,2,3,4,5,6,7,8})),CT37)","v":16.32913385826771},{"$f":"IF(CV36>0,AVERAGE(SMALL(IF(CC36:CV36>0,CC36:CV36),{1,2,3,4,5,6,7,8})),CU37)","v":16.32913385826771},{"$f":"IF(CW36>0,AVERAGE(SMALL(IF(CD36:CW36>0,CD36:CW36),{1,2,3,4,5,6,7,8})),CV37)","v":16.32913385826771}]
[null,null,null,null,null,null,null,null,"Low Hcap",null,null,null,null,null,null,null,null,null,null,null,null,null,null,null,null,null,null,null,{"$f":"MIN($J37:AC37)","v":16.32913385826771},{"$f":"MIN($J37:AD37)","v":16.32913385826771},{"$f":"MIN($J37:AE37)","v":16.32913385826771},{"$f":"MIN($J37:AF37)","v":16.32913385826771},{"$f":"MIN($J37:AG37)","v":16.32913385826771},{"$f":"MIN($J37:AH37)","v":16.32913385826771},{"$f":"MIN($J37:AI37)","v":16.32913385826771},{"$f":"MIN($J37:AJ37)","v":16.32913385826771},{"$f":"MIN($J37:AK37)","v":16.32913385826771},{"$f":"MIN($J37:AL37)","v":16.32913385826771},{"$f":"MIN($J37:AM37)","v":16.32913385826771},{"$f":"MIN($J37:AN37)","v":16.32913385826771},{"$f":"MIN($J37:AO37)","v":16.32913385826771},{"$f":"MIN($J37:AP37)","v":16.32913385826771},{"$f":"MIN($J37:AQ37)","v":16.32913385826771},{"$f":"MIN($J37:AR37)","v":16.32913385826771},{"$f":"MIN($J37:AS37)","v":16.32913385826771},{"$f":"MIN($J37:AT37)","v":16.32913385826771},{"$f":"MIN($J37:AU37)","v":16.32913385826771},{"$f":"MIN($J37:AV37)","v":16.32913385826771},{"$f":"MIN($J37:AW37)","v":16.32913385826771},{"$f":"MIN($J37:AX37)","v":16.32913385826771},{"$f":"MIN($J37:AY37)","v":16.32913385826771},{"$f":"MIN($J37:AZ37)","v":16.32913385826771},{"$f":"MIN($J37:BA37)","v":16.32913385826771},{"$f":"MIN($J37:BB37)","v":16.32913385826771},{"$f":"MIN($J37:BC37)","v":16.32913385826771},{"$f":"MIN($J37:BD37)","v":16.32913385826771},{"$f":"MIN($J37:BE37)","v":16.32913385826771},{"$f":"MIN($J37:BF37)","v":16.32913385826771},{"$f":"MIN($J37:BG37)","v":16.32913385826771},{"$f":"MIN($J37:BH37)","v":16.32913385826771},{"$f":"MIN($J37:BI37)","v":16.32913385826771},{"$f":"MIN($J37:BJ37)","v":16.32913385826771},{"$f":"MIN($J37:BK37)","v":16.32913385826771},{"$f":"MIN($J37:BL37)","v":16.32913385826771},{"$f":"MIN($J37:BM37)","v":16.32913385826771},{"$f":"MIN($J37:BN37)","v":16.32913385826771},{"$f":"MIN($J37:BO37)","v":16.32913385826771},{"$f":"MIN($J37:BP37)","v":16.32913385826771},{"$f":"MIN($J37:BQ37)","v":16.32913385826771},{"$f":"MIN($J37:BR37)","v":16.32913385826771},{"$f":"MIN($J37:BS37)","v":16.32913385826771},{"$f":"MIN($J37:BT37)","v":16.32913385826771},{"$f":"MIN($J37:BU37)","v":16.32913385826771},{"$f":"MIN($J37:BV37)","v":16.32913385826771},{"$f":"MIN($J37:BW37)","v":16.32913385826771},{"$f":"MIN($J37:BX37)","v":16.32913385826771},{"$f":"MIN($J37:BY37)","v":16.32913385826771},{"$f":"MIN($J37:BZ37)","v":16.32913385826771},{"$f":"MIN($J37:CA37)","v":16.32913385826771},{"$f":"MIN($J37:CB37)","v":16.32913385826771},{"$f":"MIN($J37:CC37)","v":16.32913385826771},{"$f":"MIN($J37:CD37)","v":16.32913385826771},{"$f":"MIN($J37:CE37)","v":16.32913385826771},{"$f":"MIN($J37:CF37)","v":16.32913385826771},{"$f":"MIN($J37:CG37)","v":16.32913385826771},{"$f":"MIN($J37:CH37)","v":16.32913385826771},{"$f":"MIN($J37:CI37)","v":16.32913385826771},{"$f":"MIN($J37:CJ37)","v":16.32913385826771},{"$f":"MIN($J37:CK37)","v":16.32913385826771},{"$f":"MIN($J37:CL37)","v":16.32913385826771},{"$f":"MIN($J37:CM37)","v":16.32913385826771},{"$f":"MIN($J37:CN37)","v":16.32913385826771},{"$f":"MIN($J37:CO37)","v":16.32913385826771},{"$f":"MIN($J37:CP37)","v":16.32913385826771},{"$f":"MIN($J37:CQ37)","v":16.32913385826771},{"$f":"MIN($J37:CR37)","v":16.32913385826771},{"$f":"MIN($J37:CS37)","v":16.32913385826771},{"$f":"MIN($J37:CT37)","v":16.32913385826771},{"$f":"MIN($J37:CU37)","v":16.32913385826771},{"$f":"MIN($J37:CV37)","v":16.32913385826771},{"$f":"MIN($J37:CW37)","v":16.32913385826771}]
[null,"Britnell","Simon",18.399999999999999,"Y",{"$f":"IF(H39<4,\"Y\",)","v":0},null,{"$f":"COUNT(J39:CX39)","v":36},"Date","2018-08-05","2019-06-09","2019-07-07","2019-07-21","2019-08-04","2019-08-18","2019-09-01","2019-10-13","2019-11-24","2020-05-20","2020-05-24","2020-05-31","2020-06-28","2020-07-12","2020-08-09","2020-08-23","2020-09-06","2020-09-16","2020-10-04","2021-03-28","2021-05-30","2021-06-13","2021-07-11","2021-07-16","2021-08-22","2022-04-15","2022-05-15","2022-06-12","2022-07-31","2022-08-26","2022-09-11","2022-10-07","2022-11-09","2023-03-26","2023-05-07","2023-06-04",null,null,null,null,null,null,null,null,null,null,null,null,null,null,null,null,null,null,null,null,null,null,null,null,null,null,null,null,null,null,null,null,null,null,null,null,null,null,null,null,null,null,null,null,null,null,null,null,null,null,null,null,null,null,null,null,null,{"$f":"IF(CW43>$DD$1,36,CW43)","v":18.550849790462934},19.001946608089195,{"$f":"CZ39-CY39","v":0.45109681762626153}]
[null,null,null,null,null,null,null,null,"Course","ErdingHG","OdelzhausenHG","ErdingHG","PfaffingHG","TegernbachHG","PfaffingHG","ErdingHG","PfaffingHG","PfaffingHG","GutThailingHG","PfaffingHG","ErdingHG","ErdingHG","PfaffingHG","ErdingHG","PfaffingHG","OdelzhausenHG","GutThailingHG","OdelzhausenHG","OdelzhausenHG","IffeldorfHG","PfaffingHG","PfaffingHG","MaxlrainHG","PfaffingHB","ReichertshausenHG","OdelzhausenHG","ErdingHG","HohenpaehlHG","EschenhofHG","Pfaffing2022HG","EgmatingHG","GutThailing2022HG","Pfaffing2023HG","Odelzhausen2023HG","IffeldorfHG"]
[null,null,null,null,null,null,null,null,"Ad Gr",97,94,99,103,98,92,97,109,101,100,100,99,104,99,99,91,94,92,97,98,98,100,102,109,91,95,101,96,97,89,100,100,95,93,92,95]
[null,null,null,null,null,null,null,null,"SD",{"$f":"IF(J41=\"\",0,(J41-INDIRECT(CONCATENATE(J40,\"CR\")))*113/INDIRECT(CONCATENATE(J40,\"SR\")))","v":22.6},{"$f":"IF(K41=\"\",0,(K41-INDIRECT(CONCATENATE(K40,\"CR\")))*113/INDIRECT(CONCATENATE(K40,\"SR\")))","v":19.752755905511815},24.338461538461537,26.946153846153845,22.514393939393937,17.384615384615383,22.6,32.161538461538463,25.207692307692309,25.446564885496183,24.338461538461537,24.338461538461537,28.684615384615384,23.469230769230769,24.338461538461537,16.515384615384615,19.752755905511815,18.545801526717558,22.42204724409449,23.311811023622049,23.47596899224806,24.338461538461537,26.076923076923077,29.994852941176465,17.744531249999994,21.792857142857141,25.981102362204727,21.73076923076923,22.686259541984729,14.724242424242426,23.729999999999997,23.893893129770994,21.209230769230775,16.991851851851848,18.590322580645168,20.848062015503874,0,0,0,0,0,0,0,0,0,0,0,0,0,0,0,0,0,0,0,0,0,0,0,0,0,0,0,0,0,{"$f":"IF(BW41=\"\",0,(BW41-INDIRECT(CONCATENATE(BW40,\"CR\")))*113/INDIRECT(CONCATENATE(BW40,\"SR\")))","v":0},0,0,0,0,0,0,0,0,0,0,0,0,0,0,0,{"$f":"IF(CM41=\"\",0,(CM41-INDIRECT(CONCATENATE(CM40,\"CR\")))*113/INDIRECT(CONCATENATE(CM40,\"SR\")))","v":0},0,{"$f":"IF(CO41=\"\",0,(CO41-INDIRECT(CONCATENATE(CO40,\"CR\")))*113/INDIRECT(CONCATENATE(CO40,\"SR\")))","v":0},0,{"$f":"IF(CQ41=\"\",0,(CQ41-INDIRECT(CONCATENATE(CQ40,\"CR\")))*113/INDIRECT(CONCATENATE(CQ40,\"SR\")))","v":0},0,{"$f":"IF(CS41=\"\",0,(CS41-INDIRECT(CONCATENATE(CS40,\"CR\")))*113/INDIRECT(CONCATENATE(CS40,\"SR\")))","v":0},0,{"$f":"IF(CU41=\"\",0,(CU41-INDIRECT(CONCATENATE(CU40,\"CR\")))*113/INDIRECT(CONCATENATE(CU40,\"SR\")))","v":0},0,{"$f":"IF(CW41=\"\",0,(CW41-INDIRECT(CONCATENATE(CW40,\"CR\")))*113/INDIRECT(CONCATENATE(CW40,\"SR\")))","v":0}]
[null,null,null,null,null,null,null,null,"New Hcap",{"$f":"J42-2","v":20.6},{"$f":"IF(K42>0,MIN(J42:K42)-2,J43)","v":17.752755905511815},{"$f":"IF(L42>0,MIN(J42:L42)-2,K43)","v":17.752755905511815},{"$f":"IF(M42>0,MIN(J42:M42)-1,L43)","v":18.752755905511815},{"$f":"IF(N42>0,MIN(J42:N42),M43)","v":19.752755905511815},{"$f":"IF(O42>0,AVERAGE(SMALL(IF(J42:O42>0,J42:O42),{1,2}))-1,N43)","v":17.568685645063599},{"$f":"IF(P42>0,AVERAGE(SMALL(IF(J42:P42>0,J42:P42),{1,2})),O43)","v":18.568685645063599},{"$f":"IF(Q42>0,AVERAGE(SMALL(IF(J42:Q42>0,J42:Q42),{1,2})),P43)","v":18.568685645063599},{"$f":"IF(R42>0,AVERAGE(SMALL(IF(J42:R42>0,J42:R42),{1,2,3})),Q43)","v":19.883921743173712},{"$f":"IF(S42>0,AVERAGE(SMALL(IF(J42:S42>0,J42:S42),{1,2,3})),R43)","v":19.883921743173712},{"$f":"IF(T42>0,AVERAGE(SMALL(IF(J42:T42>0,J42:T42),{1,2,3})),S43)","v":19.883921743173712},{"$f":"IF(U42>0,AVERAGE(SMALL(IF(J42:U42>0,J42:U42),{1,2,3,4})),T43)","v":20.562941307380285},{"$f":"IF(V42>0,AVERAGE(SMALL(IF(J42:V42>0,J42:V42),{1,2,3,4})),U43)","v":20.562941307380285},{"$f":"IF(W42>0,AVERAGE(SMALL(IF(J42:W42>0,J42:W42),{1,2,3,4})),V43)","v":20.562941307380285},{"$f":"IF(X42>0,AVERAGE(SMALL(IF(J42:X42>0,J42:X42),{1,2,3,4,5})),W43)","v":20.970353045904226},{"$f":"IF(Y42>0,AVERAGE(SMALL(IF(J42:Y42>0,J42:Y42),{1,2,3,4,5})),X43)","v":19.753429968981152},{"$f":"IF(Z42>0,AVERAGE(SMALL(IF(J42:Z42>0,J42:Z42),{1,2,3,4,5,6})),Y43)","v":19.753317625069595},{"$f":"IF(AA42>0,AVERAGE(SMALL(IF(J42:AA42>0,J42:AA42),{1,2,3,4,5,6})),Z43)","v":19.077617879522524},{"$f":"IF(AB42>0,AVERAGE(SMALL(IF(J42:AB42>0,J42:AB42),{1,2,3,4,5,6,7})),AA43)","v":19.555393503032803},{"$f":"IF(AC42>0,AVERAGE(SMALL(IF(J42:AC42>0,J42:AC42),{1,2,3,4,5,6,7,8})),AB43)","v":19.935969315153702},{"$f":"IF(AD42>0,AVERAGE(SMALL(IF(K42:AD42>0,K42:AD42),{1,2,3,4,5,6,7,8})),AC43)","v":19.935969315153702},{"$f":"IF(AE42>0,AVERAGE(SMALL(IF(L42:AE42>0,L42:AE42),{1,2,3,4,5,6,7,8})),AD43)","v":20.380851204917484},{"$f":"IF(AF42>0,AVERAGE(SMALL(IF(M42:AF42>0,M42:AF42),{1,2,3,4,5,6,7,8})),AE43)","v":20.380851204917484},{"$f":"IF(AG42>0,AVERAGE(SMALL(IF(N42:AG42>0,N42:AG42),{1,2,3,4,5,6,7,8})),AF43)","v":20.380851204917484},{"$f":"IF(AH42>0,AVERAGE(SMALL(IF(O42:AH42>0,O42:AH42),{1,2,3,4,5,6,7,8})),AG43)","v":19.784618368743239},{"$f":"IF(AI42>0,AVERAGE(SMALL(IF(P42:AI42>0,P42:AI42),{1,2,3,4,5,6,7,8})),AH43)","v":20.335648588523458},{"$f":"IF(AJ42>0,AVERAGE(SMALL(IF(Q42:AJ42>0,Q42:AJ42),{1,2,3,4,5,6,7,8})),AI43)","v":20.444302434677304},{"$f":"IF(AK42>0,AVERAGE(SMALL(IF(R42:AK42>0,R42:AK42),{1,2,3,4,5,6,7,8})),AJ43)","v":20.226994742369612},{"$f":"IF(AL42>0,AVERAGE(SMALL(IF(S42:AL42>0,S42:AL42),{1,2,3,4,5,6,7,8})),AK43)","v":20.148800807164946},{"$f":"IF(AM42>0,AVERAGE(SMALL(IF(T42:AM42>0,T42:AM42),{1,2,3,4,5,6,7,8})),AL43)","v":19.153548667447158},{"$f":"IF(AN42>0,AVERAGE(SMALL(IF(U42:AN42>0,U42:AN42),{1,2,3,4,5,6,7,8})),AM43)","v":19.153548667447158},{"$f":"IF(AO42>0,AVERAGE(SMALL(IF(V42:AO42>0,V42:AO42),{1,2,3,4,5,6,7,8})),AN43)","v":19.153548667447158},{"$f":"IF(AP42>0,AVERAGE(SMALL(IF(W42:AP42>0,W42:AP42),{1,2,3,4,5,6,7,8})),AO43)","v":19.001946608089195},{"$f":"IF(AQ42>0,AVERAGE(SMALL(IF(X42:AQ42>0,X42:AQ42),{1,2,3,4,5,6,7,8})),AP43)","v":18.401820946713531},{"$f":"IF(AR42>0,AVERAGE(SMALL(IF(Y42:AR42>0,Y42:AR42),{1,2,3,4,5,6,7,8})),AQ43)","v":18.009265115448024},{"$f":"IF(AS42>0,AVERAGE(SMALL(IF(Z42:AS42>0,Z42:AS42),{1,2,3,4,5,6,7,8})),AR43)","v":18.550849790462934},{"$f":"IF(AT42>0,AVERAGE(SMALL(IF(AA42:AT42>0,AA42:AT42),{1,2,3,4,5,6,7,8})),AS43)","v":18.550849790462934},{"$f":"IF(AU42>0,AVERAGE(SMALL(IF(AB42:AU42>0,AB42:AU42),{1,2,3,4,5,6,7,8})),AT43)","v":18.550849790462934},{"$f":"IF(AV42>0,AVERAGE(SMALL(IF(AC42:AV42>0,AC42:AV42),{1,2,3,4,5,6,7,8})),AU43)","v":18.550849790462934},{"$f":"IF(AW42>0,AVERAGE(SMALL(IF(AD42:AW42>0,AD42:AW42),{1,2,3,4,5,6,7,8})),AV43)","v":18.550849790462934},{"$f":"IF(AX42>0,AVERAGE(SMALL(IF(AE42:AX42>0,AE42:AX42),{1,2,3,4,5,6,7,8})),AW43)","v":18.550849790462934},{"$f":"IF(AY42>0,AVERAGE(SMALL(IF(AF42:AY42>0,AF42:AY42),{1,2,3,4,5,6,7,8})),AX43)","v":18.550849790462934},{"$f":"IF(AZ42>0,AVERAGE(SMALL(IF(AG42:AZ42>0,AG42:AZ42),{1,2,3,4,5,6,7,8})),AY43)","v":18.550849790462934},{"$f":"IF(BA42>0,AVERAGE(SMALL(IF(AH42:BA42>0,AH42:BA42),{1,2,3,4,5,6,7,8})),AZ43)","v":18.550849790462934},{"$f":"IF(BB42>0,AVERAGE(SMALL(IF(AI42:BB42>0,AI42:BB42),{1,2,3,4,5,6,7,8})),BA43)","v":18.550849790462934},{"$f":"IF(BC42>0,AVERAGE(SMALL(IF(AJ42:BC42>0,AJ42:BC42),{1,2,3,4,5,6,7,8})),BB43)","v":18.550849790462934},{"$f":"IF(BD42>0,AVERAGE(SMALL(IF(AK42:BD42>0,AK42:BD42),{1,2,3,4,5,6,7,8})),BC43)","v":18.550849790462934},{"$f":"IF(BE42>0,AVERAGE(SMALL(IF(AL42:BE42>0,AL42:BE42),{1,2,3,4,5,6,7,8})),BD43)","v":18.550849790462934},{"$f":"IF(BF42>0,AVERAGE(SMALL(IF(AM42:BF42>0,AM42:BF42),{1,2,3,4,5,6,7,8})),BE43)","v":18.550849790462934},{"$f":"IF(BG42>0,AVERAGE(SMALL(IF(AN42:BG42>0,AN42:BG42),{1,2,3,4,5,6,7,8})),BF43)","v":18.550849790462934},{"$f":"IF(BH42>0,AVERAGE(SMALL(IF(AO42:BH42>0,AO42:BH42),{1,2,3,4,5,6,7,8})),BG43)","v":18.550849790462934},{"$f":"IF(BI42>0,AVERAGE(SMALL(IF(AP42:BI42>0,AP42:BI42),{1,2,3,4,5,6,7,8})),BH43)","v":18.550849790462934},{"$f":"IF(BJ42>0,AVERAGE(SMALL(IF(AQ42:BJ42>0,AQ42:BJ42),{1,2,3,4,5,6,7,8})),BI43)","v":18.550849790462934},{"$f":"IF(BK42>0,AVERAGE(SMALL(IF(AR42:BK42>0,AR42:BK42),{1,2,3,4,5,6,7,8})),BJ43)","v":18.550849790462934},{"$f":"IF(BL42>0,AVERAGE(SMALL(IF(AS42:BL42>0,AS42:BL42),{1,2,3,4,5,6,7,8})),BK43)","v":18.550849790462934},{"$f":"IF(BM42>0,AVERAGE(SMALL(IF(AT42:BM42>0,AT42:BM42),{1,2,3,4,5,6,7,8})),BL43)","v":18.550849790462934},{"$f":"IF(BN42>0,AVERAGE(SMALL(IF(AU42:BN42>0,AU42:BN42),{1,2,3,4,5,6,7,8})),BM43)","v":18.550849790462934},{"$f":"IF(BO42>0,AVERAGE(SMALL(IF(AV42:BO42>0,AV42:BO42),{1,2,3,4,5,6,7,8})),BN43)","v":18.550849790462934},{"$f":"IF(BP42>0,AVERAGE(SMALL(IF(AW42:BP42>0,AW42:BP42),{1,2,3,4,5,6,7,8})),BO43)","v":18.550849790462934},{"$f":"IF(BQ42>0,AVERAGE(SMALL(IF(AX42:BQ42>0,AX42:BQ42),{1,2,3,4,5,6,7,8})),BP43)","v":18.550849790462934},{"$f":"IF(BR42>0,AVERAGE(SMALL(IF(AY42:BR42>0,AY42:BR42),{1,2,3,4,5,6,7,8})),BQ43)","v":18.550849790462934},{"$f":"IF(BS42>0,AVERAGE(SMALL(IF(AZ42:BS42>0,AZ42:BS42),{1,2,3,4,5,6,7,8})),BR43)","v":18.550849790462934},{"$f":"IF(BT42>0,AVERAGE(SMALL(IF(BA42:BT42>0,BA42:BT42),{1,2,3,4,5,6,7,8})),BS43)","v":18.550849790462934},{"$f":"IF(BU42>0,AVERAGE(SMALL(IF(BB42:BU42>0,BB42:BU42),{1,2,3,4,5,6,7,8})),BT43)","v":18.550849790462934},{"$f":"IF(BV42>0,AVERAGE(SMALL(IF(BC42:BV42>0,BC42:BV42),{1,2,3,4,5,6,7,8})),BU43)","v":18.550849790462934},{"$f":"IF(BW42>0,AVERAGE(SMALL(IF(BD42:BW42>0,BD42:BW42),{1,2,3,4,5,6,7,8})),BV43)","v":18.550849790462934},{"$f":"IF(BX42>0,AVERAGE(SMALL(IF(BE42:BX42>0,BE42:BX42),{1,2,3,4,5,6,7,8})),BW43)","v":18.550849790462934},{"$f":"IF(BY42>0,AVERAGE(SMALL(IF(BF42:BY42>0,BF42:BY42),{1,2,3,4,5,6,7,8})),BX43)","v":18.550849790462934},{"$f":"IF(BZ42>0,AVERAGE(SMALL(IF(BG42:BZ42>0,BG42:BZ42),{1,2,3,4,5,6,7,8})),BY43)","v":18.550849790462934},{"$f":"IF(CA42>0,AVERAGE(SMALL(IF(BH42:CA42>0,BH42:CA42),{1,2,3,4,5,6,7,8})),BZ43)","v":18.550849790462934},{"$f":"IF(CB42>0,AVERAGE(SMALL(IF(BI42:CB42>0,BI42:CB42),{1,2,3,4,5,6,7,8})),CA43)","v":18.550849790462934},{"$f":"IF(CC42>0,AVERAGE(SMALL(IF(BJ42:CC42>0,BJ42:CC42),{1,2,3,4,5,6,7,8})),CB43)","v":18.550849790462934},{"$f":"IF(CD42>0,AVERAGE(SMALL(IF(BK42:CD42>0,BK42:CD42),{1,2,3,4,5,6,7,8})),CC43)","v":18.550849790462934},{"$f":"IF(CE42>0,AVERAGE(SMALL(IF(BL42:CE42>0,BL42:CE42),{1,2,3,4,5,6,7,8})),CD43)","v":18.550849790462934},{"$f":"IF(CF42>0,AVERAGE(SMALL(IF(BM42:CF42>0,BM42:CF42),{1,2,3,4,5,6,7,8})),CE43)","v":18.550849790462934},{"$f":"IF(CG42>0,AVERAGE(SMALL(IF(BN42:CG42>0,BN42:CG42),{1,2,3,4,5,6,7,8})),CF43)","v":18.550849790462934},{"$f":"IF(CH42>0,AVERAGE(SMALL(IF(BO42:CH42>0,BO42:CH42),{1,2,3,4,5,6,7,8})),CG43)","v":18.550849790462934},{"$f":"IF(CI42>0,AVERAGE(SMALL(IF(BP42:CI42>0,BP42:CI42),{1,2,3,4,5,6,7,8})),CH43)","v":18.550849790462934},{"$f":"IF(CJ42>0,AVERAGE(SMALL(IF(BQ42:CJ42>0,BQ42:CJ42),{1,2,3,4,5,6,7,8})),CI43)","v":18.550849790462934},{"$f":"IF(CK42>0,AVERAGE(SMALL(IF(BR42:CK42>0,BR42:CK42),{1,2,3,4,5,6,7,8})),CJ43)","v":18.550849790462934},{"$f":"IF(CL42>0,AVERAGE(SMALL(IF(BS42:CL42>0,BS42:CL42),{1,2,3,4,5,6,7,8})),CK43)","v":18.550849790462934},{"$f":"IF(CM42>0,AVERAGE(SMALL(IF(BT42:CM42>0,BT42:CM42),{1,2,3,4,5,6,7,8})),CL43)","v":18.550849790462934},{"$f":"IF(CN42>0,AVERAGE(SMALL(IF(BU42:CN42>0,BU42:CN42),{1,2,3,4,5,6,7,8})),CM43)","v":18.550849790462934},{"$f":"IF(CO42>0,AVERAGE(SMALL(IF(BV42:CO42>0,BV42:CO42),{1,2,3,4,5,6,7,8})),CN43)","v":18.550849790462934},{"$f":"IF(CP42>0,AVERAGE(SMALL(IF(BW42:CP42>0,BW42:CP42),{1,2,3,4,5,6,7,8})),CO43)","v":18.550849790462934},{"$f":"IF(CQ42>0,AVERAGE(SMALL(IF(BX42:CQ42>0,BX42:CQ42),{1,2,3,4,5,6,7,8})),CP43)","v":18.550849790462934},{"$f":"IF(CR42>0,AVERAGE(SMALL(IF(BY42:CR42>0,BY42:CR42),{1,2,3,4,5,6,7,8})),CQ43)","v":18.550849790462934},{"$f":"IF(CS42>0,AVERAGE(SMALL(IF(BZ42:CS42>0,BZ42:CS42),{1,2,3,4,5,6,7,8})),CR43)","v":18.550849790462934},{"$f":"IF(CT42>0,AVERAGE(SMALL(IF(CA42:CT42>0,CA42:CT42),{1,2,3,4,5,6,7,8})),CS43)","v":18.550849790462934},{"$f":"IF(CU42>0,AVERAGE(SMALL(IF(CB42:CU42>0,CB42:CU42),{1,2,3,4,5,6,7,8})),CT43)","v":18.550849790462934},{"$f":"IF(CV42>0,AVERAGE(SMALL(IF(CC42:CV42>0,CC42:CV42),{1,2,3,4,5,6,7,8})),CU43)","v":18.550849790462934},{"$f":"IF(CW42>0,AVERAGE(SMALL(IF(CD42:CW42>0,CD42:CW42),{1,2,3,4,5,6,7,8})),CV43)","v":18.550849790462934}]
[null,null,null,null,null,null,null,null,"Low Hcap",null,null,null,null,null,null,null,null,null,null,null,null,null,null,null,null,null,null,null,{"$f":"MIN($S43:AC43)","v":19.077617879522524},{"$f":"MIN($S43:AD43)","v":19.077617879522524},{"$f":"MIN($V43:AE43)","v":19.077617879522524},{"$f":"MIN($W43:AF43)","v":19.077617879522524},{"$f":"MIN($X43:AG43)","v":19.077617879522524},{"$f":"MIN($Y43:AH43)","v":19.077617879522524},{"$f":"MIN($AD43:AI43)","v":19.784618368743239},{"$f":"MIN($AD43:AJ43)","v":19.784618368743239},{"$f":"MIN($AD43:AK43)","v":19.784618368743239},{"$f":"MIN($AH43:AL43)","v":19.784618368743239},{"$f":"MIN($AI43:AM43)","v":19.153548667447158},{"$f":"MIN($AI43:AN43)","v":19.153548667447158},{"$f":"MIN($AI43:AO43)","v":19.153548667447158},{"$f":"MIN($AI43:AP43)","v":19.001946608089195},{"$f":"MIN($AI43:AQ43)","v":18.401820946713531},{"$f":"MIN($AJ43:AR43)","v":18.009265115448024},{"$f":"MIN($AK43:AS43)","v":18.009265115448024},{"$f":"MIN($AK43:AT43)","v":18.009265115448024},{"$f":"MIN($AK43:AU43)","v":18.009265115448024},{"$f":"MIN($AK43:AV43)","v":18.009265115448024},{"$f":"MIN($AK43:AW43)","v":18.009265115448024},{"$f":"MIN($AK43:AX43)","v":18.009265115448024},{"$f":"MIN($AK43:AY43)","v":18.009265115448024},{"$f":"MIN($AK43:AZ43)","v":18.009265115448024},{"$f":"MIN($AK43:BA43)","v":18.009265115448024},{"$f":"MIN($AK43:BB43)","v":18.009265115448024},{"$f":"MIN($AK43:BC43)","v":18.009265115448024},{"$f":"MIN($AK43:BD43)","v":18.009265115448024},{"$f":"MIN($AK43:BE43)","v":18.009265115448024},{"$f":"MIN($AK43:BF43)","v":18.009265115448024},{"$f":"MIN($AK43:BG43)","v":18.009265115448024},{"$f":"MIN($AK43:BH43)","v":18.009265115448024},{"$f":"MIN($AK43:BI43)","v":18.009265115448024},{"$f":"MIN($AK43:BJ43)","v":18.009265115448024},{"$f":"MIN($AK43:BK43)","v":18.009265115448024},{"$f":"MIN($AK43:BL43)","v":18.009265115448024},{"$f":"MIN($AK43:BM43)","v":18.009265115448024},{"$f":"MIN($AK43:BN43)","v":18.009265115448024},{"$f":"MIN($AK43:BO43)","v":18.009265115448024},{"$f":"MIN($AK43:BP43)","v":18.009265115448024},{"$f":"MIN($AK43:BQ43)","v":18.009265115448024},{"$f":"MIN($AK43:BR43)","v":18.009265115448024},{"$f":"MIN($AK43:BS43)","v":18.009265115448024},{"$f":"MIN($AK43:BT43)","v":18.009265115448024},{"$f":"MIN($AK43:BU43)","v":18.009265115448024},{"$f":"MIN($AK43:BV43)","v":18.009265115448024},{"$f":"MIN($AK43:BW43)","v":18.009265115448024},{"$f":"MIN($AK43:BX43)","v":18.009265115448024},{"$f":"MIN($AK43:BY43)","v":18.009265115448024},{"$f":"MIN($AK43:BZ43)","v":18.009265115448024},{"$f":"MIN($AK43:CA43)","v":18.009265115448024},{"$f":"MIN($AK43:CB43)","v":18.009265115448024},{"$f":"MIN($AK43:CC43)","v":18.009265115448024},{"$f":"MIN($AK43:CD43)","v":18.009265115448024},{"$f":"MIN($AK43:CE43)","v":18.009265115448024},{"$f":"MIN($AK43:CF43)","v":18.009265115448024},{"$f":"MIN($AK43:CG43)","v":18.009265115448024},{"$f":"MIN($AK43:CH43)","v":18.009265115448024},{"$f":"MIN($AK43:CI43)","v":18.009265115448024},{"$f":"MIN($AK43:CJ43)","v":18.009265115448024},{"$f":"MIN($AK43:CK43)","v":18.009265115448024},{"$f":"MIN($AK43:CL43)","v":18.009265115448024},{"$f":"MIN($AK43:CM43)","v":18.009265115448024},{"$f":"MIN($AK43:CN43)","v":18.009265115448024},{"$f":"MIN($AK43:CO43)","v":18.009265115448024},{"$f":"MIN($AK43:CP43)","v":18.009265115448024},{"$f":"MIN($AK43:CQ43)","v":18.009265115448024},{"$f":"MIN($AK43:CR43)","v":18.009265115448024},{"$f":"MIN($AK43:CS43)","v":18.009265115448024},{"$f":"MIN($AK43:CT43)","v":18.009265115448024},{"$f":"MIN($AK43:CU43)","v":18.009265115448024},{"$f":"MIN($AK43:CV43)","v":18.009265115448024},{"$f":"MIN($AK43:CW43)","v":18.009265115448024}]
[null,"Brogan","Padraig",16.600000000000001,null,{"$f":"IF(H45<4,\"Y\",)","v":0},null,{"$f":"COUNT(J45:CX45)","v":33},"Date",null,"2020-06-05","2020-06-10","2020-06-19","2020-07-15","2020-08-14","2020-08-26","2020-11-01","2020-11-15","2021-03-28","2021-04-11","2021-04-16","2021-04-25","2021-04-30","2021-05-09","2021-05-14","2021-05-23","2021-05-30","2021-06-04","2021-06-13","2021-06-18","2021-07-25","2021-07-30","2021-08-08","2021-08-15","2021-09-03","2021-09-19","2022-05-15","2022-05-20","2022-06-17","2022-07-03","2022-10-21","2023-05-28","2023-06-04",null,null,null,null,null,null,null,null,null,null,null,null,null,null,null,null,null,null,null,null,null,null,null,null,null,null,null,null,null,null,null,null,null,null,null,null,null,null,null,null,null,null,null,null,null,null,null,null,null,null,null,null,null,null,null,null,null,null,null,{"$f":"IF(CW49>$DD$1,36,CW49)","v":17.186851102124042},17.734408292995187,{"$f":"CZ45-CY45","v":0.54755719087114585}]
[null,null,null,null,null,null,null,null,"Course",null,"ErdingHG","GutThailingHG","StEurachHG","GutThailingHG","EgmatingHG","GutThailingHG","ErdingHG","OdelzhausenHG","OdelzhausenHG","ErdingHR","TegernbachHG","PfaffingHG","TegernbachHG","ErdingHG","StEurachHG","OdelzhausenHG","IffeldorfHG","EgmatingHG","PfaffingHG","TegernbachHG","OdelzhausenHR","MangfalltalHG","IffeldorfHG","ErdingHG","StEurachHG","ErdingHG","OdelzhausenHR","GutHaeusenHG","StEurachHG","Pfaffing2022HG","TegernbachHG","ErdingHG","IffeldorfHG"]
[null,null,null,null,null,null,null,null,"Ad Gr",null,95,96,98,97,94,92,100,96,96,88,90,98,90,95,93,94,102,90,96,92,90,91,96,93,97,96,93,97,102,96,95,90,88]
[null,null,null,null,null,null,null,null,"SD",16.600000000000001,{"$f":"IF(K47=\"\",0,(K47-INDIRECT(CONCATENATE(K46,\"CR\")))*113/INDIRECT(CONCATENATE(K46,\"SR\")))","v":20.861538461538462},{"$f":"IF(L47=\"\",0,(L47-INDIRECT(CONCATENATE(L46,\"CR\")))*113/INDIRECT(CONCATENATE(L46,\"SR\")))","v":21.996183206106871},22.513740458015263,22.858778625954198,18.718320610687027,18.545801526717558,25.207692307692309,21.53228346456693,21.53228346456693,20.036134453781507,15.665909090909087,22.6,15.665909090909087,20.861538461538462,18.20076335877862,19.752755905511815,26.979844961240307,15.267938931297712,20.861538461538462,17.3780303030303,21.546610169491526,16.540579710144929,21.724031007751936,19.123076923076923,21.651145038167932,21.73076923076923,24.41949152542373,22.42204724409449,25.964122137404576,20.253076923076922,19.946212121212117,16.515384615384615,14.716279069767438,0,0,0,0,0,0,0,0,0,0,0,0,0,0,0,0,0,0,0,0,0,0,0,0,0,0,0,0,0,0,0,0,{"$f":"IF(BX47=\"\",0,(BX47-INDIRECT(CONCATENATE(BX46,\"CR\")))*113/INDIRECT(CONCATENATE(BX46,\"SR\")))","v":0},0,0,0,0,0,0,0,0,0,0,0,0,0,0,{"$f":"IF(CM47=\"\",0,(CM47-INDIRECT(CONCATENATE(CM46,\"CR\")))*113/INDIRECT(CONCATENATE(CM46,\"SR\")))","v":0},0,{"$f":"IF(CO47=\"\",0,(CO47-INDIRECT(CONCATENATE(CO46,\"CR\")))*113/INDIRECT(CONCATENATE(CO46,\"SR\")))","v":0},0,{"$f":"IF(CQ47=\"\",0,(CQ47-INDIRECT(CONCATENATE(CQ46,\"CR\")))*113/INDIRECT(CONCATENATE(CQ46,\"SR\")))","v":0},0,{"$f":"IF(CS47=\"\",0,(CS47-INDIRECT(CONCATENATE(CS46,\"CR\")))*113/INDIRECT(CONCATENATE(CS46,\"SR\")))","v":0},0,{"$f":"IF(CU47=\"\",0,(CU47-INDIRECT(CONCATENATE(CU46,\"CR\")))*113/INDIRECT(CONCATENATE(CU46,\"SR\")))","v":0},0,{"$f":"IF(CW47=\"\",0,(CW47-INDIRECT(CONCATENATE(CW46,\"CR\")))*113/INDIRECT(CONCATENATE(CW46,\"SR\")))","v":0}]
[null,null,null,null,null,null,null,null,"New Hcap",{"$f":"J48-2","v":14.600000000000001},{"$f":"IF(K48>0,MIN(J48:K48)-2,J49)","v":14.600000000000001},{"$f":"IF(L48>0,MIN(J48:L48)-2,K49)","v":14.600000000000001},{"$f":"IF(M48>0,MIN(J48:M48)-1,L49)","v":15.600000000000001},{"$f":"IF(N48>0,MIN(J48:N48),M49)","v":16.600000000000001},{"$f":"IF(O48>0,AVERAGE(SMALL(IF(J48:O48>0,J48:O48),{1,2}))-1,N49)","v":16.659160305343512},{"$f":"IF(P48>0,AVERAGE(SMALL(IF(J48:P48>0,J48:P48),{1,2})),O49)","v":17.572900763358781},{"$f":"IF(Q48>0,AVERAGE(SMALL(IF(J48:Q48>0,J48:Q48),{1,2})),P49)","v":17.572900763358781},{"$f":"IF(R48>0,AVERAGE(SMALL(IF(J48:R48>0,J48:R48),{1,2,3})),Q49)","v":17.954707379134863},{"$f":"IF(S48>0,AVERAGE(SMALL(IF(J48:S48>0,J48:S48),{1,2,3})),R49)","v":17.954707379134863},{"$f":"IF(T48>0,AVERAGE(SMALL(IF(J48:T48>0,J48:T48),{1,2,3})),S49)","v":17.954707379134863},{"$f":"IF(U48>0,AVERAGE(SMALL(IF(J48:U48>0,J48:U48),{1,2,3,4})),T49)","v":17.382507807078419},{"$f":"IF(V48>0,AVERAGE(SMALL(IF(J48:V48>0,J48:V48),{1,2,3,4})),U49)","v":17.382507807078419},{"$f":"IF(W48>0,AVERAGE(SMALL(IF(J48:W48>0,J48:W48),{1,2,3,4})),V49)","v":16.619404927133932},{"$f":"IF(X48>0,AVERAGE(SMALL(IF(J48:X48>0,J48:X48),{1,2,3,4,5})),W49)","v":17.039188063844552},{"$f":"IF(Y48>0,AVERAGE(SMALL(IF(J48:Y48>0,J48:Y48),{1,2,3,4,5})),X49)","v":16.935676613462867},{"$f":"IF(Z48>0,AVERAGE(SMALL(IF(J48:Z48>0,J48:Z48),{1,2,3,4,5,6})),Y49)","v":17.232783946333562},{"$f":"IF(AA48>0,AVERAGE(SMALL(IF(J48:AA48>0,J48:AA48),{1,2,3,4,5,6})),Z49)","v":17.232783946333562},{"$f":"IF(AB48>0,AVERAGE(SMALL(IF(J48:AB48>0,J48:AB48),{1,2,3,4,5,6,7})),AA49)","v":16.952091801328443},{"$f":"IF(AC48>0,AVERAGE(SMALL(IF(J48:AC48>0,J48:AC48),{1,2,3,4,5,6,7,8})),AB49)","v":17.302174814351364},{"$f":"IF(AD48>0,AVERAGE(SMALL(IF(K48:AD48>0,K48:AD48),{1,2,3,4,5,6,7,8})),AC49)","v":17.399428602230149},{"$f":"IF(AE48>0,AVERAGE(SMALL(IF(L48:AE48>0,L48:AE48),{1,2,3,4,5,6,7,8})),AD49)","v":17.399428602230149},{"$f":"IF(AF48>0,AVERAGE(SMALL(IF(M48:AF48>0,M48:AF48),{1,2,3,4,5,6,7,8})),AE49)","v":16.997906577809289},{"$f":"IF(AG48>0,AVERAGE(SMALL(IF(N48:AG48>0,N48:AG48),{1,2,3,4,5,6,7,8})),AF49)","v":16.997906577809289},{"$f":"IF(AH48>0,AVERAGE(SMALL(IF(O48:AH48>0,O48:AH48),{1,2,3,4,5,6,7,8})),AG49)","v":16.997906577809289},{"$f":"IF(AI48>0,AVERAGE(SMALL(IF(P48:AI48>0,P48:AI48),{1,2,3,4,5,6,7,8})),AH49)","v":17.048501116858027},{"$f":"IF(AJ48>0,AVERAGE(SMALL(IF(Q48:AJ48>0,Q48:AJ48),{1,2,3,4,5,6,7,8})),AI49)","v":17.199370414207308},{"$f":"IF(AK48>0,AVERAGE(SMALL(IF(R48:AK48>0,R48:AK48),{1,2,3,4,5,6,7,8})),AJ49)","v":17.199370414207308},{"$f":"IF(AL48>0,AVERAGE(SMALL(IF(S48:AL48>0,S48:AL48),{1,2,3,4,5,6,7,8})),AK49)","v":17.199370414207308},{"$f":"IF(AM48>0,AVERAGE(SMALL(IF(T48:AM48>0,T48:AM48),{1,2,3,4,5,6,7,8})),AL49)","v":17.199370414207308},{"$f":"IF(AN48>0,AVERAGE(SMALL(IF(U48:AN48>0,U48:AN48),{1,2,3,4,5,6,7,8})),AM49)","v":17.199370414207308},{"$f":"IF(AO48>0,AVERAGE(SMALL(IF(V48:AO48>0,V48:AO48),{1,2,3,4,5,6,7,8})),AN49)","v":17.734408292995187},{"$f":"IF(AP48>0,AVERAGE(SMALL(IF(W48:AP48>0,W48:AP48),{1,2,3,4,5,6,7,8})),AO49)","v":17.305554854766751},{"$f":"IF(AQ48>0,AVERAGE(SMALL(IF(X48:AQ48>0,X48:AQ48),{1,2,3,4,5,6,7,8})),AP49)","v":17.186851102124042},{"$f":"IF(AR48>0,AVERAGE(SMALL(IF(Y48:AR48>0,Y48:AR48),{1,2,3,4,5,6,7,8})),AQ49)","v":17.186851102124042},{"$f":"IF(AS48>0,AVERAGE(SMALL(IF(Z48:AS48>0,Z48:AS48),{1,2,3,4,5,6,7,8})),AR49)","v":17.186851102124042},{"$f":"IF(AT48>0,AVERAGE(SMALL(IF(AA48:AT48>0,AA48:AT48),{1,2,3,4,5,6,7,8})),AS49)","v":17.186851102124042},{"$f":"IF(AU48>0,AVERAGE(SMALL(IF(AB48:AU48>0,AB48:AU48),{1,2,3,4,5,6,7,8})),AT49)","v":17.186851102124042},{"$f":"IF(AV48>0,AVERAGE(SMALL(IF(AC48:AV48>0,AC48:AV48),{1,2,3,4,5,6,7,8})),AU49)","v":17.186851102124042},{"$f":"IF(AW48>0,AVERAGE(SMALL(IF(AD48:AW48>0,AD48:AW48),{1,2,3,4,5,6,7,8})),AV49)","v":17.186851102124042},{"$f":"IF(AX48>0,AVERAGE(SMALL(IF(AE48:AX48>0,AE48:AX48),{1,2,3,4,5,6,7,8})),AW49)","v":17.186851102124042},{"$f":"IF(AY48>0,AVERAGE(SMALL(IF(AF48:AY48>0,AF48:AY48),{1,2,3,4,5,6,7,8})),AX49)","v":17.186851102124042},{"$f":"IF(AZ48>0,AVERAGE(SMALL(IF(AG48:AZ48>0,AG48:AZ48),{1,2,3,4,5,6,7,8})),AY49)","v":17.186851102124042},{"$f":"IF(BA48>0,AVERAGE(SMALL(IF(AH48:BA48>0,AH48:BA48),{1,2,3,4,5,6,7,8})),AZ49)","v":17.186851102124042},{"$f":"IF(BB48>0,AVERAGE(SMALL(IF(AI48:BB48>0,AI48:BB48),{1,2,3,4,5,6,7,8})),BA49)","v":17.186851102124042},{"$f":"IF(BC48>0,AVERAGE(SMALL(IF(AJ48:BC48>0,AJ48:BC48),{1,2,3,4,5,6,7,8})),BB49)","v":17.186851102124042},{"$f":"IF(BD48>0,AVERAGE(SMALL(IF(AK48:BD48>0,AK48:BD48),{1,2,3,4,5,6,7,8})),BC49)","v":17.186851102124042},{"$f":"IF(BE48>0,AVERAGE(SMALL(IF(AL48:BE48>0,AL48:BE48),{1,2,3,4,5,6,7,8})),BD49)","v":17.186851102124042},{"$f":"IF(BF48>0,AVERAGE(SMALL(IF(AM48:BF48>0,AM48:BF48),{1,2,3,4,5,6,7,8})),BE49)","v":17.186851102124042},{"$f":"IF(BG48>0,AVERAGE(SMALL(IF(AN48:BG48>0,AN48:BG48),{1,2,3,4,5,6,7,8})),BF49)","v":17.186851102124042},{"$f":"IF(BH48>0,AVERAGE(SMALL(IF(AO48:BH48>0,AO48:BH48),{1,2,3,4,5,6,7,8})),BG49)","v":17.186851102124042},{"$f":"IF(BI48>0,AVERAGE(SMALL(IF(AP48:BI48>0,AP48:BI48),{1,2,3,4,5,6,7,8})),BH49)","v":17.186851102124042},{"$f":"IF(BJ48>0,AVERAGE(SMALL(IF(AQ48:BJ48>0,AQ48:BJ48),{1,2,3,4,5,6,7,8})),BI49)","v":17.186851102124042},{"$f":"IF(BK48>0,AVERAGE(SMALL(IF(AR48:BK48>0,AR48:BK48),{1,2,3,4,5,6,7,8})),BJ49)","v":17.186851102124042},{"$f":"IF(BL48>0,AVERAGE(SMALL(IF(AS48:BL48>0,AS48:BL48),{1,2,3,4,5,6,7,8})),BK49)","v":17.186851102124042},{"$f":"IF(BM48>0,AVERAGE(SMALL(IF(AT48:BM48>0,AT48:BM48),{1,2,3,4,5,6,7,8})),BL49)","v":17.186851102124042},{"$f":"IF(BN48>0,AVERAGE(SMALL(IF(AU48:BN48>0,AU48:BN48),{1,2,3,4,5,6,7,8})),BM49)","v":17.186851102124042},{"$f":"IF(BO48>0,AVERAGE(SMALL(IF(AV48:BO48>0,AV48:BO48),{1,2,3,4,5,6,7,8})),BN49)","v":17.186851102124042},{"$f":"IF(BP48>0,AVERAGE(SMALL(IF(AW48:BP48>0,AW48:BP48),{1,2,3,4,5,6,7,8})),BO49)","v":17.186851102124042},{"$f":"IF(BQ48>0,AVERAGE(SMALL(IF(AX48:BQ48>0,AX48:BQ48),{1,2,3,4,5,6,7,8})),BP49)","v":17.186851102124042},{"$f":"IF(BR48>0,AVERAGE(SMALL(IF(AY48:BR48>0,AY48:BR48),{1,2,3,4,5,6,7,8})),BQ49)","v":17.186851102124042},{"$f":"IF(BS48>0,AVERAGE(SMALL(IF(AZ48:BS48>0,AZ48:BS48),{1,2,3,4,5,6,7,8})),BR49)","v":17.186851102124042},{"$f":"IF(BT48>0,AVERAGE(SMALL(IF(BA48:BT48>0,BA48:BT48),{1,2,3,4,5,6,7,8})),BS49)","v":17.186851102124042},{"$f":"IF(BU48>0,AVERAGE(SMALL(IF(BB48:BU48>0,BB48:BU48),{1,2,3,4,5,6,7,8})),BT49)","v":17.186851102124042},{"$f":"IF(BV48>0,AVERAGE(SMALL(IF(BC48:BV48>0,BC48:BV48),{1,2,3,4,5,6,7,8})),BU49)","v":17.186851102124042},{"$f":"IF(BW48>0,AVERAGE(SMALL(IF(BD48:BW48>0,BD48:BW48),{1,2,3,4,5,6,7,8})),BV49)","v":17.186851102124042},{"$f":"IF(BX48>0,AVERAGE(SMALL(IF(BE48:BX48>0,BE48:BX48),{1,2,3,4,5,6,7,8})),BW49)","v":17.186851102124042},{"$f":"IF(BY48>0,AVERAGE(SMALL(IF(BF48:BY48>0,BF48:BY48),{1,2,3,4,5,6,7,8})),BX49)","v":17.186851102124042},{"$f":"IF(BZ48>0,AVERAGE(SMALL(IF(BG48:BZ48>0,BG48:BZ48),{1,2,3,4,5,6,7,8})),BY49)","v":17.186851102124042},{"$f":"IF(CA48>0,AVERAGE(SMALL(IF(BH48:CA48>0,BH48:CA48),{1,2,3,4,5,6,7,8})),BZ49)","v":17.186851102124042},{"$f":"IF(CB48>0,AVERAGE(SMALL(IF(BI48:CB48>0,BI48:CB48),{1,2,3,4,5,6,7,8})),CA49)","v":17.186851102124042},{"$f":"IF(CC48>0,AVERAGE(SMALL(IF(BJ48:CC48>0,BJ48:CC48),{1,2,3,4,5,6,7,8})),CB49)","v":17.186851102124042},{"$f":"IF(CD48>0,AVERAGE(SMALL(IF(BK48:CD48>0,BK48:CD48),{1,2,3,4,5,6,7,8})),CC49)","v":17.186851102124042},{"$f":"IF(CE48>0,AVERAGE(SMALL(IF(BL48:CE48>0,BL48:CE48),{1,2,3,4,5,6,7,8})),CD49)","v":17.186851102124042},{"$f":"IF(CF48>0,AVERAGE(SMALL(IF(BM48:CF48>0,BM48:CF48),{1,2,3,4,5,6,7,8})),CE49)","v":17.186851102124042},{"$f":"IF(CG48>0,AVERAGE(SMALL(IF(BN48:CG48>0,BN48:CG48),{1,2,3,4,5,6,7,8})),CF49)","v":17.186851102124042},{"$f":"IF(CH48>0,AVERAGE(SMALL(IF(BO48:CH48>0,BO48:CH48),{1,2,3,4,5,6,7,8})),CG49)","v":17.186851102124042},{"$f":"IF(CI48>0,AVERAGE(SMALL(IF(BP48:CI48>0,BP48:CI48),{1,2,3,4,5,6,7,8})),CH49)","v":17.186851102124042},{"$f":"IF(CJ48>0,AVERAGE(SMALL(IF(BQ48:CJ48>0,BQ48:CJ48),{1,2,3,4,5,6,7,8})),CI49)","v":17.186851102124042},{"$f":"IF(CK48>0,AVERAGE(SMALL(IF(BR48:CK48>0,BR48:CK48),{1,2,3,4,5,6,7,8})),CJ49)","v":17.186851102124042},{"$f":"IF(CL48>0,AVERAGE(SMALL(IF(BS48:CL48>0,BS48:CL48),{1,2,3,4,5,6,7,8})),CK49)","v":17.186851102124042},{"$f":"IF(CM48>0,AVERAGE(SMALL(IF(BT48:CM48>0,BT48:CM48),{1,2,3,4,5,6,7,8})),CL49)","v":17.186851102124042},{"$f":"IF(CN48>0,AVERAGE(SMALL(IF(BU48:CN48>0,BU48:CN48),{1,2,3,4,5,6,7,8})),CM49)","v":17.186851102124042},{"$f":"IF(CO48>0,AVERAGE(SMALL(IF(BV48:CO48>0,BV48:CO48),{1,2,3,4,5,6,7,8})),CN49)","v":17.186851102124042},{"$f":"IF(CP48>0,AVERAGE(SMALL(IF(BW48:CP48>0,BW48:CP48),{1,2,3,4,5,6,7,8})),CO49)","v":17.186851102124042},{"$f":"IF(CQ48>0,AVERAGE(SMALL(IF(BX48:CQ48>0,BX48:CQ48),{1,2,3,4,5,6,7,8})),CP49)","v":17.186851102124042},{"$f":"IF(CR48>0,AVERAGE(SMALL(IF(BY48:CR48>0,BY48:CR48),{1,2,3,4,5,6,7,8})),CQ49)","v":17.186851102124042},{"$f":"IF(CS48>0,AVERAGE(SMALL(IF(BZ48:CS48>0,BZ48:CS48),{1,2,3,4,5,6,7,8})),CR49)","v":17.186851102124042},{"$f":"IF(CT48>0,AVERAGE(SMALL(IF(CA48:CT48>0,CA48:CT48),{1,2,3,4,5,6,7,8})),CS49)","v":17.186851102124042},{"$f":"IF(CU48>0,AVERAGE(SMALL(IF(CB48:CU48>0,CB48:CU48),{1,2,3,4,5,6,7,8})),CT49)","v":17.186851102124042},{"$f":"IF(CV48>0,AVERAGE(SMALL(IF(CC48:CV48>0,CC48:CV48),{1,2,3,4,5,6,7,8})),CU49)","v":17.186851102124042},{"$f":"IF(CW48>0,AVERAGE(SMALL(IF(CD48:CW48>0,CD48:CW48),{1,2,3,4,5,6,7,8})),CV49)","v":17.186851102124042}]
[null,null,null,null,null,null,null,null,"Low Hcap",null,null,null,null,null,null,null,null,null,null,null,null,null,null,null,null,null,null,null,{"$f":"MIN($M49:AC49)","v":15.600000000000001},{"$f":"MIN($M49:AD49)","v":15.600000000000001},{"$f":"MIN($O49:AE49)","v":16.619404927133932},{"$f":"MIN($O49:AF49)","v":16.619404927133932},{"$f":"MIN($O49:AG49)","v":16.619404927133932},{"$f":"MIN($P49:AH49)","v":16.619404927133932},{"$f":"MIN($Q49:AI49)","v":16.619404927133932},{"$f":"MIN($Q49:AJ49)","v":16.619404927133932},{"$f":"MIN($Z49:AK49)","v":16.952091801328443},{"$f":"MIN($Z49:AL49)","v":16.952091801328443},{"$f":"MIN($AD49:AM49)","v":16.997906577809289},{"$f":"MIN($AE49:AN49)","v":16.997906577809289},{"$f":"MIN($AK49:AO49)","v":17.199370414207308},{"$f":"MIN($AL49:AP49)","v":17.199370414207308},{"$f":"MIN($AM49:AQ49)","v":17.186851102124042},{"$f":"MIN($AM49:AR49)","v":17.186851102124042},{"$f":"MIN($AM49:AS49)","v":17.186851102124042},{"$f":"MIN($AM49:AT49)","v":17.186851102124042},{"$f":"MIN($AM49:AU49)","v":17.186851102124042},{"$f":"MIN($AM49:AV49)","v":17.186851102124042},{"$f":"MIN($AM49:AW49)","v":17.186851102124042},{"$f":"MIN($AM49:AX49)","v":17.186851102124042},{"$f":"MIN($AM49:AY49)","v":17.186851102124042},{"$f":"MIN($AM49:AZ49)","v":17.186851102124042},{"$f":"MIN($AM49:BA49)","v":17.186851102124042},{"$f":"MIN($AM49:BB49)","v":17.186851102124042},{"$f":"MIN($AM49:BC49)","v":17.186851102124042},{"$f":"MIN($AM49:BD49)","v":17.186851102124042},{"$f":"MIN($AM49:BE49)","v":17.186851102124042},{"$f":"MIN($AM49:BF49)","v":17.186851102124042},{"$f":"MIN($AM49:BG49)","v":17.186851102124042},{"$f":"MIN($AM49:BH49)","v":17.186851102124042},{"$f":"MIN($AM49:BI49)","v":17.186851102124042},{"$f":"MIN($AM49:BJ49)","v":17.186851102124042},{"$f":"MIN($AM49:BK49)","v":17.186851102124042},{"$f":"MIN($AM49:BL49)","v":17.186851102124042},{"$f":"MIN($AM49:BM49)","v":17.186851102124042},{"$f":"MIN($AM49:BN49)","v":17.186851102124042},{"$f":"MIN($AM49:BO49)","v":17.186851102124042},{"$f":"MIN($AM49:BP49)","v":17.186851102124042},{"$f":"MIN($AM49:BQ49)","v":17.186851102124042},{"$f":"MIN($AM49:BR49)","v":17.186851102124042},{"$f":"MIN($AM49:BS49)","v":17.186851102124042},{"$f":"MIN($AM49:BT49)","v":17.186851102124042},{"$f":"MIN($AM49:BU49)","v":17.186851102124042},{"$f":"MIN($AM49:BV49)","v":17.186851102124042},{"$f":"MIN($AM49:BW49)","v":17.186851102124042},{"$f":"MIN($AM49:BX49)","v":17.186851102124042},{"$f":"MIN($AM49:BY49)","v":17.186851102124042},{"$f":"MIN($AM49:BZ49)","v":17.186851102124042},{"$f":"MIN($AM49:CA49)","v":17.186851102124042},{"$f":"MIN($AM49:CB49)","v":17.186851102124042},{"$f":"MIN($AM49:CC49)","v":17.186851102124042},{"$f":"MIN($AM49:CD49)","v":17.186851102124042},{"$f":"MIN($AM49:CE49)","v":17.186851102124042},{"$f":"MIN($AM49:CF49)","v":17.186851102124042},{"$f":"MIN($AM49:CG49)","v":17.186851102124042},{"$f":"MIN($AM49:CH49)","v":17.186851102124042},{"$f":"MIN($AM49:CI49)","v":17.186851102124042},{"$f":"MIN($AM49:CJ49)","v":17.186851102124042},{"$f":"MIN($AM49:CK49)","v":17.186851102124042},{"$f":"MIN($AM49:CL49)","v":17.186851102124042},{"$f":"MIN($AM49:CM49)","v":17.186851102124042},{"$f":"MIN($AM49:CN49)","v":17.186851102124042},{"$f":"MIN($AM49:CO49)","v":17.186851102124042},{"$f":"MIN($AM49:CP49)","v":17.186851102124042},{"$f":"MIN($AM49:CQ49)","v":17.186851102124042},{"$f":"MIN($AM49:CR49)","v":17.186851102124042},{"$f":"MIN($AM49:CS49)","v":17.186851102124042},{"$f":"MIN($AM49:CT49)","v":17.186851102124042},{"$f":"MIN($AM49:CU49)","v":17.186851102124042},{"$f":"MIN($AM49:CV49)","v":17.186851102124042},{"$f":"MIN($AM49:CW49)","v":17.186851102124042}]
[null,"Brown","Martin",17.899999999999999,null,{"$f":"IF(H51<4,\"Y\",)","v":"Y"},2000,{"$f":"COUNT(J51:CX51)","v":2},"Date",null,"2020-06-28","2021-07-11",null,null,null,null,null,null,null,null,null,null,null,null,null,null,null,null,null,null,null,null,null,null,null,null,null,null,null,null,null,null,null,null,null,null,null,null,null,null,null,null,null,null,null,null,null,null,null,null,null,null,null,null,null,null,null,null,null,null,null,null,null,null,null,null,null,null,null,null,null,null,null,null,null,null,null,null,null,null,null,null,null,null,null,null,null,null,null,null,null,null,{"$f":"IF(CW55>$DD$1,36,CW55)","v":15.899999999999999},15.899999999999999,{"$f":"CZ51-CY51","v":0}]
[null,null,null,null,null,null,null,null,"Course",null,"ErdingHG","PfaffingHG"]
[null,null,null,null,null,null,null,null,"Ad Gr",null,101,102]
[null,null,null,null,null,null,null,null,"SD",17.899999999999999,{"$f":"IF(K53=\"\",0,(K53-INDIRECT(CONCATENATE(K52,\"CR\")))*113/INDIRECT(CONCATENATE(K52,\"SR\")))","v":26.076923076923077},26.076923076923077,0,0,0,0,0,0,0,0,0,0,0,0,0,0,0,0,0,0,0,0,0,0,0,0,0,0,0,0,0,0,0,0,0,0,0,0,0,0,0,0,0,0,0,0,0,0,0,0,0,0,0,0,0,0,0,0,0,0,0,0,0,0,{"$f":"IF(BW53=\"\",0,(BW53-INDIRECT(CONCATENATE(BW52,\"CR\")))*113/INDIRECT(CONCATENATE(BW52,\"SR\")))","v":0},0,0,0,0,0,0,0,0,0,0,0,0,0,0,0,{"$f":"IF(CM53=\"\",0,(CM53-INDIRECT(CONCATENATE(CM52,\"CR\")))*113/INDIRECT(CONCATENATE(CM52,\"SR\")))","v":0},0,{"$f":"IF(CO53=\"\",0,(CO53-INDIRECT(CONCATENATE(CO52,\"CR\")))*113/INDIRECT(CONCATENATE(CO52,\"SR\")))","v":0},0,{"$f":"IF(CQ53=\"\",0,(CQ53-INDIRECT(CONCATENATE(CQ52,\"CR\")))*113/INDIRECT(CONCATENATE(CQ52,\"SR\")))","v":0},0,{"$f":"IF(CS53=\"\",0,(CS53-INDIRECT(CONCATENATE(CS52,\"CR\")))*113/INDIRECT(CONCATENATE(CS52,\"SR\")))","v":0},0,{"$f":"IF(CU53=\"\",0,(CU53-INDIRECT(CONCATENATE(CU52,\"CR\")))*113/INDIRECT(CONCATENATE(CU52,\"SR\")))","v":0},0,{"$f":"IF(CW53=\"\",0,(CW53-INDIRECT(CONCATENATE(CW52,\"CR\")))*113/INDIRECT(CONCATENATE(CW52,\"SR\")))","v":0}]
[null,null,null,null,null,null,null,null,"New Hcap",{"$f":"J54-2","v":15.899999999999999},{"$f":"IF(K54>0,MIN(J54:K54)-2,J55)","v":15.899999999999999},{"$f":"IF(L54>0,MIN(J54:L54)-2,K55)","v":15.899999999999999},{"$f":"IF(M54>0,MIN(J54:M54)-1,L55)","v":15.899999999999999},{"$f":"IF(N54>0,MIN(J54:N54),M55)","v":15.899999999999999},{"$f":"IF(O54>0,AVERAGE(SMALL(IF(J54:O54>0,J54:O54),{1,2}))-1,N55)","v":15.899999999999999},{"$f":"IF(P54>0,AVERAGE(SMALL(IF(J54:P54>0,J54:P54),{1,2})),O55)","v":15.899999999999999},{"$f":"IF(Q54>0,AVERAGE(SMALL(IF(J54:Q54>0,J54:Q54),{1,2})),P55)","v":15.899999999999999},{"$f":"IF(R54>0,AVERAGE(SMALL(IF(J54:R54>0,J54:R54),{1,2,3})),Q55)","v":15.899999999999999},{"$f":"IF(S54>0,AVERAGE(SMALL(IF(J54:S54>0,J54:S54),{1,2,3})),R55)","v":15.899999999999999},{"$f":"IF(T54>0,AVERAGE(SMALL(IF(J54:T54>0,J54:T54),{1,2,3})),S55)","v":15.899999999999999},{"$f":"IF(U54>0,AVERAGE(SMALL(IF(J54:U54>0,J54:U54),{1,2,3,4})),T55)","v":15.899999999999999},{"$f":"IF(V54>0,AVERAGE(SMALL(IF(J54:V54>0,J54:V54),{1,2,3,4})),U55)","v":15.899999999999999},{"$f":"IF(W54>0,AVERAGE(SMALL(IF(J54:W54>0,J54:W54),{1,2,3,4})),V55)","v":15.899999999999999},{"$f":"IF(X54>0,AVERAGE(SMALL(IF(J54:X54>0,J54:X54),{1,2,3,4,5})),W55)","v":15.899999999999999},{"$f":"IF(Y54>0,AVERAGE(SMALL(IF(J54:Y54>0,J54:Y54),{1,2,3,4,5})),X55)","v":15.899999999999999},{"$f":"IF(Z54>0,AVERAGE(SMALL(IF(J54:Z54>0,J54:Z54),{1,2,3,4,5,6})),Y55)","v":15.899999999999999},{"$f":"IF(AA54>0,AVERAGE(SMALL(IF(J54:AA54>0,J54:AA54),{1,2,3,4,5,6})),Z55)","v":15.899999999999999},{"$f":"IF(AB54>0,AVERAGE(SMALL(IF(J54:AB54>0,J54:AB54),{1,2,3,4,5,6,7})),AA55)","v":15.899999999999999},{"$f":"IF(AC54>0,AVERAGE(SMALL(IF(J54:AC54>0,J54:AC54),{1,2,3,4,5,6,7,8})),AB55)","v":15.899999999999999},{"$f":"IF(AD54>0,AVERAGE(SMALL(IF(K54:AD54>0,K54:AD54),{1,2,3,4,5,6,7,8})),AC55)","v":15.899999999999999},{"$f":"IF(AE54>0,AVERAGE(SMALL(IF(L54:AE54>0,L54:AE54),{1,2,3,4,5,6,7,8})),AD55)","v":15.899999999999999},{"$f":"IF(AF54>0,AVERAGE(SMALL(IF(M54:AF54>0,M54:AF54),{1,2,3,4,5,6,7,8})),AE55)","v":15.899999999999999},{"$f":"IF(AG54>0,AVERAGE(SMALL(IF(N54:AG54>0,N54:AG54),{1,2,3,4,5,6,7,8})),AF55)","v":15.899999999999999},{"$f":"IF(AH54>0,AVERAGE(SMALL(IF(O54:AH54>0,O54:AH54),{1,2,3,4,5,6,7,8})),AG55)","v":15.899999999999999},{"$f":"IF(AI54>0,AVERAGE(SMALL(IF(P54:AI54>0,P54:AI54),{1,2,3,4,5,6,7,8})),AH55)","v":15.899999999999999},{"$f":"IF(AJ54>0,AVERAGE(SMALL(IF(Q54:AJ54>0,Q54:AJ54),{1,2,3,4,5,6,7,8})),AI55)","v":15.899999999999999},{"$f":"IF(AK54>0,AVERAGE(SMALL(IF(R54:AK54>0,R54:AK54),{1,2,3,4,5,6,7,8})),AJ55)","v":15.899999999999999},{"$f":"IF(AL54>0,AVERAGE(SMALL(IF(S54:AL54>0,S54:AL54),{1,2,3,4,5,6,7,8})),AK55)","v":15.899999999999999},{"$f":"IF(AM54>0,AVERAGE(SMALL(IF(T54:AM54>0,T54:AM54),{1,2,3,4,5,6,7,8})),AL55)","v":15.899999999999999},{"$f":"IF(AN54>0,AVERAGE(SMALL(IF(U54:AN54>0,U54:AN54),{1,2,3,4,5,6,7,8})),AM55)","v":15.899999999999999},{"$f":"IF(AO54>0,AVERAGE(SMALL(IF(V54:AO54>0,V54:AO54),{1,2,3,4,5,6,7,8})),AN55)","v":15.899999999999999},{"$f":"IF(AP54>0,AVERAGE(SMALL(IF(W54:AP54>0,W54:AP54),{1,2,3,4,5,6,7,8})),AO55)","v":15.899999999999999},{"$f":"IF(AQ54>0,AVERAGE(SMALL(IF(X54:AQ54>0,X54:AQ54),{1,2,3,4,5,6,7,8})),AP55)","v":15.899999999999999},{"$f":"IF(AR54>0,AVERAGE(SMALL(IF(Y54:AR54>0,Y54:AR54),{1,2,3,4,5,6,7,8})),AQ55)","v":15.899999999999999},{"$f":"IF(AS54>0,AVERAGE(SMALL(IF(Z54:AS54>0,Z54:AS54),{1,2,3,4,5,6,7,8})),AR55)","v":15.899999999999999},{"$f":"IF(AT54>0,AVERAGE(SMALL(IF(AA54:AT54>0,AA54:AT54),{1,2,3,4,5,6,7,8})),AS55)","v":15.899999999999999},{"$f":"IF(AU54>0,AVERAGE(SMALL(IF(AB54:AU54>0,AB54:AU54),{1,2,3,4,5,6,7,8})),AT55)","v":15.899999999999999},{"$f":"IF(AV54>0,AVERAGE(SMALL(IF(AC54:AV54>0,AC54:AV54),{1,2,3,4,5,6,7,8})),AU55)","v":15.899999999999999},{"$f":"IF(AW54>0,AVERAGE(SMALL(IF(AD54:AW54>0,AD54:AW54),{1,2,3,4,5,6,7,8})),AV55)","v":15.899999999999999},{"$f":"IF(AX54>0,AVERAGE(SMALL(IF(AE54:AX54>0,AE54:AX54),{1,2,3,4,5,6,7,8})),AW55)","v":15.899999999999999},{"$f":"IF(AY54>0,AVERAGE(SMALL(IF(AF54:AY54>0,AF54:AY54),{1,2,3,4,5,6,7,8})),AX55)","v":15.899999999999999},{"$f":"IF(AZ54>0,AVERAGE(SMALL(IF(AG54:AZ54>0,AG54:AZ54),{1,2,3,4,5,6,7,8})),AY55)","v":15.899999999999999},{"$f":"IF(BA54>0,AVERAGE(SMALL(IF(AH54:BA54>0,AH54:BA54),{1,2,3,4,5,6,7,8})),AZ55)","v":15.899999999999999},{"$f":"IF(BB54>0,AVERAGE(SMALL(IF(AI54:BB54>0,AI54:BB54),{1,2,3,4,5,6,7,8})),BA55)","v":15.899999999999999},{"$f":"IF(BC54>0,AVERAGE(SMALL(IF(AJ54:BC54>0,AJ54:BC54),{1,2,3,4,5,6,7,8})),BB55)","v":15.899999999999999},{"$f":"IF(BD54>0,AVERAGE(SMALL(IF(AK54:BD54>0,AK54:BD54),{1,2,3,4,5,6,7,8})),BC55)","v":15.899999999999999},{"$f":"IF(BE54>0,AVERAGE(SMALL(IF(AL54:BE54>0,AL54:BE54),{1,2,3,4,5,6,7,8})),BD55)","v":15.899999999999999},{"$f":"IF(BF54>0,AVERAGE(SMALL(IF(AM54:BF54>0,AM54:BF54),{1,2,3,4,5,6,7,8})),BE55)","v":15.899999999999999},{"$f":"IF(BG54>0,AVERAGE(SMALL(IF(AN54:BG54>0,AN54:BG54),{1,2,3,4,5,6,7,8})),BF55)","v":15.899999999999999},{"$f":"IF(BH54>0,AVERAGE(SMALL(IF(AO54:BH54>0,AO54:BH54),{1,2,3,4,5,6,7,8})),BG55)","v":15.899999999999999},{"$f":"IF(BI54>0,AVERAGE(SMALL(IF(AP54:BI54>0,AP54:BI54),{1,2,3,4,5,6,7,8})),BH55)","v":15.899999999999999},{"$f":"IF(BJ54>0,AVERAGE(SMALL(IF(AQ54:BJ54>0,AQ54:BJ54),{1,2,3,4,5,6,7,8})),BI55)","v":15.899999999999999},{"$f":"IF(BK54>0,AVERAGE(SMALL(IF(AR54:BK54>0,AR54:BK54),{1,2,3,4,5,6,7,8})),BJ55)","v":15.899999999999999},{"$f":"IF(BL54>0,AVERAGE(SMALL(IF(AS54:BL54>0,AS54:BL54),{1,2,3,4,5,6,7,8})),BK55)","v":15.899999999999999},{"$f":"IF(BM54>0,AVERAGE(SMALL(IF(AT54:BM54>0,AT54:BM54),{1,2,3,4,5,6,7,8})),BL55)","v":15.899999999999999},{"$f":"IF(BN54>0,AVERAGE(SMALL(IF(AU54:BN54>0,AU54:BN54),{1,2,3,4,5,6,7,8})),BM55)","v":15.899999999999999},{"$f":"IF(BO54>0,AVERAGE(SMALL(IF(AV54:BO54>0,AV54:BO54),{1,2,3,4,5,6,7,8})),BN55)","v":15.899999999999999},{"$f":"IF(BP54>0,AVERAGE(SMALL(IF(AW54:BP54>0,AW54:BP54),{1,2,3,4,5,6,7,8})),BO55)","v":15.899999999999999},{"$f":"IF(BQ54>0,AVERAGE(SMALL(IF(AX54:BQ54>0,AX54:BQ54),{1,2,3,4,5,6,7,8})),BP55)","v":15.899999999999999},{"$f":"IF(BR54>0,AVERAGE(SMALL(IF(AY54:BR54>0,AY54:BR54),{1,2,3,4,5,6,7,8})),BQ55)","v":15.899999999999999},{"$f":"IF(BS54>0,AVERAGE(SMALL(IF(AZ54:BS54>0,AZ54:BS54),{1,2,3,4,5,6,7,8})),BR55)","v":15.899999999999999},{"$f":"IF(BT54>0,AVERAGE(SMALL(IF(BA54:BT54>0,BA54:BT54),{1,2,3,4,5,6,7,8})),BS55)","v":15.899999999999999},{"$f":"IF(BU54>0,AVERAGE(SMALL(IF(BB54:BU54>0,BB54:BU54),{1,2,3,4,5,6,7,8})),BT55)","v":15.899999999999999},{"$f":"IF(BV54>0,AVERAGE(SMALL(IF(BC54:BV54>0,BC54:BV54),{1,2,3,4,5,6,7,8})),BU55)","v":15.899999999999999},{"$f":"IF(BW54>0,AVERAGE(SMALL(IF(BD54:BW54>0,BD54:BW54),{1,2,3,4,5,6,7,8})),BV55)","v":15.899999999999999},{"$f":"IF(BX54>0,AVERAGE(SMALL(IF(BE54:BX54>0,BE54:BX54),{1,2,3,4,5,6,7,8})),BW55)","v":15.899999999999999},{"$f":"IF(BY54>0,AVERAGE(SMALL(IF(BF54:BY54>0,BF54:BY54),{1,2,3,4,5,6,7,8})),BX55)","v":15.899999999999999},{"$f":"IF(BZ54>0,AVERAGE(SMALL(IF(BG54:BZ54>0,BG54:BZ54),{1,2,3,4,5,6,7,8})),BY55)","v":15.899999999999999},{"$f":"IF(CA54>0,AVERAGE(SMALL(IF(BH54:CA54>0,BH54:CA54),{1,2,3,4,5,6,7,8})),BZ55)","v":15.899999999999999},{"$f":"IF(CB54>0,AVERAGE(SMALL(IF(BI54:CB54>0,BI54:CB54),{1,2,3,4,5,6,7,8})),CA55)","v":15.899999999999999},{"$f":"IF(CC54>0,AVERAGE(SMALL(IF(BJ54:CC54>0,BJ54:CC54),{1,2,3,4,5,6,7,8})),CB55)","v":15.899999999999999},{"$f":"IF(CD54>0,AVERAGE(SMALL(IF(BK54:CD54>0,BK54:CD54),{1,2,3,4,5,6,7,8})),CC55)","v":15.899999999999999},{"$f":"IF(CE54>0,AVERAGE(SMALL(IF(BL54:CE54>0,BL54:CE54),{1,2,3,4,5,6,7,8})),CD55)","v":15.899999999999999},{"$f":"IF(CF54>0,AVERAGE(SMALL(IF(BM54:CF54>0,BM54:CF54),{1,2,3,4,5,6,7,8})),CE55)","v":15.899999999999999},{"$f":"IF(CG54>0,AVERAGE(SMALL(IF(BN54:CG54>0,BN54:CG54),{1,2,3,4,5,6,7,8})),CF55)","v":15.899999999999999},{"$f":"IF(CH54>0,AVERAGE(SMALL(IF(BO54:CH54>0,BO54:CH54),{1,2,3,4,5,6,7,8})),CG55)","v":15.899999999999999},{"$f":"IF(CI54>0,AVERAGE(SMALL(IF(BP54:CI54>0,BP54:CI54),{1,2,3,4,5,6,7,8})),CH55)","v":15.899999999999999},{"$f":"IF(CJ54>0,AVERAGE(SMALL(IF(BQ54:CJ54>0,BQ54:CJ54),{1,2,3,4,5,6,7,8})),CI55)","v":15.899999999999999},{"$f":"IF(CK54>0,AVERAGE(SMALL(IF(BR54:CK54>0,BR54:CK54),{1,2,3,4,5,6,7,8})),CJ55)","v":15.899999999999999},{"$f":"IF(CL54>0,AVERAGE(SMALL(IF(BS54:CL54>0,BS54:CL54),{1,2,3,4,5,6,7,8})),CK55)","v":15.899999999999999},{"$f":"IF(CM54>0,AVERAGE(SMALL(IF(BT54:CM54>0,BT54:CM54),{1,2,3,4,5,6,7,8})),CL55)","v":15.899999999999999},{"$f":"IF(CN54>0,AVERAGE(SMALL(IF(BU54:CN54>0,BU54:CN54),{1,2,3,4,5,6,7,8})),CM55)","v":15.899999999999999},{"$f":"IF(CO54>0,AVERAGE(SMALL(IF(BV54:CO54>0,BV54:CO54),{1,2,3,4,5,6,7,8})),CN55)","v":15.899999999999999},{"$f":"IF(CP54>0,AVERAGE(SMALL(IF(BW54:CP54>0,BW54:CP54),{1,2,3,4,5,6,7,8})),CO55)","v":15.899999999999999},{"$f":"IF(CQ54>0,AVERAGE(SMALL(IF(BX54:CQ54>0,BX54:CQ54),{1,2,3,4,5,6,7,8})),CP55)","v":15.899999999999999},{"$f":"IF(CR54>0,AVERAGE(SMALL(IF(BY54:CR54>0,BY54:CR54),{1,2,3,4,5,6,7,8})),CQ55)","v":15.899999999999999},{"$f":"IF(CS54>0,AVERAGE(SMALL(IF(BZ54:CS54>0,BZ54:CS54),{1,2,3,4,5,6,7,8})),CR55)","v":15.899999999999999},{"$f":"IF(CT54>0,AVERAGE(SMALL(IF(CA54:CT54>0,CA54:CT54),{1,2,3,4,5,6,7,8})),CS55)","v":15.899999999999999},{"$f":"IF(CU54>0,AVERAGE(SMALL(IF(CB54:CU54>0,CB54:CU54),{1,2,3,4,5,6,7,8})),CT55)","v":15.899999999999999},{"$f":"IF(CV54>0,AVERAGE(SMALL(IF(CC54:CV54>0,CC54:CV54),{1,2,3,4,5,6,7,8})),CU55)","v":15.899999999999999},{"$f":"IF(CW54>0,AVERAGE(SMALL(IF(CD54:CW54>0,CD54:CW54),{1,2,3,4,5,6,7,8})),CV55)","v":15.899999999999999}]
[null,null,null,null,null,null,null,null,"Low Hcap",null,null,null,null,null,null,null,null,null,null,null,null,null,null,null,null,null,null,null,{"$f":"MIN($J55:AC55)","v":15.899999999999999},{"$f":"MIN($J55:AD55)","v":15.899999999999999},{"$f":"MIN($J55:AE55)","v":15.899999999999999},{"$f":"MIN($J55:AF55)","v":15.899999999999999},{"$f":"MIN($J55:AG55)","v":15.899999999999999},{"$f":"MIN($J55:AH55)","v":15.899999999999999},{"$f":"MIN($J55:AI55)","v":15.899999999999999},{"$f":"MIN($J55:AJ55)","v":15.899999999999999},{"$f":"MIN($J55:AK55)","v":15.899999999999999},{"$f":"MIN($J55:AL55)","v":15.899999999999999},{"$f":"MIN($J55:AM55)","v":15.899999999999999},{"$f":"MIN($J55:AN55)","v":15.899999999999999},{"$f":"MIN($J55:AO55)","v":15.899999999999999},{"$f":"MIN($J55:AP55)","v":15.899999999999999},{"$f":"MIN($J55:AQ55)","v":15.899999999999999},{"$f":"MIN($J55:AR55)","v":15.899999999999999},{"$f":"MIN($J55:AS55)","v":15.899999999999999},{"$f":"MIN($J55:AT55)","v":15.899999999999999},{"$f":"MIN($J55:AU55)","v":15.899999999999999},{"$f":"MIN($J55:AV55)","v":15.899999999999999},{"$f":"MIN($J55:AW55)","v":15.899999999999999},{"$f":"MIN($J55:AX55)","v":15.899999999999999},{"$f":"MIN($J55:AY55)","v":15.899999999999999},{"$f":"MIN($J55:AZ55)","v":15.899999999999999},{"$f":"MIN($J55:BA55)","v":15.899999999999999},{"$f":"MIN($J55:BB55)","v":15.899999999999999},{"$f":"MIN($J55:BC55)","v":15.899999999999999},{"$f":"MIN($J55:BD55)","v":15.899999999999999},{"$f":"MIN($J55:BE55)","v":15.899999999999999},{"$f":"MIN($J55:BF55)","v":15.899999999999999},{"$f":"MIN($J55:BG55)","v":15.899999999999999},{"$f":"MIN($J55:BH55)","v":15.899999999999999},{"$f":"MIN($J55:BI55)","v":15.899999999999999},{"$f":"MIN($J55:BJ55)","v":15.899999999999999},{"$f":"MIN($J55:BK55)","v":15.899999999999999},{"$f":"MIN($J55:BL55)","v":15.899999999999999},{"$f":"MIN($J55:BM55)","v":15.899999999999999},{"$f":"MIN($J55:BN55)","v":15.899999999999999},{"$f":"MIN($J55:BO55)","v":15.899999999999999},{"$f":"MIN($J55:BP55)","v":15.899999999999999},{"$f":"MIN($J55:BQ55)","v":15.899999999999999},{"$f":"MIN($J55:BR55)","v":15.899999999999999},{"$f":"MIN($J55:BS55)","v":15.899999999999999},{"$f":"MIN($J55:BT55)","v":15.899999999999999},{"$f":"MIN($J55:BU55)","v":15.899999999999999},{"$f":"MIN($J55:BV55)","v":15.899999999999999},{"$f":"MIN($J55:BW55)","v":15.899999999999999},{"$f":"MIN($J55:BX55)","v":15.899999999999999},{"$f":"MIN($J55:BY55)","v":15.899999999999999},{"$f":"MIN($J55:BZ55)","v":15.899999999999999},{"$f":"MIN($J55:CA55)","v":15.899999999999999},{"$f":"MIN($J55:CB55)","v":15.899999999999999},{"$f":"MIN($J55:CC55)","v":15.899999999999999},{"$f":"MIN($J55:CD55)","v":15.899999999999999},{"$f":"MIN($J55:CE55)","v":15.899999999999999},{"$f":"MIN($J55:CF55)","v":15.899999999999999},{"$f":"MIN($J55:CG55)","v":15.899999999999999},{"$f":"MIN($J55:CH55)","v":15.899999999999999},{"$f":"MIN($J55:CI55)","v":15.899999999999999},{"$f":"MIN($J55:CJ55)","v":15.899999999999999},{"$f":"MIN($J55:CK55)","v":15.899999999999999},{"$f":"MIN($J55:CL55)","v":15.899999999999999},{"$f":"MIN($J55:CM55)","v":15.899999999999999},{"$f":"MIN($J55:CN55)","v":15.899999999999999},{"$f":"MIN($J55:CO55)","v":15.899999999999999},{"$f":"MIN($J55:CP55)","v":15.899999999999999},{"$f":"MIN($J55:CQ55)","v":15.899999999999999},{"$f":"MIN($J55:CR55)","v":15.899999999999999},{"$f":"MIN($J55:CS55)","v":15.899999999999999},{"$f":"MIN($J55:CT55)","v":15.899999999999999},{"$f":"MIN($J55:CU55)","v":15.899999999999999},{"$f":"MIN($J55:CV55)","v":15.899999999999999},{"$f":"MIN($J55:CW55)","v":15.899999999999999}]
[null,"Bull","Greg",18,null,{"$f":"IF(H57<4,\"Y\",)","v":"Y"},2010,{"$f":"COUNT(J57:CX57)","v":0},"Date",null,null,null,null,null,null,null,null,null,null,null,null,null,null,null,null,null,null,null,null,null,null,null,null,null,null,null,null,null,null,null,null,null,null,null,null,null,null,null,null,null,null,null,null,null,null,null,null,null,null,null,null,null,null,null,null,null,null,null,null,null,null,null,null,null,null,null,null,null,null,null,null,null,null,null,null,null,null,null,null,null,null,null,null,null,null,null,null,null,null,null,null,null,{"$f":"IF(CW61>$DD$1,36,CW61)","v":16},16,{"$f":"CZ57-CY57","v":0}]
[null,null,null,null,null,null,null,null,"Course"]
[null,null,null,null,null,null,null,null,"Ad Gr"]
[null,null,null,null,null,null,null,null,"SD",18,{"$f":"IF(K59=\"\",0,(K59-INDIRECT(CONCATENATE(K58,\"CR\")))*113/INDIRECT(CONCATENATE(K58,\"SR\")))","v":0},0,0,0,0,0,0,0,0,0,0,0,0,0,0,0,0,0,0,0,0,0,0,0,0,0,0,0,0,0,0,0,0,0,0,0,0,0,0,0,0,0,0,0,0,0,0,0,0,0,0,0,0,0,0,0,0,0,0,0,0,0,0,0,{"$f":"IF(BW59=\"\",0,(BW59-INDIRECT(CONCATENATE(BW58,\"CR\")))*113/INDIRECT(CONCATENATE(BW58,\"SR\")))","v":0},0,0,0,0,0,0,0,0,0,0,0,0,0,0,0,{"$f":"IF(CM59=\"\",0,(CM59-INDIRECT(CONCATENATE(CM58,\"CR\")))*113/INDIRECT(CONCATENATE(CM58,\"SR\")))","v":0},0,{"$f":"IF(CO59=\"\",0,(CO59-INDIRECT(CONCATENATE(CO58,\"CR\")))*113/INDIRECT(CONCATENATE(CO58,\"SR\")))","v":0},0,{"$f":"IF(CQ59=\"\",0,(CQ59-INDIRECT(CONCATENATE(CQ58,\"CR\")))*113/INDIRECT(CONCATENATE(CQ58,\"SR\")))","v":0},0,{"$f":"IF(CS59=\"\",0,(CS59-INDIRECT(CONCATENATE(CS58,\"CR\")))*113/INDIRECT(CONCATENATE(CS58,\"SR\")))","v":0},0,{"$f":"IF(CU59=\"\",0,(CU59-INDIRECT(CONCATENATE(CU58,\"CR\")))*113/INDIRECT(CONCATENATE(CU58,\"SR\")))","v":0},0,{"$f":"IF(CW59=\"\",0,(CW59-INDIRECT(CONCATENATE(CW58,\"CR\")))*113/INDIRECT(CONCATENATE(CW58,\"SR\")))","v":0}]
[null,null,null,null,null,null,null,null,"New Hcap",{"$f":"J60-2","v":16},{"$f":"IF(K60>0,MIN(J60:K60)-2,J61)","v":16},{"$f":"IF(L60>0,MIN(J60:L60)-2,K61)","v":16},{"$f":"IF(M60>0,MIN(J60:M60)-1,L61)","v":16},{"$f":"IF(N60>0,MIN(J60:N60),M61)","v":16},{"$f":"IF(O60>0,AVERAGE(SMALL(IF(J60:O60>0,J60:O60),{1,2}))-1,N61)","v":16},{"$f":"IF(P60>0,AVERAGE(SMALL(IF(J60:P60>0,J60:P60),{1,2})),O61)","v":16},{"$f":"IF(Q60>0,AVERAGE(SMALL(IF(J60:Q60>0,J60:Q60),{1,2})),P61)","v":16},{"$f":"IF(R60>0,AVERAGE(SMALL(IF(J60:R60>0,J60:R60),{1,2,3})),Q61)","v":16},{"$f":"IF(S60>0,AVERAGE(SMALL(IF(J60:S60>0,J60:S60),{1,2,3})),R61)","v":16},{"$f":"IF(T60>0,AVERAGE(SMALL(IF(J60:T60>0,J60:T60),{1,2,3})),S61)","v":16},{"$f":"IF(U60>0,AVERAGE(SMALL(IF(J60:U60>0,J60:U60),{1,2,3,4})),T61)","v":16},{"$f":"IF(V60>0,AVERAGE(SMALL(IF(J60:V60>0,J60:V60),{1,2,3,4})),U61)","v":16},{"$f":"IF(W60>0,AVERAGE(SMALL(IF(J60:W60>0,J60:W60),{1,2,3,4})),V61)","v":16},{"$f":"IF(X60>0,AVERAGE(SMALL(IF(J60:X60>0,J60:X60),{1,2,3,4,5})),W61)","v":16},{"$f":"IF(Y60>0,AVERAGE(SMALL(IF(J60:Y60>0,J60:Y60),{1,2,3,4,5})),X61)","v":16},{"$f":"IF(Z60>0,AVERAGE(SMALL(IF(J60:Z60>0,J60:Z60),{1,2,3,4,5,6})),Y61)","v":16},{"$f":"IF(AA60>0,AVERAGE(SMALL(IF(J60:AA60>0,J60:AA60),{1,2,3,4,5,6})),Z61)","v":16},{"$f":"IF(AB60>0,AVERAGE(SMALL(IF(J60:AB60>0,J60:AB60),{1,2,3,4,5,6,7})),AA61)","v":16},{"$f":"IF(AC60>0,AVERAGE(SMALL(IF(J60:AC60>0,J60:AC60),{1,2,3,4,5,6,7,8})),AB61)","v":16},{"$f":"IF(AD60>0,AVERAGE(SMALL(IF(K60:AD60>0,K60:AD60),{1,2,3,4,5,6,7,8})),AC61)","v":16},{"$f":"IF(AE60>0,AVERAGE(SMALL(IF(L60:AE60>0,L60:AE60),{1,2,3,4,5,6,7,8})),AD61)","v":16},{"$f":"IF(AF60>0,AVERAGE(SMALL(IF(M60:AF60>0,M60:AF60),{1,2,3,4,5,6,7,8})),AE61)","v":16},{"$f":"IF(AG60>0,AVERAGE(SMALL(IF(N60:AG60>0,N60:AG60),{1,2,3,4,5,6,7,8})),AF61)","v":16},{"$f":"IF(AH60>0,AVERAGE(SMALL(IF(O60:AH60>0,O60:AH60),{1,2,3,4,5,6,7,8})),AG61)","v":16},{"$f":"IF(AI60>0,AVERAGE(SMALL(IF(P60:AI60>0,P60:AI60),{1,2,3,4,5,6,7,8})),AH61)","v":16},{"$f":"IF(AJ60>0,AVERAGE(SMALL(IF(Q60:AJ60>0,Q60:AJ60),{1,2,3,4,5,6,7,8})),AI61)","v":16},{"$f":"IF(AK60>0,AVERAGE(SMALL(IF(R60:AK60>0,R60:AK60),{1,2,3,4,5,6,7,8})),AJ61)","v":16},{"$f":"IF(AL60>0,AVERAGE(SMALL(IF(S60:AL60>0,S60:AL60),{1,2,3,4,5,6,7,8})),AK61)","v":16},{"$f":"IF(AM60>0,AVERAGE(SMALL(IF(T60:AM60>0,T60:AM60),{1,2,3,4,5,6,7,8})),AL61)","v":16},{"$f":"IF(AN60>0,AVERAGE(SMALL(IF(U60:AN60>0,U60:AN60),{1,2,3,4,5,6,7,8})),AM61)","v":16},{"$f":"IF(AO60>0,AVERAGE(SMALL(IF(V60:AO60>0,V60:AO60),{1,2,3,4,5,6,7,8})),AN61)","v":16},{"$f":"IF(AP60>0,AVERAGE(SMALL(IF(W60:AP60>0,W60:AP60),{1,2,3,4,5,6,7,8})),AO61)","v":16},{"$f":"IF(AQ60>0,AVERAGE(SMALL(IF(X60:AQ60>0,X60:AQ60),{1,2,3,4,5,6,7,8})),AP61)","v":16},{"$f":"IF(AR60>0,AVERAGE(SMALL(IF(Y60:AR60>0,Y60:AR60),{1,2,3,4,5,6,7,8})),AQ61)","v":16},{"$f":"IF(AS60>0,AVERAGE(SMALL(IF(Z60:AS60>0,Z60:AS60),{1,2,3,4,5,6,7,8})),AR61)","v":16},{"$f":"IF(AT60>0,AVERAGE(SMALL(IF(AA60:AT60>0,AA60:AT60),{1,2,3,4,5,6,7,8})),AS61)","v":16},{"$f":"IF(AU60>0,AVERAGE(SMALL(IF(AB60:AU60>0,AB60:AU60),{1,2,3,4,5,6,7,8})),AT61)","v":16},{"$f":"IF(AV60>0,AVERAGE(SMALL(IF(AC60:AV60>0,AC60:AV60),{1,2,3,4,5,6,7,8})),AU61)","v":16},{"$f":"IF(AW60>0,AVERAGE(SMALL(IF(AD60:AW60>0,AD60:AW60),{1,2,3,4,5,6,7,8})),AV61)","v":16},{"$f":"IF(AX60>0,AVERAGE(SMALL(IF(AE60:AX60>0,AE60:AX60),{1,2,3,4,5,6,7,8})),AW61)","v":16},{"$f":"IF(AY60>0,AVERAGE(SMALL(IF(AF60:AY60>0,AF60:AY60),{1,2,3,4,5,6,7,8})),AX61)","v":16},{"$f":"IF(AZ60>0,AVERAGE(SMALL(IF(AG60:AZ60>0,AG60:AZ60),{1,2,3,4,5,6,7,8})),AY61)","v":16},{"$f":"IF(BA60>0,AVERAGE(SMALL(IF(AH60:BA60>0,AH60:BA60),{1,2,3,4,5,6,7,8})),AZ61)","v":16},{"$f":"IF(BB60>0,AVERAGE(SMALL(IF(AI60:BB60>0,AI60:BB60),{1,2,3,4,5,6,7,8})),BA61)","v":16},{"$f":"IF(BC60>0,AVERAGE(SMALL(IF(AJ60:BC60>0,AJ60:BC60),{1,2,3,4,5,6,7,8})),BB61)","v":16},{"$f":"IF(BD60>0,AVERAGE(SMALL(IF(AK60:BD60>0,AK60:BD60),{1,2,3,4,5,6,7,8})),BC61)","v":16},{"$f":"IF(BE60>0,AVERAGE(SMALL(IF(AL60:BE60>0,AL60:BE60),{1,2,3,4,5,6,7,8})),BD61)","v":16},{"$f":"IF(BF60>0,AVERAGE(SMALL(IF(AM60:BF60>0,AM60:BF60),{1,2,3,4,5,6,7,8})),BE61)","v":16},{"$f":"IF(BG60>0,AVERAGE(SMALL(IF(AN60:BG60>0,AN60:BG60),{1,2,3,4,5,6,7,8})),BF61)","v":16},{"$f":"IF(BH60>0,AVERAGE(SMALL(IF(AO60:BH60>0,AO60:BH60),{1,2,3,4,5,6,7,8})),BG61)","v":16},{"$f":"IF(BI60>0,AVERAGE(SMALL(IF(AP60:BI60>0,AP60:BI60),{1,2,3,4,5,6,7,8})),BH61)","v":16},{"$f":"IF(BJ60>0,AVERAGE(SMALL(IF(AQ60:BJ60>0,AQ60:BJ60),{1,2,3,4,5,6,7,8})),BI61)","v":16},{"$f":"IF(BK60>0,AVERAGE(SMALL(IF(AR60:BK60>0,AR60:BK60),{1,2,3,4,5,6,7,8})),BJ61)","v":16},{"$f":"IF(BL60>0,AVERAGE(SMALL(IF(AS60:BL60>0,AS60:BL60),{1,2,3,4,5,6,7,8})),BK61)","v":16},{"$f":"IF(BM60>0,AVERAGE(SMALL(IF(AT60:BM60>0,AT60:BM60),{1,2,3,4,5,6,7,8})),BL61)","v":16},{"$f":"IF(BN60>0,AVERAGE(SMALL(IF(AU60:BN60>0,AU60:BN60),{1,2,3,4,5,6,7,8})),BM61)","v":16},{"$f":"IF(BO60>0,AVERAGE(SMALL(IF(AV60:BO60>0,AV60:BO60),{1,2,3,4,5,6,7,8})),BN61)","v":16},{"$f":"IF(BP60>0,AVERAGE(SMALL(IF(AW60:BP60>0,AW60:BP60),{1,2,3,4,5,6,7,8})),BO61)","v":16},{"$f":"IF(BQ60>0,AVERAGE(SMALL(IF(AX60:BQ60>0,AX60:BQ60),{1,2,3,4,5,6,7,8})),BP61)","v":16},{"$f":"IF(BR60>0,AVERAGE(SMALL(IF(AY60:BR60>0,AY60:BR60),{1,2,3,4,5,6,7,8})),BQ61)","v":16},{"$f":"IF(BS60>0,AVERAGE(SMALL(IF(AZ60:BS60>0,AZ60:BS60),{1,2,3,4,5,6,7,8})),BR61)","v":16},{"$f":"IF(BT60>0,AVERAGE(SMALL(IF(BA60:BT60>0,BA60:BT60),{1,2,3,4,5,6,7,8})),BS61)","v":16},{"$f":"IF(BU60>0,AVERAGE(SMALL(IF(BB60:BU60>0,BB60:BU60),{1,2,3,4,5,6,7,8})),BT61)","v":16},{"$f":"IF(BV60>0,AVERAGE(SMALL(IF(BC60:BV60>0,BC60:BV60),{1,2,3,4,5,6,7,8})),BU61)","v":16},{"$f":"IF(BW60>0,AVERAGE(SMALL(IF(BD60:BW60>0,BD60:BW60),{1,2,3,4,5,6,7,8})),BV61)","v":16},{"$f":"IF(BX60>0,AVERAGE(SMALL(IF(BE60:BX60>0,BE60:BX60),{1,2,3,4,5,6,7,8})),BW61)","v":16},{"$f":"IF(BY60>0,AVERAGE(SMALL(IF(BF60:BY60>0,BF60:BY60),{1,2,3,4,5,6,7,8})),BX61)","v":16},{"$f":"IF(BZ60>0,AVERAGE(SMALL(IF(BG60:BZ60>0,BG60:BZ60),{1,2,3,4,5,6,7,8})),BY61)","v":16},{"$f":"IF(CA60>0,AVERAGE(SMALL(IF(BH60:CA60>0,BH60:CA60),{1,2,3,4,5,6,7,8})),BZ61)","v":16},{"$f":"IF(CB60>0,AVERAGE(SMALL(IF(BI60:CB60>0,BI60:CB60),{1,2,3,4,5,6,7,8})),CA61)","v":16},{"$f":"IF(CC60>0,AVERAGE(SMALL(IF(BJ60:CC60>0,BJ60:CC60),{1,2,3,4,5,6,7,8})),CB61)","v":16},{"$f":"IF(CD60>0,AVERAGE(SMALL(IF(BK60:CD60>0,BK60:CD60),{1,2,3,4,5,6,7,8})),CC61)","v":16},{"$f":"IF(CE60>0,AVERAGE(SMALL(IF(BL60:CE60>0,BL60:CE60),{1,2,3,4,5,6,7,8})),CD61)","v":16},{"$f":"IF(CF60>0,AVERAGE(SMALL(IF(BM60:CF60>0,BM60:CF60),{1,2,3,4,5,6,7,8})),CE61)","v":16},{"$f":"IF(CG60>0,AVERAGE(SMALL(IF(BN60:CG60>0,BN60:CG60),{1,2,3,4,5,6,7,8})),CF61)","v":16},{"$f":"IF(CH60>0,AVERAGE(SMALL(IF(BO60:CH60>0,BO60:CH60),{1,2,3,4,5,6,7,8})),CG61)","v":16},{"$f":"IF(CI60>0,AVERAGE(SMALL(IF(BP60:CI60>0,BP60:CI60),{1,2,3,4,5,6,7,8})),CH61)","v":16},{"$f":"IF(CJ60>0,AVERAGE(SMALL(IF(BQ60:CJ60>0,BQ60:CJ60),{1,2,3,4,5,6,7,8})),CI61)","v":16},{"$f":"IF(CK60>0,AVERAGE(SMALL(IF(BR60:CK60>0,BR60:CK60),{1,2,3,4,5,6,7,8})),CJ61)","v":16},{"$f":"IF(CL60>0,AVERAGE(SMALL(IF(BS60:CL60>0,BS60:CL60),{1,2,3,4,5,6,7,8})),CK61)","v":16},{"$f":"IF(CM60>0,AVERAGE(SMALL(IF(BT60:CM60>0,BT60:CM60),{1,2,3,4,5,6,7,8})),CL61)","v":16},{"$f":"IF(CN60>0,AVERAGE(SMALL(IF(BU60:CN60>0,BU60:CN60),{1,2,3,4,5,6,7,8})),CM61)","v":16},{"$f":"IF(CO60>0,AVERAGE(SMALL(IF(BV60:CO60>0,BV60:CO60),{1,2,3,4,5,6,7,8})),CN61)","v":16},{"$f":"IF(CP60>0,AVERAGE(SMALL(IF(BW60:CP60>0,BW60:CP60),{1,2,3,4,5,6,7,8})),CO61)","v":16},{"$f":"IF(CQ60>0,AVERAGE(SMALL(IF(BX60:CQ60>0,BX60:CQ60),{1,2,3,4,5,6,7,8})),CP61)","v":16},{"$f":"IF(CR60>0,AVERAGE(SMALL(IF(BY60:CR60>0,BY60:CR60),{1,2,3,4,5,6,7,8})),CQ61)","v":16},{"$f":"IF(CS60>0,AVERAGE(SMALL(IF(BZ60:CS60>0,BZ60:CS60),{1,2,3,4,5,6,7,8})),CR61)","v":16},{"$f":"IF(CT60>0,AVERAGE(SMALL(IF(CA60:CT60>0,CA60:CT60),{1,2,3,4,5,6,7,8})),CS61)","v":16},{"$f":"IF(CU60>0,AVERAGE(SMALL(IF(CB60:CU60>0,CB60:CU60),{1,2,3,4,5,6,7,8})),CT61)","v":16},{"$f":"IF(CV60>0,AVERAGE(SMALL(IF(CC60:CV60>0,CC60:CV60),{1,2,3,4,5,6,7,8})),CU61)","v":16},{"$f":"IF(CW60>0,AVERAGE(SMALL(IF(CD60:CW60>0,CD60:CW60),{1,2,3,4,5,6,7,8})),CV61)","v":16}]
[null,null,null,null,null,null,null,null,"Low Hcap",null,null,null,null,null,null,null,null,null,null,null,null,null,null,null,null,null,null,null,{"$f":"MIN($J61:AC61)","v":16},{"$f":"MIN($J61:AD61)","v":16},{"$f":"MIN($J61:AE61)","v":16},{"$f":"MIN($J61:AF61)","v":16},{"$f":"MIN($J61:AG61)","v":16},{"$f":"MIN($J61:AH61)","v":16},{"$f":"MIN($J61:AI61)","v":16},{"$f":"MIN($J61:AJ61)","v":16},{"$f":"MIN($J61:AK61)","v":16},{"$f":"MIN($J61:AL61)","v":16},{"$f":"MIN($J61:AM61)","v":16},{"$f":"MIN($J61:AN61)","v":16},{"$f":"MIN($J61:AO61)","v":16},{"$f":"MIN($J61:AP61)","v":16},{"$f":"MIN($J61:AQ61)","v":16},{"$f":"MIN($J61:AR61)","v":16},{"$f":"MIN($J61:AS61)","v":16},{"$f":"MIN($J61:AT61)","v":16},{"$f":"MIN($J61:AU61)","v":16},{"$f":"MIN($J61:AV61)","v":16},{"$f":"MIN($J61:AW61)","v":16},{"$f":"MIN($J61:AX61)","v":16},{"$f":"MIN($J61:AY61)","v":16},{"$f":"MIN($J61:AZ61)","v":16},{"$f":"MIN($J61:BA61)","v":16},{"$f":"MIN($J61:BB61)","v":16},{"$f":"MIN($J61:BC61)","v":16},{"$f":"MIN($J61:BD61)","v":16},{"$f":"MIN($J61:BE61)","v":16},{"$f":"MIN($J61:BF61)","v":16},{"$f":"MIN($J61:BG61)","v":16},{"$f":"MIN($J61:BH61)","v":16},{"$f":"MIN($J61:BI61)","v":16},{"$f":"MIN($J61:BJ61)","v":16},{"$f":"MIN($J61:BK61)","v":16},{"$f":"MIN($J61:BL61)","v":16},{"$f":"MIN($J61:BM61)","v":16},{"$f":"MIN($J61:BN61)","v":16},{"$f":"MIN($J61:BO61)","v":16},{"$f":"MIN($J61:BP61)","v":16},{"$f":"MIN($J61:BQ61)","v":16},{"$f":"MIN($J61:BR61)","v":16},{"$f":"MIN($J61:BS61)","v":16},{"$f":"MIN($J61:BT61)","v":16},{"$f":"MIN($J61:BU61)","v":16},{"$f":"MIN($J61:BV61)","v":16},{"$f":"MIN($J61:BW61)","v":16},{"$f":"MIN($J61:BX61)","v":16},{"$f":"MIN($J61:BY61)","v":16},{"$f":"MIN($J61:BZ61)","v":16},{"$f":"MIN($J61:CA61)","v":16},{"$f":"MIN($J61:CB61)","v":16},{"$f":"MIN($J61:CC61)","v":16},{"$f":"MIN($J61:CD61)","v":16},{"$f":"MIN($J61:CE61)","v":16},{"$f":"MIN($J61:CF61)","v":16},{"$f":"MIN($J61:CG61)","v":16},{"$f":"MIN($J61:CH61)","v":16},{"$f":"MIN($J61:CI61)","v":16},{"$f":"MIN($J61:CJ61)","v":16},{"$f":"MIN($J61:CK61)","v":16},{"$f":"MIN($J61:CL61)","v":16},{"$f":"MIN($J61:CM61)","v":16},{"$f":"MIN($J61:CN61)","v":16},{"$f":"MIN($J61:CO61)","v":16},{"$f":"MIN($J61:CP61)","v":16},{"$f":"MIN($J61:CQ61)","v":16},{"$f":"MIN($J61:CR61)","v":16},{"$f":"MIN($J61:CS61)","v":16},{"$f":"MIN($J61:CT61)","v":16},{"$f":"MIN($J61:CU61)","v":16},{"$f":"MIN($J61:CV61)","v":16},{"$f":"MIN($J61:CW61)","v":16}]
[null,"Chalk","Paul",15,null,{"$f":"IF(H63<4,\"Y\",)","v":"Y"},2021,{"$f":"COUNT(J63:CX63)","v":0},"Date",null,null,null,null,null,null,null,null,null,null,null,null,null,null,null,null,null,null,null,null,null,null,null,null,null,null,null,null,null,null,null,null,null,null,null,null,null,null,null,null,null,null,null,null,null,null,null,null,null,null,null,null,null,null,null,null,null,null,null,null,null,null,null,null,null,null,null,null,null,null,null,null,null,null,null,null,null,null,null,null,null,null,null,null,null,null,null,null,null,null,null,null,null,{"$f":"IF(CW67>$DD$1,36,CW67)","v":15},15,{"$f":"CZ63-CY63","v":0}]
[null,null,null,null,null,null,null,null,"Course"]
[null,null,null,null,null,null,null,null,"Ad Gr"]
[null,null,null,null,null,null,null,null,"SD",17,{"$f":"IF(K65=\"\",0,(K65-INDIRECT(CONCATENATE(K64,\"CR\")))*113/INDIRECT(CONCATENATE(K64,\"SR\")))","v":0},0,0,0,0,0,0,0,0,0,0,0,0,0,0,0,0,0,0,0,0,0,0,0,0,0,0,0,0,0,0,0,0,0,0,0,0,0,0,0,0,0,0,0,0,0,0,0,0,0,0,0,0,0,0,0,0,0,0,0,0,0,0,0,{"$f":"IF(BW65=\"\",0,(BW65-INDIRECT(CONCATENATE(BW64,\"CR\")))*113/INDIRECT(CONCATENATE(BW64,\"SR\")))","v":0},0,0,0,0,0,0,0,0,0,0,0,0,0,0,0,{"$f":"IF(CM65=\"\",0,(CM65-INDIRECT(CONCATENATE(CM64,\"CR\")))*113/INDIRECT(CONCATENATE(CM64,\"SR\")))","v":0},0,{"$f":"IF(CO65=\"\",0,(CO65-INDIRECT(CONCATENATE(CO64,\"CR\")))*113/INDIRECT(CONCATENATE(CO64,\"SR\")))","v":0},0,{"$f":"IF(CQ65=\"\",0,(CQ65-INDIRECT(CONCATENATE(CQ64,\"CR\")))*113/INDIRECT(CONCATENATE(CQ64,\"SR\")))","v":0},0,{"$f":"IF(CS65=\"\",0,(CS65-INDIRECT(CONCATENATE(CS64,\"CR\")))*113/INDIRECT(CONCATENATE(CS64,\"SR\")))","v":0},0,{"$f":"IF(CU65=\"\",0,(CU65-INDIRECT(CONCATENATE(CU64,\"CR\")))*113/INDIRECT(CONCATENATE(CU64,\"SR\")))","v":0},0,{"$f":"IF(CW65=\"\",0,(CW65-INDIRECT(CONCATENATE(CW64,\"CR\")))*113/INDIRECT(CONCATENATE(CW64,\"SR\")))","v":0}]
[null,null,null,null,null,null,null,null,"New Hcap",{"$f":"J66-2","v":15},{"$f":"IF(K66>0,MIN(J66:K66)-2,J67)","v":15},{"$f":"IF(L66>0,MIN(J66:L66)-2,K67)","v":15},{"$f":"IF(M66>0,MIN(J66:M66)-1,L67)","v":15},{"$f":"IF(N66>0,MIN(J66:N66),M67)","v":15},{"$f":"IF(O66>0,AVERAGE(SMALL(IF(J66:O66>0,J66:O66),{1,2}))-1,N67)","v":15},{"$f":"IF(P66>0,AVERAGE(SMALL(IF(J66:P66>0,J66:P66),{1,2})),O67)","v":15},{"$f":"IF(Q66>0,AVERAGE(SMALL(IF(J66:Q66>0,J66:Q66),{1,2})),P67)","v":15},{"$f":"IF(R66>0,AVERAGE(SMALL(IF(J66:R66>0,J66:R66),{1,2,3})),Q67)","v":15},{"$f":"IF(S66>0,AVERAGE(SMALL(IF(J66:S66>0,J66:S66),{1,2,3})),R67)","v":15},{"$f":"IF(T66>0,AVERAGE(SMALL(IF(J66:T66>0,J66:T66),{1,2,3})),S67)","v":15},{"$f":"IF(U66>0,AVERAGE(SMALL(IF(J66:U66>0,J66:U66),{1,2,3,4})),T67)","v":15},{"$f":"IF(V66>0,AVERAGE(SMALL(IF(J66:V66>0,J66:V66),{1,2,3,4})),U67)","v":15},{"$f":"IF(W66>0,AVERAGE(SMALL(IF(J66:W66>0,J66:W66),{1,2,3,4})),V67)","v":15},{"$f":"IF(X66>0,AVERAGE(SMALL(IF(J66:X66>0,J66:X66),{1,2,3,4,5})),W67)","v":15},{"$f":"IF(Y66>0,AVERAGE(SMALL(IF(J66:Y66>0,J66:Y66),{1,2,3,4,5})),X67)","v":15},{"$f":"IF(Z66>0,AVERAGE(SMALL(IF(J66:Z66>0,J66:Z66),{1,2,3,4,5,6})),Y67)","v":15},{"$f":"IF(AA66>0,AVERAGE(SMALL(IF(J66:AA66>0,J66:AA66),{1,2,3,4,5,6})),Z67)","v":15},{"$f":"IF(AB66>0,AVERAGE(SMALL(IF(J66:AB66>0,J66:AB66),{1,2,3,4,5,6,7})),AA67)","v":15},{"$f":"IF(AC66>0,AVERAGE(SMALL(IF(J66:AC66>0,J66:AC66),{1,2,3,4,5,6,7,8})),AB67)","v":15},{"$f":"IF(AD66>0,AVERAGE(SMALL(IF(K66:AD66>0,K66:AD66),{1,2,3,4,5,6,7,8})),AC67)","v":15},{"$f":"IF(AE66>0,AVERAGE(SMALL(IF(L66:AE66>0,L66:AE66),{1,2,3,4,5,6,7,8})),AD67)","v":15},{"$f":"IF(AF66>0,AVERAGE(SMALL(IF(M66:AF66>0,M66:AF66),{1,2,3,4,5,6,7,8})),AE67)","v":15},{"$f":"IF(AG66>0,AVERAGE(SMALL(IF(N66:AG66>0,N66:AG66),{1,2,3,4,5,6,7,8})),AF67)","v":15},{"$f":"IF(AH66>0,AVERAGE(SMALL(IF(O66:AH66>0,O66:AH66),{1,2,3,4,5,6,7,8})),AG67)","v":15},{"$f":"IF(AI66>0,AVERAGE(SMALL(IF(P66:AI66>0,P66:AI66),{1,2,3,4,5,6,7,8})),AH67)","v":15},{"$f":"IF(AJ66>0,AVERAGE(SMALL(IF(Q66:AJ66>0,Q66:AJ66),{1,2,3,4,5,6,7,8})),AI67)","v":15},{"$f":"IF(AK66>0,AVERAGE(SMALL(IF(R66:AK66>0,R66:AK66),{1,2,3,4,5,6,7,8})),AJ67)","v":15},{"$f":"IF(AL66>0,AVERAGE(SMALL(IF(S66:AL66>0,S66:AL66),{1,2,3,4,5,6,7,8})),AK67)","v":15},{"$f":"IF(AM66>0,AVERAGE(SMALL(IF(T66:AM66>0,T66:AM66),{1,2,3,4,5,6,7,8})),AL67)","v":15},{"$f":"IF(AN66>0,AVERAGE(SMALL(IF(U66:AN66>0,U66:AN66),{1,2,3,4,5,6,7,8})),AM67)","v":15},{"$f":"IF(AO66>0,AVERAGE(SMALL(IF(V66:AO66>0,V66:AO66),{1,2,3,4,5,6,7,8})),AN67)","v":15},{"$f":"IF(AP66>0,AVERAGE(SMALL(IF(W66:AP66>0,W66:AP66),{1,2,3,4,5,6,7,8})),AO67)","v":15},{"$f":"IF(AQ66>0,AVERAGE(SMALL(IF(X66:AQ66>0,X66:AQ66),{1,2,3,4,5,6,7,8})),AP67)","v":15},{"$f":"IF(AR66>0,AVERAGE(SMALL(IF(Y66:AR66>0,Y66:AR66),{1,2,3,4,5,6,7,8})),AQ67)","v":15},{"$f":"IF(AS66>0,AVERAGE(SMALL(IF(Z66:AS66>0,Z66:AS66),{1,2,3,4,5,6,7,8})),AR67)","v":15},{"$f":"IF(AT66>0,AVERAGE(SMALL(IF(AA66:AT66>0,AA66:AT66),{1,2,3,4,5,6,7,8})),AS67)","v":15},{"$f":"IF(AU66>0,AVERAGE(SMALL(IF(AB66:AU66>0,AB66:AU66),{1,2,3,4,5,6,7,8})),AT67)","v":15},{"$f":"IF(AV66>0,AVERAGE(SMALL(IF(AC66:AV66>0,AC66:AV66),{1,2,3,4,5,6,7,8})),AU67)","v":15},{"$f":"IF(AW66>0,AVERAGE(SMALL(IF(AD66:AW66>0,AD66:AW66),{1,2,3,4,5,6,7,8})),AV67)","v":15},{"$f":"IF(AX66>0,AVERAGE(SMALL(IF(AE66:AX66>0,AE66:AX66),{1,2,3,4,5,6,7,8})),AW67)","v":15},{"$f":"IF(AY66>0,AVERAGE(SMALL(IF(AF66:AY66>0,AF66:AY66),{1,2,3,4,5,6,7,8})),AX67)","v":15},{"$f":"IF(AZ66>0,AVERAGE(SMALL(IF(AG66:AZ66>0,AG66:AZ66),{1,2,3,4,5,6,7,8})),AY67)","v":15},{"$f":"IF(BA66>0,AVERAGE(SMALL(IF(AH66:BA66>0,AH66:BA66),{1,2,3,4,5,6,7,8})),AZ67)","v":15},{"$f":"IF(BB66>0,AVERAGE(SMALL(IF(AI66:BB66>0,AI66:BB66),{1,2,3,4,5,6,7,8})),BA67)","v":15},{"$f":"IF(BC66>0,AVERAGE(SMALL(IF(AJ66:BC66>0,AJ66:BC66),{1,2,3,4,5,6,7,8})),BB67)","v":15},{"$f":"IF(BD66>0,AVERAGE(SMALL(IF(AK66:BD66>0,AK66:BD66),{1,2,3,4,5,6,7,8})),BC67)","v":15},{"$f":"IF(BE66>0,AVERAGE(SMALL(IF(AL66:BE66>0,AL66:BE66),{1,2,3,4,5,6,7,8})),BD67)","v":15},{"$f":"IF(BF66>0,AVERAGE(SMALL(IF(AM66:BF66>0,AM66:BF66),{1,2,3,4,5,6,7,8})),BE67)","v":15},{"$f":"IF(BG66>0,AVERAGE(SMALL(IF(AN66:BG66>0,AN66:BG66),{1,2,3,4,5,6,7,8})),BF67)","v":15},{"$f":"IF(BH66>0,AVERAGE(SMALL(IF(AO66:BH66>0,AO66:BH66),{1,2,3,4,5,6,7,8})),BG67)","v":15},{"$f":"IF(BI66>0,AVERAGE(SMALL(IF(AP66:BI66>0,AP66:BI66),{1,2,3,4,5,6,7,8})),BH67)","v":15},{"$f":"IF(BJ66>0,AVERAGE(SMALL(IF(AQ66:BJ66>0,AQ66:BJ66),{1,2,3,4,5,6,7,8})),BI67)","v":15},{"$f":"IF(BK66>0,AVERAGE(SMALL(IF(AR66:BK66>0,AR66:BK66),{1,2,3,4,5,6,7,8})),BJ67)","v":15},{"$f":"IF(BL66>0,AVERAGE(SMALL(IF(AS66:BL66>0,AS66:BL66),{1,2,3,4,5,6,7,8})),BK67)","v":15},{"$f":"IF(BM66>0,AVERAGE(SMALL(IF(AT66:BM66>0,AT66:BM66),{1,2,3,4,5,6,7,8})),BL67)","v":15},{"$f":"IF(BN66>0,AVERAGE(SMALL(IF(AU66:BN66>0,AU66:BN66),{1,2,3,4,5,6,7,8})),BM67)","v":15},{"$f":"IF(BO66>0,AVERAGE(SMALL(IF(AV66:BO66>0,AV66:BO66),{1,2,3,4,5,6,7,8})),BN67)","v":15},{"$f":"IF(BP66>0,AVERAGE(SMALL(IF(AW66:BP66>0,AW66:BP66),{1,2,3,4,5,6,7,8})),BO67)","v":15},{"$f":"IF(BQ66>0,AVERAGE(SMALL(IF(AX66:BQ66>0,AX66:BQ66),{1,2,3,4,5,6,7,8})),BP67)","v":15},{"$f":"IF(BR66>0,AVERAGE(SMALL(IF(AY66:BR66>0,AY66:BR66),{1,2,3,4,5,6,7,8})),BQ67)","v":15},{"$f":"IF(BS66>0,AVERAGE(SMALL(IF(AZ66:BS66>0,AZ66:BS66),{1,2,3,4,5,6,7,8})),BR67)","v":15},{"$f":"IF(BT66>0,AVERAGE(SMALL(IF(BA66:BT66>0,BA66:BT66),{1,2,3,4,5,6,7,8})),BS67)","v":15},{"$f":"IF(BU66>0,AVERAGE(SMALL(IF(BB66:BU66>0,BB66:BU66),{1,2,3,4,5,6,7,8})),BT67)","v":15},{"$f":"IF(BV66>0,AVERAGE(SMALL(IF(BC66:BV66>0,BC66:BV66),{1,2,3,4,5,6,7,8})),BU67)","v":15},{"$f":"IF(BW66>0,AVERAGE(SMALL(IF(BD66:BW66>0,BD66:BW66),{1,2,3,4,5,6,7,8})),BV67)","v":15},{"$f":"IF(BX66>0,AVERAGE(SMALL(IF(BE66:BX66>0,BE66:BX66),{1,2,3,4,5,6,7,8})),BW67)","v":15},{"$f":"IF(BY66>0,AVERAGE(SMALL(IF(BF66:BY66>0,BF66:BY66),{1,2,3,4,5,6,7,8})),BX67)","v":15},{"$f":"IF(BZ66>0,AVERAGE(SMALL(IF(BG66:BZ66>0,BG66:BZ66),{1,2,3,4,5,6,7,8})),BY67)","v":15},{"$f":"IF(CA66>0,AVERAGE(SMALL(IF(BH66:CA66>0,BH66:CA66),{1,2,3,4,5,6,7,8})),BZ67)","v":15},{"$f":"IF(CB66>0,AVERAGE(SMALL(IF(BI66:CB66>0,BI66:CB66),{1,2,3,4,5,6,7,8})),CA67)","v":15},{"$f":"IF(CC66>0,AVERAGE(SMALL(IF(BJ66:CC66>0,BJ66:CC66),{1,2,3,4,5,6,7,8})),CB67)","v":15},{"$f":"IF(CD66>0,AVERAGE(SMALL(IF(BK66:CD66>0,BK66:CD66),{1,2,3,4,5,6,7,8})),CC67)","v":15},{"$f":"IF(CE66>0,AVERAGE(SMALL(IF(BL66:CE66>0,BL66:CE66),{1,2,3,4,5,6,7,8})),CD67)","v":15},{"$f":"IF(CF66>0,AVERAGE(SMALL(IF(BM66:CF66>0,BM66:CF66),{1,2,3,4,5,6,7,8})),CE67)","v":15},{"$f":"IF(CG66>0,AVERAGE(SMALL(IF(BN66:CG66>0,BN66:CG66),{1,2,3,4,5,6,7,8})),CF67)","v":15},{"$f":"IF(CH66>0,AVERAGE(SMALL(IF(BO66:CH66>0,BO66:CH66),{1,2,3,4,5,6,7,8})),CG67)","v":15},{"$f":"IF(CI66>0,AVERAGE(SMALL(IF(BP66:CI66>0,BP66:CI66),{1,2,3,4,5,6,7,8})),CH67)","v":15},{"$f":"IF(CJ66>0,AVERAGE(SMALL(IF(BQ66:CJ66>0,BQ66:CJ66),{1,2,3,4,5,6,7,8})),CI67)","v":15},{"$f":"IF(CK66>0,AVERAGE(SMALL(IF(BR66:CK66>0,BR66:CK66),{1,2,3,4,5,6,7,8})),CJ67)","v":15},{"$f":"IF(CL66>0,AVERAGE(SMALL(IF(BS66:CL66>0,BS66:CL66),{1,2,3,4,5,6,7,8})),CK67)","v":15},{"$f":"IF(CM66>0,AVERAGE(SMALL(IF(BT66:CM66>0,BT66:CM66),{1,2,3,4,5,6,7,8})),CL67)","v":15},{"$f":"IF(CN66>0,AVERAGE(SMALL(IF(BU66:CN66>0,BU66:CN66),{1,2,3,4,5,6,7,8})),CM67)","v":15},{"$f":"IF(CO66>0,AVERAGE(SMALL(IF(BV66:CO66>0,BV66:CO66),{1,2,3,4,5,6,7,8})),CN67)","v":15},{"$f":"IF(CP66>0,AVERAGE(SMALL(IF(BW66:CP66>0,BW66:CP66),{1,2,3,4,5,6,7,8})),CO67)","v":15},{"$f":"IF(CQ66>0,AVERAGE(SMALL(IF(BX66:CQ66>0,BX66:CQ66),{1,2,3,4,5,6,7,8})),CP67)","v":15},{"$f":"IF(CR66>0,AVERAGE(SMALL(IF(BY66:CR66>0,BY66:CR66),{1,2,3,4,5,6,7,8})),CQ67)","v":15},{"$f":"IF(CS66>0,AVERAGE(SMALL(IF(BZ66:CS66>0,BZ66:CS66),{1,2,3,4,5,6,7,8})),CR67)","v":15},{"$f":"IF(CT66>0,AVERAGE(SMALL(IF(CA66:CT66>0,CA66:CT66),{1,2,3,4,5,6,7,8})),CS67)","v":15},{"$f":"IF(CU66>0,AVERAGE(SMALL(IF(CB66:CU66>0,CB66:CU66),{1,2,3,4,5,6,7,8})),CT67)","v":15},{"$f":"IF(CV66>0,AVERAGE(SMALL(IF(CC66:CV66>0,CC66:CV66),{1,2,3,4,5,6,7,8})),CU67)","v":15},{"$f":"IF(CW66>0,AVERAGE(SMALL(IF(CD66:CW66>0,CD66:CW66),{1,2,3,4,5,6,7,8})),CV67)","v":15}]
[null,null,null,null,null,null,null,null,"Low Hcap",null,null,null,null,null,null,null,null,null,null,null,null,null,null,null,null,null,null,null,{"$f":"MIN($J67:AC67)","v":15},{"$f":"MIN($J67:AD67)","v":15},{"$f":"MIN($J67:AE67)","v":15},{"$f":"MIN($J67:AF67)","v":15},{"$f":"MIN($J67:AG67)","v":15},{"$f":"MIN($J67:AH67)","v":15},{"$f":"MIN($J67:AI67)","v":15},{"$f":"MIN($J67:AJ67)","v":15},{"$f":"MIN($J67:AK67)","v":15},{"$f":"MIN($J67:AL67)","v":15},{"$f":"MIN($J67:AM67)","v":15},{"$f":"MIN($J67:AN67)","v":15},{"$f":"MIN($J67:AO67)","v":15},{"$f":"MIN($J67:AP67)","v":15},{"$f":"MIN($J67:AQ67)","v":15},{"$f":"MIN($J67:AR67)","v":15},{"$f":"MIN($J67:AS67)","v":15},{"$f":"MIN($J67:AT67)","v":15},{"$f":"MIN($J67:AU67)","v":15},{"$f":"MIN($J67:AV67)","v":15},{"$f":"MIN($J67:AW67)","v":15},{"$f":"MIN($J67:AX67)","v":15},{"$f":"MIN($J67:AY67)","v":15},{"$f":"MIN($J67:AZ67)","v":15},{"$f":"MIN($J67:BA67)","v":15},{"$f":"MIN($J67:BB67)","v":15},{"$f":"MIN($J67:BC67)","v":15},{"$f":"MIN($J67:BD67)","v":15},{"$f":"MIN($J67:BE67)","v":15},{"$f":"MIN($J67:BF67)","v":15},{"$f":"MIN($J67:BG67)","v":15},{"$f":"MIN($J67:BH67)","v":15},{"$f":"MIN($J67:BI67)","v":15},{"$f":"MIN($J67:BJ67)","v":15},{"$f":"MIN($J67:BK67)","v":15},{"$f":"MIN($J67:BL67)","v":15},{"$f":"MIN($J67:BM67)","v":15},{"$f":"MIN($J67:BN67)","v":15},{"$f":"MIN($J67:BO67)","v":15},{"$f":"MIN($J67:BP67)","v":15},{"$f":"MIN($J67:BQ67)","v":15},{"$f":"MIN($J67:BR67)","v":15},{"$f":"MIN($J67:BS67)","v":15},{"$f":"MIN($J67:BT67)","v":15},{"$f":"MIN($J67:BU67)","v":15},{"$f":"MIN($J67:BV67)","v":15},{"$f":"MIN($J67:BW67)","v":15},{"$f":"MIN($J67:BX67)","v":15},{"$f":"MIN($J67:BY67)","v":15},{"$f":"MIN($J67:BZ67)","v":15},{"$f":"MIN($J67:CA67)","v":15},{"$f":"MIN($J67:CB67)","v":15},{"$f":"MIN($J67:CC67)","v":15},{"$f":"MIN($J67:CD67)","v":15},{"$f":"MIN($J67:CE67)","v":15},{"$f":"MIN($J67:CF67)","v":15},{"$f":"MIN($J67:CG67)","v":15},{"$f":"MIN($J67:CH67)","v":15},{"$f":"MIN($J67:CI67)","v":15},{"$f":"MIN($J67:CJ67)","v":15},{"$f":"MIN($J67:CK67)","v":15},{"$f":"MIN($J67:CL67)","v":15},{"$f":"MIN($J67:CM67)","v":15},{"$f":"MIN($J67:CN67)","v":15},{"$f":"MIN($J67:CO67)","v":15},{"$f":"MIN($J67:CP67)","v":15},{"$f":"MIN($J67:CQ67)","v":15},{"$f":"MIN($J67:CR67)","v":15},{"$f":"MIN($J67:CS67)","v":15},{"$f":"MIN($J67:CT67)","v":15},{"$f":"MIN($J67:CU67)","v":15},{"$f":"MIN($J67:CV67)","v":15},{"$f":"MIN($J67:CW67)","v":15}]
[null,"Cherickel","Ranjith",20.399999999999999,null,{"$f":"IF(H69<4,\"Y\",)","v":0},2020,{"$f":"COUNT(J69:CX69)","v":6},"Date",null,"2020-07-31","2020-08-09","2020-08-14","2020-09-12","2020-11-01","2020-11-15",null,null,null,null,null,null,null,null,null,null,null,null,null,null,null,null,null,null,null,null,null,null,null,null,null,null,null,null,null,null,null,null,null,null,null,null,null,null,null,null,null,null,null,null,null,null,null,null,null,null,null,null,null,null,null,null,null,null,null,null,null,null,null,null,null,null,null,null,null,null,null,null,null,null,null,null,null,null,null,null,null,null,null,null,null,null,{"$f":"IF(CW73>$DD$1,36,CW73)","v":21.5},21.5,{"$f":"CZ69-CY69","v":0}]
[null,null,null,null,null,null,null,null,"Course",null,"StEurachHG","ErdingHG","EgmatingHG","TegernbachHG","ErdingHG","OdelzhausenHG"]
[null,null,null,null,null,null,null,null,"Ad Gr",null,99,97,104,99,107,104]
[null,null,null,null,null,null,null,null,"SD",20.399999999999999,{"$f":"IF(K71=\"\",0,(K71-INDIRECT(CONCATENATE(K70,\"CR\")))*113/INDIRECT(CONCATENATE(K70,\"SR\")))","v":23.376335877862591},22.6,27.344274809160307,23.370454545454542,31.292307692307691,28.650393700787404,0,0,0,0,0,0,0,0,0,0,0,0,0,0,0,0,0,0,0,0,0,0,0,0,0,0,0,0,0,0,0,0,0,0,0,0,0,0,0,0,0,0,0]
[null,null,null,null,null,null,null,null,"New Hcap",{"$f":"J72-2","v":18.399999999999999},{"$f":"IF(K72>0,MIN(J72:K72)-2,J73)","v":18.399999999999999},{"$f":"IF(L72>0,MIN(J72:L72)-2,K73)","v":18.399999999999999},{"$f":"IF(M72>0,MIN(J72:M72)-1,L73)","v":19.399999999999999},{"$f":"IF(N72>0,MIN(J72:N72),M73)","v":20.399999999999999},{"$f":"IF(O72>0,AVERAGE(SMALL(IF(J72:O72>0,J72:O72),{1,2}))-1,N73)","v":20.5},{"$f":"IF(P72>0,AVERAGE(SMALL(IF(J72:P72>0,J72:P72),{1,2})),O73)","v":21.5},{"$f":"IF(Q72>0,AVERAGE(SMALL(IF(J72:Q72>0,J72:Q72),{1,2})),P73)","v":21.5},{"$f":"IF(R72>0,AVERAGE(SMALL(IF(J72:R72>0,J72:R72),{1,2,3})),Q73)","v":21.5},{"$f":"IF(S72>0,AVERAGE(SMALL(IF(J72:S72>0,J72:S72),{1,2,3})),R73)","v":21.5},{"$f":"IF(T72>0,AVERAGE(SMALL(IF(J72:T72>0,J72:T72),{1,2,3})),S73)","v":21.5},{"$f":"IF(U72>0,AVERAGE(SMALL(IF(J72:U72>0,J72:U72),{1,2,3,4})),T73)","v":21.5},{"$f":"IF(V72>0,AVERAGE(SMALL(IF(J72:V72>0,J72:V72),{1,2,3,4})),U73)","v":21.5},{"$f":"IF(W72>0,AVERAGE(SMALL(IF(J72:W72>0,J72:W72),{1,2,3,4})),V73)","v":21.5},{"$f":"IF(X72>0,AVERAGE(SMALL(IF(J72:X72>0,J72:X72),{1,2,3,4,5})),W73)","v":21.5},{"$f":"IF(Y72>0,AVERAGE(SMALL(IF(J72:Y72>0,J72:Y72),{1,2,3,4,5})),X73)","v":21.5},{"$f":"IF(Z72>0,AVERAGE(SMALL(IF(J72:Z72>0,J72:Z72),{1,2,3,4,5,6})),Y73)","v":21.5},{"$f":"IF(AA72>0,AVERAGE(SMALL(IF(J72:AA72>0,J72:AA72),{1,2,3,4,5,6})),Z73)","v":21.5},{"$f":"IF(AB72>0,AVERAGE(SMALL(IF(J72:AB72>0,J72:AB72),{1,2,3,4,5,6,7})),AA73)","v":21.5},{"$f":"IF(AC72>0,AVERAGE(SMALL(IF(J72:AC72>0,J72:AC72),{1,2,3,4,5,6,7,8})),AB73)","v":21.5},{"$f":"IF(AD72>0,AVERAGE(SMALL(IF(K72:AD72>0,K72:AD72),{1,2,3,4,5,6,7,8})),AC73)","v":21.5},{"$f":"IF(AE72>0,AVERAGE(SMALL(IF(L72:AE72>0,L72:AE72),{1,2,3,4,5,6,7,8})),AD73)","v":21.5},{"$f":"IF(AF72>0,AVERAGE(SMALL(IF(M72:AF72>0,M72:AF72),{1,2,3,4,5,6,7,8})),AE73)","v":21.5},{"$f":"IF(AG72>0,AVERAGE(SMALL(IF(N72:AG72>0,N72:AG72),{1,2,3,4,5,6,7,8})),AF73)","v":21.5},{"$f":"IF(AH72>0,AVERAGE(SMALL(IF(O72:AH72>0,O72:AH72),{1,2,3,4,5,6,7,8})),AG73)","v":21.5},{"$f":"IF(AI72>0,AVERAGE(SMALL(IF(P72:AI72>0,P72:AI72),{1,2,3,4,5,6,7,8})),AH73)","v":21.5},{"$f":"IF(AJ72>0,AVERAGE(SMALL(IF(Q72:AJ72>0,Q72:AJ72),{1,2,3,4,5,6,7,8})),AI73)","v":21.5},{"$f":"IF(AK72>0,AVERAGE(SMALL(IF(R72:AK72>0,R72:AK72),{1,2,3,4,5,6,7,8})),AJ73)","v":21.5},{"$f":"IF(AL72>0,AVERAGE(SMALL(IF(S72:AL72>0,S72:AL72),{1,2,3,4,5,6,7,8})),AK73)","v":21.5},{"$f":"IF(AM72>0,AVERAGE(SMALL(IF(T72:AM72>0,T72:AM72),{1,2,3,4,5,6,7,8})),AL73)","v":21.5},{"$f":"IF(AN72>0,AVERAGE(SMALL(IF(U72:AN72>0,U72:AN72),{1,2,3,4,5,6,7,8})),AM73)","v":21.5},{"$f":"IF(AO72>0,AVERAGE(SMALL(IF(V72:AO72>0,V72:AO72),{1,2,3,4,5,6,7,8})),AN73)","v":21.5},{"$f":"IF(AP72>0,AVERAGE(SMALL(IF(W72:AP72>0,W72:AP72),{1,2,3,4,5,6,7,8})),AO73)","v":21.5},{"$f":"IF(AQ72>0,AVERAGE(SMALL(IF(X72:AQ72>0,X72:AQ72),{1,2,3,4,5,6,7,8})),AP73)","v":21.5},{"$f":"IF(AR72>0,AVERAGE(SMALL(IF(Y72:AR72>0,Y72:AR72),{1,2,3,4,5,6,7,8})),AQ73)","v":21.5},{"$f":"IF(AS72>0,AVERAGE(SMALL(IF(Z72:AS72>0,Z72:AS72),{1,2,3,4,5,6,7,8})),AR73)","v":21.5},{"$f":"IF(AT72>0,AVERAGE(SMALL(IF(AA72:AT72>0,AA72:AT72),{1,2,3,4,5,6,7,8})),AS73)","v":21.5},{"$f":"IF(AU72>0,AVERAGE(SMALL(IF(AB72:AU72>0,AB72:AU72),{1,2,3,4,5,6,7,8})),AT73)","v":21.5},{"$f":"IF(AV72>0,AVERAGE(SMALL(IF(AC72:AV72>0,AC72:AV72),{1,2,3,4,5,6,7,8})),AU73)","v":21.5},{"$f":"IF(AW72>0,AVERAGE(SMALL(IF(AD72:AW72>0,AD72:AW72),{1,2,3,4,5,6,7,8})),AV73)","v":21.5},{"$f":"IF(AX72>0,AVERAGE(SMALL(IF(AE72:AX72>0,AE72:AX72),{1,2,3,4,5,6,7,8})),AW73)","v":21.5},{"$f":"IF(AY72>0,AVERAGE(SMALL(IF(AF72:AY72>0,AF72:AY72),{1,2,3,4,5,6,7,8})),AX73)","v":21.5},{"$f":"IF(AZ72>0,AVERAGE(SMALL(IF(AG72:AZ72>0,AG72:AZ72),{1,2,3,4,5,6,7,8})),AY73)","v":21.5},{"$f":"IF(BA72>0,AVERAGE(SMALL(IF(AH72:BA72>0,AH72:BA72),{1,2,3,4,5,6,7,8})),AZ73)","v":21.5},{"$f":"IF(BB72>0,AVERAGE(SMALL(IF(AI72:BB72>0,AI72:BB72),{1,2,3,4,5,6,7,8})),BA73)","v":21.5},{"$f":"IF(BC72>0,AVERAGE(SMALL(IF(AJ72:BC72>0,AJ72:BC72),{1,2,3,4,5,6,7,8})),BB73)","v":21.5},{"$f":"IF(BD72>0,AVERAGE(SMALL(IF(AK72:BD72>0,AK72:BD72),{1,2,3,4,5,6,7,8})),BC73)","v":21.5},{"$f":"IF(BE72>0,AVERAGE(SMALL(IF(AL72:BE72>0,AL72:BE72),{1,2,3,4,5,6,7,8})),BD73)","v":21.5},{"$f":"IF(BF72>0,AVERAGE(SMALL(IF(AM72:BF72>0,AM72:BF72),{1,2,3,4,5,6,7,8})),BE73)","v":21.5},{"$f":"IF(BG72>0,AVERAGE(SMALL(IF(AN72:BG72>0,AN72:BG72),{1,2,3,4,5,6,7,8})),BF73)","v":21.5},{"$f":"IF(BH72>0,AVERAGE(SMALL(IF(AO72:BH72>0,AO72:BH72),{1,2,3,4,5,6,7,8})),BG73)","v":21.5},{"$f":"IF(BI72>0,AVERAGE(SMALL(IF(AP72:BI72>0,AP72:BI72),{1,2,3,4,5,6,7,8})),BH73)","v":21.5},{"$f":"IF(BJ72>0,AVERAGE(SMALL(IF(AQ72:BJ72>0,AQ72:BJ72),{1,2,3,4,5,6,7,8})),BI73)","v":21.5},{"$f":"IF(BK72>0,AVERAGE(SMALL(IF(AR72:BK72>0,AR72:BK72),{1,2,3,4,5,6,7,8})),BJ73)","v":21.5},{"$f":"IF(BL72>0,AVERAGE(SMALL(IF(AS72:BL72>0,AS72:BL72),{1,2,3,4,5,6,7,8})),BK73)","v":21.5},{"$f":"IF(BM72>0,AVERAGE(SMALL(IF(AT72:BM72>0,AT72:BM72),{1,2,3,4,5,6,7,8})),BL73)","v":21.5},{"$f":"IF(BN72>0,AVERAGE(SMALL(IF(AU72:BN72>0,AU72:BN72),{1,2,3,4,5,6,7,8})),BM73)","v":21.5},{"$f":"IF(BO72>0,AVERAGE(SMALL(IF(AV72:BO72>0,AV72:BO72),{1,2,3,4,5,6,7,8})),BN73)","v":21.5},{"$f":"IF(BP72>0,AVERAGE(SMALL(IF(AW72:BP72>0,AW72:BP72),{1,2,3,4,5,6,7,8})),BO73)","v":21.5},{"$f":"IF(BQ72>0,AVERAGE(SMALL(IF(AX72:BQ72>0,AX72:BQ72),{1,2,3,4,5,6,7,8})),BP73)","v":21.5},{"$f":"IF(BR72>0,AVERAGE(SMALL(IF(AY72:BR72>0,AY72:BR72),{1,2,3,4,5,6,7,8})),BQ73)","v":21.5},{"$f":"IF(BS72>0,AVERAGE(SMALL(IF(AZ72:BS72>0,AZ72:BS72),{1,2,3,4,5,6,7,8})),BR73)","v":21.5},{"$f":"IF(BT72>0,AVERAGE(SMALL(IF(BA72:BT72>0,BA72:BT72),{1,2,3,4,5,6,7,8})),BS73)","v":21.5},{"$f":"IF(BU72>0,AVERAGE(SMALL(IF(BB72:BU72>0,BB72:BU72),{1,2,3,4,5,6,7,8})),BT73)","v":21.5},{"$f":"IF(BV72>0,AVERAGE(SMALL(IF(BC72:BV72>0,BC72:BV72),{1,2,3,4,5,6,7,8})),BU73)","v":21.5},{"$f":"IF(BW72>0,AVERAGE(SMALL(IF(BD72:BW72>0,BD72:BW72),{1,2,3,4,5,6,7,8})),BV73)","v":21.5},{"$f":"IF(BX72>0,AVERAGE(SMALL(IF(BE72:BX72>0,BE72:BX72),{1,2,3,4,5,6,7,8})),BW73)","v":21.5},{"$f":"IF(BY72>0,AVERAGE(SMALL(IF(BF72:BY72>0,BF72:BY72),{1,2,3,4,5,6,7,8})),BX73)","v":21.5},{"$f":"IF(BZ72>0,AVERAGE(SMALL(IF(BG72:BZ72>0,BG72:BZ72),{1,2,3,4,5,6,7,8})),BY73)","v":21.5},{"$f":"IF(CA72>0,AVERAGE(SMALL(IF(BH72:CA72>0,BH72:CA72),{1,2,3,4,5,6,7,8})),BZ73)","v":21.5},{"$f":"IF(CB72>0,AVERAGE(SMALL(IF(BI72:CB72>0,BI72:CB72),{1,2,3,4,5,6,7,8})),CA73)","v":21.5},{"$f":"IF(CC72>0,AVERAGE(SMALL(IF(BJ72:CC72>0,BJ72:CC72),{1,2,3,4,5,6,7,8})),CB73)","v":21.5},{"$f":"IF(CD72>0,AVERAGE(SMALL(IF(BK72:CD72>0,BK72:CD72),{1,2,3,4,5,6,7,8})),CC73)","v":21.5},{"$f":"IF(CE72>0,AVERAGE(SMALL(IF(BL72:CE72>0,BL72:CE72),{1,2,3,4,5,6,7,8})),CD73)","v":21.5},{"$f":"IF(CF72>0,AVERAGE(SMALL(IF(BM72:CF72>0,BM72:CF72),{1,2,3,4,5,6,7,8})),CE73)","v":21.5},{"$f":"IF(CG72>0,AVERAGE(SMALL(IF(BN72:CG72>0,BN72:CG72),{1,2,3,4,5,6,7,8})),CF73)","v":21.5},{"$f":"IF(CH72>0,AVERAGE(SMALL(IF(BO72:CH72>0,BO72:CH72),{1,2,3,4,5,6,7,8})),CG73)","v":21.5},{"$f":"IF(CI72>0,AVERAGE(SMALL(IF(BP72:CI72>0,BP72:CI72),{1,2,3,4,5,6,7,8})),CH73)","v":21.5},{"$f":"IF(CJ72>0,AVERAGE(SMALL(IF(BQ72:CJ72>0,BQ72:CJ72),{1,2,3,4,5,6,7,8})),CI73)","v":21.5},{"$f":"IF(CK72>0,AVERAGE(SMALL(IF(BR72:CK72>0,BR72:CK72),{1,2,3,4,5,6,7,8})),CJ73)","v":21.5},{"$f":"IF(CL72>0,AVERAGE(SMALL(IF(BS72:CL72>0,BS72:CL72),{1,2,3,4,5,6,7,8})),CK73)","v":21.5},{"$f":"IF(CM72>0,AVERAGE(SMALL(IF(BT72:CM72>0,BT72:CM72),{1,2,3,4,5,6,7,8})),CL73)","v":21.5},{"$f":"IF(CN72>0,AVERAGE(SMALL(IF(BU72:CN72>0,BU72:CN72),{1,2,3,4,5,6,7,8})),CM73)","v":21.5},{"$f":"IF(CO72>0,AVERAGE(SMALL(IF(BV72:CO72>0,BV72:CO72),{1,2,3,4,5,6,7,8})),CN73)","v":21.5},{"$f":"IF(CP72>0,AVERAGE(SMALL(IF(BW72:CP72>0,BW72:CP72),{1,2,3,4,5,6,7,8})),CO73)","v":21.5},{"$f":"IF(CQ72>0,AVERAGE(SMALL(IF(BX72:CQ72>0,BX72:CQ72),{1,2,3,4,5,6,7,8})),CP73)","v":21.5},{"$f":"IF(CR72>0,AVERAGE(SMALL(IF(BY72:CR72>0,BY72:CR72),{1,2,3,4,5,6,7,8})),CQ73)","v":21.5},{"$f":"IF(CS72>0,AVERAGE(SMALL(IF(BZ72:CS72>0,BZ72:CS72),{1,2,3,4,5,6,7,8})),CR73)","v":21.5},{"$f":"IF(CT72>0,AVERAGE(SMALL(IF(CA72:CT72>0,CA72:CT72),{1,2,3,4,5,6,7,8})),CS73)","v":21.5},{"$f":"IF(CU72>0,AVERAGE(SMALL(IF(CB72:CU72>0,CB72:CU72),{1,2,3,4,5,6,7,8})),CT73)","v":21.5},{"$f":"IF(CV72>0,AVERAGE(SMALL(IF(CC72:CV72>0,CC72:CV72),{1,2,3,4,5,6,7,8})),CU73)","v":21.5},{"$f":"IF(CW72>0,AVERAGE(SMALL(IF(CD72:CW72>0,CD72:CW72),{1,2,3,4,5,6,7,8})),CV73)","v":21.5}]
[null,null,null,null,null,null,null,null,"Low Hcap",null,null,null,null,null,null,null,null,null,null,null,null,null,null,null,null,null,null,null,{"$f":"MIN($Q73:AC73)","v":21.5},{"$f":"MIN($J73:AD73)","v":18.399999999999999},{"$f":"MIN($J73:AE73)","v":18.399999999999999},{"$f":"MIN($J73:AF73)","v":18.399999999999999},{"$f":"MIN($J73:AG73)","v":18.399999999999999},{"$f":"MIN($J73:AH73)","v":18.399999999999999},{"$f":"MIN($J73:AI73)","v":18.399999999999999},{"$f":"MIN($J73:AJ73)","v":18.399999999999999},{"$f":"MIN($J73:AK73)","v":18.399999999999999},{"$f":"MIN($J73:AL73)","v":18.399999999999999},{"$f":"MIN($J73:AM73)","v":18.399999999999999},{"$f":"MIN($J73:AN73)","v":18.399999999999999},{"$f":"MIN($J73:AO73)","v":18.399999999999999},{"$f":"MIN($J73:AP73)","v":18.399999999999999},{"$f":"MIN($J73:AQ73)","v":18.399999999999999},{"$f":"MIN($J73:AR73)","v":18.399999999999999},{"$f":"MIN($J73:AS73)","v":18.399999999999999},{"$f":"MIN($J73:AT73)","v":18.399999999999999},{"$f":"MIN($J73:AU73)","v":18.399999999999999},{"$f":"MIN($J73:AV73)","v":18.399999999999999},{"$f":"MIN($J73:AW73)","v":18.399999999999999},{"$f":"MIN($J73:AX73)","v":18.399999999999999},{"$f":"MIN($J73:AY73)","v":18.399999999999999},{"$f":"MIN($J73:AZ73)","v":18.399999999999999},{"$f":"MIN($J73:BA73)","v":18.399999999999999},{"$f":"MIN($J73:BB73)","v":18.399999999999999},{"$f":"MIN($J73:BC73)","v":18.399999999999999},{"$f":"MIN($J73:BD73)","v":18.399999999999999},{"$f":"MIN($J73:BE73)","v":18.399999999999999},{"$f":"MIN($J73:BF73)","v":18.399999999999999},{"$f":"MIN($J73:BG73)","v":18.399999999999999},{"$f":"MIN($J73:BH73)","v":18.399999999999999},{"$f":"MIN($J73:BI73)","v":18.399999999999999},{"$f":"MIN($J73:BJ73)","v":18.399999999999999},{"$f":"MIN($J73:BK73)","v":18.399999999999999},{"$f":"MIN($J73:BL73)","v":18.399999999999999},{"$f":"MIN($J73:BM73)","v":18.399999999999999},{"$f":"MIN($J73:BN73)","v":18.399999999999999},{"$f":"MIN($J73:BO73)","v":18.399999999999999},{"$f":"MIN($J73:BP73)","v":18.399999999999999},{"$f":"MIN($J73:BQ73)","v":18.399999999999999},{"$f":"MIN($J73:BR73)","v":18.399999999999999},{"$f":"MIN($J73:BS73)","v":18.399999999999999},{"$f":"MIN($J73:BT73)","v":18.399999999999999},{"$f":"MIN($J73:BU73)","v":18.399999999999999},{"$f":"MIN($J73:BV73)","v":18.399999999999999},{"$f":"MIN($J73:BW73)","v":18.399999999999999},{"$f":"MIN($J73:BX73)","v":18.399999999999999},{"$f":"MIN($J73:BY73)","v":18.399999999999999},{"$f":"MIN($J73:BZ73)","v":18.399999999999999},{"$f":"MIN($J73:CA73)","v":18.399999999999999},{"$f":"MIN($J73:CB73)","v":18.399999999999999},{"$f":"MIN($J73:CC73)","v":18.399999999999999},{"$f":"MIN($J73:CD73)","v":18.399999999999999},{"$f":"MIN($J73:CE73)","v":18.399999999999999},{"$f":"MIN($J73:CF73)","v":18.399999999999999},{"$f":"MIN($J73:CG73)","v":18.399999999999999},{"$f":"MIN($J73:CH73)","v":18.399999999999999},{"$f":"MIN($J73:CI73)","v":18.399999999999999},{"$f":"MIN($J73:CJ73)","v":18.399999999999999},{"$f":"MIN($J73:CK73)","v":18.399999999999999},{"$f":"MIN($J73:CL73)","v":18.399999999999999},{"$f":"MIN($J73:CM73)","v":18.399999999999999},{"$f":"MIN($J73:CN73)","v":18.399999999999999},{"$f":"MIN($J73:CO73)","v":18.399999999999999},{"$f":"MIN($J73:CP73)","v":18.399999999999999},{"$f":"MIN($J73:CQ73)","v":18.399999999999999},{"$f":"MIN($J73:CR73)","v":18.399999999999999},{"$f":"MIN($J73:CS73)","v":18.399999999999999},{"$f":"MIN($J73:CT73)","v":18.399999999999999},{"$f":"MIN($J73:CU73)","v":18.399999999999999},{"$f":"MIN($J73:CV73)","v":18.399999999999999},{"$f":"MIN($J73:CW73)","v":18.399999999999999}]
[null,"Chester","Allan",12.1,null,{"$f":"IF(H75<4,\"Y\",)","v":0},2019,{"$f":"COUNT(J75:CX75)","v":34},"Date",null,"2020-06-14","2020-06-28","2020-07-03","2020-07-12","2020-08-09","2020-09-12","2020-11-15","2021-03-28","2021-04-11","2021-04-25","2021-04-30","2021-05-14","2021-05-30","2021-06-04","2021-07-11","2021-07-30","2021-08-15","2021-09-03","2021-09-19","2021-10-31","2021-11-14","2022-06-05","2022-06-12","2022-06-17","2022-07-24","2022-07-31","2022-08-12","2022-08-21","2022-09-02","2022-10-07","2022-10-21","2023-05-07","2023-05-19","2023-05-28",null,null,null,null,null,null,null,null,null,null,null,null,null,null,null,null,null,null,null,null,null,null,null,null,null,null,null,null,null,null,null,null,null,null,null,null,null,null,null,null,null,null,null,null,null,null,null,null,null,null,null,null,null,null,null,null,null,null,{"$f":"IF(CW79>$DD$1,36,CW79)","v":12.037850851438634},11.388416030534348,{"$f":"CZ75-CY75","v":-0.64943482090428617}]
[null,null,null,null,null,null,null,null,"Course",null,"OdelzhausenHG","ErdingHG","TegernbachHG","PfaffingHG","ErdingHG","TegernbachHG","OdelzhausenHG","OdelzhausenHG","ErdingHR","PfaffingHG","TegernbachHG","StEurachHG","IffeldorfHG","EgmatingHG","PfaffingHG","MangfalltalHG","ErdingHG","StEurachHG","ErdingHG","ErdingHG","OdelzhausenHG","IffeldorfHG","ErdingHG","StEurachHG","Pfaffing2022HG","HohenpaehlHG","ValleyHG","Pfaffing2022HG","StEurachHG","EgmatingHG","TegernbachHG","Odelzhausen2023HG","GarmischHG","ErdingHG"]
[null,null,null,null,null,null,null,null,"Ad Gr",null,104,95,85,99,91,85,87,92,84,86,93,82,92,101,82,94,94,86,97,89,97,93,93,83,89,83,93,88,88,91,97,96,105,87]
[null,null,null,null,null,null,null,null,"SD",12.1,{"$f":"IF(K77=\"\",0,(K77-INDIRECT(CONCATENATE(K76,\"CR\")))*113/INDIRECT(CONCATENATE(K76,\"SR\")))","v":28.650393700787404},{"$f":"IF(L77=\"\",0,(L77-INDIRECT(CONCATENATE(L76,\"CR\")))*113/INDIRECT(CONCATENATE(L76,\"SR\")))","v":20.861538461538462},{"$f":"IF(M77=\"\",0,(M77-INDIRECT(CONCATENATE(M76,\"CR\")))*113/INDIRECT(CONCATENATE(M76,\"SR\")))","v":11.385606060606058},{"$f":"IF(N77=\"\",0,(N77-INDIRECT(CONCATENATE(N76,\"CR\")))*113/INDIRECT(CONCATENATE(N76,\"SR\")))","v":23.469230769230769},{"$f":"IF(O77=\"\",0,(O77-INDIRECT(CONCATENATE(O76,\"CR\")))*113/INDIRECT(CONCATENATE(O76,\"SR\")))","v":17.384615384615383},{"$f":"IF(P77=\"\",0,(P77-INDIRECT(CONCATENATE(P76,\"CR\")))*113/INDIRECT(CONCATENATE(P76,\"SR\")))","v":11.385606060606058},{"$f":"IF(Q77=\"\",0,(Q77-INDIRECT(CONCATENATE(Q76,\"CR\")))*113/INDIRECT(CONCATENATE(Q76,\"SR\")))","v":13.524409448818901},{"$f":"IF(R77=\"\",0,(R77-INDIRECT(CONCATENATE(R76,\"CR\")))*113/INDIRECT(CONCATENATE(R76,\"SR\")))","v":17.973228346456697},{"$f":"IF(S77=\"\",0,(S77-INDIRECT(CONCATENATE(S76,\"CR\")))*113/INDIRECT(CONCATENATE(S76,\"SR\")))","v":16.237815126050414},{"$f":"IF(T77=\"\",0,(T77-INDIRECT(CONCATENATE(T76,\"CR\")))*113/INDIRECT(CONCATENATE(T76,\"SR\")))","v":12.169230769230769},{"$f":"IF(U77=\"\",0,(U77-INDIRECT(CONCATENATE(U76,\"CR\")))*113/INDIRECT(CONCATENATE(U76,\"SR\")))","v":18.234090909090906},{"$f":"IF(V77=\"\",0,(V77-INDIRECT(CONCATENATE(V76,\"CR\")))*113/INDIRECT(CONCATENATE(V76,\"SR\")))","v":8.7122137404580098},{"$f":"IF(W77=\"\",0,(W77-INDIRECT(CONCATENATE(W76,\"CR\")))*113/INDIRECT(CONCATENATE(W76,\"SR\")))","v":18.220155038759685},{"$f":"IF(X77=\"\",0,(X77-INDIRECT(CONCATENATE(X76,\"CR\")))*113/INDIRECT(CONCATENATE(X76,\"SR\")))","v":24.756488549618325},{"$f":"IF(Y77=\"\",0,(Y77-INDIRECT(CONCATENATE(Y76,\"CR\")))*113/INDIRECT(CONCATENATE(Y76,\"SR\")))","v":8.6923076923076916},{"$f":"IF(Z77=\"\",0,(Z77-INDIRECT(CONCATENATE(Z76,\"CR\")))*113/INDIRECT(CONCATENATE(Z76,\"SR\")))","v":18.997101449275366},{"$f":"IF(AA77=\"\",0,(AA77-INDIRECT(CONCATENATE(AA76,\"CR\")))*113/INDIRECT(CONCATENATE(AA76,\"SR\")))","v":19.992307692307691},{"$f":"IF(AB77=\"\",0,(AB77-INDIRECT(CONCATENATE(AB76,\"CR\")))*113/INDIRECT(CONCATENATE(AB76,\"SR\")))","v":12.162595419847323},{"$f":"IF(AC77=\"\",0,(AC77-INDIRECT(CONCATENATE(AC76,\"CR\")))*113/INDIRECT(CONCATENATE(AC76,\"SR\")))","v":22.6},{"$f":"IF(AD77=\"\",0,(AD77-INDIRECT(CONCATENATE(AD76,\"CR\")))*113/INDIRECT(CONCATENATE(AD76,\"SR\")))","v":15.646153846153846},{"$f":"IF(AE77=\"\",0,(AE77-INDIRECT(CONCATENATE(AE76,\"CR\")))*113/INDIRECT(CONCATENATE(AE76,\"SR\")))","v":22.42204724409449},{"$f":"IF(AF77=\"\",0,(AF77-INDIRECT(CONCATENATE(AF76,\"CR\")))*113/INDIRECT(CONCATENATE(AF76,\"SR\")))","v":19.096124031007751},19.123076923076923,{"$f":"IF(AH77=\"\",0,(AH77-INDIRECT(CONCATENATE(AH76,\"CR\")))*113/INDIRECT(CONCATENATE(AH76,\"SR\")))","v":9.5748091603053371},14.168461538461536,{"$f":"IF(AJ77=\"\",0,(AJ77-INDIRECT(CONCATENATE(AJ76,\"CR\")))*113/INDIRECT(CONCATENATE(AJ76,\"SR\")))","v":10.609923664122135},16.322222222222223,{"$f":"IF(AL77=\"\",0,(AL77-INDIRECT(CONCATENATE(AL76,\"CR\")))*113/INDIRECT(CONCATENATE(AL76,\"SR\")))","v":13.299230769230766},13.887786259541979,{"$f":"IF(AN77=\"\",0,(AN77-INDIRECT(CONCATENATE(AN76,\"CR\")))*113/INDIRECT(CONCATENATE(AN76,\"SR\")))","v":16.130534351145041},21.658333333333331,{"$f":"IF(AP77=\"\",0,(AP77-INDIRECT(CONCATENATE(AP76,\"CR\")))*113/INDIRECT(CONCATENATE(AP76,\"SR\")))","v":22.235483870967748},29.89606299212598,{"$f":"IF(AR77=\"\",0,(AR77-INDIRECT(CONCATENATE(AR76,\"CR\")))*113/INDIRECT(CONCATENATE(AR76,\"SR\")))","v":13.907692307692308},0,{"$f":"IF(AT77=\"\",0,(AT77-INDIRECT(CONCATENATE(AT76,\"CR\")))*113/INDIRECT(CONCATENATE(AT76,\"SR\")))","v":0},0,{"$f":"IF(AV77=\"\",0,(AV77-INDIRECT(CONCATENATE(AV76,\"CR\")))*113/INDIRECT(CONCATENATE(AV76,\"SR\")))","v":0},0,{"$f":"IF(AX77=\"\",0,(AX77-INDIRECT(CONCATENATE(AX76,\"CR\")))*113/INDIRECT(CONCATENATE(AX76,\"SR\")))","v":0},0,{"$f":"IF(AZ77=\"\",0,(AZ77-INDIRECT(CONCATENATE(AZ76,\"CR\")))*113/INDIRECT(CONCATENATE(AZ76,\"SR\")))","v":0},0,{"$f":"IF(BB77=\"\",0,(BB77-INDIRECT(CONCATENATE(BB76,\"CR\")))*113/INDIRECT(CONCATENATE(BB76,\"SR\")))","v":0},0,{"$f":"IF(BD77=\"\",0,(BD77-INDIRECT(CONCATENATE(BD76,\"CR\")))*113/INDIRECT(CONCATENATE(BD76,\"SR\")))","v":0},0,{"$f":"IF(BF77=\"\",0,(BF77-INDIRECT(CONCATENATE(BF76,\"CR\")))*113/INDIRECT(CONCATENATE(BF76,\"SR\")))","v":0},0,{"$f":"IF(BH77=\"\",0,(BH77-INDIRECT(CONCATENATE(BH76,\"CR\")))*113/INDIRECT(CONCATENATE(BH76,\"SR\")))","v":0},0,0,0,0,0,0,0,0,{"$f":"IF(BQ77=\"\",0,(BQ77-INDIRECT(CONCATENATE(BQ76,\"CR\")))*113/INDIRECT(CONCATENATE(BQ76,\"SR\")))","v":0},0,{"$f":"IF(BS77=\"\",0,(BS77-INDIRECT(CONCATENATE(BS76,\"CR\")))*113/INDIRECT(CONCATENATE(BS76,\"SR\")))","v":0},0,{"$f":"IF(BU77=\"\",0,(BU77-INDIRECT(CONCATENATE(BU76,\"CR\")))*113/INDIRECT(CONCATENATE(BU76,\"SR\")))","v":0},0,{"$f":"IF(BW77=\"\",0,(BW77-INDIRECT(CONCATENATE(BW76,\"CR\")))*113/INDIRECT(CONCATENATE(BW76,\"SR\")))","v":0},0,{"$f":"IF(BY77=\"\",0,(BY77-INDIRECT(CONCATENATE(BY76,\"CR\")))*113/INDIRECT(CONCATENATE(BY76,\"SR\")))","v":0},0,{"$f":"IF(CA77=\"\",0,(CA77-INDIRECT(CONCATENATE(CA76,\"CR\")))*113/INDIRECT(CONCATENATE(CA76,\"SR\")))","v":0},0,{"$f":"IF(CC77=\"\",0,(CC77-INDIRECT(CONCATENATE(CC76,\"CR\")))*113/INDIRECT(CONCATENATE(CC76,\"SR\")))","v":0},0,{"$f":"IF(CE77=\"\",0,(CE77-INDIRECT(CONCATENATE(CE76,\"CR\")))*113/INDIRECT(CONCATENATE(CE76,\"SR\")))","v":0},0,{"$f":"IF(CG77=\"\",0,(CG77-INDIRECT(CONCATENATE(CG76,\"CR\")))*113/INDIRECT(CONCATENATE(CG76,\"SR\")))","v":0},0,{"$f":"IF(CI77=\"\",0,(CI77-INDIRECT(CONCATENATE(CI76,\"CR\")))*113/INDIRECT(CONCATENATE(CI76,\"SR\")))","v":0},0,{"$f":"IF(CK77=\"\",0,(CK77-INDIRECT(CONCATENATE(CK76,\"CR\")))*113/INDIRECT(CONCATENATE(CK76,\"SR\")))","v":0},0,{"$f":"IF(CM77=\"\",0,(CM77-INDIRECT(CONCATENATE(CM76,\"CR\")))*113/INDIRECT(CONCATENATE(CM76,\"SR\")))","v":0},0,{"$f":"IF(CO77=\"\",0,(CO77-INDIRECT(CONCATENATE(CO76,\"CR\")))*113/INDIRECT(CONCATENATE(CO76,\"SR\")))","v":0},0,{"$f":"IF(CQ77=\"\",0,(CQ77-INDIRECT(CONCATENATE(CQ76,\"CR\")))*113/INDIRECT(CONCATENATE(CQ76,\"SR\")))","v":0},0,{"$f":"IF(CS77=\"\",0,(CS77-INDIRECT(CONCATENATE(CS76,\"CR\")))*113/INDIRECT(CONCATENATE(CS76,\"SR\")))","v":0},0,{"$f":"IF(CU77=\"\",0,(CU77-INDIRECT(CONCATENATE(CU76,\"CR\")))*113/INDIRECT(CONCATENATE(CU76,\"SR\")))","v":0},0,{"$f":"IF(CW77=\"\",0,(CW77-INDIRECT(CONCATENATE(CW76,\"CR\")))*113/INDIRECT(CONCATENATE(CW76,\"SR\")))","v":0}]
[null,null,null,null,null,null,null,null,"New Hcap",{"$f":"J78-2","v":10.1},{"$f":"IF(K78>0,MIN(J78:K78)-2,J79)","v":10.1},{"$f":"IF(L78>0,MIN(J78:L78)-2,K79)","v":10.1},{"$f":"IF(M78>0,MIN(J78:M78)-1,L79)","v":10.385606060606058},{"$f":"IF(N78>0,MIN(J78:N78),M79)","v":11.385606060606058},{"$f":"IF(O78>0,AVERAGE(SMALL(IF(J78:O78>0,J78:O78),{1,2}))-1,N79)","v":10.74280303030303},{"$f":"IF(P78>0,AVERAGE(SMALL(IF(J78:P78>0,J78:P78),{1,2})),O79)","v":11.385606060606058},{"$f":"IF(Q78>0,AVERAGE(SMALL(IF(J78:Q78>0,J78:Q78),{1,2})),P79)","v":11.385606060606058},{"$f":"IF(R78>0,AVERAGE(SMALL(IF(J78:R78>0,J78:R78),{1,2,3})),Q79)","v":11.623737373737372},{"$f":"IF(S78>0,AVERAGE(SMALL(IF(J78:S78>0,J78:S78),{1,2,3})),R79)","v":11.623737373737372},{"$f":"IF(T78>0,AVERAGE(SMALL(IF(J78:T78>0,J78:T78),{1,2,3})),S79)","v":11.623737373737372},{"$f":"IF(U78>0,AVERAGE(SMALL(IF(J78:U78>0,J78:U78),{1,2,3,4})),T79)","v":11.760110722610722},{"$f":"IF(V78>0,AVERAGE(SMALL(IF(J78:V78>0,J78:V78),{1,2,3,4})),U79)","v":10.895856465417532},{"$f":"IF(W78>0,AVERAGE(SMALL(IF(J78:W78>0,J78:W78),{1,2,3,4})),V79)","v":10.895856465417532},{"$f":"IF(X78>0,AVERAGE(SMALL(IF(J78:X78>0,J78:X78),{1,2,3,4,5})),W79)","v":11.150531326180181},{"$f":"IF(Y78>0,AVERAGE(SMALL(IF(J78:Y78>0,J78:Y78),{1,2,3,4,5})),X79)","v":10.455146710795564},{"$f":"IF(Z78>0,AVERAGE(SMALL(IF(J78:Z78>0,J78:Z78),{1,2,3,4,5,6})),Y79)","v":10.740827387201433},{"$f":"IF(AA78>0,AVERAGE(SMALL(IF(J78:AA78>0,J78:AA78),{1,2,3,4,5,6})),Z79)","v":10.740827387201433},{"$f":"IF(AB78>0,AVERAGE(SMALL(IF(J78:AB78>0,J78:AB78),{1,2,3,4,5,6,7})),AA79)","v":10.943937106150845},{"$f":"IF(AC78>0,AVERAGE(SMALL(IF(J78:AC78>0,J78:AC78),{1,2,3,4,5,6,7,8})),AB79)","v":11.266496148984352},{"$f":"IF(AD78>0,AVERAGE(SMALL(IF(K78:AD78>0,K78:AD78),{1,2,3,4,5,6,7,8})),AC79)","v":11.709765379753582},{"$f":"IF(AE78>0,AVERAGE(SMALL(IF(L78:AE78>0,L78:AE78),{1,2,3,4,5,6,7,8})),AD79)","v":11.709765379753582},{"$f":"IF(AF78>0,AVERAGE(SMALL(IF(M78:AF78>0,M78:AF78),{1,2,3,4,5,6,7,8})),AE79)","v":11.709765379753582},{"$f":"IF(AG78>0,AVERAGE(SMALL(IF(N78:AG78>0,N78:AG78),{1,2,3,4,5,6,7,8})),AF79)","v":12.316291512934129},{"$f":"IF(AH78>0,AVERAGE(SMALL(IF(O78:AH78>0,O78:AH78),{1,2,3,4,5,6,7,8})),AG79)","v":11.483415767215993},{"$f":"IF(AI78>0,AVERAGE(SMALL(IF(P78:AI78>0,P78:AI78),{1,2,3,4,5,6,7,8})),AH79)","v":11.298704228754453},{"$f":"IF(AJ78>0,AVERAGE(SMALL(IF(Q78:AJ78>0,Q78:AJ78),{1,2,3,4,5,6,7,8})),AI79)","v":11.201743929193963},{"$f":"IF(AK78>0,AVERAGE(SMALL(IF(R78:AK78>0,R78:AK78),{1,2,3,4,5,6,7,8})),AJ79)","v":11.46696197886083},{"$f":"IF(AL78>0,AVERAGE(SMALL(IF(S78:AL78>0,S78:AL78),{1,2,3,4,5,6,7,8})),AK79)","v":11.173596594245446},{"$f":"IF(AM78>0,AVERAGE(SMALL(IF(T78:AM78>0,T78:AM78),{1,2,3,4,5,6,7,8})),AL79)","v":11.138512184380501},{"$f":"IF(AN78>0,AVERAGE(SMALL(IF(U78:AN78>0,U78:AN78),{1,2,3,4,5,6,7,8})),AM79)","v":11.388416030534348},{"$f":"IF(AO78>0,AVERAGE(SMALL(IF(V78:AO78>0,V78:AO78),{1,2,3,4,5,6,7,8})),AN79)","v":11.388416030534348},{"$f":"IF(AP78>0,AVERAGE(SMALL(IF(W78:AP78>0,W78:AP78),{1,2,3,4,5,6,7,8})),AO79)","v":12.255158543746326},{"$f":"IF(AQ78>0,AVERAGE(SMALL(IF(X78:AQ78>0,X78:AQ78),{1,2,3,4,5,6,7,8})),AP79)","v":12.255158543746326},{"$f":"IF(AR78>0,AVERAGE(SMALL(IF(Y78:AR78>0,Y78:AR78),{1,2,3,4,5,6,7,8})),AQ79)","v":12.037850851438634},{"$f":"IF(AS78>0,AVERAGE(SMALL(IF(Z78:AS78>0,Z78:AS78),{1,2,3,4,5,6,7,8})),AR79)","v":12.037850851438634},{"$f":"IF(AT78>0,AVERAGE(SMALL(IF(AA78:AT78>0,AA78:AT78),{1,2,3,4,5,6,7,8})),AS79)","v":12.037850851438634},{"$f":"IF(AU78>0,AVERAGE(SMALL(IF(AB78:AU78>0,AB78:AU78),{1,2,3,4,5,6,7,8})),AT79)","v":12.037850851438634},{"$f":"IF(AV78>0,AVERAGE(SMALL(IF(AC78:AV78>0,AC78:AV78),{1,2,3,4,5,6,7,8})),AU79)","v":12.037850851438634},{"$f":"IF(AW78>0,AVERAGE(SMALL(IF(AD78:AW78>0,AD78:AW78),{1,2,3,4,5,6,7,8})),AV79)","v":12.037850851438634},{"$f":"IF(AX78>0,AVERAGE(SMALL(IF(AE78:AX78>0,AE78:AX78),{1,2,3,4,5,6,7,8})),AW79)","v":12.037850851438634},{"$f":"IF(AY78>0,AVERAGE(SMALL(IF(AF78:AY78>0,AF78:AY78),{1,2,3,4,5,6,7,8})),AX79)","v":12.037850851438634},{"$f":"IF(AZ78>0,AVERAGE(SMALL(IF(AG78:AZ78>0,AG78:AZ78),{1,2,3,4,5,6,7,8})),AY79)","v":12.037850851438634},{"$f":"IF(BA78>0,AVERAGE(SMALL(IF(AH78:BA78>0,AH78:BA78),{1,2,3,4,5,6,7,8})),AZ79)","v":12.037850851438634},{"$f":"IF(BB78>0,AVERAGE(SMALL(IF(AI78:BB78>0,AI78:BB78),{1,2,3,4,5,6,7,8})),BA79)","v":12.037850851438634},{"$f":"IF(BC78>0,AVERAGE(SMALL(IF(AJ78:BC78>0,AJ78:BC78),{1,2,3,4,5,6,7,8})),BB79)","v":12.037850851438634},{"$f":"IF(BD78>0,AVERAGE(SMALL(IF(AK78:BD78>0,AK78:BD78),{1,2,3,4,5,6,7,8})),BC79)","v":12.037850851438634},{"$f":"IF(BE78>0,AVERAGE(SMALL(IF(AL78:BE78>0,AL78:BE78),{1,2,3,4,5,6,7,8})),BD79)","v":12.037850851438634},{"$f":"IF(BF78>0,AVERAGE(SMALL(IF(AM78:BF78>0,AM78:BF78),{1,2,3,4,5,6,7,8})),BE79)","v":12.037850851438634},{"$f":"IF(BG78>0,AVERAGE(SMALL(IF(AN78:BG78>0,AN78:BG78),{1,2,3,4,5,6,7,8})),BF79)","v":12.037850851438634},{"$f":"IF(BH78>0,AVERAGE(SMALL(IF(AO78:BH78>0,AO78:BH78),{1,2,3,4,5,6,7,8})),BG79)","v":12.037850851438634},{"$f":"IF(BI78>0,AVERAGE(SMALL(IF(AP78:BI78>0,AP78:BI78),{1,2,3,4,5,6,7,8})),BH79)","v":12.037850851438634},{"$f":"IF(BJ78>0,AVERAGE(SMALL(IF(AQ78:BJ78>0,AQ78:BJ78),{1,2,3,4,5,6,7,8})),BI79)","v":12.037850851438634},{"$f":"IF(BK78>0,AVERAGE(SMALL(IF(AR78:BK78>0,AR78:BK78),{1,2,3,4,5,6,7,8})),BJ79)","v":12.037850851438634},{"$f":"IF(BL78>0,AVERAGE(SMALL(IF(AS78:BL78>0,AS78:BL78),{1,2,3,4,5,6,7,8})),BK79)","v":12.037850851438634},{"$f":"IF(BM78>0,AVERAGE(SMALL(IF(AT78:BM78>0,AT78:BM78),{1,2,3,4,5,6,7,8})),BL79)","v":12.037850851438634},{"$f":"IF(BN78>0,AVERAGE(SMALL(IF(AU78:BN78>0,AU78:BN78),{1,2,3,4,5,6,7,8})),BM79)","v":12.037850851438634},{"$f":"IF(BO78>0,AVERAGE(SMALL(IF(AV78:BO78>0,AV78:BO78),{1,2,3,4,5,6,7,8})),BN79)","v":12.037850851438634},{"$f":"IF(BP78>0,AVERAGE(SMALL(IF(AW78:BP78>0,AW78:BP78),{1,2,3,4,5,6,7,8})),BO79)","v":12.037850851438634},{"$f":"IF(BQ78>0,AVERAGE(SMALL(IF(AX78:BQ78>0,AX78:BQ78),{1,2,3,4,5,6,7,8})),BP79)","v":12.037850851438634},{"$f":"IF(BR78>0,AVERAGE(SMALL(IF(AY78:BR78>0,AY78:BR78),{1,2,3,4,5,6,7,8})),BQ79)","v":12.037850851438634},{"$f":"IF(BS78>0,AVERAGE(SMALL(IF(AZ78:BS78>0,AZ78:BS78),{1,2,3,4,5,6,7,8})),BR79)","v":12.037850851438634},{"$f":"IF(BT78>0,AVERAGE(SMALL(IF(BA78:BT78>0,BA78:BT78),{1,2,3,4,5,6,7,8})),BS79)","v":12.037850851438634},{"$f":"IF(BU78>0,AVERAGE(SMALL(IF(BB78:BU78>0,BB78:BU78),{1,2,3,4,5,6,7,8})),BT79)","v":12.037850851438634},{"$f":"IF(BV78>0,AVERAGE(SMALL(IF(BC78:BV78>0,BC78:BV78),{1,2,3,4,5,6,7,8})),BU79)","v":12.037850851438634},{"$f":"IF(BW78>0,AVERAGE(SMALL(IF(BD78:BW78>0,BD78:BW78),{1,2,3,4,5,6,7,8})),BV79)","v":12.037850851438634},{"$f":"IF(BX78>0,AVERAGE(SMALL(IF(BE78:BX78>0,BE78:BX78),{1,2,3,4,5,6,7,8})),BW79)","v":12.037850851438634},{"$f":"IF(BY78>0,AVERAGE(SMALL(IF(BF78:BY78>0,BF78:BY78),{1,2,3,4,5,6,7,8})),BX79)","v":12.037850851438634},{"$f":"IF(BZ78>0,AVERAGE(SMALL(IF(BG78:BZ78>0,BG78:BZ78),{1,2,3,4,5,6,7,8})),BY79)","v":12.037850851438634},{"$f":"IF(CA78>0,AVERAGE(SMALL(IF(BH78:CA78>0,BH78:CA78),{1,2,3,4,5,6,7,8})),BZ79)","v":12.037850851438634},{"$f":"IF(CB78>0,AVERAGE(SMALL(IF(BI78:CB78>0,BI78:CB78),{1,2,3,4,5,6,7,8})),CA79)","v":12.037850851438634},{"$f":"IF(CC78>0,AVERAGE(SMALL(IF(BJ78:CC78>0,BJ78:CC78),{1,2,3,4,5,6,7,8})),CB79)","v":12.037850851438634},{"$f":"IF(CD78>0,AVERAGE(SMALL(IF(BK78:CD78>0,BK78:CD78),{1,2,3,4,5,6,7,8})),CC79)","v":12.037850851438634},{"$f":"IF(CE78>0,AVERAGE(SMALL(IF(BL78:CE78>0,BL78:CE78),{1,2,3,4,5,6,7,8})),CD79)","v":12.037850851438634},{"$f":"IF(CF78>0,AVERAGE(SMALL(IF(BM78:CF78>0,BM78:CF78),{1,2,3,4,5,6,7,8})),CE79)","v":12.037850851438634},{"$f":"IF(CG78>0,AVERAGE(SMALL(IF(BN78:CG78>0,BN78:CG78),{1,2,3,4,5,6,7,8})),CF79)","v":12.037850851438634},{"$f":"IF(CH78>0,AVERAGE(SMALL(IF(BO78:CH78>0,BO78:CH78),{1,2,3,4,5,6,7,8})),CG79)","v":12.037850851438634},{"$f":"IF(CI78>0,AVERAGE(SMALL(IF(BP78:CI78>0,BP78:CI78),{1,2,3,4,5,6,7,8})),CH79)","v":12.037850851438634},{"$f":"IF(CJ78>0,AVERAGE(SMALL(IF(BQ78:CJ78>0,BQ78:CJ78),{1,2,3,4,5,6,7,8})),CI79)","v":12.037850851438634},{"$f":"IF(CK78>0,AVERAGE(SMALL(IF(BR78:CK78>0,BR78:CK78),{1,2,3,4,5,6,7,8})),CJ79)","v":12.037850851438634},{"$f":"IF(CL78>0,AVERAGE(SMALL(IF(BS78:CL78>0,BS78:CL78),{1,2,3,4,5,6,7,8})),CK79)","v":12.037850851438634},{"$f":"IF(CM78>0,AVERAGE(SMALL(IF(BT78:CM78>0,BT78:CM78),{1,2,3,4,5,6,7,8})),CL79)","v":12.037850851438634},{"$f":"IF(CN78>0,AVERAGE(SMALL(IF(BU78:CN78>0,BU78:CN78),{1,2,3,4,5,6,7,8})),CM79)","v":12.037850851438634},{"$f":"IF(CO78>0,AVERAGE(SMALL(IF(BV78:CO78>0,BV78:CO78),{1,2,3,4,5,6,7,8})),CN79)","v":12.037850851438634},{"$f":"IF(CP78>0,AVERAGE(SMALL(IF(BW78:CP78>0,BW78:CP78),{1,2,3,4,5,6,7,8})),CO79)","v":12.037850851438634},{"$f":"IF(CQ78>0,AVERAGE(SMALL(IF(BX78:CQ78>0,BX78:CQ78),{1,2,3,4,5,6,7,8})),CP79)","v":12.037850851438634},{"$f":"IF(CR78>0,AVERAGE(SMALL(IF(BY78:CR78>0,BY78:CR78),{1,2,3,4,5,6,7,8})),CQ79)","v":12.037850851438634},{"$f":"IF(CS78>0,AVERAGE(SMALL(IF(BZ78:CS78>0,BZ78:CS78),{1,2,3,4,5,6,7,8})),CR79)","v":12.037850851438634},{"$f":"IF(CT78>0,AVERAGE(SMALL(IF(CA78:CT78>0,CA78:CT78),{1,2,3,4,5,6,7,8})),CS79)","v":12.037850851438634},{"$f":"IF(CU78>0,AVERAGE(SMALL(IF(CB78:CU78>0,CB78:CU78),{1,2,3,4,5,6,7,8})),CT79)","v":12.037850851438634},{"$f":"IF(CV78>0,AVERAGE(SMALL(IF(CC78:CV78>0,CC78:CV78),{1,2,3,4,5,6,7,8})),CU79)","v":12.037850851438634},{"$f":"IF(CW78>0,AVERAGE(SMALL(IF(CD78:CW78>0,CD78:CW78),{1,2,3,4,5,6,7,8})),CV79)","v":12.037850851438634}]
[null,null,null,null,null,null,null,null,"Low Hcap",null,null,null,null,null,null,null,null,null,null,null,null,null,null,null,null,null,null,null,{"$f":"MIN($Q79:AC79)","v":10.455146710795564},{"$f":"MIN($Q79:AD79)","v":10.455146710795564},{"$f":"MIN($Q79:AE79)","v":10.455146710795564},{"$f":"MIN($Y79:AF79)","v":10.455146710795564},{"$f":"MIN($Y79:AG79)","v":10.455146710795564},{"$f":"MIN($Y79:AH79)","v":10.455146710795564},{"$f":"MIN($Z79:AI79)","v":10.740827387201433},{"$f":"MIN($AA79:AJ79)","v":10.740827387201433},{"$f":"MIN($AA79:AK79)","v":10.740827387201433},{"$f":"MIN($AA79:AL79)","v":10.740827387201433},{"$f":"MIN($AB79:AM79)","v":10.943937106150845},{"$f":"MIN($AD79:AN79)","v":11.138512184380501},{"$f":"MIN($AD79:AO79)","v":11.138512184380501},{"$f":"MIN($AF79:AP79)","v":11.138512184380501},{"$f":"MIN($AF79:AQ79)","v":11.138512184380501},{"$f":"MIN($AF79:AR79)","v":11.138512184380501},{"$f":"MIN($AF79:AS79)","v":11.138512184380501},{"$f":"MIN($AF79:AT79)","v":11.138512184380501},{"$f":"MIN($AF79:AU79)","v":11.138512184380501},{"$f":"MIN($AF79:AV79)","v":11.138512184380501},{"$f":"MIN($AF79:AW79)","v":11.138512184380501},{"$f":"MIN($AF79:AX79)","v":11.138512184380501},{"$f":"MIN($AF79:AY79)","v":11.138512184380501},{"$f":"MIN($AF79:AZ79)","v":11.138512184380501},{"$f":"MIN($AF79:BA79)","v":11.138512184380501},{"$f":"MIN($AF79:BB79)","v":11.138512184380501},{"$f":"MIN($AF79:BC79)","v":11.138512184380501},{"$f":"MIN($AF79:BD79)","v":11.138512184380501},{"$f":"MIN($AF79:BE79)","v":11.138512184380501},{"$f":"MIN($AF79:BF79)","v":11.138512184380501},{"$f":"MIN($AF79:BG79)","v":11.138512184380501},{"$f":"MIN($AF79:BH79)","v":11.138512184380501},{"$f":"MIN($AF79:BI79)","v":11.138512184380501},{"$f":"MIN($AF79:BJ79)","v":11.138512184380501},{"$f":"MIN($AF79:BK79)","v":11.138512184380501},{"$f":"MIN($AF79:BL79)","v":11.138512184380501},{"$f":"MIN($AF79:BM79)","v":11.138512184380501},{"$f":"MIN($AF79:BN79)","v":11.138512184380501},{"$f":"MIN($AF79:BO79)","v":11.138512184380501},{"$f":"MIN($AF79:BP79)","v":11.138512184380501},{"$f":"MIN($AF79:BQ79)","v":11.138512184380501},{"$f":"MIN($AF79:BR79)","v":11.138512184380501},{"$f":"MIN($AF79:BS79)","v":11.138512184380501},{"$f":"MIN($AF79:BT79)","v":11.138512184380501},{"$f":"MIN($AF79:BU79)","v":11.138512184380501},{"$f":"MIN($AF79:BV79)","v":11.138512184380501},{"$f":"MIN($AF79:BW79)","v":11.138512184380501},{"$f":"MIN($AF79:BX79)","v":11.138512184380501},{"$f":"MIN($AF79:BY79)","v":11.138512184380501},{"$f":"MIN($AF79:BZ79)","v":11.138512184380501},{"$f":"MIN($AF79:CA79)","v":11.138512184380501},{"$f":"MIN($AF79:CB79)","v":11.138512184380501},{"$f":"MIN($AF79:CC79)","v":11.138512184380501},{"$f":"MIN($AF79:CD79)","v":11.138512184380501},{"$f":"MIN($AF79:CE79)","v":11.138512184380501},{"$f":"MIN($AF79:CF79)","v":11.138512184380501},{"$f":"MIN($AF79:CG79)","v":11.138512184380501},{"$f":"MIN($AF79:CH79)","v":11.138512184380501},{"$f":"MIN($AF79:CI79)","v":11.138512184380501},{"$f":"MIN($AF79:CJ79)","v":11.138512184380501},{"$f":"MIN($AF79:CK79)","v":11.138512184380501},{"$f":"MIN($AF79:CL79)","v":11.138512184380501},{"$f":"MIN($AF79:CM79)","v":11.138512184380501},{"$f":"MIN($AF79:CN79)","v":11.138512184380501},{"$f":"MIN($AF79:CO79)","v":11.138512184380501},{"$f":"MIN($AF79:CP79)","v":11.138512184380501},{"$f":"MIN($AF79:CQ79)","v":11.138512184380501},{"$f":"MIN($AF79:CR79)","v":11.138512184380501},{"$f":"MIN($AF79:CS79)","v":11.138512184380501},{"$f":"MIN($AF79:CT79)","v":11.138512184380501},{"$f":"MIN($AF79:CU79)","v":11.138512184380501},{"$f":"MIN($AF79:CV79)","v":11.138512184380501},{"$f":"MIN($AF79:CW79)","v":11.138512184380501}]
[null,"Chlebek","Mark",30.5,null,{"$f":"IF(H81<4,\"Y\",)","v":0},2020,{"$f":"COUNT(J81:CX81)","v":9},"Date",null,"2020-05-31","2020-06-14","2020-06-19","2020-06-28","2020-07-26","2020-07-31","2020-08-14","2020-09-06","2021-04-30",null,null,null,null,null,null,null,null,null,null,null,null,null,null,null,null,null,null,null,null,null,null,null,null,null,null,null,null,null,null,null,null,null,null,null,null,null,null,null,null,null,null,null,null,null,null,null,null,null,null,null,null,null,null,null,null,null,null,null,null,null,null,null,null,null,null,null,null,null,null,null,null,null,null,null,null,null,null,null,null,null,null,null,{"$f":"IF(CW85>$DD$1,36,CW85)","v":31.32023016353725},31.32023016353725,{"$f":"CZ81-CY81","v":0}]
[null,null,null,null,null,null,null,null,"Course",null,"ErdingHG","OdelzhausenHG","StEurachHG","ErdingHG","OdelzhausenHG","StEurachHG","EgmatingHG","OdelzhausenHG","TegernbachHG"]
[null,null,null,null,null,null,null,null,"Ad Gr",null,109,106,118,118,114,119,114,112,116]
[null,null,null,null,null,null,null,null,"SD",30.5,{"$f":"IF(K83=\"\",0,(K83-INDIRECT(CONCATENATE(K82,\"CR\")))*113/INDIRECT(CONCATENATE(K82,\"SR\")))","v":33.030769230769231},30.429921259842523,39.765648854961825,40.853846153846156,37.548031496062997,40.628244274809155,35.970229007633591,35.768503937007878,37.923484848484847,0,0,0,0,0,0,0,0,0,0,0,0,0,0,0,0,0,0,0,0,0,0,0,0,0,0,0,0,0,0,0,0,0,0,0,0,0,0,0,0,0,0,0,0,0,0,0,0,0,0,0,0,0,0,0,{"$f":"IF(BW83=\"\",0,(BW83-INDIRECT(CONCATENATE(BW82,\"CR\")))*113/INDIRECT(CONCATENATE(BW82,\"SR\")))","v":0},0,0,0,0,0,0,0,0,0,0,0,0,0,0,0,{"$f":"IF(CM83=\"\",0,(CM83-INDIRECT(CONCATENATE(CM82,\"CR\")))*113/INDIRECT(CONCATENATE(CM82,\"SR\")))","v":0},0,{"$f":"IF(CO83=\"\",0,(CO83-INDIRECT(CONCATENATE(CO82,\"CR\")))*113/INDIRECT(CONCATENATE(CO82,\"SR\")))","v":0},0,{"$f":"IF(CQ83=\"\",0,(CQ83-INDIRECT(CONCATENATE(CQ82,\"CR\")))*113/INDIRECT(CONCATENATE(CQ82,\"SR\")))","v":0},0,{"$f":"IF(CS83=\"\",0,(CS83-INDIRECT(CONCATENATE(CS82,\"CR\")))*113/INDIRECT(CONCATENATE(CS82,\"SR\")))","v":0},0,{"$f":"IF(CU83=\"\",0,(CU83-INDIRECT(CONCATENATE(CU82,\"CR\")))*113/INDIRECT(CONCATENATE(CU82,\"SR\")))","v":0},0,{"$f":"IF(CW83=\"\",0,(CW83-INDIRECT(CONCATENATE(CW82,\"CR\")))*113/INDIRECT(CONCATENATE(CW82,\"SR\")))","v":0}]
[null,null,null,null,null,null,null,null,"New Hcap",{"$f":"J84-2","v":28.5},{"$f":"IF(K84>0,MIN(J84:K84)-2,J85)","v":28.5},{"$f":"IF(L84>0,MIN(J84:L84)-2,K85)","v":28.429921259842523},{"$f":"IF(M84>0,MIN(J84:M84)-1,L85)","v":29.429921259842523},{"$f":"IF(N84>0,MIN(J84:N84),M85)","v":30.429921259842523},{"$f":"IF(O84>0,AVERAGE(SMALL(IF(J84:O84>0,J84:O84),{1,2}))-1,N85)","v":29.464960629921261},{"$f":"IF(P84>0,AVERAGE(SMALL(IF(J84:P84>0,J84:P84),{1,2})),O85)","v":30.464960629921261},{"$f":"IF(Q84>0,AVERAGE(SMALL(IF(J84:Q84>0,J84:Q84),{1,2})),P85)","v":30.464960629921261},{"$f":"IF(R84>0,AVERAGE(SMALL(IF(J84:R84>0,J84:R84),{1,2,3})),Q85)","v":31.32023016353725},{"$f":"IF(S84>0,AVERAGE(SMALL(IF(J84:S84>0,J84:S84),{1,2,3})),R85)","v":31.32023016353725},{"$f":"IF(T84>0,AVERAGE(SMALL(IF(J84:T84>0,J84:T84),{1,2,3})),S85)","v":31.32023016353725},{"$f":"IF(U84>0,AVERAGE(SMALL(IF(J84:U84>0,J84:U84),{1,2,3,4})),T85)","v":31.32023016353725},{"$f":"IF(V84>0,AVERAGE(SMALL(IF(J84:V84>0,J84:V84),{1,2,3,4})),U85)","v":31.32023016353725},{"$f":"IF(W84>0,AVERAGE(SMALL(IF(J84:W84>0,J84:W84),{1,2,3,4})),V85)","v":31.32023016353725},{"$f":"IF(X84>0,AVERAGE(SMALL(IF(J84:X84>0,J84:X84),{1,2,3,4,5})),W85)","v":31.32023016353725},{"$f":"IF(Y84>0,AVERAGE(SMALL(IF(J84:Y84>0,J84:Y84),{1,2,3,4,5})),X85)","v":31.32023016353725},{"$f":"IF(Z84>0,AVERAGE(SMALL(IF(J84:Z84>0,J84:Z84),{1,2,3,4,5,6})),Y85)","v":31.32023016353725},{"$f":"IF(AA84>0,AVERAGE(SMALL(IF(J84:AA84>0,J84:AA84),{1,2,3,4,5,6})),Z85)","v":31.32023016353725},{"$f":"IF(AB84>0,AVERAGE(SMALL(IF(J84:AB84>0,J84:AB84),{1,2,3,4,5,6,7})),AA85)","v":31.32023016353725},{"$f":"IF(AC84>0,AVERAGE(SMALL(IF(J84:AC84>0,J84:AC84),{1,2,3,4,5,6,7,8})),AB85)","v":31.32023016353725},{"$f":"IF(AD84>0,AVERAGE(SMALL(IF(K84:AD84>0,K84:AD84),{1,2,3,4,5,6,7,8})),AC85)","v":31.32023016353725},{"$f":"IF(AE84>0,AVERAGE(SMALL(IF(L84:AE84>0,L84:AE84),{1,2,3,4,5,6,7,8})),AD85)","v":31.32023016353725},{"$f":"IF(AF84>0,AVERAGE(SMALL(IF(M84:AF84>0,M84:AF84),{1,2,3,4,5,6,7,8})),AE85)","v":31.32023016353725},{"$f":"IF(AG84>0,AVERAGE(SMALL(IF(N84:AG84>0,N84:AG84),{1,2,3,4,5,6,7,8})),AF85)","v":31.32023016353725},{"$f":"IF(AH84>0,AVERAGE(SMALL(IF(O84:AH84>0,O84:AH84),{1,2,3,4,5,6,7,8})),AG85)","v":31.32023016353725},{"$f":"IF(AI84>0,AVERAGE(SMALL(IF(P84:AI84>0,P84:AI84),{1,2,3,4,5,6,7,8})),AH85)","v":31.32023016353725},{"$f":"IF(AJ84>0,AVERAGE(SMALL(IF(Q84:AJ84>0,Q84:AJ84),{1,2,3,4,5,6,7,8})),AI85)","v":31.32023016353725},{"$f":"IF(AK84>0,AVERAGE(SMALL(IF(R84:AK84>0,R84:AK84),{1,2,3,4,5,6,7,8})),AJ85)","v":31.32023016353725},{"$f":"IF(AL84>0,AVERAGE(SMALL(IF(S84:AL84>0,S84:AL84),{1,2,3,4,5,6,7,8})),AK85)","v":31.32023016353725},{"$f":"IF(AM84>0,AVERAGE(SMALL(IF(T84:AM84>0,T84:AM84),{1,2,3,4,5,6,7,8})),AL85)","v":31.32023016353725},{"$f":"IF(AN84>0,AVERAGE(SMALL(IF(U84:AN84>0,U84:AN84),{1,2,3,4,5,6,7,8})),AM85)","v":31.32023016353725},{"$f":"IF(AO84>0,AVERAGE(SMALL(IF(V84:AO84>0,V84:AO84),{1,2,3,4,5,6,7,8})),AN85)","v":31.32023016353725},{"$f":"IF(AP84>0,AVERAGE(SMALL(IF(W84:AP84>0,W84:AP84),{1,2,3,4,5,6,7,8})),AO85)","v":31.32023016353725},{"$f":"IF(AQ84>0,AVERAGE(SMALL(IF(X84:AQ84>0,X84:AQ84),{1,2,3,4,5,6,7,8})),AP85)","v":31.32023016353725},{"$f":"IF(AR84>0,AVERAGE(SMALL(IF(Y84:AR84>0,Y84:AR84),{1,2,3,4,5,6,7,8})),AQ85)","v":31.32023016353725},{"$f":"IF(AS84>0,AVERAGE(SMALL(IF(Z84:AS84>0,Z84:AS84),{1,2,3,4,5,6,7,8})),AR85)","v":31.32023016353725},{"$f":"IF(AT84>0,AVERAGE(SMALL(IF(AA84:AT84>0,AA84:AT84),{1,2,3,4,5,6,7,8})),AS85)","v":31.32023016353725},{"$f":"IF(AU84>0,AVERAGE(SMALL(IF(AB84:AU84>0,AB84:AU84),{1,2,3,4,5,6,7,8})),AT85)","v":31.32023016353725},{"$f":"IF(AV84>0,AVERAGE(SMALL(IF(AC84:AV84>0,AC84:AV84),{1,2,3,4,5,6,7,8})),AU85)","v":31.32023016353725},{"$f":"IF(AW84>0,AVERAGE(SMALL(IF(AD84:AW84>0,AD84:AW84),{1,2,3,4,5,6,7,8})),AV85)","v":31.32023016353725},{"$f":"IF(AX84>0,AVERAGE(SMALL(IF(AE84:AX84>0,AE84:AX84),{1,2,3,4,5,6,7,8})),AW85)","v":31.32023016353725},{"$f":"IF(AY84>0,AVERAGE(SMALL(IF(AF84:AY84>0,AF84:AY84),{1,2,3,4,5,6,7,8})),AX85)","v":31.32023016353725},{"$f":"IF(AZ84>0,AVERAGE(SMALL(IF(AG84:AZ84>0,AG84:AZ84),{1,2,3,4,5,6,7,8})),AY85)","v":31.32023016353725},{"$f":"IF(BA84>0,AVERAGE(SMALL(IF(AH84:BA84>0,AH84:BA84),{1,2,3,4,5,6,7,8})),AZ85)","v":31.32023016353725},{"$f":"IF(BB84>0,AVERAGE(SMALL(IF(AI84:BB84>0,AI84:BB84),{1,2,3,4,5,6,7,8})),BA85)","v":31.32023016353725},{"$f":"IF(BC84>0,AVERAGE(SMALL(IF(AJ84:BC84>0,AJ84:BC84),{1,2,3,4,5,6,7,8})),BB85)","v":31.32023016353725},{"$f":"IF(BD84>0,AVERAGE(SMALL(IF(AK84:BD84>0,AK84:BD84),{1,2,3,4,5,6,7,8})),BC85)","v":31.32023016353725},{"$f":"IF(BE84>0,AVERAGE(SMALL(IF(AL84:BE84>0,AL84:BE84),{1,2,3,4,5,6,7,8})),BD85)","v":31.32023016353725},{"$f":"IF(BF84>0,AVERAGE(SMALL(IF(AM84:BF84>0,AM84:BF84),{1,2,3,4,5,6,7,8})),BE85)","v":31.32023016353725},{"$f":"IF(BG84>0,AVERAGE(SMALL(IF(AN84:BG84>0,AN84:BG84),{1,2,3,4,5,6,7,8})),BF85)","v":31.32023016353725},{"$f":"IF(BH84>0,AVERAGE(SMALL(IF(AO84:BH84>0,AO84:BH84),{1,2,3,4,5,6,7,8})),BG85)","v":31.32023016353725},{"$f":"IF(BI84>0,AVERAGE(SMALL(IF(AP84:BI84>0,AP84:BI84),{1,2,3,4,5,6,7,8})),BH85)","v":31.32023016353725},{"$f":"IF(BJ84>0,AVERAGE(SMALL(IF(AQ84:BJ84>0,AQ84:BJ84),{1,2,3,4,5,6,7,8})),BI85)","v":31.32023016353725},{"$f":"IF(BK84>0,AVERAGE(SMALL(IF(AR84:BK84>0,AR84:BK84),{1,2,3,4,5,6,7,8})),BJ85)","v":31.32023016353725},{"$f":"IF(BL84>0,AVERAGE(SMALL(IF(AS84:BL84>0,AS84:BL84),{1,2,3,4,5,6,7,8})),BK85)","v":31.32023016353725},{"$f":"IF(BM84>0,AVERAGE(SMALL(IF(AT84:BM84>0,AT84:BM84),{1,2,3,4,5,6,7,8})),BL85)","v":31.32023016353725},{"$f":"IF(BN84>0,AVERAGE(SMALL(IF(AU84:BN84>0,AU84:BN84),{1,2,3,4,5,6,7,8})),BM85)","v":31.32023016353725},{"$f":"IF(BO84>0,AVERAGE(SMALL(IF(AV84:BO84>0,AV84:BO84),{1,2,3,4,5,6,7,8})),BN85)","v":31.32023016353725},{"$f":"IF(BP84>0,AVERAGE(SMALL(IF(AW84:BP84>0,AW84:BP84),{1,2,3,4,5,6,7,8})),BO85)","v":31.32023016353725},{"$f":"IF(BQ84>0,AVERAGE(SMALL(IF(AX84:BQ84>0,AX84:BQ84),{1,2,3,4,5,6,7,8})),BP85)","v":31.32023016353725},{"$f":"IF(BR84>0,AVERAGE(SMALL(IF(AY84:BR84>0,AY84:BR84),{1,2,3,4,5,6,7,8})),BQ85)","v":31.32023016353725},{"$f":"IF(BS84>0,AVERAGE(SMALL(IF(AZ84:BS84>0,AZ84:BS84),{1,2,3,4,5,6,7,8})),BR85)","v":31.32023016353725},{"$f":"IF(BT84>0,AVERAGE(SMALL(IF(BA84:BT84>0,BA84:BT84),{1,2,3,4,5,6,7,8})),BS85)","v":31.32023016353725},{"$f":"IF(BU84>0,AVERAGE(SMALL(IF(BB84:BU84>0,BB84:BU84),{1,2,3,4,5,6,7,8})),BT85)","v":31.32023016353725},{"$f":"IF(BV84>0,AVERAGE(SMALL(IF(BC84:BV84>0,BC84:BV84),{1,2,3,4,5,6,7,8})),BU85)","v":31.32023016353725},{"$f":"IF(BW84>0,AVERAGE(SMALL(IF(BD84:BW84>0,BD84:BW84),{1,2,3,4,5,6,7,8})),BV85)","v":31.32023016353725},{"$f":"IF(BX84>0,AVERAGE(SMALL(IF(BE84:BX84>0,BE84:BX84),{1,2,3,4,5,6,7,8})),BW85)","v":31.32023016353725},{"$f":"IF(BY84>0,AVERAGE(SMALL(IF(BF84:BY84>0,BF84:BY84),{1,2,3,4,5,6,7,8})),BX85)","v":31.32023016353725},{"$f":"IF(BZ84>0,AVERAGE(SMALL(IF(BG84:BZ84>0,BG84:BZ84),{1,2,3,4,5,6,7,8})),BY85)","v":31.32023016353725},{"$f":"IF(CA84>0,AVERAGE(SMALL(IF(BH84:CA84>0,BH84:CA84),{1,2,3,4,5,6,7,8})),BZ85)","v":31.32023016353725},{"$f":"IF(CB84>0,AVERAGE(SMALL(IF(BI84:CB84>0,BI84:CB84),{1,2,3,4,5,6,7,8})),CA85)","v":31.32023016353725},{"$f":"IF(CC84>0,AVERAGE(SMALL(IF(BJ84:CC84>0,BJ84:CC84),{1,2,3,4,5,6,7,8})),CB85)","v":31.32023016353725},{"$f":"IF(CD84>0,AVERAGE(SMALL(IF(BK84:CD84>0,BK84:CD84),{1,2,3,4,5,6,7,8})),CC85)","v":31.32023016353725},{"$f":"IF(CE84>0,AVERAGE(SMALL(IF(BL84:CE84>0,BL84:CE84),{1,2,3,4,5,6,7,8})),CD85)","v":31.32023016353725},{"$f":"IF(CF84>0,AVERAGE(SMALL(IF(BM84:CF84>0,BM84:CF84),{1,2,3,4,5,6,7,8})),CE85)","v":31.32023016353725},{"$f":"IF(CG84>0,AVERAGE(SMALL(IF(BN84:CG84>0,BN84:CG84),{1,2,3,4,5,6,7,8})),CF85)","v":31.32023016353725},{"$f":"IF(CH84>0,AVERAGE(SMALL(IF(BO84:CH84>0,BO84:CH84),{1,2,3,4,5,6,7,8})),CG85)","v":31.32023016353725},{"$f":"IF(CI84>0,AVERAGE(SMALL(IF(BP84:CI84>0,BP84:CI84),{1,2,3,4,5,6,7,8})),CH85)","v":31.32023016353725},{"$f":"IF(CJ84>0,AVERAGE(SMALL(IF(BQ84:CJ84>0,BQ84:CJ84),{1,2,3,4,5,6,7,8})),CI85)","v":31.32023016353725},{"$f":"IF(CK84>0,AVERAGE(SMALL(IF(BR84:CK84>0,BR84:CK84),{1,2,3,4,5,6,7,8})),CJ85)","v":31.32023016353725},{"$f":"IF(CL84>0,AVERAGE(SMALL(IF(BS84:CL84>0,BS84:CL84),{1,2,3,4,5,6,7,8})),CK85)","v":31.32023016353725},{"$f":"IF(CM84>0,AVERAGE(SMALL(IF(BT84:CM84>0,BT84:CM84),{1,2,3,4,5,6,7,8})),CL85)","v":31.32023016353725},{"$f":"IF(CN84>0,AVERAGE(SMALL(IF(BU84:CN84>0,BU84:CN84),{1,2,3,4,5,6,7,8})),CM85)","v":31.32023016353725},{"$f":"IF(CO84>0,AVERAGE(SMALL(IF(BV84:CO84>0,BV84:CO84),{1,2,3,4,5,6,7,8})),CN85)","v":31.32023016353725},{"$f":"IF(CP84>0,AVERAGE(SMALL(IF(BW84:CP84>0,BW84:CP84),{1,2,3,4,5,6,7,8})),CO85)","v":31.32023016353725},{"$f":"IF(CQ84>0,AVERAGE(SMALL(IF(BX84:CQ84>0,BX84:CQ84),{1,2,3,4,5,6,7,8})),CP85)","v":31.32023016353725},{"$f":"IF(CR84>0,AVERAGE(SMALL(IF(BY84:CR84>0,BY84:CR84),{1,2,3,4,5,6,7,8})),CQ85)","v":31.32023016353725},{"$f":"IF(CS84>0,AVERAGE(SMALL(IF(BZ84:CS84>0,BZ84:CS84),{1,2,3,4,5,6,7,8})),CR85)","v":31.32023016353725},{"$f":"IF(CT84>0,AVERAGE(SMALL(IF(CA84:CT84>0,CA84:CT84),{1,2,3,4,5,6,7,8})),CS85)","v":31.32023016353725},{"$f":"IF(CU84>0,AVERAGE(SMALL(IF(CB84:CU84>0,CB84:CU84),{1,2,3,4,5,6,7,8})),CT85)","v":31.32023016353725},{"$f":"IF(CV84>0,AVERAGE(SMALL(IF(CC84:CV84>0,CC84:CV84),{1,2,3,4,5,6,7,8})),CU85)","v":31.32023016353725},{"$f":"IF(CW84>0,AVERAGE(SMALL(IF(CD84:CW84>0,CD84:CW84),{1,2,3,4,5,6,7,8})),CV85)","v":31.32023016353725}]
[null,null,null,null,null,null,null,null,"Low Hcap",null,null,null,null,null,null,null,null,null,null,null,null,null,null,null,null,null,null,null,{"$f":"MIN($J85:AC85)","v":28.429921259842523},{"$f":"MIN($J85:AD85)","v":28.429921259842523},{"$f":"MIN($J85:AE85)","v":28.429921259842523},{"$f":"MIN($J85:AF85)","v":28.429921259842523},{"$f":"MIN($J85:AG85)","v":28.429921259842523},{"$f":"MIN($J85:AH85)","v":28.429921259842523},{"$f":"MIN($J85:AI85)","v":28.429921259842523},{"$f":"MIN($J85:AJ85)","v":28.429921259842523},{"$f":"MIN($J85:AK85)","v":28.429921259842523},{"$f":"MIN($J85:AL85)","v":28.429921259842523},{"$f":"MIN($J85:AM85)","v":28.429921259842523},{"$f":"MIN($J85:AN85)","v":28.429921259842523},{"$f":"MIN($J85:AO85)","v":28.429921259842523},{"$f":"MIN($J85:AP85)","v":28.429921259842523},{"$f":"MIN($J85:AQ85)","v":28.429921259842523},{"$f":"MIN($J85:AR85)","v":28.429921259842523},{"$f":"MIN($J85:AS85)","v":28.429921259842523},{"$f":"MIN($J85:AT85)","v":28.429921259842523},{"$f":"MIN($J85:AU85)","v":28.429921259842523},{"$f":"MIN($J85:AV85)","v":28.429921259842523},{"$f":"MIN($J85:AW85)","v":28.429921259842523},{"$f":"MIN($J85:AX85)","v":28.429921259842523},{"$f":"MIN($J85:AY85)","v":28.429921259842523},{"$f":"MIN($J85:AZ85)","v":28.429921259842523},{"$f":"MIN($J85:BA85)","v":28.429921259842523},{"$f":"MIN($J85:BB85)","v":28.429921259842523},{"$f":"MIN($J85:BC85)","v":28.429921259842523},{"$f":"MIN($J85:BD85)","v":28.429921259842523},{"$f":"MIN($J85:BE85)","v":28.429921259842523},{"$f":"MIN($J85:BF85)","v":28.429921259842523},{"$f":"MIN($J85:BG85)","v":28.429921259842523},{"$f":"MIN($J85:BH85)","v":28.429921259842523},{"$f":"MIN($J85:BI85)","v":28.429921259842523},{"$f":"MIN($J85:BJ85)","v":28.429921259842523},{"$f":"MIN($J85:BK85)","v":28.429921259842523},{"$f":"MIN($J85:BL85)","v":28.429921259842523},{"$f":"MIN($J85:BM85)","v":28.429921259842523},{"$f":"MIN($J85:BN85)","v":28.429921259842523},{"$f":"MIN($J85:BO85)","v":28.429921259842523},{"$f":"MIN($J85:BP85)","v":28.429921259842523},{"$f":"MIN($J85:BQ85)","v":28.429921259842523},{"$f":"MIN($J85:BR85)","v":28.429921259842523},{"$f":"MIN($J85:BS85)","v":28.429921259842523},{"$f":"MIN($J85:BT85)","v":28.429921259842523},{"$f":"MIN($J85:BU85)","v":28.429921259842523},{"$f":"MIN($J85:BV85)","v":28.429921259842523},{"$f":"MIN($J85:BW85)","v":28.429921259842523},{"$f":"MIN($J85:BX85)","v":28.429921259842523},{"$f":"MIN($J85:BY85)","v":28.429921259842523},{"$f":"MIN($J85:BZ85)","v":28.429921259842523},{"$f":"MIN($J85:CA85)","v":28.429921259842523},{"$f":"MIN($J85:CB85)","v":28.429921259842523},{"$f":"MIN($J85:CC85)","v":28.429921259842523},{"$f":"MIN($J85:CD85)","v":28.429921259842523},{"$f":"MIN($J85:CE85)","v":28.429921259842523},{"$f":"MIN($J85:CF85)","v":28.429921259842523},{"$f":"MIN($J85:CG85)","v":28.429921259842523},{"$f":"MIN($J85:CH85)","v":28.429921259842523},{"$f":"MIN($J85:CI85)","v":28.429921259842523},{"$f":"MIN($J85:CJ85)","v":28.429921259842523},{"$f":"MIN($J85:CK85)","v":28.429921259842523},{"$f":"MIN($J85:CL85)","v":28.429921259842523},{"$f":"MIN($J85:CM85)","v":28.429921259842523},{"$f":"MIN($J85:CN85)","v":28.429921259842523},{"$f":"MIN($J85:CO85)","v":28.429921259842523},{"$f":"MIN($J85:CP85)","v":28.429921259842523},{"$f":"MIN($J85:CQ85)","v":28.429921259842523},{"$f":"MIN($J85:CR85)","v":28.429921259842523},{"$f":"MIN($J85:CS85)","v":28.429921259842523},{"$f":"MIN($J85:CT85)","v":28.429921259842523},{"$f":"MIN($J85:CU85)","v":28.429921259842523},{"$f":"MIN($J85:CV85)","v":28.429921259842523},{"$f":"MIN($J85:CW85)","v":28.429921259842523}]
[null,"Chung","Gonjin",39,"Y",{"$f":"IF(H87<4,\"Y\",)","v":0},2021,{"$f":"COUNT(J87:CX87)","v":10},"Date",null,"2021-04-25","2021-05-09","2021-05-14","2021-05-30","2022-05-29","2022-07-10","2022-07-24","2022-07-31","2023-05-19","2023-05-28",null,null,null,null,null,null,null,null,null,null,null,null,null,null,null,null,null,null,null,null,null,null,null,null,null,null,null,null,null,null,null,null,null,null,null,null,null,null,null,null,null,null,null,null,null,null,null,null,null,null,null,null,null,null,null,null,null,null,null,null,null,null,null,null,null,null,null,null,null,null,null,null,null,null,null,null,null,null,null,null,null,null,{"$f":"IF(CW91>$DD$1,36,CW91)","v":22.971840259681311},25.804908043413278,{"$f":"CZ87-CY87","v":2.8330677837319662}]
[null,null,null,null,null,null,null,null,"Course",null,"PfaffingHG","ErdingHG","StEurachHG","IffeldorfHG","OdelzhausenHG","IffeldorfHG","Pfaffing2022HG","HohenpaehlHG","GarmischHG","ErdingHG"]
[null,null,null,null,null,null,null,null,"Ad Gr",null,102,104,108,115,112,98,105,103,100,94]
[null,null,null,null,null,null,null,null,"SD",38,{"$f":"IF(K89=\"\",0,(K89-INDIRECT(CONCATENATE(K88,\"CR\")))*113/INDIRECT(CONCATENATE(K88,\"SR\")))","v":26.076923076923077},28.684615384615384,31.139694656488544,38.367441860465114,35.768503937007878,23.47596899224806,28.076153846153844,27.8618320610687,25.447244094488184,19.992307692307691,0,0,0,0,0,0,0,0,0,0,0,0,0,0,0,0,0,0,0,0,0,0,0,0,0,0,0,0,0,0,0,0,0,0,0,0,0,0,0,0,0,0,0,0,0,0,0,0,0,0,0,0,0,0,{"$f":"IF(BW89=\"\",0,(BW89-INDIRECT(CONCATENATE(BW88,\"CR\")))*113/INDIRECT(CONCATENATE(BW88,\"SR\")))","v":0},0,0,0,0,0,0,0,0,0,0,0,0,0,0,0,{"$f":"IF(CM89=\"\",0,(CM89-INDIRECT(CONCATENATE(CM88,\"CR\")))*113/INDIRECT(CONCATENATE(CM88,\"SR\")))","v":0},0,{"$f":"IF(CO89=\"\",0,(CO89-INDIRECT(CONCATENATE(CO88,\"CR\")))*113/INDIRECT(CONCATENATE(CO88,\"SR\")))","v":0},0,{"$f":"IF(CQ89=\"\",0,(CQ89-INDIRECT(CONCATENATE(CQ88,\"CR\")))*113/INDIRECT(CONCATENATE(CQ88,\"SR\")))","v":0},0,{"$f":"IF(CS89=\"\",0,(CS89-INDIRECT(CONCATENATE(CS88,\"CR\")))*113/INDIRECT(CONCATENATE(CS88,\"SR\")))","v":0},0,{"$f":"IF(CU89=\"\",0,(CU89-INDIRECT(CONCATENATE(CU88,\"CR\")))*113/INDIRECT(CONCATENATE(CU88,\"SR\")))","v":0},0,{"$f":"IF(CW89=\"\",0,(CW89-INDIRECT(CONCATENATE(CW88,\"CR\")))*113/INDIRECT(CONCATENATE(CW88,\"SR\")))","v":0}]
[null,null,null,null,null,null,null,null,"New Hcap",{"$f":"J90-2","v":36},{"$f":"IF(K90>0,MIN(J90:K90)-2,J91)","v":24.076923076923077},{"$f":"IF(L90>0,MIN(J90:L90)-2,K91)","v":24.076923076923077},{"$f":"IF(M90>0,MIN(J90:M90)-1,L91)","v":25.076923076923077},{"$f":"IF(N90>0,MIN(J90:N90),M91)","v":26.076923076923077},{"$f":"IF(O90>0,AVERAGE(SMALL(IF(J90:O90>0,J90:O90),{1,2}))-1,N91)","v":26.380769230769232},{"$f":"IF(P90>0,AVERAGE(SMALL(IF(J90:P90>0,J90:P90),{1,2})),O91)","v":24.776446034585568},{"$f":"IF(Q90>0,AVERAGE(SMALL(IF(J90:Q90>0,J90:Q90),{1,2})),P91)","v":24.776446034585568},{"$f":"IF(R90>0,AVERAGE(SMALL(IF(J90:R90>0,J90:R90),{1,2,3})),Q91)","v":25.804908043413278},{"$f":"IF(S90>0,AVERAGE(SMALL(IF(J90:S90>0,J90:S90),{1,2,3})),R91)","v":25.000045387886441},{"$f":"IF(T90>0,AVERAGE(SMALL(IF(J90:T90>0,J90:T90),{1,2,3})),S91)","v":22.971840259681311},{"$f":"IF(U90>0,AVERAGE(SMALL(IF(J90:U90>0,J90:U90),{1,2,3,4})),T91)","v":22.971840259681311},{"$f":"IF(V90>0,AVERAGE(SMALL(IF(J90:V90>0,J90:V90),{1,2,3,4})),U91)","v":22.971840259681311},{"$f":"IF(W90>0,AVERAGE(SMALL(IF(J90:W90>0,J90:W90),{1,2,3,4})),V91)","v":22.971840259681311},{"$f":"IF(X90>0,AVERAGE(SMALL(IF(J90:X90>0,J90:X90),{1,2,3,4,5})),W91)","v":22.971840259681311},{"$f":"IF(Y90>0,AVERAGE(SMALL(IF(J90:Y90>0,J90:Y90),{1,2,3,4,5})),X91)","v":22.971840259681311},{"$f":"IF(Z90>0,AVERAGE(SMALL(IF(J90:Z90>0,J90:Z90),{1,2,3,4,5,6})),Y91)","v":22.971840259681311},{"$f":"IF(AA90>0,AVERAGE(SMALL(IF(J90:AA90>0,J90:AA90),{1,2,3,4,5,6})),Z91)","v":22.971840259681311},{"$f":"IF(AB90>0,AVERAGE(SMALL(IF(J90:AB90>0,J90:AB90),{1,2,3,4,5,6,7})),AA91)","v":22.971840259681311},{"$f":"IF(AC90>0,AVERAGE(SMALL(IF(J90:AC90>0,J90:AC90),{1,2,3,4,5,6,7,8})),AB91)","v":22.971840259681311},{"$f":"IF(AD90>0,AVERAGE(SMALL(IF(K90:AD90>0,K90:AD90),{1,2,3,4,5,6,7,8})),AC91)","v":22.971840259681311},{"$f":"IF(AE90>0,AVERAGE(SMALL(IF(L90:AE90>0,L90:AE90),{1,2,3,4,5,6,7,8})),AD91)","v":22.971840259681311},{"$f":"IF(AF90>0,AVERAGE(SMALL(IF(M90:AF90>0,M90:AF90),{1,2,3,4,5,6,7,8})),AE91)","v":22.971840259681311},{"$f":"IF(AG90>0,AVERAGE(SMALL(IF(N90:AG90>0,N90:AG90),{1,2,3,4,5,6,7,8})),AF91)","v":22.971840259681311},{"$f":"IF(AH90>0,AVERAGE(SMALL(IF(O90:AH90>0,O90:AH90),{1,2,3,4,5,6,7,8})),AG91)","v":22.971840259681311},{"$f":"IF(AI90>0,AVERAGE(SMALL(IF(P90:AI90>0,P90:AI90),{1,2,3,4,5,6,7,8})),AH91)","v":22.971840259681311},{"$f":"IF(AJ90>0,AVERAGE(SMALL(IF(Q90:AJ90>0,Q90:AJ90),{1,2,3,4,5,6,7,8})),AI91)","v":22.971840259681311},{"$f":"IF(AK90>0,AVERAGE(SMALL(IF(R90:AK90>0,R90:AK90),{1,2,3,4,5,6,7,8})),AJ91)","v":22.971840259681311},{"$f":"IF(AL90>0,AVERAGE(SMALL(IF(S90:AL90>0,S90:AL90),{1,2,3,4,5,6,7,8})),AK91)","v":22.971840259681311},{"$f":"IF(AM90>0,AVERAGE(SMALL(IF(T90:AM90>0,T90:AM90),{1,2,3,4,5,6,7,8})),AL91)","v":22.971840259681311},{"$f":"IF(AN90>0,AVERAGE(SMALL(IF(U90:AN90>0,U90:AN90),{1,2,3,4,5,6,7,8})),AM91)","v":22.971840259681311},{"$f":"IF(AO90>0,AVERAGE(SMALL(IF(V90:AO90>0,V90:AO90),{1,2,3,4,5,6,7,8})),AN91)","v":22.971840259681311},{"$f":"IF(AP90>0,AVERAGE(SMALL(IF(W90:AP90>0,W90:AP90),{1,2,3,4,5,6,7,8})),AO91)","v":22.971840259681311},{"$f":"IF(AQ90>0,AVERAGE(SMALL(IF(X90:AQ90>0,X90:AQ90),{1,2,3,4,5,6,7,8})),AP91)","v":22.971840259681311},{"$f":"IF(AR90>0,AVERAGE(SMALL(IF(Y90:AR90>0,Y90:AR90),{1,2,3,4,5,6,7,8})),AQ91)","v":22.971840259681311},{"$f":"IF(AS90>0,AVERAGE(SMALL(IF(Z90:AS90>0,Z90:AS90),{1,2,3,4,5,6,7,8})),AR91)","v":22.971840259681311},{"$f":"IF(AT90>0,AVERAGE(SMALL(IF(AA90:AT90>0,AA90:AT90),{1,2,3,4,5,6,7,8})),AS91)","v":22.971840259681311},{"$f":"IF(AU90>0,AVERAGE(SMALL(IF(AB90:AU90>0,AB90:AU90),{1,2,3,4,5,6,7,8})),AT91)","v":22.971840259681311},{"$f":"IF(AV90>0,AVERAGE(SMALL(IF(AC90:AV90>0,AC90:AV90),{1,2,3,4,5,6,7,8})),AU91)","v":22.971840259681311},{"$f":"IF(AW90>0,AVERAGE(SMALL(IF(AD90:AW90>0,AD90:AW90),{1,2,3,4,5,6,7,8})),AV91)","v":22.971840259681311},{"$f":"IF(AX90>0,AVERAGE(SMALL(IF(AE90:AX90>0,AE90:AX90),{1,2,3,4,5,6,7,8})),AW91)","v":22.971840259681311},{"$f":"IF(AY90>0,AVERAGE(SMALL(IF(AF90:AY90>0,AF90:AY90),{1,2,3,4,5,6,7,8})),AX91)","v":22.971840259681311},{"$f":"IF(AZ90>0,AVERAGE(SMALL(IF(AG90:AZ90>0,AG90:AZ90),{1,2,3,4,5,6,7,8})),AY91)","v":22.971840259681311},{"$f":"IF(BA90>0,AVERAGE(SMALL(IF(AH90:BA90>0,AH90:BA90),{1,2,3,4,5,6,7,8})),AZ91)","v":22.971840259681311},{"$f":"IF(BB90>0,AVERAGE(SMALL(IF(AI90:BB90>0,AI90:BB90),{1,2,3,4,5,6,7,8})),BA91)","v":22.971840259681311},{"$f":"IF(BC90>0,AVERAGE(SMALL(IF(AJ90:BC90>0,AJ90:BC90),{1,2,3,4,5,6,7,8})),BB91)","v":22.971840259681311},{"$f":"IF(BD90>0,AVERAGE(SMALL(IF(AK90:BD90>0,AK90:BD90),{1,2,3,4,5,6,7,8})),BC91)","v":22.971840259681311},{"$f":"IF(BE90>0,AVERAGE(SMALL(IF(AL90:BE90>0,AL90:BE90),{1,2,3,4,5,6,7,8})),BD91)","v":22.971840259681311},{"$f":"IF(BF90>0,AVERAGE(SMALL(IF(AM90:BF90>0,AM90:BF90),{1,2,3,4,5,6,7,8})),BE91)","v":22.971840259681311},{"$f":"IF(BG90>0,AVERAGE(SMALL(IF(AN90:BG90>0,AN90:BG90),{1,2,3,4,5,6,7,8})),BF91)","v":22.971840259681311},{"$f":"IF(BH90>0,AVERAGE(SMALL(IF(AO90:BH90>0,AO90:BH90),{1,2,3,4,5,6,7,8})),BG91)","v":22.971840259681311},{"$f":"IF(BI90>0,AVERAGE(SMALL(IF(AP90:BI90>0,AP90:BI90),{1,2,3,4,5,6,7,8})),BH91)","v":22.971840259681311},{"$f":"IF(BJ90>0,AVERAGE(SMALL(IF(AQ90:BJ90>0,AQ90:BJ90),{1,2,3,4,5,6,7,8})),BI91)","v":22.971840259681311},{"$f":"IF(BK90>0,AVERAGE(SMALL(IF(AR90:BK90>0,AR90:BK90),{1,2,3,4,5,6,7,8})),BJ91)","v":22.971840259681311},{"$f":"IF(BL90>0,AVERAGE(SMALL(IF(AS90:BL90>0,AS90:BL90),{1,2,3,4,5,6,7,8})),BK91)","v":22.971840259681311},{"$f":"IF(BM90>0,AVERAGE(SMALL(IF(AT90:BM90>0,AT90:BM90),{1,2,3,4,5,6,7,8})),BL91)","v":22.971840259681311},{"$f":"IF(BN90>0,AVERAGE(SMALL(IF(AU90:BN90>0,AU90:BN90),{1,2,3,4,5,6,7,8})),BM91)","v":22.971840259681311},{"$f":"IF(BO90>0,AVERAGE(SMALL(IF(AV90:BO90>0,AV90:BO90),{1,2,3,4,5,6,7,8})),BN91)","v":22.971840259681311},{"$f":"IF(BP90>0,AVERAGE(SMALL(IF(AW90:BP90>0,AW90:BP90),{1,2,3,4,5,6,7,8})),BO91)","v":22.971840259681311},{"$f":"IF(BQ90>0,AVERAGE(SMALL(IF(AX90:BQ90>0,AX90:BQ90),{1,2,3,4,5,6,7,8})),BP91)","v":22.971840259681311},{"$f":"IF(BR90>0,AVERAGE(SMALL(IF(AY90:BR90>0,AY90:BR90),{1,2,3,4,5,6,7,8})),BQ91)","v":22.971840259681311},{"$f":"IF(BS90>0,AVERAGE(SMALL(IF(AZ90:BS90>0,AZ90:BS90),{1,2,3,4,5,6,7,8})),BR91)","v":22.971840259681311},{"$f":"IF(BT90>0,AVERAGE(SMALL(IF(BA90:BT90>0,BA90:BT90),{1,2,3,4,5,6,7,8})),BS91)","v":22.971840259681311},{"$f":"IF(BU90>0,AVERAGE(SMALL(IF(BB90:BU90>0,BB90:BU90),{1,2,3,4,5,6,7,8})),BT91)","v":22.971840259681311},{"$f":"IF(BV90>0,AVERAGE(SMALL(IF(BC90:BV90>0,BC90:BV90),{1,2,3,4,5,6,7,8})),BU91)","v":22.971840259681311},{"$f":"IF(BW90>0,AVERAGE(SMALL(IF(BD90:BW90>0,BD90:BW90),{1,2,3,4,5,6,7,8})),BV91)","v":22.971840259681311},{"$f":"IF(BX90>0,AVERAGE(SMALL(IF(BE90:BX90>0,BE90:BX90),{1,2,3,4,5,6,7,8})),BW91)","v":22.971840259681311},{"$f":"IF(BY90>0,AVERAGE(SMALL(IF(BF90:BY90>0,BF90:BY90),{1,2,3,4,5,6,7,8})),BX91)","v":22.971840259681311},{"$f":"IF(BZ90>0,AVERAGE(SMALL(IF(BG90:BZ90>0,BG90:BZ90),{1,2,3,4,5,6,7,8})),BY91)","v":22.971840259681311},{"$f":"IF(CA90>0,AVERAGE(SMALL(IF(BH90:CA90>0,BH90:CA90),{1,2,3,4,5,6,7,8})),BZ91)","v":22.971840259681311},{"$f":"IF(CB90>0,AVERAGE(SMALL(IF(BI90:CB90>0,BI90:CB90),{1,2,3,4,5,6,7,8})),CA91)","v":22.971840259681311},{"$f":"IF(CC90>0,AVERAGE(SMALL(IF(BJ90:CC90>0,BJ90:CC90),{1,2,3,4,5,6,7,8})),CB91)","v":22.971840259681311},{"$f":"IF(CD90>0,AVERAGE(SMALL(IF(BK90:CD90>0,BK90:CD90),{1,2,3,4,5,6,7,8})),CC91)","v":22.971840259681311},{"$f":"IF(CE90>0,AVERAGE(SMALL(IF(BL90:CE90>0,BL90:CE90),{1,2,3,4,5,6,7,8})),CD91)","v":22.971840259681311},{"$f":"IF(CF90>0,AVERAGE(SMALL(IF(BM90:CF90>0,BM90:CF90),{1,2,3,4,5,6,7,8})),CE91)","v":22.971840259681311},{"$f":"IF(CG90>0,AVERAGE(SMALL(IF(BN90:CG90>0,BN90:CG90),{1,2,3,4,5,6,7,8})),CF91)","v":22.971840259681311},{"$f":"IF(CH90>0,AVERAGE(SMALL(IF(BO90:CH90>0,BO90:CH90),{1,2,3,4,5,6,7,8})),CG91)","v":22.971840259681311},{"$f":"IF(CI90>0,AVERAGE(SMALL(IF(BP90:CI90>0,BP90:CI90),{1,2,3,4,5,6,7,8})),CH91)","v":22.971840259681311},{"$f":"IF(CJ90>0,AVERAGE(SMALL(IF(BQ90:CJ90>0,BQ90:CJ90),{1,2,3,4,5,6,7,8})),CI91)","v":22.971840259681311},{"$f":"IF(CK90>0,AVERAGE(SMALL(IF(BR90:CK90>0,BR90:CK90),{1,2,3,4,5,6,7,8})),CJ91)","v":22.971840259681311},{"$f":"IF(CL90>0,AVERAGE(SMALL(IF(BS90:CL90>0,BS90:CL90),{1,2,3,4,5,6,7,8})),CK91)","v":22.971840259681311},{"$f":"IF(CM90>0,AVERAGE(SMALL(IF(BT90:CM90>0,BT90:CM90),{1,2,3,4,5,6,7,8})),CL91)","v":22.971840259681311},{"$f":"IF(CN90>0,AVERAGE(SMALL(IF(BU90:CN90>0,BU90:CN90),{1,2,3,4,5,6,7,8})),CM91)","v":22.971840259681311},{"$f":"IF(CO90>0,AVERAGE(SMALL(IF(BV90:CO90>0,BV90:CO90),{1,2,3,4,5,6,7,8})),CN91)","v":22.971840259681311},{"$f":"IF(CP90>0,AVERAGE(SMALL(IF(BW90:CP90>0,BW90:CP90),{1,2,3,4,5,6,7,8})),CO91)","v":22.971840259681311},{"$f":"IF(CQ90>0,AVERAGE(SMALL(IF(BX90:CQ90>0,BX90:CQ90),{1,2,3,4,5,6,7,8})),CP91)","v":22.971840259681311},{"$f":"IF(CR90>0,AVERAGE(SMALL(IF(BY90:CR90>0,BY90:CR90),{1,2,3,4,5,6,7,8})),CQ91)","v":22.971840259681311},{"$f":"IF(CS90>0,AVERAGE(SMALL(IF(BZ90:CS90>0,BZ90:CS90),{1,2,3,4,5,6,7,8})),CR91)","v":22.971840259681311},{"$f":"IF(CT90>0,AVERAGE(SMALL(IF(CA90:CT90>0,CA90:CT90),{1,2,3,4,5,6,7,8})),CS91)","v":22.971840259681311},{"$f":"IF(CU90>0,AVERAGE(SMALL(IF(CB90:CU90>0,CB90:CU90),{1,2,3,4,5,6,7,8})),CT91)","v":22.971840259681311},{"$f":"IF(CV90>0,AVERAGE(SMALL(IF(CC90:CV90>0,CC90:CV90),{1,2,3,4,5,6,7,8})),CU91)","v":22.971840259681311},{"$f":"IF(CW90>0,AVERAGE(SMALL(IF(CD90:CW90>0,CD90:CW90),{1,2,3,4,5,6,7,8})),CV91)","v":22.971840259681311}]
[null,null,null,null,null,null,null,null,"Low Hcap",null,null,null,null,null,null,null,null,null,null,null,null,null,null,null,null,null,null,null,{"$f":"MIN($J91:AC91)","v":22.971840259681311},{"$f":"MIN($J91:AD91)","v":22.971840259681311},{"$f":"MIN($J91:AE91)","v":22.971840259681311},{"$f":"MIN($J91:AF91)","v":22.971840259681311},{"$f":"MIN($J91:AG91)","v":22.971840259681311},{"$f":"MIN($J91:AH91)","v":22.971840259681311},{"$f":"MIN($J91:AI91)","v":22.971840259681311},{"$f":"MIN($J91:AJ91)","v":22.971840259681311},{"$f":"MIN($J91:AK91)","v":22.971840259681311},{"$f":"MIN($J91:AL91)","v":22.971840259681311},{"$f":"MIN($J91:AM91)","v":22.971840259681311},{"$f":"MIN($J91:AN91)","v":22.971840259681311},{"$f":"MIN($J91:AO91)","v":22.971840259681311},{"$f":"MIN($J91:AP91)","v":22.971840259681311},{"$f":"MIN($J91:AQ91)","v":22.971840259681311},{"$f":"MIN($J91:AR91)","v":22.971840259681311},{"$f":"MIN($J91:AS91)","v":22.971840259681311},{"$f":"MIN($J91:AT91)","v":22.971840259681311},{"$f":"MIN($J91:AU91)","v":22.971840259681311},{"$f":"MIN($J91:AV91)","v":22.971840259681311},{"$f":"MIN($J91:AW91)","v":22.971840259681311},{"$f":"MIN($J91:AX91)","v":22.971840259681311},{"$f":"MIN($J91:AY91)","v":22.971840259681311},{"$f":"MIN($J91:AZ91)","v":22.971840259681311},{"$f":"MIN($J91:BA91)","v":22.971840259681311},{"$f":"MIN($J91:BB91)","v":22.971840259681311},{"$f":"MIN($J91:BC91)","v":22.971840259681311},{"$f":"MIN($J91:BD91)","v":22.971840259681311},{"$f":"MIN($J91:BE91)","v":22.971840259681311},{"$f":"MIN($J91:BF91)","v":22.971840259681311},{"$f":"MIN($J91:BG91)","v":22.971840259681311},{"$f":"MIN($J91:BH91)","v":22.971840259681311},{"$f":"MIN($J91:BI91)","v":22.971840259681311},{"$f":"MIN($J91:BJ91)","v":22.971840259681311},{"$f":"MIN($J91:BK91)","v":22.971840259681311},{"$f":"MIN($J91:BL91)","v":22.971840259681311},{"$f":"MIN($J91:BM91)","v":22.971840259681311},{"$f":"MIN($J91:BN91)","v":22.971840259681311},{"$f":"MIN($J91:BO91)","v":22.971840259681311},{"$f":"MIN($J91:BP91)","v":22.971840259681311},{"$f":"MIN($J91:BQ91)","v":22.971840259681311},{"$f":"MIN($J91:BR91)","v":22.971840259681311},{"$f":"MIN($J91:BS91)","v":22.971840259681311},{"$f":"MIN($J91:BT91)","v":22.971840259681311},{"$f":"MIN($J91:BU91)","v":22.971840259681311},{"$f":"MIN($J91:BV91)","v":22.971840259681311},{"$f":"MIN($J91:BW91)","v":22.971840259681311},{"$f":"MIN($J91:BX91)","v":22.971840259681311},{"$f":"MIN($J91:BY91)","v":22.971840259681311},{"$f":"MIN($J91:BZ91)","v":22.971840259681311},{"$f":"MIN($J91:CA91)","v":22.971840259681311},{"$f":"MIN($J91:CB91)","v":22.971840259681311},{"$f":"MIN($J91:CC91)","v":22.971840259681311},{"$f":"MIN($J91:CD91)","v":22.971840259681311},{"$f":"MIN($J91:CE91)","v":22.971840259681311},{"$f":"MIN($J91:CF91)","v":22.971840259681311},{"$f":"MIN($J91:CG91)","v":22.971840259681311},{"$f":"MIN($J91:CH91)","v":22.971840259681311},{"$f":"MIN($J91:CI91)","v":22.971840259681311},{"$f":"MIN($J91:CJ91)","v":22.971840259681311},{"$f":"MIN($J91:CK91)","v":22.971840259681311},{"$f":"MIN($J91:CL91)","v":22.971840259681311},{"$f":"MIN($J91:CM91)","v":22.971840259681311},{"$f":"MIN($J91:CN91)","v":22.971840259681311},{"$f":"MIN($J91:CO91)","v":22.971840259681311},{"$f":"MIN($J91:CP91)","v":22.971840259681311},{"$f":"MIN($J91:CQ91)","v":22.971840259681311},{"$f":"MIN($J91:CR91)","v":22.971840259681311},{"$f":"MIN($J91:CS91)","v":22.971840259681311},{"$f":"MIN($J91:CT91)","v":22.971840259681311},{"$f":"MIN($J91:CU91)","v":22.971840259681311},{"$f":"MIN($J91:CV91)","v":22.971840259681311},{"$f":"MIN($J91:CW91)","v":22.971840259681311}]
[null,"Cockill","Adam",11.1,null,{"$f":"IF(H93<4,\"Y\",)","v":0},null,{"$f":"COUNT(J93:CX93)","v":55},"Date","2019-05-12","2019-05-26","2019-06-23","2019-07-07","2019-07-12","2019-09-01","2019-10-04","2019-11-24","2020-05-24","2020-05-31","2020-06-05","2020-06-14","2020-06-28","2020-07-03","2020-07-12","2020-07-15","2020-07-26","2020-08-09","2020-09-06","2020-10-09","2020-11-01","2020-11-15","2021-03-28","2021-04-11","2021-04-25","2021-04-30","2021-05-09","2021-05-14","2021-06-04","2021-06-13","2021-06-19","2021-07-02","2021-07-11","2021-07-16","2021-07-25","2021-07-30","2021-08-08","2021-09-03","2021-09-19","2021-09-24","2021-10-03","2022-03-27","2022-05-20","2022-05-29","2022-07-10","2022-07-24","2022-07-31","2022-08-07","2022-09-02","2022-11-09","2022-10-21","2022-11-13","2023-05-07","2023-05-19","2023-06-09",null,null,null,null,null,null,null,null,null,null,null,null,null,null,null,null,null,null,null,null,null,null,null,null,null,null,null,null,null,null,null,null,null,null,null,null,null,null,{"$f":"IF(CW97>$DD$1,36,CW97)","v":13.868458045532872},13.966257992678749,{"$f":"CZ93-CY93","v":9.7799947145876587E-2}]
[null,null,null,null,null,null,null,null,"Course","ErdingHG","TegernbachHG","PfaffingHG","ErdingHG","OdelzhausenHG","ErdingHG","ErdingHG","PfaffingHG","PfaffingHG","ErdingHG","ErdingHG","OdelzhausenHG","ErdingHG","TegernbachHG","PfaffingHG","GutThailingHG","OdelzhausenHG","ErdingHG","OdelzhausenHG","TegernbachHG","ErdingHG","OdelzhausenHG","OdelzhausenHG","ErdingHR","PfaffingHG","TegernbachHG","ErdingHG","StEurachHG","EgmatingHG","PfaffingHG","TegernbachHG","TegernbachHG","PfaffingHG","MaxlrainHG","OdelzhausenHG","MangfalltalHG","IffeldorfHG","StEurachHG","ErdingHG","TegernbachHG","OdelzhausenHG","OdelzhausenHG","GutHaeusenHG","OdelzhausenHG","IffeldorfHG","Pfaffing2022HG","HohenpaehlHG","IffeldorfHG","StEurachHG","Pfaffing2022HG","TegernbachHG","ErdingHG","Odelzhausen2023HG","GarmischHG","TegernbachHG"]
[null,null,null,null,null,null,null,null,"Ad Gr",89,91,91,91,88,89,86,90,84,84,97,98,92,84,94,86,92,87,83,90,89,92,97,86,94,97,100,100,99,96,90,89,94,98,94,99,89,102,86,89,88,89,96,96,95,91,91,88,100,90,82,93,97,93,89]
[null,null,null,null,null,null,null,null,"SD",{"$f":"IF(J95=\"\",0,(J95-INDIRECT(CONCATENATE(J94,\"CR\")))*113/INDIRECT(CONCATENATE(J94,\"SR\")))","v":15.646153846153846},{"$f":"IF(K95=\"\",0,(K95-INDIRECT(CONCATENATE(K94,\"CR\")))*113/INDIRECT(CONCATENATE(K94,\"SR\")))","v":16.521969696969695},16.515384615384615,17.384615384615383,14.41417322834646,15.646153846153846,13.038461538461538,15.646153846153846,10.430769230769231,11.3,22.6,23.311811023622049,18.253846153846155,10.529545454545453,19.123076923076923,13.370229007633588,17.973228346456697,13.907692307692308,9.9653543307086636,15.665909090909087,15.646153846153846,17.973228346456697,22.42204724409449,18.136974789915961,19.123076923076923,21.658333333333331,25.207692307692309,24.238931297709918,23.031297709923667,20.861538461538462,15.665909090909087,14.809848484848482,19.123076923076923,20.855147058823523,19.752755905511815,23.091304347826089,15.592248062015502,25.964122137404576,13.038461538461538,14.809848484848482,14.41417322834646,15.303937007874019,21.53228346456693,21.53228346456693,20.848062015503874,15.906923076923075,17.510687022900761,14.716279069767438,24.238931297709918,15.037692307692305,8.8174242424242397,19.123076923076923,23.146774193548392,19.218897637795269,14.809848484848482,0,0,0,0,0,0,0,0,0,0,{"$f":"IF(BW95=\"\",0,(BW95-INDIRECT(CONCATENATE(BW94,\"CR\")))*113/INDIRECT(CONCATENATE(BW94,\"SR\")))","v":0},0,0,0,0,0,0,0,0,0,0,0,0,0,0,0,{"$f":"IF(CM95=\"\",0,(CM95-INDIRECT(CONCATENATE(CM94,\"CR\")))*113/INDIRECT(CONCATENATE(CM94,\"SR\")))","v":0},0,{"$f":"IF(CO95=\"\",0,(CO95-INDIRECT(CONCATENATE(CO94,\"CR\")))*113/INDIRECT(CONCATENATE(CO94,\"SR\")))","v":0},0,{"$f":"IF(CQ95=\"\",0,(CQ95-INDIRECT(CONCATENATE(CQ94,\"CR\")))*113/INDIRECT(CONCATENATE(CQ94,\"SR\")))","v":0},0,{"$f":"IF(CS95=\"\",0,(CS95-INDIRECT(CONCATENATE(CS94,\"CR\")))*113/INDIRECT(CONCATENATE(CS94,\"SR\")))","v":0},0,{"$f":"IF(CU95=\"\",0,(CU95-INDIRECT(CONCATENATE(CU94,\"CR\")))*113/INDIRECT(CONCATENATE(CU94,\"SR\")))","v":0},0,{"$f":"IF(CW95=\"\",0,(CW95-INDIRECT(CONCATENATE(CW94,\"CR\")))*113/INDIRECT(CONCATENATE(CW94,\"SR\")))","v":0}]
[null,null,null,null,null,null,null,null,"New Hcap",{"$f":"J96-2","v":13.646153846153846},{"$f":"IF(K96>0,MIN(J96:K96)-2,J97)","v":13.646153846153846},{"$f":"IF(L96>0,MIN(J96:L96)-2,K97)","v":13.646153846153846},{"$f":"IF(M96>0,MIN(J96:M96)-1,L97)","v":14.646153846153846},{"$f":"IF(N96>0,MIN(J96:N96),M97)","v":14.41417322834646},{"$f":"IF(O96>0,AVERAGE(SMALL(IF(J96:O96>0,J96:O96),{1,2}))-1,N97)","v":14.030163537250154},{"$f":"IF(P96>0,AVERAGE(SMALL(IF(J96:P96>0,J96:P96),{1,2})),O97)","v":13.726317383403998},{"$f":"IF(Q96>0,AVERAGE(SMALL(IF(J96:Q96>0,J96:Q96),{1,2})),P97)","v":13.726317383403998},{"$f":"IF(R96>0,AVERAGE(SMALL(IF(J96:R96>0,J96:R96),{1,2,3})),Q97)","v":12.627801332525744},{"$f":"IF(S96>0,AVERAGE(SMALL(IF(J96:S96>0,J96:S96),{1,2,3})),R97)","v":11.589743589743591},{"$f":"IF(T96>0,AVERAGE(SMALL(IF(J96:T96>0,J96:T96),{1,2,3})),S97)","v":11.589743589743591},{"$f":"IF(U96>0,AVERAGE(SMALL(IF(J96:U96>0,J96:U96),{1,2,3,4})),T97)","v":12.295850999394307},{"$f":"IF(V96>0,AVERAGE(SMALL(IF(J96:V96>0,J96:V96),{1,2,3,4})),U97)","v":12.295850999394307},{"$f":"IF(W96>0,AVERAGE(SMALL(IF(J96:W96>0,J96:W96),{1,2,3,4})),V97)","v":11.324694055944056},{"$f":"IF(X96>0,AVERAGE(SMALL(IF(J96:X96>0,J96:X96),{1,2,3,4,5})),W97)","v":11.942589890424538},{"$f":"IF(Y96>0,AVERAGE(SMALL(IF(J96:Y96>0,J96:Y96),{1,2,3,4,5})),X97)","v":11.733801046281963},{"$f":"IF(Z96>0,AVERAGE(SMALL(IF(J96:Z96>0,J96:Z96),{1,2,3,4,5,6})),Y97)","v":12.180529743292711},{"$f":"IF(AA96>0,AVERAGE(SMALL(IF(J96:AA96>0,J96:AA96),{1,2,3,4,5,6})),Z97)","v":12.096116256517021},{"$f":"IF(AB96>0,AVERAGE(SMALL(IF(J96:AB96>0,J96:AB96),{1,2,3,4,5,6,7})),AA97)","v":11.791721695687256},{"$f":"IF(AC96>0,AVERAGE(SMALL(IF(J96:AC96>0,J96:AC96),{1,2,3,4,5,6,7,8})),AB97)","v":12.119528137269656},{"$f":"IF(AD96>0,AVERAGE(SMALL(IF(K96:AD96>0,K96:AD96),{1,2,3,4,5,6,7,8})),AC97)","v":12.119528137269656},{"$f":"IF(AE96>0,AVERAGE(SMALL(IF(L96:AE96>0,L96:AE96),{1,2,3,4,5,6,7,8})),AD97)","v":12.119528137269656},{"$f":"IF(AF96>0,AVERAGE(SMALL(IF(M96:AF96>0,M96:AF96),{1,2,3,4,5,6,7,8})),AE97)","v":12.119528137269656},{"$f":"IF(AG96>0,AVERAGE(SMALL(IF(N96:AG96>0,N96:AG96),{1,2,3,4,5,6,7,8})),AF97)","v":12.119528137269656},{"$f":"IF(AH96>0,AVERAGE(SMALL(IF(O96:AH96>0,O96:AH96),{1,2,3,4,5,6,7,8})),AG97)","v":12.27352571449558},{"$f":"IF(AI96>0,AVERAGE(SMALL(IF(P96:AI96>0,P96:AI96),{1,2,3,4,5,6,7,8})),AH97)","v":12.27352571449558},{"$f":"IF(AJ96>0,AVERAGE(SMALL(IF(Q96:AJ96>0,Q96:AJ96),{1,2,3,4,5,6,7,8})),AI97)","v":12.599487252957118},{"$f":"IF(AK96>0,AVERAGE(SMALL(IF(R96:AK96>0,R96:AK96),{1,2,3,4,5,6,7,8})),AJ97)","v":12.601956658551522},{"$f":"IF(AL96>0,AVERAGE(SMALL(IF(S96:AL96>0,S96:AL96),{1,2,3,4,5,6,7,8})),AK97)","v":13.544764048012455},{"$f":"IF(AM96>0,AVERAGE(SMALL(IF(T96:AM96>0,T96:AM96),{1,2,3,4,5,6,7,8})),AL97)","v":14.37891759131954},{"$f":"IF(AN96>0,AVERAGE(SMALL(IF(U96:AN96>0,U96:AN96),{1,2,3,4,5,6,7,8})),AM97)","v":14.090502684376089},{"$f":"IF(AO96>0,AVERAGE(SMALL(IF(V96:AO96>0,V96:AO96),{1,2,3,4,5,6,7,8})),AN97)","v":13.695080201675063},{"$f":"IF(AP96>0,AVERAGE(SMALL(IF(W96:AP96>0,W96:AP96),{1,2,3,4,5,6,7,8})),AO97)","v":13.695080201675063},{"$f":"IF(AQ96>0,AVERAGE(SMALL(IF(X96:AQ96>0,X96:AQ96),{1,2,3,4,5,6,7,8})),AP97)","v":14.625540563163968},{"$f":"IF(AR96>0,AVERAGE(SMALL(IF(Y96:AR96>0,Y96:AR96),{1,2,3,4,5,6,7,8})),AQ97)","v":14.625540563163968},{"$f":"IF(AS96>0,AVERAGE(SMALL(IF(Z96:AS96>0,Z96:AS96),{1,2,3,4,5,6,7,8})),AR97)","v":15.200915480516857},{"$f":"IF(AT96>0,AVERAGE(SMALL(IF(AA96:AT96>0,AA96:AT96),{1,2,3,4,5,6,7,8})),AS97)","v":14.903292944961708},{"$f":"IF(AU96>0,AVERAGE(SMALL(IF(AB96:AU96>0,AB96:AU96),{1,2,3,4,5,6,7,8})),AT97)","v":15.431953255239662},{"$f":"IF(AV96>0,AVERAGE(SMALL(IF(AC96:AV96>0,AC96:AV96),{1,2,3,4,5,6,7,8})),AU97)","v":15.816091656208773},{"$f":"IF(AW96>0,AVERAGE(SMALL(IF(AD96:AW96>0,AD96:AW96),{1,2,3,4,5,6,7,8})),AV97)","v":15.709084080451198},{"$f":"IF(AX96>0,AVERAGE(SMALL(IF(AE96:AX96>0,AE96:AX96),{1,2,3,4,5,6,7,8})),AW97)","v":15.555086503225276},{"$f":"IF(AY96>0,AVERAGE(SMALL(IF(AF96:AY96>0,AF96:AY96),{1,2,3,4,5,6,7,8})),AX97)","v":15.221425085902439},{"$f":"IF(AZ96>0,AVERAGE(SMALL(IF(AG96:AZ96>0,AG96:AZ96),{1,2,3,4,5,6,7,8})),AY97)","v":15.221425085902439},{"$f":"IF(BA96>0,AVERAGE(SMALL(IF(AH96:BA96>0,AH96:BA96),{1,2,3,4,5,6,7,8})),AZ97)","v":15.34468785254756},{"$f":"IF(BB96>0,AVERAGE(SMALL(IF(AI96:BB96>0,AI96:BB96),{1,2,3,4,5,6,7,8})),BA97)","v":15.34468785254756},{"$f":"IF(BC96>0,AVERAGE(SMALL(IF(AJ96:BC96>0,AJ96:BC96),{1,2,3,4,5,6,7,8})),BB97)","v":14.94266862177833},{"$f":"IF(BD96>0,AVERAGE(SMALL(IF(AK96:BD96>0,AK96:BD96),{1,2,3,4,5,6,7,8})),BC97)","v":14.94266862177833},{"$f":"IF(BE96>0,AVERAGE(SMALL(IF(AL96:BE96>0,AL96:BE96),{1,2,3,4,5,6,7,8})),BD97)","v":14.793838120883876},{"$f":"IF(BF96>0,AVERAGE(SMALL(IF(AM96:BF96>0,AM96:BF96),{1,2,3,4,5,6,7,8})),BE97)","v":14.793838120883876},{"$f":"IF(BG96>0,AVERAGE(SMALL(IF(AN96:BG96>0,AN96:BG96),{1,2,3,4,5,6,7,8})),BF97)","v":14.71531102298178},{"$f":"IF(BH96>0,AVERAGE(SMALL(IF(AO96:BH96>0,AO96:BH96),{1,2,3,4,5,6,7,8})),BG97)","v":13.868458045532872},{"$f":"IF(BI96>0,AVERAGE(SMALL(IF(AP96:BI96>0,AP96:BI96),{1,2,3,4,5,6,7,8})),BH97)","v":13.966257992678749},{"$f":"IF(BJ96>0,AVERAGE(SMALL(IF(AQ96:BJ96>0,AQ96:BJ96),{1,2,3,4,5,6,7,8})),BI97)","v":13.966257992678749},{"$f":"IF(BK96>0,AVERAGE(SMALL(IF(AR96:BK96>0,AR96:BK96),{1,2,3,4,5,6,7,8})),BJ97)","v":13.966257992678749},{"$f":"IF(BL96>0,AVERAGE(SMALL(IF(AS96:BL96>0,AS96:BL96),{1,2,3,4,5,6,7,8})),BK97)","v":13.868458045532872},{"$f":"IF(BM96>0,AVERAGE(SMALL(IF(AT96:BM96>0,AT96:BM96),{1,2,3,4,5,6,7,8})),BL97)","v":13.868458045532872},{"$f":"IF(BN96>0,AVERAGE(SMALL(IF(AU96:BN96>0,AU96:BN96),{1,2,3,4,5,6,7,8})),BM97)","v":13.868458045532872},{"$f":"IF(BO96>0,AVERAGE(SMALL(IF(AV96:BO96>0,AV96:BO96),{1,2,3,4,5,6,7,8})),BN97)","v":13.868458045532872},{"$f":"IF(BP96>0,AVERAGE(SMALL(IF(AW96:BP96>0,AW96:BP96),{1,2,3,4,5,6,7,8})),BO97)","v":13.868458045532872},{"$f":"IF(BQ96>0,AVERAGE(SMALL(IF(AX96:BQ96>0,AX96:BQ96),{1,2,3,4,5,6,7,8})),BP97)","v":13.868458045532872},{"$f":"IF(BR96>0,AVERAGE(SMALL(IF(AY96:BR96>0,AY96:BR96),{1,2,3,4,5,6,7,8})),BQ97)","v":13.868458045532872},{"$f":"IF(BS96>0,AVERAGE(SMALL(IF(AZ96:BS96>0,AZ96:BS96),{1,2,3,4,5,6,7,8})),BR97)","v":13.868458045532872},{"$f":"IF(BT96>0,AVERAGE(SMALL(IF(BA96:BT96>0,BA96:BT96),{1,2,3,4,5,6,7,8})),BS97)","v":13.868458045532872},{"$f":"IF(BU96>0,AVERAGE(SMALL(IF(BB96:BU96>0,BB96:BU96),{1,2,3,4,5,6,7,8})),BT97)","v":13.868458045532872},{"$f":"IF(BV96>0,AVERAGE(SMALL(IF(BC96:BV96>0,BC96:BV96),{1,2,3,4,5,6,7,8})),BU97)","v":13.868458045532872},{"$f":"IF(BW96>0,AVERAGE(SMALL(IF(BD96:BW96>0,BD96:BW96),{1,2,3,4,5,6,7,8})),BV97)","v":13.868458045532872},{"$f":"IF(BX96>0,AVERAGE(SMALL(IF(BE96:BX96>0,BE96:BX96),{1,2,3,4,5,6,7,8})),BW97)","v":13.868458045532872},{"$f":"IF(BY96>0,AVERAGE(SMALL(IF(BF96:BY96>0,BF96:BY96),{1,2,3,4,5,6,7,8})),BX97)","v":13.868458045532872},{"$f":"IF(BZ96>0,AVERAGE(SMALL(IF(BG96:BZ96>0,BG96:BZ96),{1,2,3,4,5,6,7,8})),BY97)","v":13.868458045532872},{"$f":"IF(CA96>0,AVERAGE(SMALL(IF(BH96:CA96>0,BH96:CA96),{1,2,3,4,5,6,7,8})),BZ97)","v":13.868458045532872},{"$f":"IF(CB96>0,AVERAGE(SMALL(IF(BI96:CB96>0,BI96:CB96),{1,2,3,4,5,6,7,8})),CA97)","v":13.868458045532872},{"$f":"IF(CC96>0,AVERAGE(SMALL(IF(BJ96:CC96>0,BJ96:CC96),{1,2,3,4,5,6,7,8})),CB97)","v":13.868458045532872},{"$f":"IF(CD96>0,AVERAGE(SMALL(IF(BK96:CD96>0,BK96:CD96),{1,2,3,4,5,6,7,8})),CC97)","v":13.868458045532872},{"$f":"IF(CE96>0,AVERAGE(SMALL(IF(BL96:CE96>0,BL96:CE96),{1,2,3,4,5,6,7,8})),CD97)","v":13.868458045532872},{"$f":"IF(CF96>0,AVERAGE(SMALL(IF(BM96:CF96>0,BM96:CF96),{1,2,3,4,5,6,7,8})),CE97)","v":13.868458045532872},{"$f":"IF(CG96>0,AVERAGE(SMALL(IF(BN96:CG96>0,BN96:CG96),{1,2,3,4,5,6,7,8})),CF97)","v":13.868458045532872},{"$f":"IF(CH96>0,AVERAGE(SMALL(IF(BO96:CH96>0,BO96:CH96),{1,2,3,4,5,6,7,8})),CG97)","v":13.868458045532872},{"$f":"IF(CI96>0,AVERAGE(SMALL(IF(BP96:CI96>0,BP96:CI96),{1,2,3,4,5,6,7,8})),CH97)","v":13.868458045532872},{"$f":"IF(CJ96>0,AVERAGE(SMALL(IF(BQ96:CJ96>0,BQ96:CJ96),{1,2,3,4,5,6,7,8})),CI97)","v":13.868458045532872},{"$f":"IF(CK96>0,AVERAGE(SMALL(IF(BR96:CK96>0,BR96:CK96),{1,2,3,4,5,6,7,8})),CJ97)","v":13.868458045532872},{"$f":"IF(CL96>0,AVERAGE(SMALL(IF(BS96:CL96>0,BS96:CL96),{1,2,3,4,5,6,7,8})),CK97)","v":13.868458045532872},{"$f":"IF(CM96>0,AVERAGE(SMALL(IF(BT96:CM96>0,BT96:CM96),{1,2,3,4,5,6,7,8})),CL97)","v":13.868458045532872},{"$f":"IF(CN96>0,AVERAGE(SMALL(IF(BU96:CN96>0,BU96:CN96),{1,2,3,4,5,6,7,8})),CM97)","v":13.868458045532872},{"$f":"IF(CO96>0,AVERAGE(SMALL(IF(BV96:CO96>0,BV96:CO96),{1,2,3,4,5,6,7,8})),CN97)","v":13.868458045532872},{"$f":"IF(CP96>0,AVERAGE(SMALL(IF(BW96:CP96>0,BW96:CP96),{1,2,3,4,5,6,7,8})),CO97)","v":13.868458045532872},{"$f":"IF(CQ96>0,AVERAGE(SMALL(IF(BX96:CQ96>0,BX96:CQ96),{1,2,3,4,5,6,7,8})),CP97)","v":13.868458045532872},{"$f":"IF(CR96>0,AVERAGE(SMALL(IF(BY96:CR96>0,BY96:CR96),{1,2,3,4,5,6,7,8})),CQ97)","v":13.868458045532872},{"$f":"IF(CS96>0,AVERAGE(SMALL(IF(BZ96:CS96>0,BZ96:CS96),{1,2,3,4,5,6,7,8})),CR97)","v":13.868458045532872},{"$f":"IF(CT96>0,AVERAGE(SMALL(IF(CA96:CT96>0,CA96:CT96),{1,2,3,4,5,6,7,8})),CS97)","v":13.868458045532872},{"$f":"IF(CU96>0,AVERAGE(SMALL(IF(CB96:CU96>0,CB96:CU96),{1,2,3,4,5,6,7,8})),CT97)","v":13.868458045532872},{"$f":"IF(CV96>0,AVERAGE(SMALL(IF(CC96:CV96>0,CC96:CV96),{1,2,3,4,5,6,7,8})),CU97)","v":13.868458045532872},{"$f":"IF(CW96>0,AVERAGE(SMALL(IF(CD96:CW96>0,CD96:CW96),{1,2,3,4,5,6,7,8})),CV97)","v":13.868458045532872}]
[null,null,null,null,null,null,null,null,"Low Hcap",null,null,null,null,null,null,null,null,null,null,null,null,null,null,null,null,null,null,null,{"$f":"MIN($Q97:AC97)","v":11.324694055944056},{"$f":"MIN($Q97:AD97)","v":11.324694055944056},{"$f":"MIN($Q97:AE97)","v":11.324694055944056},{"$f":"MIN($R97:AF97)","v":11.324694055944056},{"$f":"MIN($R97:AG97)","v":11.324694055944056},{"$f":"MIN($R97:AH97)","v":11.324694055944056},{"$f":"MIN($R97:AI97)","v":11.324694055944056},{"$f":"MIN($R97:AJ97)","v":11.324694055944056},{"$f":"MIN($R97:AK97)","v":11.324694055944056},{"$f":"MIN($T97:AL97)","v":11.324694055944056},{"$f":"MIN($U97:AM97)","v":11.324694055944056},{"$f":"MIN($V97:AN97)","v":11.324694055944056},{"$f":"MIN($W97:AO97)","v":11.324694055944056},{"$f":"MIN($X97:AP97)","v":11.733801046281963},{"$f":"MIN($Z97:AQ97)","v":11.791721695687256},{"$f":"MIN($Z97:AR97)","v":11.791721695687256},{"$f":"MIN($AA97:AS97)","v":11.791721695687256},{"$f":"MIN($AA97:AT97)","v":11.791721695687256},{"$f":"MIN($AB97:AU97)","v":11.791721695687256},{"$f":"MIN($AC97:AV97)","v":12.119528137269656},{"$f":"MIN($AC97:AW97)","v":12.119528137269656},{"$f":"MIN($AC97:AX97)","v":12.119528137269656},{"$f":"MIN($AF97:AY97)","v":12.119528137269656},{"$f":"MIN($AL97:AZ97)","v":13.544764048012455},{"$f":"MIN($AL97:BA97)","v":13.544764048012455},{"$f":"MIN($AP97:BB97)","v":13.695080201675063},{"$f":"MIN($AR97:BC97)","v":14.625540563163968},{"$f":"MIN($AT97:BD97)","v":14.903292944961708},{"$f":"MIN($AT97:BE97)","v":14.793838120883876},{"$f":"MIN($AU97:BF97)","v":14.793838120883876},{"$f":"MIN($AV97:BG97)","v":14.71531102298178},{"$f":"MIN($AY97:BH97)","v":13.868458045532872},{"$f":"MIN($AY97:BI97)","v":13.868458045532872},{"$f":"MIN($AZ97:BJ97)","v":13.868458045532872},{"$f":"MIN($AZ97:BK97)","v":13.868458045532872},{"$f":"MIN($BB97:BL97)","v":13.868458045532872},{"$f":"MIN($BB97:BM97)","v":13.868458045532872},{"$f":"MIN($BB97:BN97)","v":13.868458045532872},{"$f":"MIN($BB97:BO97)","v":13.868458045532872},{"$f":"MIN($BB97:BP97)","v":13.868458045532872},{"$f":"MIN($BB97:BQ97)","v":13.868458045532872},{"$f":"MIN($BB97:BR97)","v":13.868458045532872},{"$f":"MIN($BB97:BS97)","v":13.868458045532872},{"$f":"MIN($BB97:BT97)","v":13.868458045532872},{"$f":"MIN($BB97:BU97)","v":13.868458045532872},{"$f":"MIN($BB97:BV97)","v":13.868458045532872},{"$f":"MIN($BB97:BW97)","v":13.868458045532872},{"$f":"MIN($BB97:BX97)","v":13.868458045532872},{"$f":"MIN($BB97:BY97)","v":13.868458045532872},{"$f":"MIN($BB97:BZ97)","v":13.868458045532872},{"$f":"MIN($BB97:CA97)","v":13.868458045532872},{"$f":"MIN($BB97:CB97)","v":13.868458045532872},{"$f":"MIN($BB97:CC97)","v":13.868458045532872},{"$f":"MIN($BB97:CD97)","v":13.868458045532872},{"$f":"MIN($BB97:CE97)","v":13.868458045532872},{"$f":"MIN($BB97:CF97)","v":13.868458045532872},{"$f":"MIN($BB97:CG97)","v":13.868458045532872},{"$f":"MIN($BB97:CH97)","v":13.868458045532872},{"$f":"MIN($BB97:CI97)","v":13.868458045532872},{"$f":"MIN($BB97:CJ97)","v":13.868458045532872},{"$f":"MIN($BB97:CK97)","v":13.868458045532872},{"$f":"MIN($BB97:CL97)","v":13.868458045532872},{"$f":"MIN($BB97:CM97)","v":13.868458045532872},{"$f":"MIN($BB97:CN97)","v":13.868458045532872},{"$f":"MIN($BB97:CO97)","v":13.868458045532872},{"$f":"MIN($BB97:CP97)","v":13.868458045532872},{"$f":"MIN($BB97:CQ97)","v":13.868458045532872},{"$f":"MIN($BB97:CR97)","v":13.868458045532872},{"$f":"MIN($BB97:CS97)","v":13.868458045532872},{"$f":"MIN($BB97:CT97)","v":13.868458045532872},{"$f":"MIN($BB97:CU97)","v":13.868458045532872},{"$f":"MIN($BB97:CV97)","v":13.868458045532872},{"$f":"MIN($BB97:CW97)","v":13.868458045532872}]
[null,"Cottrell","John",22,null,{"$f":"IF(H99<4,\"Y\",)","v":0},2022,{"$f":"COUNT(J99:CX99)","v":5},"Date",null,"2022-06-17","2022-06-22","2022-07-31","2022-10-30","2023-05-19",null,null,null,null,null,null,null,null,null,null,null,null,null,null,null,null,null,null,null,null,null,null,null,null,null,null,null,null,null,null,null,null,null,null,null,null,null,null,null,null,null,null,null,null,null,null,null,null,null,null,null,null,null,null,null,null,null,null,null,null,null,null,null,null,null,null,null,null,null,null,null,null,null,null,null,null,null,null,null,null,null,null,null,null,null,null,null,{"$f":"IF(CW103>$DD$1,36,CW103)","v":24.413358778625952},24,{"$f":"CZ99-CY99","v":-0.41335877862595183}]
[null,null,null,null,null,null,null,null,"Course",null,"StEurachHG","GutThailing2022HG","HohenpaehlHG","OdelzhausenHB","GarmischHG"]
[null,null,null,null,null,null,null,null,"Ad Gr",null,103,114,118,115,119]
[null,null,null,null,null,null,null,null,"SD",24,{"$f":"IF(K101=\"\",0,(K101-INDIRECT(CONCATENATE(K100,\"CR\")))*113/INDIRECT(CONCATENATE(K100,\"SR\")))","v":26.826717557251904},37.72461538461539,40.800763358778624,45.779487179487184,42.352755905511806,0,0,0,0,0,0,0,0,0,0,0,0,0,0,0,0,0,0,0,0,0,0,0,0,0,0,0,0,0,0,0,0,0,0,0,0,0,0,0,0,0,0,0,0,0,0,0,0,0,0,0,0,0,0,0,0,0,0,0,{"$f":"IF(BW101=\"\",0,(BW101-INDIRECT(CONCATENATE(BW100,\"CR\")))*113/INDIRECT(CONCATENATE(BW100,\"SR\")))","v":0},0,0,0,0,0,0,0,0,0,0,0,0,0,0,0,{"$f":"IF(CM101=\"\",0,(CM101-INDIRECT(CONCATENATE(CM100,\"CR\")))*113/INDIRECT(CONCATENATE(CM100,\"SR\")))","v":0},0,{"$f":"IF(CO101=\"\",0,(CO101-INDIRECT(CONCATENATE(CO100,\"CR\")))*113/INDIRECT(CONCATENATE(CO100,\"SR\")))","v":0},0,{"$f":"IF(CQ101=\"\",0,(CQ101-INDIRECT(CONCATENATE(CQ100,\"CR\")))*113/INDIRECT(CONCATENATE(CQ100,\"SR\")))","v":0},0,{"$f":"IF(CS101=\"\",0,(CS101-INDIRECT(CONCATENATE(CS100,\"CR\")))*113/INDIRECT(CONCATENATE(CS100,\"SR\")))","v":0},0,{"$f":"IF(CU101=\"\",0,(CU101-INDIRECT(CONCATENATE(CU100,\"CR\")))*113/INDIRECT(CONCATENATE(CU100,\"SR\")))","v":0},0,{"$f":"IF(CW101=\"\",0,(CW101-INDIRECT(CONCATENATE(CW100,\"CR\")))*113/INDIRECT(CONCATENATE(CW100,\"SR\")))","v":0}]
[null,null,null,null,null,null,null,null,"New Hcap",{"$f":"J102-2","v":22},{"$f":"IF(K102>0,MIN(J102:K102)-2,J103)","v":22},{"$f":"IF(L102>0,MIN(J102:L102)-2,K103)","v":22},{"$f":"IF(M102>0,MIN(J102:M102)-1,L103)","v":23},{"$f":"IF(N102>0,MIN(J102:N102),M103)","v":24},{"$f":"IF(O102>0,AVERAGE(SMALL(IF(J102:O102>0,J102:O102),{1,2}))-1,N103)","v":24.413358778625952},{"$f":"IF(P102>0,AVERAGE(SMALL(IF(J102:P102>0,J102:P102),{1,2})),O103)","v":24.413358778625952},{"$f":"IF(Q102>0,AVERAGE(SMALL(IF(J102:Q102>0,J102:Q102),{1,2})),P103)","v":24.413358778625952},{"$f":"IF(R102>0,AVERAGE(SMALL(IF(J102:R102>0,J102:R102),{1,2,3})),Q103)","v":24.413358778625952},{"$f":"IF(S102>0,AVERAGE(SMALL(IF(J102:S102>0,J102:S102),{1,2,3})),R103)","v":24.413358778625952},{"$f":"IF(T102>0,AVERAGE(SMALL(IF(J102:T102>0,J102:T102),{1,2,3})),S103)","v":24.413358778625952},{"$f":"IF(U102>0,AVERAGE(SMALL(IF(J102:U102>0,J102:U102),{1,2,3,4})),T103)","v":24.413358778625952},{"$f":"IF(V102>0,AVERAGE(SMALL(IF(J102:V102>0,J102:V102),{1,2,3,4})),U103)","v":24.413358778625952},{"$f":"IF(W102>0,AVERAGE(SMALL(IF(J102:W102>0,J102:W102),{1,2,3,4})),V103)","v":24.413358778625952},{"$f":"IF(X102>0,AVERAGE(SMALL(IF(J102:X102>0,J102:X102),{1,2,3,4,5})),W103)","v":24.413358778625952},{"$f":"IF(Y102>0,AVERAGE(SMALL(IF(J102:Y102>0,J102:Y102),{1,2,3,4,5})),X103)","v":24.413358778625952},{"$f":"IF(Z102>0,AVERAGE(SMALL(IF(J102:Z102>0,J102:Z102),{1,2,3,4,5,6})),Y103)","v":24.413358778625952},{"$f":"IF(AA102>0,AVERAGE(SMALL(IF(J102:AA102>0,J102:AA102),{1,2,3,4,5,6})),Z103)","v":24.413358778625952},{"$f":"IF(AB102>0,AVERAGE(SMALL(IF(J102:AB102>0,J102:AB102),{1,2,3,4,5,6,7})),AA103)","v":24.413358778625952},{"$f":"IF(AC102>0,AVERAGE(SMALL(IF(J102:AC102>0,J102:AC102),{1,2,3,4,5,6,7,8})),AB103)","v":24.413358778625952},{"$f":"IF(AD102>0,AVERAGE(SMALL(IF(K102:AD102>0,K102:AD102),{1,2,3,4,5,6,7,8})),AC103)","v":24.413358778625952},{"$f":"IF(AE102>0,AVERAGE(SMALL(IF(L102:AE102>0,L102:AE102),{1,2,3,4,5,6,7,8})),AD103)","v":24.413358778625952},{"$f":"IF(AF102>0,AVERAGE(SMALL(IF(M102:AF102>0,M102:AF102),{1,2,3,4,5,6,7,8})),AE103)","v":24.413358778625952},{"$f":"IF(AG102>0,AVERAGE(SMALL(IF(N102:AG102>0,N102:AG102),{1,2,3,4,5,6,7,8})),AF103)","v":24.413358778625952},{"$f":"IF(AH102>0,AVERAGE(SMALL(IF(O102:AH102>0,O102:AH102),{1,2,3,4,5,6,7,8})),AG103)","v":24.413358778625952},{"$f":"IF(AI102>0,AVERAGE(SMALL(IF(P102:AI102>0,P102:AI102),{1,2,3,4,5,6,7,8})),AH103)","v":24.413358778625952},{"$f":"IF(AJ102>0,AVERAGE(SMALL(IF(Q102:AJ102>0,Q102:AJ102),{1,2,3,4,5,6,7,8})),AI103)","v":24.413358778625952},{"$f":"IF(AK102>0,AVERAGE(SMALL(IF(R102:AK102>0,R102:AK102),{1,2,3,4,5,6,7,8})),AJ103)","v":24.413358778625952},{"$f":"IF(AL102>0,AVERAGE(SMALL(IF(S102:AL102>0,S102:AL102),{1,2,3,4,5,6,7,8})),AK103)","v":24.413358778625952},{"$f":"IF(AM102>0,AVERAGE(SMALL(IF(T102:AM102>0,T102:AM102),{1,2,3,4,5,6,7,8})),AL103)","v":24.413358778625952},{"$f":"IF(AN102>0,AVERAGE(SMALL(IF(U102:AN102>0,U102:AN102),{1,2,3,4,5,6,7,8})),AM103)","v":24.413358778625952},{"$f":"IF(AO102>0,AVERAGE(SMALL(IF(V102:AO102>0,V102:AO102),{1,2,3,4,5,6,7,8})),AN103)","v":24.413358778625952},{"$f":"IF(AP102>0,AVERAGE(SMALL(IF(W102:AP102>0,W102:AP102),{1,2,3,4,5,6,7,8})),AO103)","v":24.413358778625952},{"$f":"IF(AQ102>0,AVERAGE(SMALL(IF(X102:AQ102>0,X102:AQ102),{1,2,3,4,5,6,7,8})),AP103)","v":24.413358778625952},{"$f":"IF(AR102>0,AVERAGE(SMALL(IF(Y102:AR102>0,Y102:AR102),{1,2,3,4,5,6,7,8})),AQ103)","v":24.413358778625952},{"$f":"IF(AS102>0,AVERAGE(SMALL(IF(Z102:AS102>0,Z102:AS102),{1,2,3,4,5,6,7,8})),AR103)","v":24.413358778625952},{"$f":"IF(AT102>0,AVERAGE(SMALL(IF(AA102:AT102>0,AA102:AT102),{1,2,3,4,5,6,7,8})),AS103)","v":24.413358778625952},{"$f":"IF(AU102>0,AVERAGE(SMALL(IF(AB102:AU102>0,AB102:AU102),{1,2,3,4,5,6,7,8})),AT103)","v":24.413358778625952},{"$f":"IF(AV102>0,AVERAGE(SMALL(IF(AC102:AV102>0,AC102:AV102),{1,2,3,4,5,6,7,8})),AU103)","v":24.413358778625952},{"$f":"IF(AW102>0,AVERAGE(SMALL(IF(AD102:AW102>0,AD102:AW102),{1,2,3,4,5,6,7,8})),AV103)","v":24.413358778625952},{"$f":"IF(AX102>0,AVERAGE(SMALL(IF(AE102:AX102>0,AE102:AX102),{1,2,3,4,5,6,7,8})),AW103)","v":24.413358778625952},{"$f":"IF(AY102>0,AVERAGE(SMALL(IF(AF102:AY102>0,AF102:AY102),{1,2,3,4,5,6,7,8})),AX103)","v":24.413358778625952},{"$f":"IF(AZ102>0,AVERAGE(SMALL(IF(AG102:AZ102>0,AG102:AZ102),{1,2,3,4,5,6,7,8})),AY103)","v":24.413358778625952},{"$f":"IF(BA102>0,AVERAGE(SMALL(IF(AH102:BA102>0,AH102:BA102),{1,2,3,4,5,6,7,8})),AZ103)","v":24.413358778625952},{"$f":"IF(BB102>0,AVERAGE(SMALL(IF(AI102:BB102>0,AI102:BB102),{1,2,3,4,5,6,7,8})),BA103)","v":24.413358778625952},{"$f":"IF(BC102>0,AVERAGE(SMALL(IF(AJ102:BC102>0,AJ102:BC102),{1,2,3,4,5,6,7,8})),BB103)","v":24.413358778625952},{"$f":"IF(BD102>0,AVERAGE(SMALL(IF(AK102:BD102>0,AK102:BD102),{1,2,3,4,5,6,7,8})),BC103)","v":24.413358778625952},{"$f":"IF(BE102>0,AVERAGE(SMALL(IF(AL102:BE102>0,AL102:BE102),{1,2,3,4,5,6,7,8})),BD103)","v":24.413358778625952},{"$f":"IF(BF102>0,AVERAGE(SMALL(IF(AM102:BF102>0,AM102:BF102),{1,2,3,4,5,6,7,8})),BE103)","v":24.413358778625952},{"$f":"IF(BG102>0,AVERAGE(SMALL(IF(AN102:BG102>0,AN102:BG102),{1,2,3,4,5,6,7,8})),BF103)","v":24.413358778625952},{"$f":"IF(BH102>0,AVERAGE(SMALL(IF(AO102:BH102>0,AO102:BH102),{1,2,3,4,5,6,7,8})),BG103)","v":24.413358778625952},{"$f":"IF(BI102>0,AVERAGE(SMALL(IF(AP102:BI102>0,AP102:BI102),{1,2,3,4,5,6,7,8})),BH103)","v":24.413358778625952},{"$f":"IF(BJ102>0,AVERAGE(SMALL(IF(AQ102:BJ102>0,AQ102:BJ102),{1,2,3,4,5,6,7,8})),BI103)","v":24.413358778625952},{"$f":"IF(BK102>0,AVERAGE(SMALL(IF(AR102:BK102>0,AR102:BK102),{1,2,3,4,5,6,7,8})),BJ103)","v":24.413358778625952},{"$f":"IF(BL102>0,AVERAGE(SMALL(IF(AS102:BL102>0,AS102:BL102),{1,2,3,4,5,6,7,8})),BK103)","v":24.413358778625952},{"$f":"IF(BM102>0,AVERAGE(SMALL(IF(AT102:BM102>0,AT102:BM102),{1,2,3,4,5,6,7,8})),BL103)","v":24.413358778625952},{"$f":"IF(BN102>0,AVERAGE(SMALL(IF(AU102:BN102>0,AU102:BN102),{1,2,3,4,5,6,7,8})),BM103)","v":24.413358778625952},{"$f":"IF(BO102>0,AVERAGE(SMALL(IF(AV102:BO102>0,AV102:BO102),{1,2,3,4,5,6,7,8})),BN103)","v":24.413358778625952},{"$f":"IF(BP102>0,AVERAGE(SMALL(IF(AW102:BP102>0,AW102:BP102),{1,2,3,4,5,6,7,8})),BO103)","v":24.413358778625952},{"$f":"IF(BQ102>0,AVERAGE(SMALL(IF(AX102:BQ102>0,AX102:BQ102),{1,2,3,4,5,6,7,8})),BP103)","v":24.413358778625952},{"$f":"IF(BR102>0,AVERAGE(SMALL(IF(AY102:BR102>0,AY102:BR102),{1,2,3,4,5,6,7,8})),BQ103)","v":24.413358778625952},{"$f":"IF(BS102>0,AVERAGE(SMALL(IF(AZ102:BS102>0,AZ102:BS102),{1,2,3,4,5,6,7,8})),BR103)","v":24.413358778625952},{"$f":"IF(BT102>0,AVERAGE(SMALL(IF(BA102:BT102>0,BA102:BT102),{1,2,3,4,5,6,7,8})),BS103)","v":24.413358778625952},{"$f":"IF(BU102>0,AVERAGE(SMALL(IF(BB102:BU102>0,BB102:BU102),{1,2,3,4,5,6,7,8})),BT103)","v":24.413358778625952},{"$f":"IF(BV102>0,AVERAGE(SMALL(IF(BC102:BV102>0,BC102:BV102),{1,2,3,4,5,6,7,8})),BU103)","v":24.413358778625952},{"$f":"IF(BW102>0,AVERAGE(SMALL(IF(BD102:BW102>0,BD102:BW102),{1,2,3,4,5,6,7,8})),BV103)","v":24.413358778625952},{"$f":"IF(BX102>0,AVERAGE(SMALL(IF(BE102:BX102>0,BE102:BX102),{1,2,3,4,5,6,7,8})),BW103)","v":24.413358778625952},{"$f":"IF(BY102>0,AVERAGE(SMALL(IF(BF102:BY102>0,BF102:BY102),{1,2,3,4,5,6,7,8})),BX103)","v":24.413358778625952},{"$f":"IF(BZ102>0,AVERAGE(SMALL(IF(BG102:BZ102>0,BG102:BZ102),{1,2,3,4,5,6,7,8})),BY103)","v":24.413358778625952},{"$f":"IF(CA102>0,AVERAGE(SMALL(IF(BH102:CA102>0,BH102:CA102),{1,2,3,4,5,6,7,8})),BZ103)","v":24.413358778625952},{"$f":"IF(CB102>0,AVERAGE(SMALL(IF(BI102:CB102>0,BI102:CB102),{1,2,3,4,5,6,7,8})),CA103)","v":24.413358778625952},{"$f":"IF(CC102>0,AVERAGE(SMALL(IF(BJ102:CC102>0,BJ102:CC102),{1,2,3,4,5,6,7,8})),CB103)","v":24.413358778625952},{"$f":"IF(CD102>0,AVERAGE(SMALL(IF(BK102:CD102>0,BK102:CD102),{1,2,3,4,5,6,7,8})),CC103)","v":24.413358778625952},{"$f":"IF(CE102>0,AVERAGE(SMALL(IF(BL102:CE102>0,BL102:CE102),{1,2,3,4,5,6,7,8})),CD103)","v":24.413358778625952},{"$f":"IF(CF102>0,AVERAGE(SMALL(IF(BM102:CF102>0,BM102:CF102),{1,2,3,4,5,6,7,8})),CE103)","v":24.413358778625952},{"$f":"IF(CG102>0,AVERAGE(SMALL(IF(BN102:CG102>0,BN102:CG102),{1,2,3,4,5,6,7,8})),CF103)","v":24.413358778625952},{"$f":"IF(CH102>0,AVERAGE(SMALL(IF(BO102:CH102>0,BO102:CH102),{1,2,3,4,5,6,7,8})),CG103)","v":24.413358778625952},{"$f":"IF(CI102>0,AVERAGE(SMALL(IF(BP102:CI102>0,BP102:CI102),{1,2,3,4,5,6,7,8})),CH103)","v":24.413358778625952},{"$f":"IF(CJ102>0,AVERAGE(SMALL(IF(BQ102:CJ102>0,BQ102:CJ102),{1,2,3,4,5,6,7,8})),CI103)","v":24.413358778625952},{"$f":"IF(CK102>0,AVERAGE(SMALL(IF(BR102:CK102>0,BR102:CK102),{1,2,3,4,5,6,7,8})),CJ103)","v":24.413358778625952},{"$f":"IF(CL102>0,AVERAGE(SMALL(IF(BS102:CL102>0,BS102:CL102),{1,2,3,4,5,6,7,8})),CK103)","v":24.413358778625952},{"$f":"IF(CM102>0,AVERAGE(SMALL(IF(BT102:CM102>0,BT102:CM102),{1,2,3,4,5,6,7,8})),CL103)","v":24.413358778625952},{"$f":"IF(CN102>0,AVERAGE(SMALL(IF(BU102:CN102>0,BU102:CN102),{1,2,3,4,5,6,7,8})),CM103)","v":24.413358778625952},{"$f":"IF(CO102>0,AVERAGE(SMALL(IF(BV102:CO102>0,BV102:CO102),{1,2,3,4,5,6,7,8})),CN103)","v":24.413358778625952},{"$f":"IF(CP102>0,AVERAGE(SMALL(IF(BW102:CP102>0,BW102:CP102),{1,2,3,4,5,6,7,8})),CO103)","v":24.413358778625952},{"$f":"IF(CQ102>0,AVERAGE(SMALL(IF(BX102:CQ102>0,BX102:CQ102),{1,2,3,4,5,6,7,8})),CP103)","v":24.413358778625952},{"$f":"IF(CR102>0,AVERAGE(SMALL(IF(BY102:CR102>0,BY102:CR102),{1,2,3,4,5,6,7,8})),CQ103)","v":24.413358778625952},{"$f":"IF(CS102>0,AVERAGE(SMALL(IF(BZ102:CS102>0,BZ102:CS102),{1,2,3,4,5,6,7,8})),CR103)","v":24.413358778625952},{"$f":"IF(CT102>0,AVERAGE(SMALL(IF(CA102:CT102>0,CA102:CT102),{1,2,3,4,5,6,7,8})),CS103)","v":24.413358778625952},{"$f":"IF(CU102>0,AVERAGE(SMALL(IF(CB102:CU102>0,CB102:CU102),{1,2,3,4,5,6,7,8})),CT103)","v":24.413358778625952},{"$f":"IF(CV102>0,AVERAGE(SMALL(IF(CC102:CV102>0,CC102:CV102),{1,2,3,4,5,6,7,8})),CU103)","v":24.413358778625952},{"$f":"IF(CW102>0,AVERAGE(SMALL(IF(CD102:CW102>0,CD102:CW102),{1,2,3,4,5,6,7,8})),CV103)","v":24.413358778625952}]
[null,null,null,null,null,null,null,null,"Low Hcap",null,null,null,null,null,null,null,null,null,null,null,null,null,null,null,null,null,null,null,{"$f":"MIN($J103:AC103)","v":22},{"$f":"MIN($J103:AD103)","v":22},{"$f":"MIN($J103:AE103)","v":22},{"$f":"MIN($J103:AF103)","v":22},{"$f":"MIN($J103:AG103)","v":22},{"$f":"MIN($J103:AH103)","v":22},{"$f":"MIN($J103:AI103)","v":22},{"$f":"MIN($J103:AJ103)","v":22},{"$f":"MIN($J103:AK103)","v":22},{"$f":"MIN($J103:AL103)","v":22},{"$f":"MIN($J103:AM103)","v":22},{"$f":"MIN($J103:AN103)","v":22},{"$f":"MIN($J103:AO103)","v":22},{"$f":"MIN($J103:AP103)","v":22},{"$f":"MIN($J103:AQ103)","v":22},{"$f":"MIN($J103:AR103)","v":22},{"$f":"MIN($J103:AS103)","v":22},{"$f":"MIN($J103:AT103)","v":22},{"$f":"MIN($J103:AU103)","v":22},{"$f":"MIN($J103:AV103)","v":22},{"$f":"MIN($J103:AW103)","v":22},{"$f":"MIN($J103:AX103)","v":22},{"$f":"MIN($J103:AY103)","v":22},{"$f":"MIN($J103:AZ103)","v":22},{"$f":"MIN($J103:BA103)","v":22},{"$f":"MIN($J103:BB103)","v":22},{"$f":"MIN($J103:BC103)","v":22},{"$f":"MIN($J103:BD103)","v":22},{"$f":"MIN($J103:BE103)","v":22},{"$f":"MIN($J103:BF103)","v":22},{"$f":"MIN($J103:BG103)","v":22},{"$f":"MIN($J103:BH103)","v":22},{"$f":"MIN($J103:BI103)","v":22},{"$f":"MIN($J103:BJ103)","v":22},{"$f":"MIN($J103:BK103)","v":22},{"$f":"MIN($J103:BL103)","v":22},{"$f":"MIN($J103:BM103)","v":22},{"$f":"MIN($J103:BN103)","v":22},{"$f":"MIN($J103:BO103)","v":22},{"$f":"MIN($J103:BP103)","v":22},{"$f":"MIN($J103:BQ103)","v":22},{"$f":"MIN($J103:BR103)","v":22},{"$f":"MIN($J103:BS103)","v":22},{"$f":"MIN($J103:BT103)","v":22},{"$f":"MIN($J103:BU103)","v":22},{"$f":"MIN($J103:BV103)","v":22},{"$f":"MIN($J103:BW103)","v":22},{"$f":"MIN($J103:BX103)","v":22},{"$f":"MIN($J103:BY103)","v":22},{"$f":"MIN($J103:BZ103)","v":22},{"$f":"MIN($J103:CA103)","v":22},{"$f":"MIN($J103:CB103)","v":22},{"$f":"MIN($J103:CC103)","v":22},{"$f":"MIN($J103:CD103)","v":22},{"$f":"MIN($J103:CE103)","v":22},{"$f":"MIN($J103:CF103)","v":22},{"$f":"MIN($J103:CG103)","v":22},{"$f":"MIN($J103:CH103)","v":22},{"$f":"MIN($J103:CI103)","v":22},{"$f":"MIN($J103:CJ103)","v":22},{"$f":"MIN($J103:CK103)","v":22},{"$f":"MIN($J103:CL103)","v":22},{"$f":"MIN($J103:CM103)","v":22},{"$f":"MIN($J103:CN103)","v":22},{"$f":"MIN($J103:CO103)","v":22},{"$f":"MIN($J103:CP103)","v":22},{"$f":"MIN($J103:CQ103)","v":22},{"$f":"MIN($J103:CR103)","v":22},{"$f":"MIN($J103:CS103)","v":22},{"$f":"MIN($J103:CT103)","v":22},{"$f":"MIN($J103:CU103)","v":22},{"$f":"MIN($J103:CV103)","v":22},{"$f":"MIN($J103:CW103)","v":22}]
[null,"Cox","Patrick",36,"Y",{"$f":"IF(H105<4,\"Y\",)","v":0},null,{"$f":"COUNT(J105:CX105)","v":24},"Date",null,"2020-06-05","2020-06-19","2020-07-31","2020-11-01","2021-03-28","2021-04-11","2021-04-25","2021-05-14","2021-05-23","2021-05-30","2021-06-04","2021-07-02","2021-07-16","2021-07-25","2021-08-08","2021-08-22","2021-09-19","2021-10-22","2021-11-14","2021-11-19","2022-05-01","2023-05-07","2023-05-19","2023-06-04",null,null,null,null,null,null,null,null,null,null,null,null,null,null,null,null,null,null,null,null,null,null,null,null,null,null,null,null,null,null,null,null,null,null,null,null,null,null,null,null,null,null,null,null,null,null,null,null,null,null,null,null,null,null,null,null,null,null,null,null,null,null,null,null,null,null,null,null,{"$f":"IF(CW109>$DD$1,36,CW109)","v":33.850039885188707},33.463334857932495,{"$f":"CZ105-CY105","v":-0.38670502725621247}]
[null,null,null,null,null,null,null,null,"Course",null,"ErdingHG","StEurachHG","StEurachHG","ErdingHG","OdelzhausenHG","ErdingHR","PfaffingHG","StEurachHG","OdelzhausenHG","IffeldorfHG","EgmatingHG","TegernbachHG","MaxlrainHG","OdelzhausenHR","IffeldorfHG","PfaffingHB","ErdingHG","TegernbachHG","OdelzhausenHG","TegernbachHG","ErdingHG","Odelzhausen2023HG","GarmischHG","IffeldorfHG"]
[null,null,null,null,null,null,null,null,"Ad Gr",null,116,123,124,109,117,106,115,112,129,116,125,108,102,101,116,115,116,119,124,117,115,121,112,120]
[null,null,null,null,null,null,null,null,"SD",36,{"$f":"IF(K107=\"\",0,(K107-INDIRECT(CONCATENATE(K106,\"CR\")))*113/INDIRECT(CONCATENATE(K106,\"SR\")))","v":39.115384615384613},44.078625954198465,44.941221374045796,33.030769230769231,40.217322834645671,37.128571428571419,37.376923076923077,34.59007633587786,50.894488188976382,39.243410852713176,45.458778625954203,31.074999999999996,24.178676470588229,32.08050847457627,39.243410852713176,38.932031249999994,39.115384615384613,40.491666666666667,46.445669291338582,38.779545454545449,38.246153846153845,45.017741935483876,36.124409448818895,42.747286821705423,0,0,0,0,0,0,0,0,0,0,0,0,0,0,0,0,0,0,0,0,0,0,0,0,0,0,0,0,0,0,0,0,0,0,0,0,0,0,0,0,{"$f":"IF(BW107=\"\",0,(BW107-INDIRECT(CONCATENATE(BW106,\"CR\")))*113/INDIRECT(CONCATENATE(BW106,\"SR\")))","v":0},0,0,0,0,0,0,0,0,0,0,0,0,0,0,0,{"$f":"IF(CM107=\"\",0,(CM107-INDIRECT(CONCATENATE(CM106,\"CR\")))*113/INDIRECT(CONCATENATE(CM106,\"SR\")))","v":0},0,{"$f":"IF(CO107=\"\",0,(CO107-INDIRECT(CONCATENATE(CO106,\"CR\")))*113/INDIRECT(CONCATENATE(CO106,\"SR\")))","v":0},0,{"$f":"IF(CQ107=\"\",0,(CQ107-INDIRECT(CONCATENATE(CQ106,\"CR\")))*113/INDIRECT(CONCATENATE(CQ106,\"SR\")))","v":0},0,{"$f":"IF(CS107=\"\",0,(CS107-INDIRECT(CONCATENATE(CS106,\"CR\")))*113/INDIRECT(CONCATENATE(CS106,\"SR\")))","v":0},0,{"$f":"IF(CU107=\"\",0,(CU107-INDIRECT(CONCATENATE(CU106,\"CR\")))*113/INDIRECT(CONCATENATE(CU106,\"SR\")))","v":0},0,{"$f":"IF(CW107=\"\",0,(CW107-INDIRECT(CONCATENATE(CW106,\"CR\")))*113/INDIRECT(CONCATENATE(CW106,\"SR\")))","v":0}]
[null,null,null,null,null,null,null,null,"New Hcap",{"$f":"J108-2","v":34},{"$f":"IF(K108>0,MIN(J108:K108)-2,J109)","v":34},{"$f":"IF(L108>0,MIN(J108:L108)-2,K109)","v":34},{"$f":"IF(M108>0,MIN(J108:M108)-1,L109)","v":35},{"$f":"IF(N108>0,MIN(J108:N108),M109)","v":33.030769230769231},{"$f":"IF(O108>0,AVERAGE(SMALL(IF(J108:O108>0,J108:O108),{1,2}))-1,N109)","v":33.515384615384619},{"$f":"IF(P108>0,AVERAGE(SMALL(IF(J108:P108>0,J108:P108),{1,2})),O109)","v":34.515384615384619},{"$f":"IF(Q108>0,AVERAGE(SMALL(IF(J108:Q108>0,J108:Q108),{1,2})),P109)","v":34.515384615384619},{"$f":"IF(R108>0,AVERAGE(SMALL(IF(J108:R108>0,J108:R108),{1,2,3})),Q109)","v":34.540281855549033},{"$f":"IF(S108>0,AVERAGE(SMALL(IF(J108:S108>0,J108:S108),{1,2,3})),R109)","v":34.540281855549033},{"$f":"IF(T108>0,AVERAGE(SMALL(IF(J108:T108>0,J108:T108),{1,2,3})),S109)","v":34.540281855549033},{"$f":"IF(U108>0,AVERAGE(SMALL(IF(J108:U108>0,J108:U108),{1,2,3,4})),T109)","v":35.187354248804624},{"$f":"IF(V108>0,AVERAGE(SMALL(IF(J108:V108>0,J108:V108),{1,2,3,4})),U109)","v":33.67396139166177},{"$f":"IF(W108>0,AVERAGE(SMALL(IF(J108:W108>0,J108:W108),{1,2,3,4})),V109)","v":30.718630509308831},{"$f":"IF(X108>0,AVERAGE(SMALL(IF(J108:X108>0,J108:X108),{1,2,3,4,5})),W109)","v":30.991006102362313},{"$f":"IF(Y108>0,AVERAGE(SMALL(IF(J108:Y108>0,J108:Y108),{1,2,3,4,5})),X109)","v":30.991006102362313},{"$f":"IF(Z108>0,AVERAGE(SMALL(IF(J108:Z108>0,J108:Z108),{1,2,3,4,5,6})),Y109)","v":31.825838418635261},{"$f":"IF(AA108>0,AVERAGE(SMALL(IF(J108:AA108>0,J108:AA108),{1,2,3,4,5,6})),Z109)","v":31.825838418635261},{"$f":"IF(AB108>0,AVERAGE(SMALL(IF(J108:AB108>0,J108:AB108),{1,2,3,4,5,6,7})),AA109)","v":32.583371705769004},{"$f":"IF(AC108>0,AVERAGE(SMALL(IF(J108:AC108>0,J108:AC108),{1,2,3,4,5,6,7,8})),AB109)","v":33.182565627163257},{"$f":"IF(AD108>0,AVERAGE(SMALL(IF(K108:AD108>0,K108:AD108),{1,2,3,4,5,6,7,8})),AC109)","v":33.530008808981442},{"$f":"IF(AE108>0,AVERAGE(SMALL(IF(L108:AE108>0,L108:AE108),{1,2,3,4,5,6,7,8})),AD109)","v":33.463334857932495},{"$f":"IF(AF108>0,AVERAGE(SMALL(IF(M108:AF108>0,M108:AF108),{1,2,3,4,5,6,7,8})),AE109)","v":33.463334857932495},{"$f":"IF(AG108>0,AVERAGE(SMALL(IF(N108:AG108>0,N108:AG108),{1,2,3,4,5,6,7,8})),AF109)","v":33.198116808265624},{"$f":"IF(AH108>0,AVERAGE(SMALL(IF(O108:AH108>0,O108:AH108),{1,2,3,4,5,6,7,8})),AG109)","v":33.850039885188707},{"$f":"IF(AI108>0,AVERAGE(SMALL(IF(P108:AI108>0,P108:AI108),{1,2,3,4,5,6,7,8})),AH109)","v":33.850039885188707},{"$f":"IF(AJ108>0,AVERAGE(SMALL(IF(Q108:AJ108>0,Q108:AJ108),{1,2,3,4,5,6,7,8})),AI109)","v":33.850039885188707},{"$f":"IF(AK108>0,AVERAGE(SMALL(IF(R108:AK108>0,R108:AK108),{1,2,3,4,5,6,7,8})),AJ109)","v":33.850039885188707},{"$f":"IF(AL108>0,AVERAGE(SMALL(IF(S108:AL108>0,S108:AL108),{1,2,3,4,5,6,7,8})),AK109)","v":33.850039885188707},{"$f":"IF(AM108>0,AVERAGE(SMALL(IF(T108:AM108>0,T108:AM108),{1,2,3,4,5,6,7,8})),AL109)","v":33.850039885188707},{"$f":"IF(AN108>0,AVERAGE(SMALL(IF(U108:AN108>0,U108:AN108),{1,2,3,4,5,6,7,8})),AM109)","v":33.850039885188707},{"$f":"IF(AO108>0,AVERAGE(SMALL(IF(V108:AO108>0,V108:AO108),{1,2,3,4,5,6,7,8})),AN109)","v":33.850039885188707},{"$f":"IF(AP108>0,AVERAGE(SMALL(IF(W108:AP108>0,W108:AP108),{1,2,3,4,5,6,7,8})),AO109)","v":33.850039885188707},{"$f":"IF(AQ108>0,AVERAGE(SMALL(IF(X108:AQ108>0,X108:AQ108),{1,2,3,4,5,6,7,8})),AP109)","v":33.850039885188707},{"$f":"IF(AR108>0,AVERAGE(SMALL(IF(Y108:AR108>0,Y108:AR108),{1,2,3,4,5,6,7,8})),AQ109)","v":33.850039885188707},{"$f":"IF(AS108>0,AVERAGE(SMALL(IF(Z108:AS108>0,Z108:AS108),{1,2,3,4,5,6,7,8})),AR109)","v":33.850039885188707},{"$f":"IF(AT108>0,AVERAGE(SMALL(IF(AA108:AT108>0,AA108:AT108),{1,2,3,4,5,6,7,8})),AS109)","v":33.850039885188707},{"$f":"IF(AU108>0,AVERAGE(SMALL(IF(AB108:AU108>0,AB108:AU108),{1,2,3,4,5,6,7,8})),AT109)","v":33.850039885188707},{"$f":"IF(AV108>0,AVERAGE(SMALL(IF(AC108:AV108>0,AC108:AV108),{1,2,3,4,5,6,7,8})),AU109)","v":33.850039885188707},{"$f":"IF(AW108>0,AVERAGE(SMALL(IF(AD108:AW108>0,AD108:AW108),{1,2,3,4,5,6,7,8})),AV109)","v":33.850039885188707},{"$f":"IF(AX108>0,AVERAGE(SMALL(IF(AE108:AX108>0,AE108:AX108),{1,2,3,4,5,6,7,8})),AW109)","v":33.850039885188707},{"$f":"IF(AY108>0,AVERAGE(SMALL(IF(AF108:AY108>0,AF108:AY108),{1,2,3,4,5,6,7,8})),AX109)","v":33.850039885188707},{"$f":"IF(AZ108>0,AVERAGE(SMALL(IF(AG108:AZ108>0,AG108:AZ108),{1,2,3,4,5,6,7,8})),AY109)","v":33.850039885188707},{"$f":"IF(BA108>0,AVERAGE(SMALL(IF(AH108:BA108>0,AH108:BA108),{1,2,3,4,5,6,7,8})),AZ109)","v":33.850039885188707},{"$f":"IF(BB108>0,AVERAGE(SMALL(IF(AI108:BB108>0,AI108:BB108),{1,2,3,4,5,6,7,8})),BA109)","v":33.850039885188707},{"$f":"IF(BC108>0,AVERAGE(SMALL(IF(AJ108:BC108>0,AJ108:BC108),{1,2,3,4,5,6,7,8})),BB109)","v":33.850039885188707},{"$f":"IF(BD108>0,AVERAGE(SMALL(IF(AK108:BD108>0,AK108:BD108),{1,2,3,4,5,6,7,8})),BC109)","v":33.850039885188707},{"$f":"IF(BE108>0,AVERAGE(SMALL(IF(AL108:BE108>0,AL108:BE108),{1,2,3,4,5,6,7,8})),BD109)","v":33.850039885188707},{"$f":"IF(BF108>0,AVERAGE(SMALL(IF(AM108:BF108>0,AM108:BF108),{1,2,3,4,5,6,7,8})),BE109)","v":33.850039885188707},{"$f":"IF(BG108>0,AVERAGE(SMALL(IF(AN108:BG108>0,AN108:BG108),{1,2,3,4,5,6,7,8})),BF109)","v":33.850039885188707},{"$f":"IF(BH108>0,AVERAGE(SMALL(IF(AO108:BH108>0,AO108:BH108),{1,2,3,4,5,6,7,8})),BG109)","v":33.850039885188707},{"$f":"IF(BI108>0,AVERAGE(SMALL(IF(AP108:BI108>0,AP108:BI108),{1,2,3,4,5,6,7,8})),BH109)","v":33.850039885188707},{"$f":"IF(BJ108>0,AVERAGE(SMALL(IF(AQ108:BJ108>0,AQ108:BJ108),{1,2,3,4,5,6,7,8})),BI109)","v":33.850039885188707},{"$f":"IF(BK108>0,AVERAGE(SMALL(IF(AR108:BK108>0,AR108:BK108),{1,2,3,4,5,6,7,8})),BJ109)","v":33.850039885188707},{"$f":"IF(BL108>0,AVERAGE(SMALL(IF(AS108:BL108>0,AS108:BL108),{1,2,3,4,5,6,7,8})),BK109)","v":33.850039885188707},{"$f":"IF(BM108>0,AVERAGE(SMALL(IF(AT108:BM108>0,AT108:BM108),{1,2,3,4,5,6,7,8})),BL109)","v":33.850039885188707},{"$f":"IF(BN108>0,AVERAGE(SMALL(IF(AU108:BN108>0,AU108:BN108),{1,2,3,4,5,6,7,8})),BM109)","v":33.850039885188707},{"$f":"IF(BO108>0,AVERAGE(SMALL(IF(AV108:BO108>0,AV108:BO108),{1,2,3,4,5,6,7,8})),BN109)","v":33.850039885188707},{"$f":"IF(BP108>0,AVERAGE(SMALL(IF(AW108:BP108>0,AW108:BP108),{1,2,3,4,5,6,7,8})),BO109)","v":33.850039885188707},{"$f":"IF(BQ108>0,AVERAGE(SMALL(IF(AX108:BQ108>0,AX108:BQ108),{1,2,3,4,5,6,7,8})),BP109)","v":33.850039885188707},{"$f":"IF(BR108>0,AVERAGE(SMALL(IF(AY108:BR108>0,AY108:BR108),{1,2,3,4,5,6,7,8})),BQ109)","v":33.850039885188707},{"$f":"IF(BS108>0,AVERAGE(SMALL(IF(AZ108:BS108>0,AZ108:BS108),{1,2,3,4,5,6,7,8})),BR109)","v":33.850039885188707},{"$f":"IF(BT108>0,AVERAGE(SMALL(IF(BA108:BT108>0,BA108:BT108),{1,2,3,4,5,6,7,8})),BS109)","v":33.850039885188707},{"$f":"IF(BU108>0,AVERAGE(SMALL(IF(BB108:BU108>0,BB108:BU108),{1,2,3,4,5,6,7,8})),BT109)","v":33.850039885188707},{"$f":"IF(BV108>0,AVERAGE(SMALL(IF(BC108:BV108>0,BC108:BV108),{1,2,3,4,5,6,7,8})),BU109)","v":33.850039885188707},{"$f":"IF(BW108>0,AVERAGE(SMALL(IF(BD108:BW108>0,BD108:BW108),{1,2,3,4,5,6,7,8})),BV109)","v":33.850039885188707},{"$f":"IF(BX108>0,AVERAGE(SMALL(IF(BE108:BX108>0,BE108:BX108),{1,2,3,4,5,6,7,8})),BW109)","v":33.850039885188707},{"$f":"IF(BY108>0,AVERAGE(SMALL(IF(BF108:BY108>0,BF108:BY108),{1,2,3,4,5,6,7,8})),BX109)","v":33.850039885188707},{"$f":"IF(BZ108>0,AVERAGE(SMALL(IF(BG108:BZ108>0,BG108:BZ108),{1,2,3,4,5,6,7,8})),BY109)","v":33.850039885188707},{"$f":"IF(CA108>0,AVERAGE(SMALL(IF(BH108:CA108>0,BH108:CA108),{1,2,3,4,5,6,7,8})),BZ109)","v":33.850039885188707},{"$f":"IF(CB108>0,AVERAGE(SMALL(IF(BI108:CB108>0,BI108:CB108),{1,2,3,4,5,6,7,8})),CA109)","v":33.850039885188707},{"$f":"IF(CC108>0,AVERAGE(SMALL(IF(BJ108:CC108>0,BJ108:CC108),{1,2,3,4,5,6,7,8})),CB109)","v":33.850039885188707},{"$f":"IF(CD108>0,AVERAGE(SMALL(IF(BK108:CD108>0,BK108:CD108),{1,2,3,4,5,6,7,8})),CC109)","v":33.850039885188707},{"$f":"IF(CE108>0,AVERAGE(SMALL(IF(BL108:CE108>0,BL108:CE108),{1,2,3,4,5,6,7,8})),CD109)","v":33.850039885188707},{"$f":"IF(CF108>0,AVERAGE(SMALL(IF(BM108:CF108>0,BM108:CF108),{1,2,3,4,5,6,7,8})),CE109)","v":33.850039885188707},{"$f":"IF(CG108>0,AVERAGE(SMALL(IF(BN108:CG108>0,BN108:CG108),{1,2,3,4,5,6,7,8})),CF109)","v":33.850039885188707},{"$f":"IF(CH108>0,AVERAGE(SMALL(IF(BO108:CH108>0,BO108:CH108),{1,2,3,4,5,6,7,8})),CG109)","v":33.850039885188707},{"$f":"IF(CI108>0,AVERAGE(SMALL(IF(BP108:CI108>0,BP108:CI108),{1,2,3,4,5,6,7,8})),CH109)","v":33.850039885188707},{"$f":"IF(CJ108>0,AVERAGE(SMALL(IF(BQ108:CJ108>0,BQ108:CJ108),{1,2,3,4,5,6,7,8})),CI109)","v":33.850039885188707},{"$f":"IF(CK108>0,AVERAGE(SMALL(IF(BR108:CK108>0,BR108:CK108),{1,2,3,4,5,6,7,8})),CJ109)","v":33.850039885188707},{"$f":"IF(CL108>0,AVERAGE(SMALL(IF(BS108:CL108>0,BS108:CL108),{1,2,3,4,5,6,7,8})),CK109)","v":33.850039885188707},{"$f":"IF(CM108>0,AVERAGE(SMALL(IF(BT108:CM108>0,BT108:CM108),{1,2,3,4,5,6,7,8})),CL109)","v":33.850039885188707},{"$f":"IF(CN108>0,AVERAGE(SMALL(IF(BU108:CN108>0,BU108:CN108),{1,2,3,4,5,6,7,8})),CM109)","v":33.850039885188707},{"$f":"IF(CO108>0,AVERAGE(SMALL(IF(BV108:CO108>0,BV108:CO108),{1,2,3,4,5,6,7,8})),CN109)","v":33.850039885188707},{"$f":"IF(CP108>0,AVERAGE(SMALL(IF(BW108:CP108>0,BW108:CP108),{1,2,3,4,5,6,7,8})),CO109)","v":33.850039885188707},{"$f":"IF(CQ108>0,AVERAGE(SMALL(IF(BX108:CQ108>0,BX108:CQ108),{1,2,3,4,5,6,7,8})),CP109)","v":33.850039885188707},{"$f":"IF(CR108>0,AVERAGE(SMALL(IF(BY108:CR108>0,BY108:CR108),{1,2,3,4,5,6,7,8})),CQ109)","v":33.850039885188707},{"$f":"IF(CS108>0,AVERAGE(SMALL(IF(BZ108:CS108>0,BZ108:CS108),{1,2,3,4,5,6,7,8})),CR109)","v":33.850039885188707},{"$f":"IF(CT108>0,AVERAGE(SMALL(IF(CA108:CT108>0,CA108:CT108),{1,2,3,4,5,6,7,8})),CS109)","v":33.850039885188707},{"$f":"IF(CU108>0,AVERAGE(SMALL(IF(CB108:CU108>0,CB108:CU108),{1,2,3,4,5,6,7,8})),CT109)","v":33.850039885188707},{"$f":"IF(CV108>0,AVERAGE(SMALL(IF(CC108:CV108>0,CC108:CV108),{1,2,3,4,5,6,7,8})),CU109)","v":33.850039885188707},{"$f":"IF(CW108>0,AVERAGE(SMALL(IF(CD108:CW108>0,CD108:CW108),{1,2,3,4,5,6,7,8})),CV109)","v":33.850039885188707}]
[null,null,null,null,null,null,null,null,"Low Hcap",null,null,null,null,null,null,null,null,null,null,null,null,null,null,null,null,null,null,null,{"$f":"MIN($O109:AC109)","v":30.718630509308831},{"$f":"MIN($O109:AD109)","v":30.718630509308831},{"$f":"MIN($R109:AE109)","v":30.718630509308831},{"$f":"MIN($T109:AF109)","v":30.718630509308831},{"$f":"MIN($AF109:AG109)","v":33.198116808265624},{"$f":"MIN($AF109:AH109)","v":33.198116808265624},{"$f":"MIN($AF109:AI109)","v":33.198116808265624},{"$f":"MIN($AF109:AJ109)","v":33.198116808265624},{"$f":"MIN($AF109:AK109)","v":33.198116808265624},{"$f":"MIN($AF109:AL109)","v":33.198116808265624},{"$f":"MIN($AF109:AM109)","v":33.198116808265624},{"$f":"MIN($AF109:AN109)","v":33.198116808265624},{"$f":"MIN($AF109:AO109)","v":33.198116808265624},{"$f":"MIN($AF109:AP109)","v":33.198116808265624},{"$f":"MIN($AF109:AQ109)","v":33.198116808265624},{"$f":"MIN($AF109:AR109)","v":33.198116808265624},{"$f":"MIN($AF109:AS109)","v":33.198116808265624},{"$f":"MIN($AF109:AT109)","v":33.198116808265624},{"$f":"MIN($AF109:AU109)","v":33.198116808265624},{"$f":"MIN($AF109:AV109)","v":33.198116808265624},{"$f":"MIN($AF109:AW109)","v":33.198116808265624},{"$f":"MIN($AF109:AX109)","v":33.198116808265624},{"$f":"MIN($AF109:AY109)","v":33.198116808265624},{"$f":"MIN($AF109:AZ109)","v":33.198116808265624},{"$f":"MIN($AF109:BA109)","v":33.198116808265624},{"$f":"MIN($AF109:BB109)","v":33.198116808265624},{"$f":"MIN($AF109:BC109)","v":33.198116808265624},{"$f":"MIN($AF109:BD109)","v":33.198116808265624},{"$f":"MIN($AF109:BE109)","v":33.198116808265624},{"$f":"MIN($AF109:BF109)","v":33.198116808265624},{"$f":"MIN($AF109:BG109)","v":33.198116808265624},{"$f":"MIN($AF109:BH109)","v":33.198116808265624},{"$f":"MIN($AF109:BI109)","v":33.198116808265624},{"$f":"MIN($AF109:BJ109)","v":33.198116808265624},{"$f":"MIN($AF109:BK109)","v":33.198116808265624},{"$f":"MIN($AF109:BL109)","v":33.198116808265624},{"$f":"MIN($AF109:BM109)","v":33.198116808265624},{"$f":"MIN($AF109:BN109)","v":33.198116808265624},{"$f":"MIN($AF109:BO109)","v":33.198116808265624},{"$f":"MIN($AF109:BP109)","v":33.198116808265624},{"$f":"MIN($AF109:BQ109)","v":33.198116808265624},{"$f":"MIN($AF109:BR109)","v":33.198116808265624},{"$f":"MIN($AF109:BS109)","v":33.198116808265624},{"$f":"MIN($AF109:BT109)","v":33.198116808265624},{"$f":"MIN($AF109:BU109)","v":33.198116808265624},{"$f":"MIN($AF109:BV109)","v":33.198116808265624},{"$f":"MIN($AF109:BW109)","v":33.198116808265624},{"$f":"MIN($AF109:BX109)","v":33.198116808265624},{"$f":"MIN($AF109:BY109)","v":33.198116808265624},{"$f":"MIN($AF109:BZ109)","v":33.198116808265624},{"$f":"MIN($AF109:CA109)","v":33.198116808265624},{"$f":"MIN($AF109:CB109)","v":33.198116808265624},{"$f":"MIN($AF109:CC109)","v":33.198116808265624},{"$f":"MIN($AF109:CD109)","v":33.198116808265624},{"$f":"MIN($AF109:CE109)","v":33.198116808265624},{"$f":"MIN($AF109:CF109)","v":33.198116808265624},{"$f":"MIN($AF109:CG109)","v":33.198116808265624},{"$f":"MIN($AF109:CH109)","v":33.198116808265624},{"$f":"MIN($AF109:CI109)","v":33.198116808265624},{"$f":"MIN($AF109:CJ109)","v":33.198116808265624},{"$f":"MIN($AF109:CK109)","v":33.198116808265624},{"$f":"MIN($AF109:CL109)","v":33.198116808265624},{"$f":"MIN($AF109:CM109)","v":33.198116808265624},{"$f":"MIN($AF109:CN109)","v":33.198116808265624},{"$f":"MIN($AF109:CO109)","v":33.198116808265624},{"$f":"MIN($AF109:CP109)","v":33.198116808265624},{"$f":"MIN($AF109:CQ109)","v":33.198116808265624},{"$f":"MIN($AF109:CR109)","v":33.198116808265624},{"$f":"MIN($AF109:CS109)","v":33.198116808265624},{"$f":"MIN($AF109:CT109)","v":33.198116808265624},{"$f":"MIN($AF109:CU109)","v":33.198116808265624},{"$f":"MIN($AF109:CV109)","v":33.198116808265624},{"$f":"MIN($AF109:CW109)","v":33.198116808265624}]
[null,"Craig","John",21.7,null,{"$f":"IF(H111<4,\"Y\",)","v":0},null,{"$f":"COUNT(J111:CX111)","v":73},"Date","2018-05-13","2018-06-24","2018-08-19","2018-10-21","2019-05-26","2019-08-18","2019-09-08","2019-11-24","2020-05-24","2020-05-31","2020-06-10","2020-06-14","2020-07-26","2020-07-31","2020-08-26","2020-09-06","2020-09-12","2020-10-21","2020-11-01","2020-11-15","2021-03-28","2021-04-11","2021-04-16","2021-04-25","2021-04-30","2021-05-09","2021-05-14","2021-05-30","2021-06-04","2021-06-13","2021-06-23","2021-07-02","2021-07-21","2021-08-08","2021-09-03","2021-09-08","2021-09-19","2021-10-06","2021-10-22","2021-10-31","2021-11-14","2021-11-19","2022-03-27","2022-05-06","2022-05-11","2022-05-15","2022-05-20","2022-06-25","2022-07-03","2022-07-10","2022-07-15","2022-07-20","2022-08-17","2022-08-26","2022-09-07","2022-09-14","2022-10-07","2022-10-12","2022-10-21","2022-11-04","2022-11-09","2022-11-13","2022-11-18","2023-03-26","2023-04-14","2023-04-26","2023-05-07","2023-05-10","2023-05-18","2023-05-19","2023-05-20","2023-05-20","2023-06-09",null,null,null,null,null,null,null,null,null,null,null,null,null,null,null,null,null,null,null,null,{"$f":"IF(CW115>$DD$1,36,CW115)","v":17.029196493470689},19.61037296037296,{"$f":"CZ111-CY111","v":2.5811764669022708}]
[null,null,null,null,null,null,null,null,"Course","PfaffingHG","ErdingHG","PfaffingHG","PfaffingHG","TegernbachHG","PfaffingHG","OdelzhausenHG","PfaffingHG","PfaffingHG","ErdingHG","GutThailingHG","OdelzhausenHG","OdelzhausenHG","StEurachHG","GutThailingHG","OdelzhausenHG","TegernbachHG","GutThailingHG","ErdingHG","OdelzhausenHG","OdelzhausenHG","ErdingHR","TegernbachHG","PfaffingHG","TegernbachHG","ErdingHG","StEurachHG","IffeldorfHG","EgmatingHG","PfaffingHG","GutThailingHG","TegernbachHG","GutThailingHG","IffeldorfHG","StEurachHG","GutThailingHG","ErdingHG","GutThailingHG","TegernbachHG","ErdingHG","OdelzhausenHG","TegernbachHG","OdelzhausenHG","TegernbachHG","AschheimHG","OdelzhausenHG","GutHaeusenHG","AlgaeuerHG","Pfaffing2022HG","IffeldorfHG","MaxlrainHG","AschheimHG","GutThailing2022HG","EschenhofHG","AschheimHG","GutThailing2022HG","EgmatingHG","GutThailing2022HG","TegernbachHG","ReichertshausenHG","GutThailing2022HG","ErdingHG","TegernbachHG","Pfaffing2023HG","TegernbachHG","GutThailing2022HG","Odelzhausen2023HG","AschheimHG","Troon","Prestwick","Turnberry RtB","Turnberry Ailsa","TegernbachHG"]
[null,null,null,null,null,null,null,null,"Ad Gr",113,109,102,106,103,111,108,102,99,96,111,101,98,99,107,102,111,96,96,101,99,88,98,99,101,103,110,109,104,109,97,113,107,103,99,109,94,96,101,100,108,95,109,100,115,102,105,106,92,102,103,102,93,106,90,91,106,97,89,98,103,104,104,94,97,101,95,104,null,null,null,null,101]
[null,null,null,null,null,null,null,null,"SD",{"$f":"IF(J113=\"\",0,(J113-INDIRECT(CONCATENATE(J112,\"CR\")))*113/INDIRECT(CONCATENATE(J112,\"SR\")))","v":35.638461538461542},{"$f":"IF(K113=\"\",0,(K113-INDIRECT(CONCATENATE(K112,\"CR\")))*113/INDIRECT(CONCATENATE(K112,\"SR\")))","v":33.030769230769231},26.076923076923077,29.553846153846155,26.794696969696968,33.9,32.209448818897641,26.076923076923077,23.469230769230769,21.73076923076923,34.935114503816791,25.981102362204727,23.311811023622049,23.376335877862591,31.484732824427482,26.870866141732286,33.643181818181816,21.996183206106871,21.73076923076923,25.981102362204727,24.201574803149608,20.036134453781507,22.514393939393937,23.469230769230769,25.082575757575754,27.815384615384616,32.864885496183199,33.111627906976743,27.344274809160307,32.161538461538463,22.858778625954198,35.355303030303027,31.484732824427482,27.855813953488369,23.376335877862591,33.209923664122137,19.992307692307691,21.996183206106871,25.082575757575754,25.207692307692309,32.209448818897641,19.946212121212117,33.099212598425197,24.226515151515148,37.409848484848489,26.870866141732286,29.540157480314964,28.983206106870224,16.776153846153843,26.979844961240307,25.009558823529407,26.28106060606061,19.470769230769235,29.277272727272731,16.008333333333336,17.7323076923077,29.069465648854965,22.947692307692314,14.809848484848482,24.483333333333331,28.163076923076929,28.684615384615384,27.650757575757574,17.828888888888887,21.658333333333331,{"$f":"IF(BW113=\"\",0,(BW113-INDIRECT(CONCATENATE(BW112,\"CR\")))*113/INDIRECT(CONCATENATE(BW112,\"SR\")))","v":26.42461538461539},21.324193548387104,27.993181818181821,17.03,13.98,17.52,24.91,25.082575757575754,0,0,0,0,0,0,0,0,{"$f":"IF(CM113=\"\",0,(CM113-INDIRECT(CONCATENATE(CM112,\"CR\")))*113/INDIRECT(CONCATENATE(CM112,\"SR\")))","v":0},0,{"$f":"IF(CO113=\"\",0,(CO113-INDIRECT(CONCATENATE(CO112,\"CR\")))*113/INDIRECT(CONCATENATE(CO112,\"SR\")))","v":0},0,{"$f":"IF(CQ113=\"\",0,(CQ113-INDIRECT(CONCATENATE(CQ112,\"CR\")))*113/INDIRECT(CONCATENATE(CQ112,\"SR\")))","v":0},0,{"$f":"IF(CS113=\"\",0,(CS113-INDIRECT(CONCATENATE(CS112,\"CR\")))*113/INDIRECT(CONCATENATE(CS112,\"SR\")))","v":0},0,{"$f":"IF(CU113=\"\",0,(CU113-INDIRECT(CONCATENATE(CU112,\"CR\")))*113/INDIRECT(CONCATENATE(CU112,\"SR\")))","v":0},0,{"$f":"IF(CW113=\"\",0,(CW113-INDIRECT(CONCATENATE(CW112,\"CR\")))*113/INDIRECT(CONCATENATE(CW112,\"SR\")))","v":0}]
[null,null,null,null,null,null,null,null,"New Hcap",{"$f":"J114-2","v":33.638461538461542},{"$f":"IF(K114>0,MIN(J114:K114)-2,J115)","v":31.030769230769231},{"$f":"IF(L114>0,MIN(J114:L114)-2,K115)","v":24.076923076923077},{"$f":"IF(M114>0,MIN(J114:M114)-1,L115)","v":25.076923076923077},{"$f":"IF(N114>0,MIN(J114:N114),M115)","v":26.076923076923077},{"$f":"IF(O114>0,AVERAGE(SMALL(IF(J114:O114>0,J114:O114),{1,2}))-1,N115)","v":25.435810023310022},{"$f":"IF(P114>0,AVERAGE(SMALL(IF(J114:P114>0,J114:P114),{1,2})),O115)","v":26.435810023310022},{"$f":"IF(Q114>0,AVERAGE(SMALL(IF(J114:Q114>0,J114:Q114),{1,2})),P115)","v":26.076923076923077},{"$f":"IF(R114>0,AVERAGE(SMALL(IF(J114:R114>0,J114:R114),{1,2,3})),Q115)","v":25.207692307692309},{"$f":"IF(S114>0,AVERAGE(SMALL(IF(J114:S114>0,J114:S114),{1,2,3})),R115)","v":23.75897435897436},{"$f":"IF(T114>0,AVERAGE(SMALL(IF(J114:T114>0,J114:T114),{1,2,3})),S115)","v":23.75897435897436},{"$f":"IF(U114>0,AVERAGE(SMALL(IF(J114:U114>0,J114:U114),{1,2,3,4})),T115)","v":24.314506359781952},{"$f":"IF(V114>0,AVERAGE(SMALL(IF(J114:V114>0,J114:V114),{1,2,3,4})),U115)","v":23.623228346456692},{"$f":"IF(W114>0,AVERAGE(SMALL(IF(J114:W114>0,J114:W114),{1,2,3,4})),V115)","v":22.972036725371161},{"$f":"IF(X114>0,AVERAGE(SMALL(IF(J114:X114>0,J114:X114),{1,2,3,4,5})),W115)","v":23.573849852737872},{"$f":"IF(Y114>0,AVERAGE(SMALL(IF(J114:Y114>0,J114:Y114),{1,2,3,4,5})),X115)","v":23.573849852737872},{"$f":"IF(Z114>0,AVERAGE(SMALL(IF(J114:Z114>0,J114:Z114),{1,2,3,4,5,6})),Y115)","v":23.991028723435406},{"$f":"IF(AA114>0,AVERAGE(SMALL(IF(J114:AA114>0,J114:AA114),{1,2,3,4,5,6})),Z115)","v":23.310905411632707},{"$f":"IF(AB114>0,AVERAGE(SMALL(IF(J114:AB114>0,J114:AB114),{1,2,3,4,5,6,7})),AA115)","v":23.085171671509354},{"$f":"IF(AC114>0,AVERAGE(SMALL(IF(J114:AC114>0,J114:AC114),{1,2,3,4,5,6,7,8})),AB115)","v":23.447163007846274},{"$f":"IF(AD114>0,AVERAGE(SMALL(IF(K114:AD114>0,K114:AD114),{1,2,3,4,5,6,7,8})),AC115)","v":23.224722062964386},{"$f":"IF(AE114>0,AVERAGE(SMALL(IF(L114:AE114>0,L114:AE114),{1,2,3,4,5,6,7,8})),AD115)","v":22.481601074411483},{"$f":"IF(AF114>0,AVERAGE(SMALL(IF(M114:AF114>0,M114:AF114),{1,2,3,4,5,6,7,8})),AE115)","v":22.270703466442022},{"$f":"IF(AG114>0,AVERAGE(SMALL(IF(N114:AG114>0,N114:AG114),{1,2,3,4,5,6,7,8})),AF115)","v":22.270703466442022},{"$f":"IF(AH114>0,AVERAGE(SMALL(IF(O114:AH114>0,O114:AH114),{1,2,3,4,5,6,7,8})),AG115)","v":22.270703466442022},{"$f":"IF(AI114>0,AVERAGE(SMALL(IF(P114:AI114>0,P114:AI114),{1,2,3,4,5,6,7,8})),AH115)","v":22.270703466442022},{"$f":"IF(AJ114>0,AVERAGE(SMALL(IF(Q114:AJ114>0,Q114:AJ114),{1,2,3,4,5,6,7,8})),AI115)","v":22.270703466442022},{"$f":"IF(AK114>0,AVERAGE(SMALL(IF(R114:AK114>0,R114:AK114),{1,2,3,4,5,6,7,8})),AJ115)","v":22.270703466442022},{"$f":"IF(AL114>0,AVERAGE(SMALL(IF(S114:AL114>0,S114:AL114),{1,2,3,4,5,6,7,8})),AK115)","v":22.270703466442022},{"$f":"IF(AM114>0,AVERAGE(SMALL(IF(T114:AM114>0,T114:AM114),{1,2,3,4,5,6,7,8})),AL115)","v":22.57955416298957},{"$f":"IF(AN114>0,AVERAGE(SMALL(IF(U114:AN114>0,U114:AN114),{1,2,3,4,5,6,7,8})),AM115)","v":22.411704640840146},{"$f":"IF(AO114>0,AVERAGE(SMALL(IF(V114:AO114>0,V114:AO114),{1,2,3,4,5,6,7,8})),AN115)","v":22.411704640840146},{"$f":"IF(AP114>0,AVERAGE(SMALL(IF(W114:AP114>0,W114:AP114),{1,2,3,4,5,6,7,8})),AO115)","v":22.52292511328109},{"$f":"IF(AQ114>0,AVERAGE(SMALL(IF(X114:AQ114>0,X114:AQ114),{1,2,3,4,5,6,7,8})),AP115)","v":22.736205098245236},{"$f":"IF(AR114>0,AVERAGE(SMALL(IF(Y114:AR114>0,Y114:AR114),{1,2,3,4,5,6,7,8})),AQ115)","v":22.52292511328109},{"$f":"IF(AS114>0,AVERAGE(SMALL(IF(Z114:AS114>0,Z114:AS114),{1,2,3,4,5,6,7,8})),AR115)","v":22.52292511328109},{"$f":"IF(AT114>0,AVERAGE(SMALL(IF(AA114:AT114>0,AA114:AT114),{1,2,3,4,5,6,7,8})),AS115)","v":21.99676672442585},{"$f":"IF(AU114>0,AVERAGE(SMALL(IF(AB114:AU114>0,AB114:AU114),{1,2,3,4,5,6,7,8})),AT115)","v":21.99676672442585},{"$f":"IF(AV114>0,AVERAGE(SMALL(IF(AC114:AV114>0,AC114:AV114),{1,2,3,4,5,6,7,8})),AU115)","v":22.305617420973398},{"$f":"IF(AW114>0,AVERAGE(SMALL(IF(AD114:AW114>0,AD114:AW114),{1,2,3,4,5,6,7,8})),AV115)","v":22.305617420973398},{"$f":"IF(AX114>0,AVERAGE(SMALL(IF(AE114:AX114>0,AE114:AX114),{1,2,3,4,5,6,7,8})),AW115)","v":22.415742540276668},{"$f":"IF(AY114>0,AVERAGE(SMALL(IF(AF114:AY114>0,AF114:AY114),{1,2,3,4,5,6,7,8})),AX115)","v":22.404502248705491},{"$f":"IF(AZ114>0,AVERAGE(SMALL(IF(AG114:AZ114>0,AG114:AZ114),{1,2,3,4,5,6,7,8})),AY115)","v":22.725524975978217},{"$f":"IF(BA114>0,AVERAGE(SMALL(IF(AH114:BA114>0,AH114:BA114),{1,2,3,4,5,6,7,8})),AZ115)","v":22.820185523763762},{"$f":"IF(BB114>0,AVERAGE(SMALL(IF(AI114:BB114>0,AI114:BB114),{1,2,3,4,5,6,7,8})),BA115)","v":22.835825092528331},{"$f":"IF(BC114>0,AVERAGE(SMALL(IF(AJ114:BC114>0,AJ114:BC114),{1,2,3,4,5,6,7,8})),BB115)","v":22.835825092528331},{"$f":"IF(BD114>0,AVERAGE(SMALL(IF(AK114:BD114>0,AK114:BD114),{1,2,3,4,5,6,7,8})),BC115)","v":22.835825092528331},{"$f":"IF(BE114>0,AVERAGE(SMALL(IF(AL114:BE114>0,AL114:BE114),{1,2,3,4,5,6,7,8})),BD115)","v":22.835825092528331},{"$f":"IF(BF114>0,AVERAGE(SMALL(IF(AM114:BF114>0,AM114:BF114),{1,2,3,4,5,6,7,8})),BE115)","v":21.781882784836029},{"$f":"IF(BG114>0,AVERAGE(SMALL(IF(AN114:BG114>0,AN114:BG114),{1,2,3,4,5,6,7,8})),BF115)","v":21.781882784836029},{"$f":"IF(BH114>0,AVERAGE(SMALL(IF(AO114:BH114>0,AO114:BH114),{1,2,3,4,5,6,7,8})),BG115)","v":22.050730309532931},{"$f":"IF(BI114>0,AVERAGE(SMALL(IF(AP114:BI114>0,AP114:BI114),{1,2,3,4,5,6,7,8})),BH115)","v":22.050730309532931},{"$f":"IF(BJ114>0,AVERAGE(SMALL(IF(AQ114:BJ114>0,AQ114:BJ114),{1,2,3,4,5,6,7,8})),BI115)","v":21.349254493682114},{"$f":"IF(BK114>0,AVERAGE(SMALL(IF(AR114:BK114>0,AR114:BK114),{1,2,3,4,5,6,7,8})),BJ115)","v":21.349254493682114},{"$f":"IF(BL114>0,AVERAGE(SMALL(IF(AS114:BL114>0,AS114:BL114),{1,2,3,4,5,6,7,8})),BK115)","v":20.428254175615955},{"$f":"IF(BM114>0,AVERAGE(SMALL(IF(AT114:BM114>0,AT114:BM114),{1,2,3,4,5,6,7,8})),BL115)","v":19.518597784213242},{"$f":"IF(BN114>0,AVERAGE(SMALL(IF(AU114:BN114>0,AU114:BN114),{1,2,3,4,5,6,7,8})),BM115)","v":20.145754175615956},{"$f":"IF(BO114>0,AVERAGE(SMALL(IF(AV114:BO114>0,AV114:BO114),{1,2,3,4,5,6,7,8})),BN115)","v":20.264692813314134},{"$f":"IF(BP114>0,AVERAGE(SMALL(IF(AW114:BP114>0,AW114:BP114),{1,2,3,4,5,6,7,8})),BO115)","v":18.98972902097902},{"$f":"IF(BQ114>0,AVERAGE(SMALL(IF(AX114:BQ114>0,AX114:BQ114),{1,2,3,4,5,6,7,8})),BP115)","v":18.98972902097902},{"$f":"IF(BR114>0,AVERAGE(SMALL(IF(AY114:BR114>0,AY114:BR114),{1,2,3,4,5,6,7,8})),BQ115)","v":18.98972902097902},{"$f":"IF(BS114>0,AVERAGE(SMALL(IF(AZ114:BS114>0,AZ114:BS114),{1,2,3,4,5,6,7,8})),BR115)","v":19.556869172494171},{"$f":"IF(BT114>0,AVERAGE(SMALL(IF(BA114:BT114>0,BA114:BT114),{1,2,3,4,5,6,7,8})),BS115)","v":19.556869172494171},{"$f":"IF(BU114>0,AVERAGE(SMALL(IF(BB114:BU114>0,BB114:BU114),{1,2,3,4,5,6,7,8})),BT115)","v":18.757165889665888},{"$f":"IF(BV114>0,AVERAGE(SMALL(IF(BC114:BV114>0,BC114:BV114),{1,2,3,4,5,6,7,8})),BU115)","v":18.40404088966589},{"$f":"IF(BW114>0,AVERAGE(SMALL(IF(BD114:BW114>0,BD114:BW114),{1,2,3,4,5,6,7,8})),BV115)","v":18.40404088966589},{"$f":"IF(BX114>0,AVERAGE(SMALL(IF(BE114:BX114>0,BE114:BX114),{1,2,3,4,5,6,7,8})),BW115)","v":18.201103544752741},{"$f":"IF(BY114>0,AVERAGE(SMALL(IF(BF114:BY114>0,BF114:BY114),{1,2,3,4,5,6,7,8})),BX115)","v":18.201103544752741},{"$f":"IF(BZ114>0,AVERAGE(SMALL(IF(BG114:BZ114>0,BG114:BZ114),{1,2,3,4,5,6,7,8})),BY115)","v":18.23283431398351},{"$f":"IF(CA114>0,AVERAGE(SMALL(IF(BH114:CA114>0,BH114:CA114),{1,2,3,4,5,6,7,8})),BZ115)","v":17.273042647316842},{"$f":"IF(CB114>0,AVERAGE(SMALL(IF(BI114:CB114>0,BI114:CB114),{1,2,3,4,5,6,7,8})),CA115)","v":16.797518453768454},{"$f":"IF(CC114>0,AVERAGE(SMALL(IF(BJ114:CC114>0,BJ114:CC114),{1,2,3,4,5,6,7,8})),CB115)","v":16.797518453768454},{"$f":"IF(CD114>0,AVERAGE(SMALL(IF(BK114:CD114>0,BK114:CD114),{1,2,3,4,5,6,7,8})),CC115)","v":17.029196493470689},{"$f":"IF(CE114>0,AVERAGE(SMALL(IF(BL114:CE114>0,BL114:CE114),{1,2,3,4,5,6,7,8})),CD115)","v":17.029196493470689},{"$f":"IF(CF114>0,AVERAGE(SMALL(IF(BM114:CF114>0,BM114:CF114),{1,2,3,4,5,6,7,8})),CE115)","v":17.029196493470689},{"$f":"IF(CG114>0,AVERAGE(SMALL(IF(BN114:CG114>0,BN114:CG114),{1,2,3,4,5,6,7,8})),CF115)","v":17.029196493470689},{"$f":"IF(CH114>0,AVERAGE(SMALL(IF(BO114:CH114>0,BO114:CH114),{1,2,3,4,5,6,7,8})),CG115)","v":17.029196493470689},{"$f":"IF(CI114>0,AVERAGE(SMALL(IF(BP114:CI114>0,BP114:CI114),{1,2,3,4,5,6,7,8})),CH115)","v":17.029196493470689},{"$f":"IF(CJ114>0,AVERAGE(SMALL(IF(BQ114:CJ114>0,BQ114:CJ114),{1,2,3,4,5,6,7,8})),CI115)","v":17.029196493470689},{"$f":"IF(CK114>0,AVERAGE(SMALL(IF(BR114:CK114>0,BR114:CK114),{1,2,3,4,5,6,7,8})),CJ115)","v":17.029196493470689},{"$f":"IF(CL114>0,AVERAGE(SMALL(IF(BS114:CL114>0,BS114:CL114),{1,2,3,4,5,6,7,8})),CK115)","v":17.029196493470689},{"$f":"IF(CM114>0,AVERAGE(SMALL(IF(BT114:CM114>0,BT114:CM114),{1,2,3,4,5,6,7,8})),CL115)","v":17.029196493470689},{"$f":"IF(CN114>0,AVERAGE(SMALL(IF(BU114:CN114>0,BU114:CN114),{1,2,3,4,5,6,7,8})),CM115)","v":17.029196493470689},{"$f":"IF(CO114>0,AVERAGE(SMALL(IF(BV114:CO114>0,BV114:CO114),{1,2,3,4,5,6,7,8})),CN115)","v":17.029196493470689},{"$f":"IF(CP114>0,AVERAGE(SMALL(IF(BW114:CP114>0,BW114:CP114),{1,2,3,4,5,6,7,8})),CO115)","v":17.029196493470689},{"$f":"IF(CQ114>0,AVERAGE(SMALL(IF(BX114:CQ114>0,BX114:CQ114),{1,2,3,4,5,6,7,8})),CP115)","v":17.029196493470689},{"$f":"IF(CR114>0,AVERAGE(SMALL(IF(BY114:CR114>0,BY114:CR114),{1,2,3,4,5,6,7,8})),CQ115)","v":17.029196493470689},{"$f":"IF(CS114>0,AVERAGE(SMALL(IF(BZ114:CS114>0,BZ114:CS114),{1,2,3,4,5,6,7,8})),CR115)","v":17.029196493470689},{"$f":"IF(CT114>0,AVERAGE(SMALL(IF(CA114:CT114>0,CA114:CT114),{1,2,3,4,5,6,7,8})),CS115)","v":17.029196493470689},{"$f":"IF(CU114>0,AVERAGE(SMALL(IF(CB114:CU114>0,CB114:CU114),{1,2,3,4,5,6,7,8})),CT115)","v":17.029196493470689},{"$f":"IF(CV114>0,AVERAGE(SMALL(IF(CC114:CV114>0,CC114:CV114),{1,2,3,4,5,6,7,8})),CU115)","v":17.029196493470689},{"$f":"IF(CW114>0,AVERAGE(SMALL(IF(CD114:CW114>0,CD114:CW114),{1,2,3,4,5,6,7,8})),CV115)","v":17.029196493470689}]
[null,null,null,null,null,null,null,null,"Low Hcap",null,null,null,null,null,null,null,null,null,null,null,null,null,null,null,null,null,null,null,{"$f":"MIN($Q115:AC115)","v":22.972036725371161},{"$f":"MIN($R115:AD115)","v":22.972036725371161},{"$f":"MIN($R115:AE115)","v":22.481601074411483},{"$f":"MIN($R115:AF115)","v":22.270703466442022},{"$f":"MIN($R115:AG115)","v":22.270703466442022},{"$f":"MIN($R115:AH115)","v":22.270703466442022},{"$f":"MIN($R115:AI115)","v":22.270703466442022},{"$f":"MIN($R115:AJ115)","v":22.270703466442022},{"$f":"MIN($R115:AK115)","v":22.270703466442022},{"$f":"MIN($T115:AL115)","v":22.270703466442022},{"$f":"MIN($U115:AM115)","v":22.270703466442022},{"$f":"MIN($V115:AN115)","v":22.270703466442022},{"$f":"MIN($V115:AO115)","v":22.270703466442022},{"$f":"MIN($V115:AP115)","v":22.270703466442022},{"$f":"MIN($X115:AQ115)","v":22.270703466442022},{"$f":"MIN($Y115:AR115)","v":22.270703466442022},{"$f":"MIN($Z115:AS115)","v":22.270703466442022},{"$f":"MIN($AA115:AT115)","v":21.99676672442585},{"$f":"MIN($AA115:AU115)","v":21.99676672442585},{"$f":"MIN($AB115:AV115)","v":21.99676672442585},{"$f":"MIN($AB115:AW115)","v":21.99676672442585},{"$f":"MIN($AC115:AX115)","v":21.99676672442585},{"$f":"MIN($AD115:AY115)","v":21.99676672442585},{"$f":"MIN($AD115:AZ115)","v":21.99676672442585},{"$f":"MIN($AD115:BA115)","v":21.99676672442585},{"$f":"MIN($AJ115:BB115)","v":21.99676672442585},{"$f":"MIN($AK115:BC115)","v":21.99676672442585},{"$f":"MIN($AK115:BD115)","v":21.99676672442585},{"$f":"MIN($AO115:BE115)","v":21.99676672442585},{"$f":"MIN($AP115:BF115)","v":21.781882784836029},{"$f":"MIN($AP115:BG115)","v":21.781882784836029},{"$f":"MIN($AP115:BH115)","v":21.781882784836029},{"$f":"MIN($AP115:BI115)","v":21.781882784836029},{"$f":"MIN($AP115:BJ115)","v":21.349254493682114},{"$f":"MIN($AR115:BK115)","v":21.349254493682114},{"$f":"MIN($AR115:BL115)","v":20.428254175615955},{"$f":"MIN($AT115:BM115)","v":19.518597784213242},{"$f":"MIN($AV115:BN115)","v":19.518597784213242},{"$f":"MIN($AV115:BO115)","v":19.518597784213242},{"$f":"MIN($AV115:BP115)","v":18.98972902097902},{"$f":"MIN($AX115:BQ115)","v":18.98972902097902},{"$f":"MIN($AX115:BR115)","v":18.98972902097902},{"$f":"MIN($AX115:BS115)","v":18.98972902097902},{"$f":"MIN($AY115:BT115)","v":18.98972902097902},{"$f":"MIN($AZ115:BU115)","v":18.757165889665888},{"$f":"MIN($AZ115:BV115)","v":18.40404088966589},{"$f":"MIN($AZ115:BW115)","v":18.40404088966589},{"$f":"MIN($BB115:BX115)","v":18.201103544752741},{"$f":"MIN($BB115:BY115)","v":18.201103544752741},{"$f":"MIN($BD115:BZ115)","v":18.201103544752741},{"$f":"MIN($BD115:CA115)","v":17.273042647316842},{"$f":"MIN($BD115:CB115)","v":16.797518453768454},{"$f":"MIN($BD115:CC115)","v":16.797518453768454},{"$f":"MIN($BE115:CD115)","v":16.797518453768454},{"$f":"MIN($BE115:CE115)","v":16.797518453768454},{"$f":"MIN($BE115:CF115)","v":16.797518453768454},{"$f":"MIN($BE115:CG115)","v":16.797518453768454},{"$f":"MIN($BE115:CH115)","v":16.797518453768454},{"$f":"MIN($BE115:CI115)","v":16.797518453768454},{"$f":"MIN($BE115:CJ115)","v":16.797518453768454},{"$f":"MIN($BE115:CK115)","v":16.797518453768454},{"$f":"MIN($BE115:CL115)","v":16.797518453768454},{"$f":"MIN($BE115:CM115)","v":16.797518453768454},{"$f":"MIN($BE115:CN115)","v":16.797518453768454},{"$f":"MIN($BE115:CO115)","v":16.797518453768454},{"$f":"MIN($BE115:CP115)","v":16.797518453768454},{"$f":"MIN($BE115:CQ115)","v":16.797518453768454},{"$f":"MIN($BE115:CR115)","v":16.797518453768454},{"$f":"MIN($BE115:CS115)","v":16.797518453768454},{"$f":"MIN($BE115:CT115)","v":16.797518453768454},{"$f":"MIN($BE115:CU115)","v":16.797518453768454},{"$f":"MIN($BE115:CV115)","v":16.797518453768454},{"$f":"MIN($BE115:CW115)","v":16.797518453768454}]
[null,"Cunney","Donal",24,null,{"$f":"IF(H117<4,\"Y\",)","v":"Y"},2021,{"$f":"COUNT(J117:CX117)","v":0},"Date",null,null,null,null,null,null,null,null,null,null,null,null,null,null,null,null,null,null,null,null,null,null,null,null,null,null,null,null,null,null,null,null,null,null,null,null,null,null,null,null,null,null,null,null,null,null,null,null,null,null,null,null,null,null,null,null,null,null,null,null,null,null,null,null,null,null,null,null,null,null,null,null,null,null,null,null,null,null,null,null,null,null,null,null,null,null,null,null,null,null,null,null,null,{"$f":"IF(CW121>$DD$1,36,CW121)","v":24},24,{"$f":"CZ117-CY117","v":0}]
[null,null,null,null,null,null,null,null,"Course"]
[null,null,null,null,null,null,null,null,"Ad Gr"]
[null,null,null,null,null,null,null,null,"SD",26,{"$f":"IF(K119=\"\",0,(K119-INDIRECT(CONCATENATE(K118,\"CR\")))*113/INDIRECT(CONCATENATE(K118,\"SR\")))","v":0},0,0,0,0,0,0,0,0,0,0,0,0,0,0,0,0,0,0,0,0,0,0,0,0,0,0,0,0,0,0,0,0,0,0,0,0,0,0,0,0,0,0,0,0,0,0,0,0,0,0,0,0,0,0,0,0,0,0,0,0,0,0,0,{"$f":"IF(BW119=\"\",0,(BW119-INDIRECT(CONCATENATE(BW118,\"CR\")))*113/INDIRECT(CONCATENATE(BW118,\"SR\")))","v":0},0,0,0,0,0,0,0,0,0,0,0,0,0,0,0,{"$f":"IF(CM119=\"\",0,(CM119-INDIRECT(CONCATENATE(CM118,\"CR\")))*113/INDIRECT(CONCATENATE(CM118,\"SR\")))","v":0},0,{"$f":"IF(CO119=\"\",0,(CO119-INDIRECT(CONCATENATE(CO118,\"CR\")))*113/INDIRECT(CONCATENATE(CO118,\"SR\")))","v":0},0,{"$f":"IF(CQ119=\"\",0,(CQ119-INDIRECT(CONCATENATE(CQ118,\"CR\")))*113/INDIRECT(CONCATENATE(CQ118,\"SR\")))","v":0},0,{"$f":"IF(CS119=\"\",0,(CS119-INDIRECT(CONCATENATE(CS118,\"CR\")))*113/INDIRECT(CONCATENATE(CS118,\"SR\")))","v":0},0,{"$f":"IF(CU119=\"\",0,(CU119-INDIRECT(CONCATENATE(CU118,\"CR\")))*113/INDIRECT(CONCATENATE(CU118,\"SR\")))","v":0},0,{"$f":"IF(CW119=\"\",0,(CW119-INDIRECT(CONCATENATE(CW118,\"CR\")))*113/INDIRECT(CONCATENATE(CW118,\"SR\")))","v":0}]
[null,null,null,null,null,null,null,null,"New Hcap",{"$f":"J120-2","v":24},{"$f":"IF(K120>0,MIN(J120:K120)-2,J121)","v":24},{"$f":"IF(L120>0,MIN(J120:L120)-2,K121)","v":24},{"$f":"IF(M120>0,MIN(J120:M120)-1,L121)","v":24},{"$f":"IF(N120>0,MIN(J120:N120),M121)","v":24},{"$f":"IF(O120>0,AVERAGE(SMALL(IF(J120:O120>0,J120:O120),{1,2}))-1,N121)","v":24},{"$f":"IF(P120>0,AVERAGE(SMALL(IF(J120:P120>0,J120:P120),{1,2})),O121)","v":24},{"$f":"IF(Q120>0,AVERAGE(SMALL(IF(J120:Q120>0,J120:Q120),{1,2})),P121)","v":24},{"$f":"IF(R120>0,AVERAGE(SMALL(IF(J120:R120>0,J120:R120),{1,2,3})),Q121)","v":24},{"$f":"IF(S120>0,AVERAGE(SMALL(IF(J120:S120>0,J120:S120),{1,2,3})),R121)","v":24},{"$f":"IF(T120>0,AVERAGE(SMALL(IF(J120:T120>0,J120:T120),{1,2,3})),S121)","v":24},{"$f":"IF(U120>0,AVERAGE(SMALL(IF(J120:U120>0,J120:U120),{1,2,3,4})),T121)","v":24},{"$f":"IF(V120>0,AVERAGE(SMALL(IF(J120:V120>0,J120:V120),{1,2,3,4})),U121)","v":24},{"$f":"IF(W120>0,AVERAGE(SMALL(IF(J120:W120>0,J120:W120),{1,2,3,4})),V121)","v":24},{"$f":"IF(X120>0,AVERAGE(SMALL(IF(J120:X120>0,J120:X120),{1,2,3,4,5})),W121)","v":24},{"$f":"IF(Y120>0,AVERAGE(SMALL(IF(J120:Y120>0,J120:Y120),{1,2,3,4,5})),X121)","v":24},{"$f":"IF(Z120>0,AVERAGE(SMALL(IF(J120:Z120>0,J120:Z120),{1,2,3,4,5,6})),Y121)","v":24},{"$f":"IF(AA120>0,AVERAGE(SMALL(IF(J120:AA120>0,J120:AA120),{1,2,3,4,5,6})),Z121)","v":24},{"$f":"IF(AB120>0,AVERAGE(SMALL(IF(J120:AB120>0,J120:AB120),{1,2,3,4,5,6,7})),AA121)","v":24},{"$f":"IF(AC120>0,AVERAGE(SMALL(IF(J120:AC120>0,J120:AC120),{1,2,3,4,5,6,7,8})),AB121)","v":24},{"$f":"IF(AD120>0,AVERAGE(SMALL(IF(K120:AD120>0,K120:AD120),{1,2,3,4,5,6,7,8})),AC121)","v":24},{"$f":"IF(AE120>0,AVERAGE(SMALL(IF(L120:AE120>0,L120:AE120),{1,2,3,4,5,6,7,8})),AD121)","v":24},{"$f":"IF(AF120>0,AVERAGE(SMALL(IF(M120:AF120>0,M120:AF120),{1,2,3,4,5,6,7,8})),AE121)","v":24},{"$f":"IF(AG120>0,AVERAGE(SMALL(IF(N120:AG120>0,N120:AG120),{1,2,3,4,5,6,7,8})),AF121)","v":24},{"$f":"IF(AH120>0,AVERAGE(SMALL(IF(O120:AH120>0,O120:AH120),{1,2,3,4,5,6,7,8})),AG121)","v":24},{"$f":"IF(AI120>0,AVERAGE(SMALL(IF(P120:AI120>0,P120:AI120),{1,2,3,4,5,6,7,8})),AH121)","v":24},{"$f":"IF(AJ120>0,AVERAGE(SMALL(IF(Q120:AJ120>0,Q120:AJ120),{1,2,3,4,5,6,7,8})),AI121)","v":24},{"$f":"IF(AK120>0,AVERAGE(SMALL(IF(R120:AK120>0,R120:AK120),{1,2,3,4,5,6,7,8})),AJ121)","v":24},{"$f":"IF(AL120>0,AVERAGE(SMALL(IF(S120:AL120>0,S120:AL120),{1,2,3,4,5,6,7,8})),AK121)","v":24},{"$f":"IF(AM120>0,AVERAGE(SMALL(IF(T120:AM120>0,T120:AM120),{1,2,3,4,5,6,7,8})),AL121)","v":24},{"$f":"IF(AN120>0,AVERAGE(SMALL(IF(U120:AN120>0,U120:AN120),{1,2,3,4,5,6,7,8})),AM121)","v":24},{"$f":"IF(AO120>0,AVERAGE(SMALL(IF(V120:AO120>0,V120:AO120),{1,2,3,4,5,6,7,8})),AN121)","v":24},{"$f":"IF(AP120>0,AVERAGE(SMALL(IF(W120:AP120>0,W120:AP120),{1,2,3,4,5,6,7,8})),AO121)","v":24},{"$f":"IF(AQ120>0,AVERAGE(SMALL(IF(X120:AQ120>0,X120:AQ120),{1,2,3,4,5,6,7,8})),AP121)","v":24},{"$f":"IF(AR120>0,AVERAGE(SMALL(IF(Y120:AR120>0,Y120:AR120),{1,2,3,4,5,6,7,8})),AQ121)","v":24},{"$f":"IF(AS120>0,AVERAGE(SMALL(IF(Z120:AS120>0,Z120:AS120),{1,2,3,4,5,6,7,8})),AR121)","v":24},{"$f":"IF(AT120>0,AVERAGE(SMALL(IF(AA120:AT120>0,AA120:AT120),{1,2,3,4,5,6,7,8})),AS121)","v":24},{"$f":"IF(AU120>0,AVERAGE(SMALL(IF(AB120:AU120>0,AB120:AU120),{1,2,3,4,5,6,7,8})),AT121)","v":24},{"$f":"IF(AV120>0,AVERAGE(SMALL(IF(AC120:AV120>0,AC120:AV120),{1,2,3,4,5,6,7,8})),AU121)","v":24},{"$f":"IF(AW120>0,AVERAGE(SMALL(IF(AD120:AW120>0,AD120:AW120),{1,2,3,4,5,6,7,8})),AV121)","v":24},{"$f":"IF(AX120>0,AVERAGE(SMALL(IF(AE120:AX120>0,AE120:AX120),{1,2,3,4,5,6,7,8})),AW121)","v":24},{"$f":"IF(AY120>0,AVERAGE(SMALL(IF(AF120:AY120>0,AF120:AY120),{1,2,3,4,5,6,7,8})),AX121)","v":24},{"$f":"IF(AZ120>0,AVERAGE(SMALL(IF(AG120:AZ120>0,AG120:AZ120),{1,2,3,4,5,6,7,8})),AY121)","v":24},{"$f":"IF(BA120>0,AVERAGE(SMALL(IF(AH120:BA120>0,AH120:BA120),{1,2,3,4,5,6,7,8})),AZ121)","v":24},{"$f":"IF(BB120>0,AVERAGE(SMALL(IF(AI120:BB120>0,AI120:BB120),{1,2,3,4,5,6,7,8})),BA121)","v":24},{"$f":"IF(BC120>0,AVERAGE(SMALL(IF(AJ120:BC120>0,AJ120:BC120),{1,2,3,4,5,6,7,8})),BB121)","v":24},{"$f":"IF(BD120>0,AVERAGE(SMALL(IF(AK120:BD120>0,AK120:BD120),{1,2,3,4,5,6,7,8})),BC121)","v":24},{"$f":"IF(BE120>0,AVERAGE(SMALL(IF(AL120:BE120>0,AL120:BE120),{1,2,3,4,5,6,7,8})),BD121)","v":24},{"$f":"IF(BF120>0,AVERAGE(SMALL(IF(AM120:BF120>0,AM120:BF120),{1,2,3,4,5,6,7,8})),BE121)","v":24},{"$f":"IF(BG120>0,AVERAGE(SMALL(IF(AN120:BG120>0,AN120:BG120),{1,2,3,4,5,6,7,8})),BF121)","v":24},{"$f":"IF(BH120>0,AVERAGE(SMALL(IF(AO120:BH120>0,AO120:BH120),{1,2,3,4,5,6,7,8})),BG121)","v":24},{"$f":"IF(BI120>0,AVERAGE(SMALL(IF(AP120:BI120>0,AP120:BI120),{1,2,3,4,5,6,7,8})),BH121)","v":24},{"$f":"IF(BJ120>0,AVERAGE(SMALL(IF(AQ120:BJ120>0,AQ120:BJ120),{1,2,3,4,5,6,7,8})),BI121)","v":24},{"$f":"IF(BK120>0,AVERAGE(SMALL(IF(AR120:BK120>0,AR120:BK120),{1,2,3,4,5,6,7,8})),BJ121)","v":24},{"$f":"IF(BL120>0,AVERAGE(SMALL(IF(AS120:BL120>0,AS120:BL120),{1,2,3,4,5,6,7,8})),BK121)","v":24},{"$f":"IF(BM120>0,AVERAGE(SMALL(IF(AT120:BM120>0,AT120:BM120),{1,2,3,4,5,6,7,8})),BL121)","v":24},{"$f":"IF(BN120>0,AVERAGE(SMALL(IF(AU120:BN120>0,AU120:BN120),{1,2,3,4,5,6,7,8})),BM121)","v":24},{"$f":"IF(BO120>0,AVERAGE(SMALL(IF(AV120:BO120>0,AV120:BO120),{1,2,3,4,5,6,7,8})),BN121)","v":24},{"$f":"IF(BP120>0,AVERAGE(SMALL(IF(AW120:BP120>0,AW120:BP120),{1,2,3,4,5,6,7,8})),BO121)","v":24},{"$f":"IF(BQ120>0,AVERAGE(SMALL(IF(AX120:BQ120>0,AX120:BQ120),{1,2,3,4,5,6,7,8})),BP121)","v":24},{"$f":"IF(BR120>0,AVERAGE(SMALL(IF(AY120:BR120>0,AY120:BR120),{1,2,3,4,5,6,7,8})),BQ121)","v":24},{"$f":"IF(BS120>0,AVERAGE(SMALL(IF(AZ120:BS120>0,AZ120:BS120),{1,2,3,4,5,6,7,8})),BR121)","v":24},{"$f":"IF(BT120>0,AVERAGE(SMALL(IF(BA120:BT120>0,BA120:BT120),{1,2,3,4,5,6,7,8})),BS121)","v":24},{"$f":"IF(BU120>0,AVERAGE(SMALL(IF(BB120:BU120>0,BB120:BU120),{1,2,3,4,5,6,7,8})),BT121)","v":24},{"$f":"IF(BV120>0,AVERAGE(SMALL(IF(BC120:BV120>0,BC120:BV120),{1,2,3,4,5,6,7,8})),BU121)","v":24},{"$f":"IF(BW120>0,AVERAGE(SMALL(IF(BD120:BW120>0,BD120:BW120),{1,2,3,4,5,6,7,8})),BV121)","v":24},{"$f":"IF(BX120>0,AVERAGE(SMALL(IF(BE120:BX120>0,BE120:BX120),{1,2,3,4,5,6,7,8})),BW121)","v":24},{"$f":"IF(BY120>0,AVERAGE(SMALL(IF(BF120:BY120>0,BF120:BY120),{1,2,3,4,5,6,7,8})),BX121)","v":24},{"$f":"IF(BZ120>0,AVERAGE(SMALL(IF(BG120:BZ120>0,BG120:BZ120),{1,2,3,4,5,6,7,8})),BY121)","v":24},{"$f":"IF(CA120>0,AVERAGE(SMALL(IF(BH120:CA120>0,BH120:CA120),{1,2,3,4,5,6,7,8})),BZ121)","v":24},{"$f":"IF(CB120>0,AVERAGE(SMALL(IF(BI120:CB120>0,BI120:CB120),{1,2,3,4,5,6,7,8})),CA121)","v":24},{"$f":"IF(CC120>0,AVERAGE(SMALL(IF(BJ120:CC120>0,BJ120:CC120),{1,2,3,4,5,6,7,8})),CB121)","v":24},{"$f":"IF(CD120>0,AVERAGE(SMALL(IF(BK120:CD120>0,BK120:CD120),{1,2,3,4,5,6,7,8})),CC121)","v":24},{"$f":"IF(CE120>0,AVERAGE(SMALL(IF(BL120:CE120>0,BL120:CE120),{1,2,3,4,5,6,7,8})),CD121)","v":24},{"$f":"IF(CF120>0,AVERAGE(SMALL(IF(BM120:CF120>0,BM120:CF120),{1,2,3,4,5,6,7,8})),CE121)","v":24},{"$f":"IF(CG120>0,AVERAGE(SMALL(IF(BN120:CG120>0,BN120:CG120),{1,2,3,4,5,6,7,8})),CF121)","v":24},{"$f":"IF(CH120>0,AVERAGE(SMALL(IF(BO120:CH120>0,BO120:CH120),{1,2,3,4,5,6,7,8})),CG121)","v":24},{"$f":"IF(CI120>0,AVERAGE(SMALL(IF(BP120:CI120>0,BP120:CI120),{1,2,3,4,5,6,7,8})),CH121)","v":24},{"$f":"IF(CJ120>0,AVERAGE(SMALL(IF(BQ120:CJ120>0,BQ120:CJ120),{1,2,3,4,5,6,7,8})),CI121)","v":24},{"$f":"IF(CK120>0,AVERAGE(SMALL(IF(BR120:CK120>0,BR120:CK120),{1,2,3,4,5,6,7,8})),CJ121)","v":24},{"$f":"IF(CL120>0,AVERAGE(SMALL(IF(BS120:CL120>0,BS120:CL120),{1,2,3,4,5,6,7,8})),CK121)","v":24},{"$f":"IF(CM120>0,AVERAGE(SMALL(IF(BT120:CM120>0,BT120:CM120),{1,2,3,4,5,6,7,8})),CL121)","v":24},{"$f":"IF(CN120>0,AVERAGE(SMALL(IF(BU120:CN120>0,BU120:CN120),{1,2,3,4,5,6,7,8})),CM121)","v":24},{"$f":"IF(CO120>0,AVERAGE(SMALL(IF(BV120:CO120>0,BV120:CO120),{1,2,3,4,5,6,7,8})),CN121)","v":24},{"$f":"IF(CP120>0,AVERAGE(SMALL(IF(BW120:CP120>0,BW120:CP120),{1,2,3,4,5,6,7,8})),CO121)","v":24},{"$f":"IF(CQ120>0,AVERAGE(SMALL(IF(BX120:CQ120>0,BX120:CQ120),{1,2,3,4,5,6,7,8})),CP121)","v":24},{"$f":"IF(CR120>0,AVERAGE(SMALL(IF(BY120:CR120>0,BY120:CR120),{1,2,3,4,5,6,7,8})),CQ121)","v":24},{"$f":"IF(CS120>0,AVERAGE(SMALL(IF(BZ120:CS120>0,BZ120:CS120),{1,2,3,4,5,6,7,8})),CR121)","v":24},{"$f":"IF(CT120>0,AVERAGE(SMALL(IF(CA120:CT120>0,CA120:CT120),{1,2,3,4,5,6,7,8})),CS121)","v":24},{"$f":"IF(CU120>0,AVERAGE(SMALL(IF(CB120:CU120>0,CB120:CU120),{1,2,3,4,5,6,7,8})),CT121)","v":24},{"$f":"IF(CV120>0,AVERAGE(SMALL(IF(CC120:CV120>0,CC120:CV120),{1,2,3,4,5,6,7,8})),CU121)","v":24},{"$f":"IF(CW120>0,AVERAGE(SMALL(IF(CD120:CW120>0,CD120:CW120),{1,2,3,4,5,6,7,8})),CV121)","v":24}]
[null,null,null,null,null,null,null,null,"Low Hcap",null,null,null,null,null,null,null,null,null,null,null,null,null,null,null,null,null,null,null,{"$f":"MIN($J121:AC121)","v":24},{"$f":"MIN($J121:AD121)","v":24},{"$f":"MIN($J121:AE121)","v":24},{"$f":"MIN($J121:AF121)","v":24},{"$f":"MIN($J121:AG121)","v":24},{"$f":"MIN($J121:AH121)","v":24},{"$f":"MIN($J121:AI121)","v":24},{"$f":"MIN($J121:AJ121)","v":24},{"$f":"MIN($J121:AK121)","v":24},{"$f":"MIN($J121:AL121)","v":24},{"$f":"MIN($J121:AM121)","v":24},{"$f":"MIN($J121:AN121)","v":24},{"$f":"MIN($J121:AO121)","v":24},{"$f":"MIN($J121:AP121)","v":24},{"$f":"MIN($J121:AQ121)","v":24},{"$f":"MIN($J121:AR121)","v":24},{"$f":"MIN($J121:AS121)","v":24},{"$f":"MIN($J121:AT121)","v":24},{"$f":"MIN($J121:AU121)","v":24},{"$f":"MIN($J121:AV121)","v":24},{"$f":"MIN($J121:AW121)","v":24},{"$f":"MIN($J121:AX121)","v":24},{"$f":"MIN($J121:AY121)","v":24},{"$f":"MIN($J121:AZ121)","v":24},{"$f":"MIN($J121:BA121)","v":24},{"$f":"MIN($J121:BB121)","v":24},{"$f":"MIN($J121:BC121)","v":24},{"$f":"MIN($J121:BD121)","v":24},{"$f":"MIN($J121:BE121)","v":24},{"$f":"MIN($J121:BF121)","v":24},{"$f":"MIN($J121:BG121)","v":24},{"$f":"MIN($J121:BH121)","v":24},{"$f":"MIN($J121:BI121)","v":24},{"$f":"MIN($J121:BJ121)","v":24},{"$f":"MIN($J121:BK121)","v":24},{"$f":"MIN($J121:BL121)","v":24},{"$f":"MIN($J121:BM121)","v":24},{"$f":"MIN($J121:BN121)","v":24},{"$f":"MIN($J121:BO121)","v":24},{"$f":"MIN($J121:BP121)","v":24},{"$f":"MIN($J121:BQ121)","v":24},{"$f":"MIN($J121:BR121)","v":24},{"$f":"MIN($J121:BS121)","v":24},{"$f":"MIN($J121:BT121)","v":24},{"$f":"MIN($J121:BU121)","v":24},{"$f":"MIN($J121:BV121)","v":24},{"$f":"MIN($J121:BW121)","v":24},{"$f":"MIN($J121:BX121)","v":24},{"$f":"MIN($J121:BY121)","v":24},{"$f":"MIN($J121:BZ121)","v":24},{"$f":"MIN($J121:CA121)","v":24},{"$f":"MIN($J121:CB121)","v":24},{"$f":"MIN($J121:CC121)","v":24},{"$f":"MIN($J121:CD121)","v":24},{"$f":"MIN($J121:CE121)","v":24},{"$f":"MIN($J121:CF121)","v":24},{"$f":"MIN($J121:CG121)","v":24},{"$f":"MIN($J121:CH121)","v":24},{"$f":"MIN($J121:CI121)","v":24},{"$f":"MIN($J121:CJ121)","v":24},{"$f":"MIN($J121:CK121)","v":24},{"$f":"MIN($J121:CL121)","v":24},{"$f":"MIN($J121:CM121)","v":24},{"$f":"MIN($J121:CN121)","v":24},{"$f":"MIN($J121:CO121)","v":24},{"$f":"MIN($J121:CP121)","v":24},{"$f":"MIN($J121:CQ121)","v":24},{"$f":"MIN($J121:CR121)","v":24},{"$f":"MIN($J121:CS121)","v":24},{"$f":"MIN($J121:CT121)","v":24},{"$f":"MIN($J121:CU121)","v":24},{"$f":"MIN($J121:CV121)","v":24},{"$f":"MIN($J121:CW121)","v":24}]
[null,"Cutmore","Clark",28,null,{"$f":"IF(H123<4,\"Y\",)","v":"Y"},2021,{"$f":"COUNT(J123:CX123)","v":2},"Date",null,"2021-08-15","2023-05-07",null,null,null,null,null,null,null,null,null,null,null,null,null,null,null,null,null,null,null,null,null,null,null,null,null,null,null,null,null,null,null,null,null,null,null,null,null,null,null,null,null,null,null,null,null,null,null,null,null,null,null,null,null,null,null,null,null,null,null,null,null,null,null,null,null,null,null,null,null,null,null,null,null,null,null,null,null,null,null,null,null,null,null,null,null,null,null,null,null,null,{"$f":"IF(CW127>$DD$1,36,CW127)","v":28},28,{"$f":"CZ123-CY123","v":0}]
[null,null,null,null,null,null,null,null,"Course",null,"ErdingHG","Odelzhausen2023HG"]
[null,null,null,null,null,null,null,null,"Ad Gr",null,112,117]
[null,null,null,null,null,null,null,null,"SD",30,{"$f":"IF(K125=\"\",0,(K125-INDIRECT(CONCATENATE(K124,\"CR\")))*113/INDIRECT(CONCATENATE(K124,\"SR\")))","v":35.638461538461542},41.3725806451613,0,0,0,0,0,0,0,0,0,0,0,0,0,0,0,0,0,0,0,0,0,0,0,0,0,0,0,0,0,0,0,0,0,0,0,0,0,0,0,0,0,0,0,0,0,0,0,0,0,0,0,0,0,0,0,0,0,0,0,0,0,0,{"$f":"IF(BW125=\"\",0,(BW125-INDIRECT(CONCATENATE(BW124,\"CR\")))*113/INDIRECT(CONCATENATE(BW124,\"SR\")))","v":0},0,0,0,0,0,0,0,0,0,0,0,0,0,0,0,{"$f":"IF(CM125=\"\",0,(CM125-INDIRECT(CONCATENATE(CM124,\"CR\")))*113/INDIRECT(CONCATENATE(CM124,\"SR\")))","v":0},0,{"$f":"IF(CO125=\"\",0,(CO125-INDIRECT(CONCATENATE(CO124,\"CR\")))*113/INDIRECT(CONCATENATE(CO124,\"SR\")))","v":0},0,{"$f":"IF(CQ125=\"\",0,(CQ125-INDIRECT(CONCATENATE(CQ124,\"CR\")))*113/INDIRECT(CONCATENATE(CQ124,\"SR\")))","v":0},0,{"$f":"IF(CS125=\"\",0,(CS125-INDIRECT(CONCATENATE(CS124,\"CR\")))*113/INDIRECT(CONCATENATE(CS124,\"SR\")))","v":0},0,{"$f":"IF(CU125=\"\",0,(CU125-INDIRECT(CONCATENATE(CU124,\"CR\")))*113/INDIRECT(CONCATENATE(CU124,\"SR\")))","v":0},0,{"$f":"IF(CW125=\"\",0,(CW125-INDIRECT(CONCATENATE(CW124,\"CR\")))*113/INDIRECT(CONCATENATE(CW124,\"SR\")))","v":0}]
[null,null,null,null,null,null,null,null,"New Hcap",{"$f":"J126-2","v":28},{"$f":"IF(K126>0,MIN(J126:K126)-2,J127)","v":28},{"$f":"IF(L126>0,MIN(J126:L126)-2,K127)","v":28},{"$f":"IF(M126>0,MIN(J126:M126)-1,L127)","v":28},{"$f":"IF(N126>0,MIN(J126:N126),M127)","v":28},{"$f":"IF(O126>0,AVERAGE(SMALL(IF(J126:O126>0,J126:O126),{1,2}))-1,N127)","v":28},{"$f":"IF(P126>0,AVERAGE(SMALL(IF(J126:P126>0,J126:P126),{1,2})),O127)","v":28},{"$f":"IF(Q126>0,AVERAGE(SMALL(IF(J126:Q126>0,J126:Q126),{1,2})),P127)","v":28},{"$f":"IF(R126>0,AVERAGE(SMALL(IF(J126:R126>0,J126:R126),{1,2,3})),Q127)","v":28},{"$f":"IF(S126>0,AVERAGE(SMALL(IF(J126:S126>0,J126:S126),{1,2,3})),R127)","v":28},{"$f":"IF(T126>0,AVERAGE(SMALL(IF(J126:T126>0,J126:T126),{1,2,3})),S127)","v":28},{"$f":"IF(U126>0,AVERAGE(SMALL(IF(J126:U126>0,J126:U126),{1,2,3,4})),T127)","v":28},{"$f":"IF(V126>0,AVERAGE(SMALL(IF(J126:V126>0,J126:V126),{1,2,3,4})),U127)","v":28},{"$f":"IF(W126>0,AVERAGE(SMALL(IF(J126:W126>0,J126:W126),{1,2,3,4})),V127)","v":28},{"$f":"IF(X126>0,AVERAGE(SMALL(IF(J126:X126>0,J126:X126),{1,2,3,4,5})),W127)","v":28},{"$f":"IF(Y126>0,AVERAGE(SMALL(IF(J126:Y126>0,J126:Y126),{1,2,3,4,5})),X127)","v":28},{"$f":"IF(Z126>0,AVERAGE(SMALL(IF(J126:Z126>0,J126:Z126),{1,2,3,4,5,6})),Y127)","v":28},{"$f":"IF(AA126>0,AVERAGE(SMALL(IF(J126:AA126>0,J126:AA126),{1,2,3,4,5,6})),Z127)","v":28},{"$f":"IF(AB126>0,AVERAGE(SMALL(IF(J126:AB126>0,J126:AB126),{1,2,3,4,5,6,7})),AA127)","v":28},{"$f":"IF(AC126>0,AVERAGE(SMALL(IF(J126:AC126>0,J126:AC126),{1,2,3,4,5,6,7,8})),AB127)","v":28},{"$f":"IF(AD126>0,AVERAGE(SMALL(IF(K126:AD126>0,K126:AD126),{1,2,3,4,5,6,7,8})),AC127)","v":28},{"$f":"IF(AE126>0,AVERAGE(SMALL(IF(L126:AE126>0,L126:AE126),{1,2,3,4,5,6,7,8})),AD127)","v":28},{"$f":"IF(AF126>0,AVERAGE(SMALL(IF(M126:AF126>0,M126:AF126),{1,2,3,4,5,6,7,8})),AE127)","v":28},{"$f":"IF(AG126>0,AVERAGE(SMALL(IF(N126:AG126>0,N126:AG126),{1,2,3,4,5,6,7,8})),AF127)","v":28},{"$f":"IF(AH126>0,AVERAGE(SMALL(IF(O126:AH126>0,O126:AH126),{1,2,3,4,5,6,7,8})),AG127)","v":28},{"$f":"IF(AI126>0,AVERAGE(SMALL(IF(P126:AI126>0,P126:AI126),{1,2,3,4,5,6,7,8})),AH127)","v":28},{"$f":"IF(AJ126>0,AVERAGE(SMALL(IF(Q126:AJ126>0,Q126:AJ126),{1,2,3,4,5,6,7,8})),AI127)","v":28},{"$f":"IF(AK126>0,AVERAGE(SMALL(IF(R126:AK126>0,R126:AK126),{1,2,3,4,5,6,7,8})),AJ127)","v":28},{"$f":"IF(AL126>0,AVERAGE(SMALL(IF(S126:AL126>0,S126:AL126),{1,2,3,4,5,6,7,8})),AK127)","v":28},{"$f":"IF(AM126>0,AVERAGE(SMALL(IF(T126:AM126>0,T126:AM126),{1,2,3,4,5,6,7,8})),AL127)","v":28},{"$f":"IF(AN126>0,AVERAGE(SMALL(IF(U126:AN126>0,U126:AN126),{1,2,3,4,5,6,7,8})),AM127)","v":28},{"$f":"IF(AO126>0,AVERAGE(SMALL(IF(V126:AO126>0,V126:AO126),{1,2,3,4,5,6,7,8})),AN127)","v":28},{"$f":"IF(AP126>0,AVERAGE(SMALL(IF(W126:AP126>0,W126:AP126),{1,2,3,4,5,6,7,8})),AO127)","v":28},{"$f":"IF(AQ126>0,AVERAGE(SMALL(IF(X126:AQ126>0,X126:AQ126),{1,2,3,4,5,6,7,8})),AP127)","v":28},{"$f":"IF(AR126>0,AVERAGE(SMALL(IF(Y126:AR126>0,Y126:AR126),{1,2,3,4,5,6,7,8})),AQ127)","v":28},{"$f":"IF(AS126>0,AVERAGE(SMALL(IF(Z126:AS126>0,Z126:AS126),{1,2,3,4,5,6,7,8})),AR127)","v":28},{"$f":"IF(AT126>0,AVERAGE(SMALL(IF(AA126:AT126>0,AA126:AT126),{1,2,3,4,5,6,7,8})),AS127)","v":28},{"$f":"IF(AU126>0,AVERAGE(SMALL(IF(AB126:AU126>0,AB126:AU126),{1,2,3,4,5,6,7,8})),AT127)","v":28},{"$f":"IF(AV126>0,AVERAGE(SMALL(IF(AC126:AV126>0,AC126:AV126),{1,2,3,4,5,6,7,8})),AU127)","v":28},{"$f":"IF(AW126>0,AVERAGE(SMALL(IF(AD126:AW126>0,AD126:AW126),{1,2,3,4,5,6,7,8})),AV127)","v":28},{"$f":"IF(AX126>0,AVERAGE(SMALL(IF(AE126:AX126>0,AE126:AX126),{1,2,3,4,5,6,7,8})),AW127)","v":28},{"$f":"IF(AY126>0,AVERAGE(SMALL(IF(AF126:AY126>0,AF126:AY126),{1,2,3,4,5,6,7,8})),AX127)","v":28},{"$f":"IF(AZ126>0,AVERAGE(SMALL(IF(AG126:AZ126>0,AG126:AZ126),{1,2,3,4,5,6,7,8})),AY127)","v":28},{"$f":"IF(BA126>0,AVERAGE(SMALL(IF(AH126:BA126>0,AH126:BA126),{1,2,3,4,5,6,7,8})),AZ127)","v":28},{"$f":"IF(BB126>0,AVERAGE(SMALL(IF(AI126:BB126>0,AI126:BB126),{1,2,3,4,5,6,7,8})),BA127)","v":28},{"$f":"IF(BC126>0,AVERAGE(SMALL(IF(AJ126:BC126>0,AJ126:BC126),{1,2,3,4,5,6,7,8})),BB127)","v":28},{"$f":"IF(BD126>0,AVERAGE(SMALL(IF(AK126:BD126>0,AK126:BD126),{1,2,3,4,5,6,7,8})),BC127)","v":28},{"$f":"IF(BE126>0,AVERAGE(SMALL(IF(AL126:BE126>0,AL126:BE126),{1,2,3,4,5,6,7,8})),BD127)","v":28},{"$f":"IF(BF126>0,AVERAGE(SMALL(IF(AM126:BF126>0,AM126:BF126),{1,2,3,4,5,6,7,8})),BE127)","v":28},{"$f":"IF(BG126>0,AVERAGE(SMALL(IF(AN126:BG126>0,AN126:BG126),{1,2,3,4,5,6,7,8})),BF127)","v":28},{"$f":"IF(BH126>0,AVERAGE(SMALL(IF(AO126:BH126>0,AO126:BH126),{1,2,3,4,5,6,7,8})),BG127)","v":28},{"$f":"IF(BI126>0,AVERAGE(SMALL(IF(AP126:BI126>0,AP126:BI126),{1,2,3,4,5,6,7,8})),BH127)","v":28},{"$f":"IF(BJ126>0,AVERAGE(SMALL(IF(AQ126:BJ126>0,AQ126:BJ126),{1,2,3,4,5,6,7,8})),BI127)","v":28},{"$f":"IF(BK126>0,AVERAGE(SMALL(IF(AR126:BK126>0,AR126:BK126),{1,2,3,4,5,6,7,8})),BJ127)","v":28},{"$f":"IF(BL126>0,AVERAGE(SMALL(IF(AS126:BL126>0,AS126:BL126),{1,2,3,4,5,6,7,8})),BK127)","v":28},{"$f":"IF(BM126>0,AVERAGE(SMALL(IF(AT126:BM126>0,AT126:BM126),{1,2,3,4,5,6,7,8})),BL127)","v":28},{"$f":"IF(BN126>0,AVERAGE(SMALL(IF(AU126:BN126>0,AU126:BN126),{1,2,3,4,5,6,7,8})),BM127)","v":28},{"$f":"IF(BO126>0,AVERAGE(SMALL(IF(AV126:BO126>0,AV126:BO126),{1,2,3,4,5,6,7,8})),BN127)","v":28},{"$f":"IF(BP126>0,AVERAGE(SMALL(IF(AW126:BP126>0,AW126:BP126),{1,2,3,4,5,6,7,8})),BO127)","v":28},{"$f":"IF(BQ126>0,AVERAGE(SMALL(IF(AX126:BQ126>0,AX126:BQ126),{1,2,3,4,5,6,7,8})),BP127)","v":28},{"$f":"IF(BR126>0,AVERAGE(SMALL(IF(AY126:BR126>0,AY126:BR126),{1,2,3,4,5,6,7,8})),BQ127)","v":28},{"$f":"IF(BS126>0,AVERAGE(SMALL(IF(AZ126:BS126>0,AZ126:BS126),{1,2,3,4,5,6,7,8})),BR127)","v":28},{"$f":"IF(BT126>0,AVERAGE(SMALL(IF(BA126:BT126>0,BA126:BT126),{1,2,3,4,5,6,7,8})),BS127)","v":28},{"$f":"IF(BU126>0,AVERAGE(SMALL(IF(BB126:BU126>0,BB126:BU126),{1,2,3,4,5,6,7,8})),BT127)","v":28},{"$f":"IF(BV126>0,AVERAGE(SMALL(IF(BC126:BV126>0,BC126:BV126),{1,2,3,4,5,6,7,8})),BU127)","v":28},{"$f":"IF(BW126>0,AVERAGE(SMALL(IF(BD126:BW126>0,BD126:BW126),{1,2,3,4,5,6,7,8})),BV127)","v":28},{"$f":"IF(BX126>0,AVERAGE(SMALL(IF(BE126:BX126>0,BE126:BX126),{1,2,3,4,5,6,7,8})),BW127)","v":28},{"$f":"IF(BY126>0,AVERAGE(SMALL(IF(BF126:BY126>0,BF126:BY126),{1,2,3,4,5,6,7,8})),BX127)","v":28},{"$f":"IF(BZ126>0,AVERAGE(SMALL(IF(BG126:BZ126>0,BG126:BZ126),{1,2,3,4,5,6,7,8})),BY127)","v":28},{"$f":"IF(CA126>0,AVERAGE(SMALL(IF(BH126:CA126>0,BH126:CA126),{1,2,3,4,5,6,7,8})),BZ127)","v":28},{"$f":"IF(CB126>0,AVERAGE(SMALL(IF(BI126:CB126>0,BI126:CB126),{1,2,3,4,5,6,7,8})),CA127)","v":28},{"$f":"IF(CC126>0,AVERAGE(SMALL(IF(BJ126:CC126>0,BJ126:CC126),{1,2,3,4,5,6,7,8})),CB127)","v":28},{"$f":"IF(CD126>0,AVERAGE(SMALL(IF(BK126:CD126>0,BK126:CD126),{1,2,3,4,5,6,7,8})),CC127)","v":28},{"$f":"IF(CE126>0,AVERAGE(SMALL(IF(BL126:CE126>0,BL126:CE126),{1,2,3,4,5,6,7,8})),CD127)","v":28},{"$f":"IF(CF126>0,AVERAGE(SMALL(IF(BM126:CF126>0,BM126:CF126),{1,2,3,4,5,6,7,8})),CE127)","v":28},{"$f":"IF(CG126>0,AVERAGE(SMALL(IF(BN126:CG126>0,BN126:CG126),{1,2,3,4,5,6,7,8})),CF127)","v":28},{"$f":"IF(CH126>0,AVERAGE(SMALL(IF(BO126:CH126>0,BO126:CH126),{1,2,3,4,5,6,7,8})),CG127)","v":28},{"$f":"IF(CI126>0,AVERAGE(SMALL(IF(BP126:CI126>0,BP126:CI126),{1,2,3,4,5,6,7,8})),CH127)","v":28},{"$f":"IF(CJ126>0,AVERAGE(SMALL(IF(BQ126:CJ126>0,BQ126:CJ126),{1,2,3,4,5,6,7,8})),CI127)","v":28},{"$f":"IF(CK126>0,AVERAGE(SMALL(IF(BR126:CK126>0,BR126:CK126),{1,2,3,4,5,6,7,8})),CJ127)","v":28},{"$f":"IF(CL126>0,AVERAGE(SMALL(IF(BS126:CL126>0,BS126:CL126),{1,2,3,4,5,6,7,8})),CK127)","v":28},{"$f":"IF(CM126>0,AVERAGE(SMALL(IF(BT126:CM126>0,BT126:CM126),{1,2,3,4,5,6,7,8})),CL127)","v":28},{"$f":"IF(CN126>0,AVERAGE(SMALL(IF(BU126:CN126>0,BU126:CN126),{1,2,3,4,5,6,7,8})),CM127)","v":28},{"$f":"IF(CO126>0,AVERAGE(SMALL(IF(BV126:CO126>0,BV126:CO126),{1,2,3,4,5,6,7,8})),CN127)","v":28},{"$f":"IF(CP126>0,AVERAGE(SMALL(IF(BW126:CP126>0,BW126:CP126),{1,2,3,4,5,6,7,8})),CO127)","v":28},{"$f":"IF(CQ126>0,AVERAGE(SMALL(IF(BX126:CQ126>0,BX126:CQ126),{1,2,3,4,5,6,7,8})),CP127)","v":28},{"$f":"IF(CR126>0,AVERAGE(SMALL(IF(BY126:CR126>0,BY126:CR126),{1,2,3,4,5,6,7,8})),CQ127)","v":28},{"$f":"IF(CS126>0,AVERAGE(SMALL(IF(BZ126:CS126>0,BZ126:CS126),{1,2,3,4,5,6,7,8})),CR127)","v":28},{"$f":"IF(CT126>0,AVERAGE(SMALL(IF(CA126:CT126>0,CA126:CT126),{1,2,3,4,5,6,7,8})),CS127)","v":28},{"$f":"IF(CU126>0,AVERAGE(SMALL(IF(CB126:CU126>0,CB126:CU126),{1,2,3,4,5,6,7,8})),CT127)","v":28},{"$f":"IF(CV126>0,AVERAGE(SMALL(IF(CC126:CV126>0,CC126:CV126),{1,2,3,4,5,6,7,8})),CU127)","v":28},{"$f":"IF(CW126>0,AVERAGE(SMALL(IF(CD126:CW126>0,CD126:CW126),{1,2,3,4,5,6,7,8})),CV127)","v":28}]
[null,null,null,null,null,null,null,null,"Low Hcap",null,null,null,null,null,null,null,null,null,null,null,null,null,null,null,null,null,null,null,{"$f":"MIN($J127:AC127)","v":28},{"$f":"MIN($J127:AD127)","v":28},{"$f":"MIN($J127:AE127)","v":28},{"$f":"MIN($J127:AF127)","v":28},{"$f":"MIN($J127:AG127)","v":28},{"$f":"MIN($J127:AH127)","v":28},{"$f":"MIN($J127:AI127)","v":28},{"$f":"MIN($J127:AJ127)","v":28},{"$f":"MIN($J127:AK127)","v":28},{"$f":"MIN($J127:AL127)","v":28},{"$f":"MIN($J127:AM127)","v":28},{"$f":"MIN($J127:AN127)","v":28},{"$f":"MIN($J127:AO127)","v":28},{"$f":"MIN($J127:AP127)","v":28},{"$f":"MIN($J127:AQ127)","v":28},{"$f":"MIN($J127:AR127)","v":28},{"$f":"MIN($J127:AS127)","v":28},{"$f":"MIN($J127:AT127)","v":28},{"$f":"MIN($J127:AU127)","v":28},{"$f":"MIN($J127:AV127)","v":28},{"$f":"MIN($J127:AW127)","v":28},{"$f":"MIN($J127:AX127)","v":28},{"$f":"MIN($J127:AY127)","v":28},{"$f":"MIN($J127:AZ127)","v":28},{"$f":"MIN($J127:BA127)","v":28},{"$f":"MIN($J127:BB127)","v":28},{"$f":"MIN($J127:BC127)","v":28},{"$f":"MIN($J127:BD127)","v":28},{"$f":"MIN($J127:BE127)","v":28},{"$f":"MIN($J127:BF127)","v":28},{"$f":"MIN($J127:BG127)","v":28},{"$f":"MIN($J127:BH127)","v":28},{"$f":"MIN($J127:BI127)","v":28},{"$f":"MIN($J127:BJ127)","v":28},{"$f":"MIN($J127:BK127)","v":28},{"$f":"MIN($J127:BL127)","v":28},{"$f":"MIN($J127:BM127)","v":28},{"$f":"MIN($J127:BN127)","v":28},{"$f":"MIN($J127:BO127)","v":28},{"$f":"MIN($J127:BP127)","v":28},{"$f":"MIN($J127:BQ127)","v":28},{"$f":"MIN($J127:BR127)","v":28},{"$f":"MIN($J127:BS127)","v":28},{"$f":"MIN($J127:BT127)","v":28},{"$f":"MIN($J127:BU127)","v":28},{"$f":"MIN($J127:BV127)","v":28},{"$f":"MIN($J127:BW127)","v":28},{"$f":"MIN($J127:BX127)","v":28},{"$f":"MIN($J127:BY127)","v":28},{"$f":"MIN($J127:BZ127)","v":28},{"$f":"MIN($J127:CA127)","v":28},{"$f":"MIN($J127:CB127)","v":28},{"$f":"MIN($J127:CC127)","v":28},{"$f":"MIN($J127:CD127)","v":28},{"$f":"MIN($J127:CE127)","v":28},{"$f":"MIN($J127:CF127)","v":28},{"$f":"MIN($J127:CG127)","v":28},{"$f":"MIN($J127:CH127)","v":28},{"$f":"MIN($J127:CI127)","v":28},{"$f":"MIN($J127:CJ127)","v":28},{"$f":"MIN($J127:CK127)","v":28},{"$f":"MIN($J127:CL127)","v":28},{"$f":"MIN($J127:CM127)","v":28},{"$f":"MIN($J127:CN127)","v":28},{"$f":"MIN($J127:CO127)","v":28},{"$f":"MIN($J127:CP127)","v":28},{"$f":"MIN($J127:CQ127)","v":28},{"$f":"MIN($J127:CR127)","v":28},{"$f":"MIN($J127:CS127)","v":28},{"$f":"MIN($J127:CT127)","v":28},{"$f":"MIN($J127:CU127)","v":28},{"$f":"MIN($J127:CV127)","v":28},{"$f":"MIN($J127:CW127)","v":28}]
[null,"Daly","Kevin",36,null,{"$f":"IF(H129<4,\"Y\",)","v":"Y"},2016,{"$f":"COUNT(J129:CX129)","v":0},"Date",null,null,null,null,null,null,null,null,null,null,null,null,null,null,null,null,null,null,null,null,null,null,null,null,null,null,null,null,null,null,null,null,null,null,null,null,null,null,null,null,null,null,null,null,null,null,null,null,null,null,null,null,null,null,null,null,null,null,null,null,null,null,null,null,null,null,null,null,null,null,null,null,null,null,null,null,null,null,null,null,null,null,null,null,null,null,null,null,null,null,null,null,null,{"$f":"IF(CW133>$DD$1,36,CW133)","v":34},34,{"$f":"CZ129-CY129","v":0}]
[null,null,null,null,null,null,null,null,"Course"]
[null,null,null,null,null,null,null,null,"Ad Gr"]
[null,null,null,null,null,null,null,null,"SD",36,{"$f":"IF(K131=\"\",0,(K131-INDIRECT(CONCATENATE(K130,\"CR\")))*113/INDIRECT(CONCATENATE(K130,\"SR\")))","v":0},{"$f":"IF(L131=\"\",0,(L131-INDIRECT(CONCATENATE(L130,\"CR\")))*113/INDIRECT(CONCATENATE(L130,\"SR\")))","v":0},{"$f":"IF(M131=\"\",0,(M131-INDIRECT(CONCATENATE(M130,\"CR\")))*113/INDIRECT(CONCATENATE(M130,\"SR\")))","v":0},{"$f":"IF(N131=\"\",0,(N131-INDIRECT(CONCATENATE(N130,\"CR\")))*113/INDIRECT(CONCATENATE(N130,\"SR\")))","v":0},{"$f":"IF(O131=\"\",0,(O131-INDIRECT(CONCATENATE(O130,\"CR\")))*113/INDIRECT(CONCATENATE(O130,\"SR\")))","v":0},{"$f":"IF(P131=\"\",0,(P131-INDIRECT(CONCATENATE(P130,\"CR\")))*113/INDIRECT(CONCATENATE(P130,\"SR\")))","v":0},{"$f":"IF(Q131=\"\",0,(Q131-INDIRECT(CONCATENATE(Q130,\"CR\")))*113/INDIRECT(CONCATENATE(Q130,\"SR\")))","v":0},{"$f":"IF(R131=\"\",0,(R131-INDIRECT(CONCATENATE(R130,\"CR\")))*113/INDIRECT(CONCATENATE(R130,\"SR\")))","v":0},{"$f":"IF(S131=\"\",0,(S131-INDIRECT(CONCATENATE(S130,\"CR\")))*113/INDIRECT(CONCATENATE(S130,\"SR\")))","v":0},{"$f":"IF(T131=\"\",0,(T131-INDIRECT(CONCATENATE(T130,\"CR\")))*113/INDIRECT(CONCATENATE(T130,\"SR\")))","v":0},{"$f":"IF(U131=\"\",0,(U131-INDIRECT(CONCATENATE(U130,\"CR\")))*113/INDIRECT(CONCATENATE(U130,\"SR\")))","v":0},{"$f":"IF(V131=\"\",0,(V131-INDIRECT(CONCATENATE(V130,\"CR\")))*113/INDIRECT(CONCATENATE(V130,\"SR\")))","v":0},{"$f":"IF(W131=\"\",0,(W131-INDIRECT(CONCATENATE(W130,\"CR\")))*113/INDIRECT(CONCATENATE(W130,\"SR\")))","v":0},{"$f":"IF(X131=\"\",0,(X131-INDIRECT(CONCATENATE(X130,\"CR\")))*113/INDIRECT(CONCATENATE(X130,\"SR\")))","v":0},{"$f":"IF(Y131=\"\",0,(Y131-INDIRECT(CONCATENATE(Y130,\"CR\")))*113/INDIRECT(CONCATENATE(Y130,\"SR\")))","v":0},{"$f":"IF(Z131=\"\",0,(Z131-INDIRECT(CONCATENATE(Z130,\"CR\")))*113/INDIRECT(CONCATENATE(Z130,\"SR\")))","v":0},{"$f":"IF(AA131=\"\",0,(AA131-INDIRECT(CONCATENATE(AA130,\"CR\")))*113/INDIRECT(CONCATENATE(AA130,\"SR\")))","v":0},{"$f":"IF(AB131=\"\",0,(AB131-INDIRECT(CONCATENATE(AB130,\"CR\")))*113/INDIRECT(CONCATENATE(AB130,\"SR\")))","v":0},{"$f":"IF(AC131=\"\",0,(AC131-INDIRECT(CONCATENATE(AC130,\"CR\")))*113/INDIRECT(CONCATENATE(AC130,\"SR\")))","v":0},{"$f":"IF(AD131=\"\",0,(AD131-INDIRECT(CONCATENATE(AD130,\"CR\")))*113/INDIRECT(CONCATENATE(AD130,\"SR\")))","v":0},{"$f":"IF(AE131=\"\",0,(AE131-INDIRECT(CONCATENATE(AE130,\"CR\")))*113/INDIRECT(CONCATENATE(AE130,\"SR\")))","v":0},{"$f":"IF(AF131=\"\",0,(AF131-INDIRECT(CONCATENATE(AF130,\"CR\")))*113/INDIRECT(CONCATENATE(AF130,\"SR\")))","v":0},0,{"$f":"IF(AH131=\"\",0,(AH131-INDIRECT(CONCATENATE(AH130,\"CR\")))*113/INDIRECT(CONCATENATE(AH130,\"SR\")))","v":0},0,{"$f":"IF(AJ131=\"\",0,(AJ131-INDIRECT(CONCATENATE(AJ130,\"CR\")))*113/INDIRECT(CONCATENATE(AJ130,\"SR\")))","v":0},0,{"$f":"IF(AL131=\"\",0,(AL131-INDIRECT(CONCATENATE(AL130,\"CR\")))*113/INDIRECT(CONCATENATE(AL130,\"SR\")))","v":0},0,{"$f":"IF(AN131=\"\",0,(AN131-INDIRECT(CONCATENATE(AN130,\"CR\")))*113/INDIRECT(CONCATENATE(AN130,\"SR\")))","v":0},0,{"$f":"IF(AP131=\"\",0,(AP131-INDIRECT(CONCATENATE(AP130,\"CR\")))*113/INDIRECT(CONCATENATE(AP130,\"SR\")))","v":0},0,{"$f":"IF(AR131=\"\",0,(AR131-INDIRECT(CONCATENATE(AR130,\"CR\")))*113/INDIRECT(CONCATENATE(AR130,\"SR\")))","v":0},0,{"$f":"IF(AT131=\"\",0,(AT131-INDIRECT(CONCATENATE(AT130,\"CR\")))*113/INDIRECT(CONCATENATE(AT130,\"SR\")))","v":0},0,{"$f":"IF(AV131=\"\",0,(AV131-INDIRECT(CONCATENATE(AV130,\"CR\")))*113/INDIRECT(CONCATENATE(AV130,\"SR\")))","v":0},0,{"$f":"IF(AX131=\"\",0,(AX131-INDIRECT(CONCATENATE(AX130,\"CR\")))*113/INDIRECT(CONCATENATE(AX130,\"SR\")))","v":0},0,{"$f":"IF(AZ131=\"\",0,(AZ131-INDIRECT(CONCATENATE(AZ130,\"CR\")))*113/INDIRECT(CONCATENATE(AZ130,\"SR\")))","v":0},0,{"$f":"IF(BB131=\"\",0,(BB131-INDIRECT(CONCATENATE(BB130,\"CR\")))*113/INDIRECT(CONCATENATE(BB130,\"SR\")))","v":0},0,{"$f":"IF(BD131=\"\",0,(BD131-INDIRECT(CONCATENATE(BD130,\"CR\")))*113/INDIRECT(CONCATENATE(BD130,\"SR\")))","v":0},0,{"$f":"IF(BF131=\"\",0,(BF131-INDIRECT(CONCATENATE(BF130,\"CR\")))*113/INDIRECT(CONCATENATE(BF130,\"SR\")))","v":0},0,{"$f":"IF(BH131=\"\",0,(BH131-INDIRECT(CONCATENATE(BH130,\"CR\")))*113/INDIRECT(CONCATENATE(BH130,\"SR\")))","v":0},0,0,0,0,0,0,0,0,{"$f":"IF(BQ131=\"\",0,(BQ131-INDIRECT(CONCATENATE(BQ130,\"CR\")))*113/INDIRECT(CONCATENATE(BQ130,\"SR\")))","v":0},0,{"$f":"IF(BS131=\"\",0,(BS131-INDIRECT(CONCATENATE(BS130,\"CR\")))*113/INDIRECT(CONCATENATE(BS130,\"SR\")))","v":0},0,{"$f":"IF(BU131=\"\",0,(BU131-INDIRECT(CONCATENATE(BU130,\"CR\")))*113/INDIRECT(CONCATENATE(BU130,\"SR\")))","v":0},0,{"$f":"IF(BW131=\"\",0,(BW131-INDIRECT(CONCATENATE(BW130,\"CR\")))*113/INDIRECT(CONCATENATE(BW130,\"SR\")))","v":0},0,{"$f":"IF(BY131=\"\",0,(BY131-INDIRECT(CONCATENATE(BY130,\"CR\")))*113/INDIRECT(CONCATENATE(BY130,\"SR\")))","v":0},0,{"$f":"IF(CA131=\"\",0,(CA131-INDIRECT(CONCATENATE(CA130,\"CR\")))*113/INDIRECT(CONCATENATE(CA130,\"SR\")))","v":0},0,{"$f":"IF(CC131=\"\",0,(CC131-INDIRECT(CONCATENATE(CC130,\"CR\")))*113/INDIRECT(CONCATENATE(CC130,\"SR\")))","v":0},0,{"$f":"IF(CE131=\"\",0,(CE131-INDIRECT(CONCATENATE(CE130,\"CR\")))*113/INDIRECT(CONCATENATE(CE130,\"SR\")))","v":0},0,{"$f":"IF(CG131=\"\",0,(CG131-INDIRECT(CONCATENATE(CG130,\"CR\")))*113/INDIRECT(CONCATENATE(CG130,\"SR\")))","v":0},0,{"$f":"IF(CI131=\"\",0,(CI131-INDIRECT(CONCATENATE(CI130,\"CR\")))*113/INDIRECT(CONCATENATE(CI130,\"SR\")))","v":0},0,{"$f":"IF(CK131=\"\",0,(CK131-INDIRECT(CONCATENATE(CK130,\"CR\")))*113/INDIRECT(CONCATENATE(CK130,\"SR\")))","v":0},0,{"$f":"IF(CM131=\"\",0,(CM131-INDIRECT(CONCATENATE(CM130,\"CR\")))*113/INDIRECT(CONCATENATE(CM130,\"SR\")))","v":0},0,{"$f":"IF(CO131=\"\",0,(CO131-INDIRECT(CONCATENATE(CO130,\"CR\")))*113/INDIRECT(CONCATENATE(CO130,\"SR\")))","v":0},0,{"$f":"IF(CQ131=\"\",0,(CQ131-INDIRECT(CONCATENATE(CQ130,\"CR\")))*113/INDIRECT(CONCATENATE(CQ130,\"SR\")))","v":0},0,{"$f":"IF(CS131=\"\",0,(CS131-INDIRECT(CONCATENATE(CS130,\"CR\")))*113/INDIRECT(CONCATENATE(CS130,\"SR\")))","v":0},0,{"$f":"IF(CU131=\"\",0,(CU131-INDIRECT(CONCATENATE(CU130,\"CR\")))*113/INDIRECT(CONCATENATE(CU130,\"SR\")))","v":0},0,{"$f":"IF(CW131=\"\",0,(CW131-INDIRECT(CONCATENATE(CW130,\"CR\")))*113/INDIRECT(CONCATENATE(CW130,\"SR\")))","v":0}]
[null,null,null,null,null,null,null,null,"New Hcap",{"$f":"J132-2","v":34},{"$f":"IF(K132>0,MIN(J132:K132)-2,J133)","v":34},{"$f":"IF(L132>0,MIN(J132:L132)-2,K133)","v":34},{"$f":"IF(M132>0,MIN(J132:M132)-1,L133)","v":34},{"$f":"IF(N132>0,MIN(J132:N132),M133)","v":34},{"$f":"IF(O132>0,AVERAGE(SMALL(IF(J132:O132>0,J132:O132),{1,2}))-1,N133)","v":34},{"$f":"IF(P132>0,AVERAGE(SMALL(IF(J132:P132>0,J132:P132),{1,2})),O133)","v":34},{"$f":"IF(Q132>0,AVERAGE(SMALL(IF(J132:Q132>0,J132:Q132),{1,2})),P133)","v":34},{"$f":"IF(R132>0,AVERAGE(SMALL(IF(J132:R132>0,J132:R132),{1,2,3})),Q133)","v":34},{"$f":"IF(S132>0,AVERAGE(SMALL(IF(J132:S132>0,J132:S132),{1,2,3})),R133)","v":34},{"$f":"IF(T132>0,AVERAGE(SMALL(IF(J132:T132>0,J132:T132),{1,2,3})),S133)","v":34},{"$f":"IF(U132>0,AVERAGE(SMALL(IF(J132:U132>0,J132:U132),{1,2,3,4})),T133)","v":34},{"$f":"IF(V132>0,AVERAGE(SMALL(IF(J132:V132>0,J132:V132),{1,2,3,4})),U133)","v":34},{"$f":"IF(W132>0,AVERAGE(SMALL(IF(J132:W132>0,J132:W132),{1,2,3,4})),V133)","v":34},{"$f":"IF(X132>0,AVERAGE(SMALL(IF(J132:X132>0,J132:X132),{1,2,3,4,5})),W133)","v":34},{"$f":"IF(Y132>0,AVERAGE(SMALL(IF(J132:Y132>0,J132:Y132),{1,2,3,4,5})),X133)","v":34},{"$f":"IF(Z132>0,AVERAGE(SMALL(IF(J132:Z132>0,J132:Z132),{1,2,3,4,5,6})),Y133)","v":34},{"$f":"IF(AA132>0,AVERAGE(SMALL(IF(J132:AA132>0,J132:AA132),{1,2,3,4,5,6})),Z133)","v":34},{"$f":"IF(AB132>0,AVERAGE(SMALL(IF(J132:AB132>0,J132:AB132),{1,2,3,4,5,6,7})),AA133)","v":34},{"$f":"IF(AC132>0,AVERAGE(SMALL(IF(J132:AC132>0,J132:AC132),{1,2,3,4,5,6,7,8})),AB133)","v":34},{"$f":"IF(AD132>0,AVERAGE(SMALL(IF(K132:AD132>0,K132:AD132),{1,2,3,4,5,6,7,8})),AC133)","v":34},{"$f":"IF(AE132>0,AVERAGE(SMALL(IF(L132:AE132>0,L132:AE132),{1,2,3,4,5,6,7,8})),AD133)","v":34},{"$f":"IF(AF132>0,AVERAGE(SMALL(IF(M132:AF132>0,M132:AF132),{1,2,3,4,5,6,7,8})),AE133)","v":34},{"$f":"IF(AG132>0,AVERAGE(SMALL(IF(N132:AG132>0,N132:AG132),{1,2,3,4,5,6,7,8})),AF133)","v":34},{"$f":"IF(AH132>0,AVERAGE(SMALL(IF(O132:AH132>0,O132:AH132),{1,2,3,4,5,6,7,8})),AG133)","v":34},{"$f":"IF(AI132>0,AVERAGE(SMALL(IF(P132:AI132>0,P132:AI132),{1,2,3,4,5,6,7,8})),AH133)","v":34},{"$f":"IF(AJ132>0,AVERAGE(SMALL(IF(Q132:AJ132>0,Q132:AJ132),{1,2,3,4,5,6,7,8})),AI133)","v":34},{"$f":"IF(AK132>0,AVERAGE(SMALL(IF(R132:AK132>0,R132:AK132),{1,2,3,4,5,6,7,8})),AJ133)","v":34},{"$f":"IF(AL132>0,AVERAGE(SMALL(IF(S132:AL132>0,S132:AL132),{1,2,3,4,5,6,7,8})),AK133)","v":34},{"$f":"IF(AM132>0,AVERAGE(SMALL(IF(T132:AM132>0,T132:AM132),{1,2,3,4,5,6,7,8})),AL133)","v":34},{"$f":"IF(AN132>0,AVERAGE(SMALL(IF(U132:AN132>0,U132:AN132),{1,2,3,4,5,6,7,8})),AM133)","v":34},{"$f":"IF(AO132>0,AVERAGE(SMALL(IF(V132:AO132>0,V132:AO132),{1,2,3,4,5,6,7,8})),AN133)","v":34},{"$f":"IF(AP132>0,AVERAGE(SMALL(IF(W132:AP132>0,W132:AP132),{1,2,3,4,5,6,7,8})),AO133)","v":34},{"$f":"IF(AQ132>0,AVERAGE(SMALL(IF(X132:AQ132>0,X132:AQ132),{1,2,3,4,5,6,7,8})),AP133)","v":34},{"$f":"IF(AR132>0,AVERAGE(SMALL(IF(Y132:AR132>0,Y132:AR132),{1,2,3,4,5,6,7,8})),AQ133)","v":34},{"$f":"IF(AS132>0,AVERAGE(SMALL(IF(Z132:AS132>0,Z132:AS132),{1,2,3,4,5,6,7,8})),AR133)","v":34},{"$f":"IF(AT132>0,AVERAGE(SMALL(IF(AA132:AT132>0,AA132:AT132),{1,2,3,4,5,6,7,8})),AS133)","v":34},{"$f":"IF(AU132>0,AVERAGE(SMALL(IF(AB132:AU132>0,AB132:AU132),{1,2,3,4,5,6,7,8})),AT133)","v":34},{"$f":"IF(AV132>0,AVERAGE(SMALL(IF(AC132:AV132>0,AC132:AV132),{1,2,3,4,5,6,7,8})),AU133)","v":34},{"$f":"IF(AW132>0,AVERAGE(SMALL(IF(AD132:AW132>0,AD132:AW132),{1,2,3,4,5,6,7,8})),AV133)","v":34},{"$f":"IF(AX132>0,AVERAGE(SMALL(IF(AE132:AX132>0,AE132:AX132),{1,2,3,4,5,6,7,8})),AW133)","v":34},{"$f":"IF(AY132>0,AVERAGE(SMALL(IF(AF132:AY132>0,AF132:AY132),{1,2,3,4,5,6,7,8})),AX133)","v":34},{"$f":"IF(AZ132>0,AVERAGE(SMALL(IF(AG132:AZ132>0,AG132:AZ132),{1,2,3,4,5,6,7,8})),AY133)","v":34},{"$f":"IF(BA132>0,AVERAGE(SMALL(IF(AH132:BA132>0,AH132:BA132),{1,2,3,4,5,6,7,8})),AZ133)","v":34},{"$f":"IF(BB132>0,AVERAGE(SMALL(IF(AI132:BB132>0,AI132:BB132),{1,2,3,4,5,6,7,8})),BA133)","v":34},{"$f":"IF(BC132>0,AVERAGE(SMALL(IF(AJ132:BC132>0,AJ132:BC132),{1,2,3,4,5,6,7,8})),BB133)","v":34},{"$f":"IF(BD132>0,AVERAGE(SMALL(IF(AK132:BD132>0,AK132:BD132),{1,2,3,4,5,6,7,8})),BC133)","v":34},{"$f":"IF(BE132>0,AVERAGE(SMALL(IF(AL132:BE132>0,AL132:BE132),{1,2,3,4,5,6,7,8})),BD133)","v":34},{"$f":"IF(BF132>0,AVERAGE(SMALL(IF(AM132:BF132>0,AM132:BF132),{1,2,3,4,5,6,7,8})),BE133)","v":34},{"$f":"IF(BG132>0,AVERAGE(SMALL(IF(AN132:BG132>0,AN132:BG132),{1,2,3,4,5,6,7,8})),BF133)","v":34},{"$f":"IF(BH132>0,AVERAGE(SMALL(IF(AO132:BH132>0,AO132:BH132),{1,2,3,4,5,6,7,8})),BG133)","v":34},{"$f":"IF(BI132>0,AVERAGE(SMALL(IF(AP132:BI132>0,AP132:BI132),{1,2,3,4,5,6,7,8})),BH133)","v":34},{"$f":"IF(BJ132>0,AVERAGE(SMALL(IF(AQ132:BJ132>0,AQ132:BJ132),{1,2,3,4,5,6,7,8})),BI133)","v":34},{"$f":"IF(BK132>0,AVERAGE(SMALL(IF(AR132:BK132>0,AR132:BK132),{1,2,3,4,5,6,7,8})),BJ133)","v":34},{"$f":"IF(BL132>0,AVERAGE(SMALL(IF(AS132:BL132>0,AS132:BL132),{1,2,3,4,5,6,7,8})),BK133)","v":34},{"$f":"IF(BM132>0,AVERAGE(SMALL(IF(AT132:BM132>0,AT132:BM132),{1,2,3,4,5,6,7,8})),BL133)","v":34},{"$f":"IF(BN132>0,AVERAGE(SMALL(IF(AU132:BN132>0,AU132:BN132),{1,2,3,4,5,6,7,8})),BM133)","v":34},{"$f":"IF(BO132>0,AVERAGE(SMALL(IF(AV132:BO132>0,AV132:BO132),{1,2,3,4,5,6,7,8})),BN133)","v":34},{"$f":"IF(BP132>0,AVERAGE(SMALL(IF(AW132:BP132>0,AW132:BP132),{1,2,3,4,5,6,7,8})),BO133)","v":34},{"$f":"IF(BQ132>0,AVERAGE(SMALL(IF(AX132:BQ132>0,AX132:BQ132),{1,2,3,4,5,6,7,8})),BP133)","v":34},{"$f":"IF(BR132>0,AVERAGE(SMALL(IF(AY132:BR132>0,AY132:BR132),{1,2,3,4,5,6,7,8})),BQ133)","v":34},{"$f":"IF(BS132>0,AVERAGE(SMALL(IF(AZ132:BS132>0,AZ132:BS132),{1,2,3,4,5,6,7,8})),BR133)","v":34},{"$f":"IF(BT132>0,AVERAGE(SMALL(IF(BA132:BT132>0,BA132:BT132),{1,2,3,4,5,6,7,8})),BS133)","v":34},{"$f":"IF(BU132>0,AVERAGE(SMALL(IF(BB132:BU132>0,BB132:BU132),{1,2,3,4,5,6,7,8})),BT133)","v":34},{"$f":"IF(BV132>0,AVERAGE(SMALL(IF(BC132:BV132>0,BC132:BV132),{1,2,3,4,5,6,7,8})),BU133)","v":34},{"$f":"IF(BW132>0,AVERAGE(SMALL(IF(BD132:BW132>0,BD132:BW132),{1,2,3,4,5,6,7,8})),BV133)","v":34},{"$f":"IF(BX132>0,AVERAGE(SMALL(IF(BE132:BX132>0,BE132:BX132),{1,2,3,4,5,6,7,8})),BW133)","v":34},{"$f":"IF(BY132>0,AVERAGE(SMALL(IF(BF132:BY132>0,BF132:BY132),{1,2,3,4,5,6,7,8})),BX133)","v":34},{"$f":"IF(BZ132>0,AVERAGE(SMALL(IF(BG132:BZ132>0,BG132:BZ132),{1,2,3,4,5,6,7,8})),BY133)","v":34},{"$f":"IF(CA132>0,AVERAGE(SMALL(IF(BH132:CA132>0,BH132:CA132),{1,2,3,4,5,6,7,8})),BZ133)","v":34},{"$f":"IF(CB132>0,AVERAGE(SMALL(IF(BI132:CB132>0,BI132:CB132),{1,2,3,4,5,6,7,8})),CA133)","v":34},{"$f":"IF(CC132>0,AVERAGE(SMALL(IF(BJ132:CC132>0,BJ132:CC132),{1,2,3,4,5,6,7,8})),CB133)","v":34},{"$f":"IF(CD132>0,AVERAGE(SMALL(IF(BK132:CD132>0,BK132:CD132),{1,2,3,4,5,6,7,8})),CC133)","v":34},{"$f":"IF(CE132>0,AVERAGE(SMALL(IF(BL132:CE132>0,BL132:CE132),{1,2,3,4,5,6,7,8})),CD133)","v":34},{"$f":"IF(CF132>0,AVERAGE(SMALL(IF(BM132:CF132>0,BM132:CF132),{1,2,3,4,5,6,7,8})),CE133)","v":34},{"$f":"IF(CG132>0,AVERAGE(SMALL(IF(BN132:CG132>0,BN132:CG132),{1,2,3,4,5,6,7,8})),CF133)","v":34},{"$f":"IF(CH132>0,AVERAGE(SMALL(IF(BO132:CH132>0,BO132:CH132),{1,2,3,4,5,6,7,8})),CG133)","v":34},{"$f":"IF(CI132>0,AVERAGE(SMALL(IF(BP132:CI132>0,BP132:CI132),{1,2,3,4,5,6,7,8})),CH133)","v":34},{"$f":"IF(CJ132>0,AVERAGE(SMALL(IF(BQ132:CJ132>0,BQ132:CJ132),{1,2,3,4,5,6,7,8})),CI133)","v":34},{"$f":"IF(CK132>0,AVERAGE(SMALL(IF(BR132:CK132>0,BR132:CK132),{1,2,3,4,5,6,7,8})),CJ133)","v":34},{"$f":"IF(CL132>0,AVERAGE(SMALL(IF(BS132:CL132>0,BS132:CL132),{1,2,3,4,5,6,7,8})),CK133)","v":34},{"$f":"IF(CM132>0,AVERAGE(SMALL(IF(BT132:CM132>0,BT132:CM132),{1,2,3,4,5,6,7,8})),CL133)","v":34},{"$f":"IF(CN132>0,AVERAGE(SMALL(IF(BU132:CN132>0,BU132:CN132),{1,2,3,4,5,6,7,8})),CM133)","v":34},{"$f":"IF(CO132>0,AVERAGE(SMALL(IF(BV132:CO132>0,BV132:CO132),{1,2,3,4,5,6,7,8})),CN133)","v":34},{"$f":"IF(CP132>0,AVERAGE(SMALL(IF(BW132:CP132>0,BW132:CP132),{1,2,3,4,5,6,7,8})),CO133)","v":34},{"$f":"IF(CQ132>0,AVERAGE(SMALL(IF(BX132:CQ132>0,BX132:CQ132),{1,2,3,4,5,6,7,8})),CP133)","v":34},{"$f":"IF(CR132>0,AVERAGE(SMALL(IF(BY132:CR132>0,BY132:CR132),{1,2,3,4,5,6,7,8})),CQ133)","v":34},{"$f":"IF(CS132>0,AVERAGE(SMALL(IF(BZ132:CS132>0,BZ132:CS132),{1,2,3,4,5,6,7,8})),CR133)","v":34},{"$f":"IF(CT132>0,AVERAGE(SMALL(IF(CA132:CT132>0,CA132:CT132),{1,2,3,4,5,6,7,8})),CS133)","v":34},{"$f":"IF(CU132>0,AVERAGE(SMALL(IF(CB132:CU132>0,CB132:CU132),{1,2,3,4,5,6,7,8})),CT133)","v":34},{"$f":"IF(CV132>0,AVERAGE(SMALL(IF(CC132:CV132>0,CC132:CV132),{1,2,3,4,5,6,7,8})),CU133)","v":34},{"$f":"IF(CW132>0,AVERAGE(SMALL(IF(CD132:CW132>0,CD132:CW132),{1,2,3,4,5,6,7,8})),CV133)","v":34}]
[null,null,null,null,null,null,null,null,"Low Hcap",null,null,null,null,null,null,null,null,null,null,null,null,null,null,null,null,null,null,null,{"$f":"MIN($J133:AC133)","v":34},{"$f":"MIN($J133:AD133)","v":34},{"$f":"MIN($J133:AE133)","v":34},{"$f":"MIN($J133:AF133)","v":34},{"$f":"MIN($J133:AG133)","v":34},{"$f":"MIN($J133:AH133)","v":34},{"$f":"MIN($J133:AI133)","v":34},{"$f":"MIN($J133:AJ133)","v":34},{"$f":"MIN($J133:AK133)","v":34},{"$f":"MIN($J133:AL133)","v":34},{"$f":"MIN($J133:AM133)","v":34},{"$f":"MIN($J133:AN133)","v":34},{"$f":"MIN($J133:AO133)","v":34},{"$f":"MIN($J133:AP133)","v":34},{"$f":"MIN($J133:AQ133)","v":34},{"$f":"MIN($J133:AR133)","v":34},{"$f":"MIN($J133:AS133)","v":34},{"$f":"MIN($J133:AT133)","v":34},{"$f":"MIN($J133:AU133)","v":34},{"$f":"MIN($J133:AV133)","v":34},{"$f":"MIN($J133:AW133)","v":34},{"$f":"MIN($J133:AX133)","v":34},{"$f":"MIN($J133:AY133)","v":34},{"$f":"MIN($J133:AZ133)","v":34},{"$f":"MIN($J133:BA133)","v":34},{"$f":"MIN($J133:BB133)","v":34},{"$f":"MIN($J133:BC133)","v":34},{"$f":"MIN($J133:BD133)","v":34},{"$f":"MIN($J133:BE133)","v":34},{"$f":"MIN($J133:BF133)","v":34},{"$f":"MIN($J133:BG133)","v":34},{"$f":"MIN($J133:BH133)","v":34},{"$f":"MIN($J133:BI133)","v":34},{"$f":"MIN($J133:BJ133)","v":34},{"$f":"MIN($J133:BK133)","v":34},{"$f":"MIN($J133:BL133)","v":34},{"$f":"MIN($J133:BM133)","v":34},{"$f":"MIN($J133:BN133)","v":34},{"$f":"MIN($J133:BO133)","v":34},{"$f":"MIN($J133:BP133)","v":34},{"$f":"MIN($J133:BQ133)","v":34},{"$f":"MIN($J133:BR133)","v":34},{"$f":"MIN($J133:BS133)","v":34},{"$f":"MIN($J133:BT133)","v":34},{"$f":"MIN($J133:BU133)","v":34},{"$f":"MIN($J133:BV133)","v":34},{"$f":"MIN($J133:BW133)","v":34},{"$f":"MIN($J133:BX133)","v":34},{"$f":"MIN($J133:BY133)","v":34},{"$f":"MIN($J133:BZ133)","v":34},{"$f":"MIN($J133:CA133)","v":34},{"$f":"MIN($J133:CB133)","v":34},{"$f":"MIN($J133:CC133)","v":34},{"$f":"MIN($J133:CD133)","v":34},{"$f":"MIN($J133:CE133)","v":34},{"$f":"MIN($J133:CF133)","v":34},{"$f":"MIN($J133:CG133)","v":34},{"$f":"MIN($J133:CH133)","v":34},{"$f":"MIN($J133:CI133)","v":34},{"$f":"MIN($J133:CJ133)","v":34},{"$f":"MIN($J133:CK133)","v":34},{"$f":"MIN($J133:CL133)","v":34},{"$f":"MIN($J133:CM133)","v":34},{"$f":"MIN($J133:CN133)","v":34},{"$f":"MIN($J133:CO133)","v":34},{"$f":"MIN($J133:CP133)","v":34},{"$f":"MIN($J133:CQ133)","v":34},{"$f":"MIN($J133:CR133)","v":34},{"$f":"MIN($J133:CS133)","v":34},{"$f":"MIN($J133:CT133)","v":34},{"$f":"MIN($J133:CU133)","v":34},{"$f":"MIN($J133:CV133)","v":34},{"$f":"MIN($J133:CW133)","v":34}]
[null,"Daly","Liam",26,null,{"$f":"IF(H135<4,\"Y\",)","v":"Y"},2015,{"$f":"COUNT(J135:CX135)","v":0},"Date",null,null,null,null,null,null,null,null,null,null,null,null,null,null,null,null,null,null,null,null,null,null,null,null,null,null,null,null,null,null,null,null,null,null,null,null,null,null,null,null,null,null,null,null,null,null,null,null,null,null,null,null,null,null,null,null,null,null,null,null,null,null,null,null,null,null,null,null,null,null,null,null,null,null,null,null,null,null,null,null,null,null,null,null,null,null,null,null,null,null,null,null,null,{"$f":"IF(CW139>$DD$1,36,CW139)","v":24},24,{"$f":"CZ135-CY135","v":0}]
[null,null,null,null,null,null,null,null,"Course"]
[null,null,null,null,null,null,null,null,"Ad Gr"]
[null,null,null,null,null,null,null,null,"SD",26,{"$f":"IF(K137=\"\",0,(K137-INDIRECT(CONCATENATE(K136,\"CR\")))*113/INDIRECT(CONCATENATE(K136,\"SR\")))","v":0},0,0,0,0,0,0,0,0,0,0,0,0,0,0,0,0,0,0,0,0,0,0,0,0,0,0,0,0,0,0,0,0,0,0,0,0,0,0,0,0,0,0,0,0,0,0,0,0,0,0,0,0,0,0,0,0,0,0,0,0,0,0,0,{"$f":"IF(BW137=\"\",0,(BW137-INDIRECT(CONCATENATE(BW136,\"CR\")))*113/INDIRECT(CONCATENATE(BW136,\"SR\")))","v":0},0,0,0,0,0,0,0,0,0,0,0,0,0,0,0,{"$f":"IF(CM137=\"\",0,(CM137-INDIRECT(CONCATENATE(CM136,\"CR\")))*113/INDIRECT(CONCATENATE(CM136,\"SR\")))","v":0},0,{"$f":"IF(CO137=\"\",0,(CO137-INDIRECT(CONCATENATE(CO136,\"CR\")))*113/INDIRECT(CONCATENATE(CO136,\"SR\")))","v":0},0,{"$f":"IF(CQ137=\"\",0,(CQ137-INDIRECT(CONCATENATE(CQ136,\"CR\")))*113/INDIRECT(CONCATENATE(CQ136,\"SR\")))","v":0},0,{"$f":"IF(CS137=\"\",0,(CS137-INDIRECT(CONCATENATE(CS136,\"CR\")))*113/INDIRECT(CONCATENATE(CS136,\"SR\")))","v":0},0,{"$f":"IF(CU137=\"\",0,(CU137-INDIRECT(CONCATENATE(CU136,\"CR\")))*113/INDIRECT(CONCATENATE(CU136,\"SR\")))","v":0},0,{"$f":"IF(CW137=\"\",0,(CW137-INDIRECT(CONCATENATE(CW136,\"CR\")))*113/INDIRECT(CONCATENATE(CW136,\"SR\")))","v":0}]
[null,null,null,null,null,null,null,null,"New Hcap",{"$f":"J138-2","v":24},{"$f":"IF(K138>0,MIN(J138:K138)-2,J139)","v":24},{"$f":"IF(L138>0,MIN(J138:L138)-2,K139)","v":24},{"$f":"IF(M138>0,MIN(J138:M138)-1,L139)","v":24},{"$f":"IF(N138>0,MIN(J138:N138),M139)","v":24},{"$f":"IF(O138>0,AVERAGE(SMALL(IF(J138:O138>0,J138:O138),{1,2}))-1,N139)","v":24},{"$f":"IF(P138>0,AVERAGE(SMALL(IF(J138:P138>0,J138:P138),{1,2})),O139)","v":24},{"$f":"IF(Q138>0,AVERAGE(SMALL(IF(J138:Q138>0,J138:Q138),{1,2})),P139)","v":24},{"$f":"IF(R138>0,AVERAGE(SMALL(IF(J138:R138>0,J138:R138),{1,2,3})),Q139)","v":24},{"$f":"IF(S138>0,AVERAGE(SMALL(IF(J138:S138>0,J138:S138),{1,2,3})),R139)","v":24},{"$f":"IF(T138>0,AVERAGE(SMALL(IF(J138:T138>0,J138:T138),{1,2,3})),S139)","v":24},{"$f":"IF(U138>0,AVERAGE(SMALL(IF(J138:U138>0,J138:U138),{1,2,3,4})),T139)","v":24},{"$f":"IF(V138>0,AVERAGE(SMALL(IF(J138:V138>0,J138:V138),{1,2,3,4})),U139)","v":24},{"$f":"IF(W138>0,AVERAGE(SMALL(IF(J138:W138>0,J138:W138),{1,2,3,4})),V139)","v":24},{"$f":"IF(X138>0,AVERAGE(SMALL(IF(J138:X138>0,J138:X138),{1,2,3,4,5})),W139)","v":24},{"$f":"IF(Y138>0,AVERAGE(SMALL(IF(J138:Y138>0,J138:Y138),{1,2,3,4,5})),X139)","v":24},{"$f":"IF(Z138>0,AVERAGE(SMALL(IF(J138:Z138>0,J138:Z138),{1,2,3,4,5,6})),Y139)","v":24},{"$f":"IF(AA138>0,AVERAGE(SMALL(IF(J138:AA138>0,J138:AA138),{1,2,3,4,5,6})),Z139)","v":24},{"$f":"IF(AB138>0,AVERAGE(SMALL(IF(J138:AB138>0,J138:AB138),{1,2,3,4,5,6,7})),AA139)","v":24},{"$f":"IF(AC138>0,AVERAGE(SMALL(IF(J138:AC138>0,J138:AC138),{1,2,3,4,5,6,7,8})),AB139)","v":24},{"$f":"IF(AD138>0,AVERAGE(SMALL(IF(K138:AD138>0,K138:AD138),{1,2,3,4,5,6,7,8})),AC139)","v":24},{"$f":"IF(AE138>0,AVERAGE(SMALL(IF(L138:AE138>0,L138:AE138),{1,2,3,4,5,6,7,8})),AD139)","v":24},{"$f":"IF(AF138>0,AVERAGE(SMALL(IF(M138:AF138>0,M138:AF138),{1,2,3,4,5,6,7,8})),AE139)","v":24},{"$f":"IF(AG138>0,AVERAGE(SMALL(IF(N138:AG138>0,N138:AG138),{1,2,3,4,5,6,7,8})),AF139)","v":24},{"$f":"IF(AH138>0,AVERAGE(SMALL(IF(O138:AH138>0,O138:AH138),{1,2,3,4,5,6,7,8})),AG139)","v":24},{"$f":"IF(AI138>0,AVERAGE(SMALL(IF(P138:AI138>0,P138:AI138),{1,2,3,4,5,6,7,8})),AH139)","v":24},{"$f":"IF(AJ138>0,AVERAGE(SMALL(IF(Q138:AJ138>0,Q138:AJ138),{1,2,3,4,5,6,7,8})),AI139)","v":24},{"$f":"IF(AK138>0,AVERAGE(SMALL(IF(R138:AK138>0,R138:AK138),{1,2,3,4,5,6,7,8})),AJ139)","v":24},{"$f":"IF(AL138>0,AVERAGE(SMALL(IF(S138:AL138>0,S138:AL138),{1,2,3,4,5,6,7,8})),AK139)","v":24},{"$f":"IF(AM138>0,AVERAGE(SMALL(IF(T138:AM138>0,T138:AM138),{1,2,3,4,5,6,7,8})),AL139)","v":24},{"$f":"IF(AN138>0,AVERAGE(SMALL(IF(U138:AN138>0,U138:AN138),{1,2,3,4,5,6,7,8})),AM139)","v":24},{"$f":"IF(AO138>0,AVERAGE(SMALL(IF(V138:AO138>0,V138:AO138),{1,2,3,4,5,6,7,8})),AN139)","v":24},{"$f":"IF(AP138>0,AVERAGE(SMALL(IF(W138:AP138>0,W138:AP138),{1,2,3,4,5,6,7,8})),AO139)","v":24},{"$f":"IF(AQ138>0,AVERAGE(SMALL(IF(X138:AQ138>0,X138:AQ138),{1,2,3,4,5,6,7,8})),AP139)","v":24},{"$f":"IF(AR138>0,AVERAGE(SMALL(IF(Y138:AR138>0,Y138:AR138),{1,2,3,4,5,6,7,8})),AQ139)","v":24},{"$f":"IF(AS138>0,AVERAGE(SMALL(IF(Z138:AS138>0,Z138:AS138),{1,2,3,4,5,6,7,8})),AR139)","v":24},{"$f":"IF(AT138>0,AVERAGE(SMALL(IF(AA138:AT138>0,AA138:AT138),{1,2,3,4,5,6,7,8})),AS139)","v":24},{"$f":"IF(AU138>0,AVERAGE(SMALL(IF(AB138:AU138>0,AB138:AU138),{1,2,3,4,5,6,7,8})),AT139)","v":24},{"$f":"IF(AV138>0,AVERAGE(SMALL(IF(AC138:AV138>0,AC138:AV138),{1,2,3,4,5,6,7,8})),AU139)","v":24},{"$f":"IF(AW138>0,AVERAGE(SMALL(IF(AD138:AW138>0,AD138:AW138),{1,2,3,4,5,6,7,8})),AV139)","v":24},{"$f":"IF(AX138>0,AVERAGE(SMALL(IF(AE138:AX138>0,AE138:AX138),{1,2,3,4,5,6,7,8})),AW139)","v":24},{"$f":"IF(AY138>0,AVERAGE(SMALL(IF(AF138:AY138>0,AF138:AY138),{1,2,3,4,5,6,7,8})),AX139)","v":24},{"$f":"IF(AZ138>0,AVERAGE(SMALL(IF(AG138:AZ138>0,AG138:AZ138),{1,2,3,4,5,6,7,8})),AY139)","v":24},{"$f":"IF(BA138>0,AVERAGE(SMALL(IF(AH138:BA138>0,AH138:BA138),{1,2,3,4,5,6,7,8})),AZ139)","v":24},{"$f":"IF(BB138>0,AVERAGE(SMALL(IF(AI138:BB138>0,AI138:BB138),{1,2,3,4,5,6,7,8})),BA139)","v":24},{"$f":"IF(BC138>0,AVERAGE(SMALL(IF(AJ138:BC138>0,AJ138:BC138),{1,2,3,4,5,6,7,8})),BB139)","v":24},{"$f":"IF(BD138>0,AVERAGE(SMALL(IF(AK138:BD138>0,AK138:BD138),{1,2,3,4,5,6,7,8})),BC139)","v":24},{"$f":"IF(BE138>0,AVERAGE(SMALL(IF(AL138:BE138>0,AL138:BE138),{1,2,3,4,5,6,7,8})),BD139)","v":24},{"$f":"IF(BF138>0,AVERAGE(SMALL(IF(AM138:BF138>0,AM138:BF138),{1,2,3,4,5,6,7,8})),BE139)","v":24},{"$f":"IF(BG138>0,AVERAGE(SMALL(IF(AN138:BG138>0,AN138:BG138),{1,2,3,4,5,6,7,8})),BF139)","v":24},{"$f":"IF(BH138>0,AVERAGE(SMALL(IF(AO138:BH138>0,AO138:BH138),{1,2,3,4,5,6,7,8})),BG139)","v":24},{"$f":"IF(BI138>0,AVERAGE(SMALL(IF(AP138:BI138>0,AP138:BI138),{1,2,3,4,5,6,7,8})),BH139)","v":24},{"$f":"IF(BJ138>0,AVERAGE(SMALL(IF(AQ138:BJ138>0,AQ138:BJ138),{1,2,3,4,5,6,7,8})),BI139)","v":24},{"$f":"IF(BK138>0,AVERAGE(SMALL(IF(AR138:BK138>0,AR138:BK138),{1,2,3,4,5,6,7,8})),BJ139)","v":24},{"$f":"IF(BL138>0,AVERAGE(SMALL(IF(AS138:BL138>0,AS138:BL138),{1,2,3,4,5,6,7,8})),BK139)","v":24},{"$f":"IF(BM138>0,AVERAGE(SMALL(IF(AT138:BM138>0,AT138:BM138),{1,2,3,4,5,6,7,8})),BL139)","v":24},{"$f":"IF(BN138>0,AVERAGE(SMALL(IF(AU138:BN138>0,AU138:BN138),{1,2,3,4,5,6,7,8})),BM139)","v":24},{"$f":"IF(BO138>0,AVERAGE(SMALL(IF(AV138:BO138>0,AV138:BO138),{1,2,3,4,5,6,7,8})),BN139)","v":24},{"$f":"IF(BP138>0,AVERAGE(SMALL(IF(AW138:BP138>0,AW138:BP138),{1,2,3,4,5,6,7,8})),BO139)","v":24},{"$f":"IF(BQ138>0,AVERAGE(SMALL(IF(AX138:BQ138>0,AX138:BQ138),{1,2,3,4,5,6,7,8})),BP139)","v":24},{"$f":"IF(BR138>0,AVERAGE(SMALL(IF(AY138:BR138>0,AY138:BR138),{1,2,3,4,5,6,7,8})),BQ139)","v":24},{"$f":"IF(BS138>0,AVERAGE(SMALL(IF(AZ138:BS138>0,AZ138:BS138),{1,2,3,4,5,6,7,8})),BR139)","v":24},{"$f":"IF(BT138>0,AVERAGE(SMALL(IF(BA138:BT138>0,BA138:BT138),{1,2,3,4,5,6,7,8})),BS139)","v":24},{"$f":"IF(BU138>0,AVERAGE(SMALL(IF(BB138:BU138>0,BB138:BU138),{1,2,3,4,5,6,7,8})),BT139)","v":24},{"$f":"IF(BV138>0,AVERAGE(SMALL(IF(BC138:BV138>0,BC138:BV138),{1,2,3,4,5,6,7,8})),BU139)","v":24},{"$f":"IF(BW138>0,AVERAGE(SMALL(IF(BD138:BW138>0,BD138:BW138),{1,2,3,4,5,6,7,8})),BV139)","v":24},{"$f":"IF(BX138>0,AVERAGE(SMALL(IF(BE138:BX138>0,BE138:BX138),{1,2,3,4,5,6,7,8})),BW139)","v":24},{"$f":"IF(BY138>0,AVERAGE(SMALL(IF(BF138:BY138>0,BF138:BY138),{1,2,3,4,5,6,7,8})),BX139)","v":24},{"$f":"IF(BZ138>0,AVERAGE(SMALL(IF(BG138:BZ138>0,BG138:BZ138),{1,2,3,4,5,6,7,8})),BY139)","v":24},{"$f":"IF(CA138>0,AVERAGE(SMALL(IF(BH138:CA138>0,BH138:CA138),{1,2,3,4,5,6,7,8})),BZ139)","v":24},{"$f":"IF(CB138>0,AVERAGE(SMALL(IF(BI138:CB138>0,BI138:CB138),{1,2,3,4,5,6,7,8})),CA139)","v":24},{"$f":"IF(CC138>0,AVERAGE(SMALL(IF(BJ138:CC138>0,BJ138:CC138),{1,2,3,4,5,6,7,8})),CB139)","v":24},{"$f":"IF(CD138>0,AVERAGE(SMALL(IF(BK138:CD138>0,BK138:CD138),{1,2,3,4,5,6,7,8})),CC139)","v":24},{"$f":"IF(CE138>0,AVERAGE(SMALL(IF(BL138:CE138>0,BL138:CE138),{1,2,3,4,5,6,7,8})),CD139)","v":24},{"$f":"IF(CF138>0,AVERAGE(SMALL(IF(BM138:CF138>0,BM138:CF138),{1,2,3,4,5,6,7,8})),CE139)","v":24},{"$f":"IF(CG138>0,AVERAGE(SMALL(IF(BN138:CG138>0,BN138:CG138),{1,2,3,4,5,6,7,8})),CF139)","v":24},{"$f":"IF(CH138>0,AVERAGE(SMALL(IF(BO138:CH138>0,BO138:CH138),{1,2,3,4,5,6,7,8})),CG139)","v":24},{"$f":"IF(CI138>0,AVERAGE(SMALL(IF(BP138:CI138>0,BP138:CI138),{1,2,3,4,5,6,7,8})),CH139)","v":24},{"$f":"IF(CJ138>0,AVERAGE(SMALL(IF(BQ138:CJ138>0,BQ138:CJ138),{1,2,3,4,5,6,7,8})),CI139)","v":24},{"$f":"IF(CK138>0,AVERAGE(SMALL(IF(BR138:CK138>0,BR138:CK138),{1,2,3,4,5,6,7,8})),CJ139)","v":24},{"$f":"IF(CL138>0,AVERAGE(SMALL(IF(BS138:CL138>0,BS138:CL138),{1,2,3,4,5,6,7,8})),CK139)","v":24},{"$f":"IF(CM138>0,AVERAGE(SMALL(IF(BT138:CM138>0,BT138:CM138),{1,2,3,4,5,6,7,8})),CL139)","v":24},{"$f":"IF(CN138>0,AVERAGE(SMALL(IF(BU138:CN138>0,BU138:CN138),{1,2,3,4,5,6,7,8})),CM139)","v":24},{"$f":"IF(CO138>0,AVERAGE(SMALL(IF(BV138:CO138>0,BV138:CO138),{1,2,3,4,5,6,7,8})),CN139)","v":24},{"$f":"IF(CP138>0,AVERAGE(SMALL(IF(BW138:CP138>0,BW138:CP138),{1,2,3,4,5,6,7,8})),CO139)","v":24},{"$f":"IF(CQ138>0,AVERAGE(SMALL(IF(BX138:CQ138>0,BX138:CQ138),{1,2,3,4,5,6,7,8})),CP139)","v":24},{"$f":"IF(CR138>0,AVERAGE(SMALL(IF(BY138:CR138>0,BY138:CR138),{1,2,3,4,5,6,7,8})),CQ139)","v":24},{"$f":"IF(CS138>0,AVERAGE(SMALL(IF(BZ138:CS138>0,BZ138:CS138),{1,2,3,4,5,6,7,8})),CR139)","v":24},{"$f":"IF(CT138>0,AVERAGE(SMALL(IF(CA138:CT138>0,CA138:CT138),{1,2,3,4,5,6,7,8})),CS139)","v":24},{"$f":"IF(CU138>0,AVERAGE(SMALL(IF(CB138:CU138>0,CB138:CU138),{1,2,3,4,5,6,7,8})),CT139)","v":24},{"$f":"IF(CV138>0,AVERAGE(SMALL(IF(CC138:CV138>0,CC138:CV138),{1,2,3,4,5,6,7,8})),CU139)","v":24},{"$f":"IF(CW138>0,AVERAGE(SMALL(IF(CD138:CW138>0,CD138:CW138),{1,2,3,4,5,6,7,8})),CV139)","v":24}]
[null,null,null,null,null,null,null,null,"Low Hcap",null,null,null,null,null,null,null,null,null,null,null,null,null,null,null,null,null,null,null,{"$f":"MIN($J139:AC139)","v":24},{"$f":"MIN($J139:AD139)","v":24},{"$f":"MIN($J139:AE139)","v":24},{"$f":"MIN($J139:AF139)","v":24},{"$f":"MIN($J139:AG139)","v":24},{"$f":"MIN($J139:AH139)","v":24},{"$f":"MIN($J139:AI139)","v":24},{"$f":"MIN($J139:AJ139)","v":24},{"$f":"MIN($J139:AK139)","v":24},{"$f":"MIN($J139:AL139)","v":24},{"$f":"MIN($J139:AM139)","v":24},{"$f":"MIN($J139:AN139)","v":24},{"$f":"MIN($J139:AO139)","v":24},{"$f":"MIN($J139:AP139)","v":24},{"$f":"MIN($J139:AQ139)","v":24},{"$f":"MIN($J139:AR139)","v":24},{"$f":"MIN($J139:AS139)","v":24},{"$f":"MIN($J139:AT139)","v":24},{"$f":"MIN($J139:AU139)","v":24},{"$f":"MIN($J139:AV139)","v":24},{"$f":"MIN($J139:AW139)","v":24},{"$f":"MIN($J139:AX139)","v":24},{"$f":"MIN($J139:AY139)","v":24},{"$f":"MIN($J139:AZ139)","v":24},{"$f":"MIN($J139:BA139)","v":24},{"$f":"MIN($J139:BB139)","v":24},{"$f":"MIN($J139:BC139)","v":24},{"$f":"MIN($J139:BD139)","v":24},{"$f":"MIN($J139:BE139)","v":24},{"$f":"MIN($J139:BF139)","v":24},{"$f":"MIN($J139:BG139)","v":24},{"$f":"MIN($J139:BH139)","v":24},{"$f":"MIN($J139:BI139)","v":24},{"$f":"MIN($J139:BJ139)","v":24},{"$f":"MIN($J139:BK139)","v":24},{"$f":"MIN($J139:BL139)","v":24},{"$f":"MIN($J139:BM139)","v":24},{"$f":"MIN($J139:BN139)","v":24},{"$f":"MIN($J139:BO139)","v":24},{"$f":"MIN($J139:BP139)","v":24},{"$f":"MIN($J139:BQ139)","v":24},{"$f":"MIN($J139:BR139)","v":24},{"$f":"MIN($J139:BS139)","v":24},{"$f":"MIN($J139:BT139)","v":24},{"$f":"MIN($J139:BU139)","v":24},{"$f":"MIN($J139:BV139)","v":24},{"$f":"MIN($J139:BW139)","v":24},{"$f":"MIN($J139:BX139)","v":24},{"$f":"MIN($J139:BY139)","v":24},{"$f":"MIN($J139:BZ139)","v":24},{"$f":"MIN($J139:CA139)","v":24},{"$f":"MIN($J139:CB139)","v":24},{"$f":"MIN($J139:CC139)","v":24},{"$f":"MIN($J139:CD139)","v":24},{"$f":"MIN($J139:CE139)","v":24},{"$f":"MIN($J139:CF139)","v":24},{"$f":"MIN($J139:CG139)","v":24},{"$f":"MIN($J139:CH139)","v":24},{"$f":"MIN($J139:CI139)","v":24},{"$f":"MIN($J139:CJ139)","v":24},{"$f":"MIN($J139:CK139)","v":24},{"$f":"MIN($J139:CL139)","v":24},{"$f":"MIN($J139:CM139)","v":24},{"$f":"MIN($J139:CN139)","v":24},{"$f":"MIN($J139:CO139)","v":24},{"$f":"MIN($J139:CP139)","v":24},{"$f":"MIN($J139:CQ139)","v":24},{"$f":"MIN($J139:CR139)","v":24},{"$f":"MIN($J139:CS139)","v":24},{"$f":"MIN($J139:CT139)","v":24},{"$f":"MIN($J139:CU139)","v":24},{"$f":"MIN($J139:CV139)","v":24},{"$f":"MIN($J139:CW139)","v":24}]
[null,"Daly","Paul",26.8,null,{"$f":"IF(H141<4,\"Y\",)","v":"Y"},2010,{"$f":"COUNT(J141:CX141)","v":0},"Date",null,null,null,null,null,null,null,null,null,null,null,null,null,null,null,null,null,null,null,null,null,null,null,null,null,null,null,null,null,null,null,null,null,null,null,null,null,null,null,null,null,null,null,null,null,null,null,null,null,null,null,null,null,null,null,null,null,null,null,null,null,null,null,null,null,null,null,null,null,null,null,null,null,null,null,null,null,null,null,null,null,null,null,null,null,null,null,null,null,null,null,null,null,{"$f":"IF(CW145>$DD$1,36,CW145)","v":24.8},24.8,{"$f":"CZ141-CY141","v":0}]
[null,null,null,null,null,null,null,null,"Course"]
[null,null,null,null,null,null,null,null,"Ad Gr"]
[null,null,null,null,null,null,null,null,"SD",26.8,{"$f":"IF(K143=\"\",0,(K143-INDIRECT(CONCATENATE(K142,\"CR\")))*113/INDIRECT(CONCATENATE(K142,\"SR\")))","v":0},0,0,0,0,0,0,0,0,0,0,0,0,0,0,0,0,0,0,0,0,0,0,0,0,0,0,0,0,0,0,0,0,0,0,0,0,0,0,0,0,0,0,0,0,0,0,0,0,0,0,0,0,0,0,0,0,0,0,0,0,0,0,0,{"$f":"IF(BW143=\"\",0,(BW143-INDIRECT(CONCATENATE(BW142,\"CR\")))*113/INDIRECT(CONCATENATE(BW142,\"SR\")))","v":0},0,0,0,0,0,0,0,0,0,0,0,0,0,0,0,{"$f":"IF(CM143=\"\",0,(CM143-INDIRECT(CONCATENATE(CM142,\"CR\")))*113/INDIRECT(CONCATENATE(CM142,\"SR\")))","v":0},0,{"$f":"IF(CO143=\"\",0,(CO143-INDIRECT(CONCATENATE(CO142,\"CR\")))*113/INDIRECT(CONCATENATE(CO142,\"SR\")))","v":0},0,{"$f":"IF(CQ143=\"\",0,(CQ143-INDIRECT(CONCATENATE(CQ142,\"CR\")))*113/INDIRECT(CONCATENATE(CQ142,\"SR\")))","v":0},0,{"$f":"IF(CS143=\"\",0,(CS143-INDIRECT(CONCATENATE(CS142,\"CR\")))*113/INDIRECT(CONCATENATE(CS142,\"SR\")))","v":0},0,{"$f":"IF(CU143=\"\",0,(CU143-INDIRECT(CONCATENATE(CU142,\"CR\")))*113/INDIRECT(CONCATENATE(CU142,\"SR\")))","v":0},0,{"$f":"IF(CW143=\"\",0,(CW143-INDIRECT(CONCATENATE(CW142,\"CR\")))*113/INDIRECT(CONCATENATE(CW142,\"SR\")))","v":0}]
[null,null,null,null,null,null,null,null,"New Hcap",{"$f":"J144-2","v":24.8},{"$f":"IF(K144>0,MIN(J144:K144)-2,J145)","v":24.8},{"$f":"IF(L144>0,MIN(J144:L144)-2,K145)","v":24.8},{"$f":"IF(M144>0,MIN(J144:M144)-1,L145)","v":24.8},{"$f":"IF(N144>0,MIN(J144:N144),M145)","v":24.8},{"$f":"IF(O144>0,AVERAGE(SMALL(IF(J144:O144>0,J144:O144),{1,2}))-1,N145)","v":24.8},{"$f":"IF(P144>0,AVERAGE(SMALL(IF(J144:P144>0,J144:P144),{1,2})),O145)","v":24.8},{"$f":"IF(Q144>0,AVERAGE(SMALL(IF(J144:Q144>0,J144:Q144),{1,2})),P145)","v":24.8},{"$f":"IF(R144>0,AVERAGE(SMALL(IF(J144:R144>0,J144:R144),{1,2,3})),Q145)","v":24.8},{"$f":"IF(S144>0,AVERAGE(SMALL(IF(J144:S144>0,J144:S144),{1,2,3})),R145)","v":24.8},{"$f":"IF(T144>0,AVERAGE(SMALL(IF(J144:T144>0,J144:T144),{1,2,3})),S145)","v":24.8},{"$f":"IF(U144>0,AVERAGE(SMALL(IF(J144:U144>0,J144:U144),{1,2,3,4})),T145)","v":24.8},{"$f":"IF(V144>0,AVERAGE(SMALL(IF(J144:V144>0,J144:V144),{1,2,3,4})),U145)","v":24.8},{"$f":"IF(W144>0,AVERAGE(SMALL(IF(J144:W144>0,J144:W144),{1,2,3,4})),V145)","v":24.8},{"$f":"IF(X144>0,AVERAGE(SMALL(IF(J144:X144>0,J144:X144),{1,2,3,4,5})),W145)","v":24.8},{"$f":"IF(Y144>0,AVERAGE(SMALL(IF(J144:Y144>0,J144:Y144),{1,2,3,4,5})),X145)","v":24.8},{"$f":"IF(Z144>0,AVERAGE(SMALL(IF(J144:Z144>0,J144:Z144),{1,2,3,4,5,6})),Y145)","v":24.8},{"$f":"IF(AA144>0,AVERAGE(SMALL(IF(J144:AA144>0,J144:AA144),{1,2,3,4,5,6})),Z145)","v":24.8},{"$f":"IF(AB144>0,AVERAGE(SMALL(IF(J144:AB144>0,J144:AB144),{1,2,3,4,5,6,7})),AA145)","v":24.8},{"$f":"IF(AC144>0,AVERAGE(SMALL(IF(J144:AC144>0,J144:AC144),{1,2,3,4,5,6,7,8})),AB145)","v":24.8},{"$f":"IF(AD144>0,AVERAGE(SMALL(IF(K144:AD144>0,K144:AD144),{1,2,3,4,5,6,7,8})),AC145)","v":24.8},{"$f":"IF(AE144>0,AVERAGE(SMALL(IF(L144:AE144>0,L144:AE144),{1,2,3,4,5,6,7,8})),AD145)","v":24.8},{"$f":"IF(AF144>0,AVERAGE(SMALL(IF(M144:AF144>0,M144:AF144),{1,2,3,4,5,6,7,8})),AE145)","v":24.8},{"$f":"IF(AG144>0,AVERAGE(SMALL(IF(N144:AG144>0,N144:AG144),{1,2,3,4,5,6,7,8})),AF145)","v":24.8},{"$f":"IF(AH144>0,AVERAGE(SMALL(IF(O144:AH144>0,O144:AH144),{1,2,3,4,5,6,7,8})),AG145)","v":24.8},{"$f":"IF(AI144>0,AVERAGE(SMALL(IF(P144:AI144>0,P144:AI144),{1,2,3,4,5,6,7,8})),AH145)","v":24.8},{"$f":"IF(AJ144>0,AVERAGE(SMALL(IF(Q144:AJ144>0,Q144:AJ144),{1,2,3,4,5,6,7,8})),AI145)","v":24.8},{"$f":"IF(AK144>0,AVERAGE(SMALL(IF(R144:AK144>0,R144:AK144),{1,2,3,4,5,6,7,8})),AJ145)","v":24.8},{"$f":"IF(AL144>0,AVERAGE(SMALL(IF(S144:AL144>0,S144:AL144),{1,2,3,4,5,6,7,8})),AK145)","v":24.8},{"$f":"IF(AM144>0,AVERAGE(SMALL(IF(T144:AM144>0,T144:AM144),{1,2,3,4,5,6,7,8})),AL145)","v":24.8},{"$f":"IF(AN144>0,AVERAGE(SMALL(IF(U144:AN144>0,U144:AN144),{1,2,3,4,5,6,7,8})),AM145)","v":24.8},{"$f":"IF(AO144>0,AVERAGE(SMALL(IF(V144:AO144>0,V144:AO144),{1,2,3,4,5,6,7,8})),AN145)","v":24.8},{"$f":"IF(AP144>0,AVERAGE(SMALL(IF(W144:AP144>0,W144:AP144),{1,2,3,4,5,6,7,8})),AO145)","v":24.8},{"$f":"IF(AQ144>0,AVERAGE(SMALL(IF(X144:AQ144>0,X144:AQ144),{1,2,3,4,5,6,7,8})),AP145)","v":24.8},{"$f":"IF(AR144>0,AVERAGE(SMALL(IF(Y144:AR144>0,Y144:AR144),{1,2,3,4,5,6,7,8})),AQ145)","v":24.8},{"$f":"IF(AS144>0,AVERAGE(SMALL(IF(Z144:AS144>0,Z144:AS144),{1,2,3,4,5,6,7,8})),AR145)","v":24.8},{"$f":"IF(AT144>0,AVERAGE(SMALL(IF(AA144:AT144>0,AA144:AT144),{1,2,3,4,5,6,7,8})),AS145)","v":24.8},{"$f":"IF(AU144>0,AVERAGE(SMALL(IF(AB144:AU144>0,AB144:AU144),{1,2,3,4,5,6,7,8})),AT145)","v":24.8},{"$f":"IF(AV144>0,AVERAGE(SMALL(IF(AC144:AV144>0,AC144:AV144),{1,2,3,4,5,6,7,8})),AU145)","v":24.8},{"$f":"IF(AW144>0,AVERAGE(SMALL(IF(AD144:AW144>0,AD144:AW144),{1,2,3,4,5,6,7,8})),AV145)","v":24.8},{"$f":"IF(AX144>0,AVERAGE(SMALL(IF(AE144:AX144>0,AE144:AX144),{1,2,3,4,5,6,7,8})),AW145)","v":24.8},{"$f":"IF(AY144>0,AVERAGE(SMALL(IF(AF144:AY144>0,AF144:AY144),{1,2,3,4,5,6,7,8})),AX145)","v":24.8},{"$f":"IF(AZ144>0,AVERAGE(SMALL(IF(AG144:AZ144>0,AG144:AZ144),{1,2,3,4,5,6,7,8})),AY145)","v":24.8},{"$f":"IF(BA144>0,AVERAGE(SMALL(IF(AH144:BA144>0,AH144:BA144),{1,2,3,4,5,6,7,8})),AZ145)","v":24.8},{"$f":"IF(BB144>0,AVERAGE(SMALL(IF(AI144:BB144>0,AI144:BB144),{1,2,3,4,5,6,7,8})),BA145)","v":24.8},{"$f":"IF(BC144>0,AVERAGE(SMALL(IF(AJ144:BC144>0,AJ144:BC144),{1,2,3,4,5,6,7,8})),BB145)","v":24.8},{"$f":"IF(BD144>0,AVERAGE(SMALL(IF(AK144:BD144>0,AK144:BD144),{1,2,3,4,5,6,7,8})),BC145)","v":24.8},{"$f":"IF(BE144>0,AVERAGE(SMALL(IF(AL144:BE144>0,AL144:BE144),{1,2,3,4,5,6,7,8})),BD145)","v":24.8},{"$f":"IF(BF144>0,AVERAGE(SMALL(IF(AM144:BF144>0,AM144:BF144),{1,2,3,4,5,6,7,8})),BE145)","v":24.8},{"$f":"IF(BG144>0,AVERAGE(SMALL(IF(AN144:BG144>0,AN144:BG144),{1,2,3,4,5,6,7,8})),BF145)","v":24.8},{"$f":"IF(BH144>0,AVERAGE(SMALL(IF(AO144:BH144>0,AO144:BH144),{1,2,3,4,5,6,7,8})),BG145)","v":24.8},{"$f":"IF(BI144>0,AVERAGE(SMALL(IF(AP144:BI144>0,AP144:BI144),{1,2,3,4,5,6,7,8})),BH145)","v":24.8},{"$f":"IF(BJ144>0,AVERAGE(SMALL(IF(AQ144:BJ144>0,AQ144:BJ144),{1,2,3,4,5,6,7,8})),BI145)","v":24.8},{"$f":"IF(BK144>0,AVERAGE(SMALL(IF(AR144:BK144>0,AR144:BK144),{1,2,3,4,5,6,7,8})),BJ145)","v":24.8},{"$f":"IF(BL144>0,AVERAGE(SMALL(IF(AS144:BL144>0,AS144:BL144),{1,2,3,4,5,6,7,8})),BK145)","v":24.8},{"$f":"IF(BM144>0,AVERAGE(SMALL(IF(AT144:BM144>0,AT144:BM144),{1,2,3,4,5,6,7,8})),BL145)","v":24.8},{"$f":"IF(BN144>0,AVERAGE(SMALL(IF(AU144:BN144>0,AU144:BN144),{1,2,3,4,5,6,7,8})),BM145)","v":24.8},{"$f":"IF(BO144>0,AVERAGE(SMALL(IF(AV144:BO144>0,AV144:BO144),{1,2,3,4,5,6,7,8})),BN145)","v":24.8},{"$f":"IF(BP144>0,AVERAGE(SMALL(IF(AW144:BP144>0,AW144:BP144),{1,2,3,4,5,6,7,8})),BO145)","v":24.8},{"$f":"IF(BQ144>0,AVERAGE(SMALL(IF(AX144:BQ144>0,AX144:BQ144),{1,2,3,4,5,6,7,8})),BP145)","v":24.8},{"$f":"IF(BR144>0,AVERAGE(SMALL(IF(AY144:BR144>0,AY144:BR144),{1,2,3,4,5,6,7,8})),BQ145)","v":24.8},{"$f":"IF(BS144>0,AVERAGE(SMALL(IF(AZ144:BS144>0,AZ144:BS144),{1,2,3,4,5,6,7,8})),BR145)","v":24.8},{"$f":"IF(BT144>0,AVERAGE(SMALL(IF(BA144:BT144>0,BA144:BT144),{1,2,3,4,5,6,7,8})),BS145)","v":24.8},{"$f":"IF(BU144>0,AVERAGE(SMALL(IF(BB144:BU144>0,BB144:BU144),{1,2,3,4,5,6,7,8})),BT145)","v":24.8},{"$f":"IF(BV144>0,AVERAGE(SMALL(IF(BC144:BV144>0,BC144:BV144),{1,2,3,4,5,6,7,8})),BU145)","v":24.8},{"$f":"IF(BW144>0,AVERAGE(SMALL(IF(BD144:BW144>0,BD144:BW144),{1,2,3,4,5,6,7,8})),BV145)","v":24.8},{"$f":"IF(BX144>0,AVERAGE(SMALL(IF(BE144:BX144>0,BE144:BX144),{1,2,3,4,5,6,7,8})),BW145)","v":24.8},{"$f":"IF(BY144>0,AVERAGE(SMALL(IF(BF144:BY144>0,BF144:BY144),{1,2,3,4,5,6,7,8})),BX145)","v":24.8},{"$f":"IF(BZ144>0,AVERAGE(SMALL(IF(BG144:BZ144>0,BG144:BZ144),{1,2,3,4,5,6,7,8})),BY145)","v":24.8},{"$f":"IF(CA144>0,AVERAGE(SMALL(IF(BH144:CA144>0,BH144:CA144),{1,2,3,4,5,6,7,8})),BZ145)","v":24.8},{"$f":"IF(CB144>0,AVERAGE(SMALL(IF(BI144:CB144>0,BI144:CB144),{1,2,3,4,5,6,7,8})),CA145)","v":24.8},{"$f":"IF(CC144>0,AVERAGE(SMALL(IF(BJ144:CC144>0,BJ144:CC144),{1,2,3,4,5,6,7,8})),CB145)","v":24.8},{"$f":"IF(CD144>0,AVERAGE(SMALL(IF(BK144:CD144>0,BK144:CD144),{1,2,3,4,5,6,7,8})),CC145)","v":24.8},{"$f":"IF(CE144>0,AVERAGE(SMALL(IF(BL144:CE144>0,BL144:CE144),{1,2,3,4,5,6,7,8})),CD145)","v":24.8},{"$f":"IF(CF144>0,AVERAGE(SMALL(IF(BM144:CF144>0,BM144:CF144),{1,2,3,4,5,6,7,8})),CE145)","v":24.8},{"$f":"IF(CG144>0,AVERAGE(SMALL(IF(BN144:CG144>0,BN144:CG144),{1,2,3,4,5,6,7,8})),CF145)","v":24.8},{"$f":"IF(CH144>0,AVERAGE(SMALL(IF(BO144:CH144>0,BO144:CH144),{1,2,3,4,5,6,7,8})),CG145)","v":24.8},{"$f":"IF(CI144>0,AVERAGE(SMALL(IF(BP144:CI144>0,BP144:CI144),{1,2,3,4,5,6,7,8})),CH145)","v":24.8},{"$f":"IF(CJ144>0,AVERAGE(SMALL(IF(BQ144:CJ144>0,BQ144:CJ144),{1,2,3,4,5,6,7,8})),CI145)","v":24.8},{"$f":"IF(CK144>0,AVERAGE(SMALL(IF(BR144:CK144>0,BR144:CK144),{1,2,3,4,5,6,7,8})),CJ145)","v":24.8},{"$f":"IF(CL144>0,AVERAGE(SMALL(IF(BS144:CL144>0,BS144:CL144),{1,2,3,4,5,6,7,8})),CK145)","v":24.8},{"$f":"IF(CM144>0,AVERAGE(SMALL(IF(BT144:CM144>0,BT144:CM144),{1,2,3,4,5,6,7,8})),CL145)","v":24.8},{"$f":"IF(CN144>0,AVERAGE(SMALL(IF(BU144:CN144>0,BU144:CN144),{1,2,3,4,5,6,7,8})),CM145)","v":24.8},{"$f":"IF(CO144>0,AVERAGE(SMALL(IF(BV144:CO144>0,BV144:CO144),{1,2,3,4,5,6,7,8})),CN145)","v":24.8},{"$f":"IF(CP144>0,AVERAGE(SMALL(IF(BW144:CP144>0,BW144:CP144),{1,2,3,4,5,6,7,8})),CO145)","v":24.8},{"$f":"IF(CQ144>0,AVERAGE(SMALL(IF(BX144:CQ144>0,BX144:CQ144),{1,2,3,4,5,6,7,8})),CP145)","v":24.8},{"$f":"IF(CR144>0,AVERAGE(SMALL(IF(BY144:CR144>0,BY144:CR144),{1,2,3,4,5,6,7,8})),CQ145)","v":24.8},{"$f":"IF(CS144>0,AVERAGE(SMALL(IF(BZ144:CS144>0,BZ144:CS144),{1,2,3,4,5,6,7,8})),CR145)","v":24.8},{"$f":"IF(CT144>0,AVERAGE(SMALL(IF(CA144:CT144>0,CA144:CT144),{1,2,3,4,5,6,7,8})),CS145)","v":24.8},{"$f":"IF(CU144>0,AVERAGE(SMALL(IF(CB144:CU144>0,CB144:CU144),{1,2,3,4,5,6,7,8})),CT145)","v":24.8},{"$f":"IF(CV144>0,AVERAGE(SMALL(IF(CC144:CV144>0,CC144:CV144),{1,2,3,4,5,6,7,8})),CU145)","v":24.8},{"$f":"IF(CW144>0,AVERAGE(SMALL(IF(CD144:CW144>0,CD144:CW144),{1,2,3,4,5,6,7,8})),CV145)","v":24.8}]
[null,null,null,null,null,null,null,null,"Low Hcap",null,null,null,null,null,null,null,null,null,null,null,null,null,null,null,null,null,null,null,{"$f":"MIN($J145:AC145)","v":24.8},{"$f":"MIN($J145:AD145)","v":24.8},{"$f":"MIN($J145:AE145)","v":24.8},{"$f":"MIN($J145:AF145)","v":24.8},{"$f":"MIN($J145:AG145)","v":24.8},{"$f":"MIN($J145:AH145)","v":24.8},{"$f":"MIN($J145:AI145)","v":24.8},{"$f":"MIN($J145:AJ145)","v":24.8},{"$f":"MIN($J145:AK145)","v":24.8},{"$f":"MIN($J145:AL145)","v":24.8},{"$f":"MIN($J145:AM145)","v":24.8},{"$f":"MIN($J145:AN145)","v":24.8},{"$f":"MIN($J145:AO145)","v":24.8},{"$f":"MIN($J145:AP145)","v":24.8},{"$f":"MIN($J145:AQ145)","v":24.8},{"$f":"MIN($J145:AR145)","v":24.8},{"$f":"MIN($J145:AS145)","v":24.8},{"$f":"MIN($J145:AT145)","v":24.8},{"$f":"MIN($J145:AU145)","v":24.8},{"$f":"MIN($J145:AV145)","v":24.8},{"$f":"MIN($J145:AW145)","v":24.8},{"$f":"MIN($J145:AX145)","v":24.8},{"$f":"MIN($J145:AY145)","v":24.8},{"$f":"MIN($J145:AZ145)","v":24.8},{"$f":"MIN($J145:BA145)","v":24.8},{"$f":"MIN($J145:BB145)","v":24.8},{"$f":"MIN($J145:BC145)","v":24.8},{"$f":"MIN($J145:BD145)","v":24.8},{"$f":"MIN($J145:BE145)","v":24.8},{"$f":"MIN($J145:BF145)","v":24.8},{"$f":"MIN($J145:BG145)","v":24.8},{"$f":"MIN($J145:BH145)","v":24.8},{"$f":"MIN($J145:BI145)","v":24.8},{"$f":"MIN($J145:BJ145)","v":24.8},{"$f":"MIN($J145:BK145)","v":24.8},{"$f":"MIN($J145:BL145)","v":24.8},{"$f":"MIN($J145:BM145)","v":24.8},{"$f":"MIN($J145:BN145)","v":24.8},{"$f":"MIN($J145:BO145)","v":24.8},{"$f":"MIN($J145:BP145)","v":24.8},{"$f":"MIN($J145:BQ145)","v":24.8},{"$f":"MIN($J145:BR145)","v":24.8},{"$f":"MIN($J145:BS145)","v":24.8},{"$f":"MIN($J145:BT145)","v":24.8},{"$f":"MIN($J145:BU145)","v":24.8},{"$f":"MIN($J145:BV145)","v":24.8},{"$f":"MIN($J145:BW145)","v":24.8},{"$f":"MIN($J145:BX145)","v":24.8},{"$f":"MIN($J145:BY145)","v":24.8},{"$f":"MIN($J145:BZ145)","v":24.8},{"$f":"MIN($J145:CA145)","v":24.8},{"$f":"MIN($J145:CB145)","v":24.8},{"$f":"MIN($J145:CC145)","v":24.8},{"$f":"MIN($J145:CD145)","v":24.8},{"$f":"MIN($J145:CE145)","v":24.8},{"$f":"MIN($J145:CF145)","v":24.8},{"$f":"MIN($J145:CG145)","v":24.8},{"$f":"MIN($J145:CH145)","v":24.8},{"$f":"MIN($J145:CI145)","v":24.8},{"$f":"MIN($J145:CJ145)","v":24.8},{"$f":"MIN($J145:CK145)","v":24.8},{"$f":"MIN($J145:CL145)","v":24.8},{"$f":"MIN($J145:CM145)","v":24.8},{"$f":"MIN($J145:CN145)","v":24.8},{"$f":"MIN($J145:CO145)","v":24.8},{"$f":"MIN($J145:CP145)","v":24.8},{"$f":"MIN($J145:CQ145)","v":24.8},{"$f":"MIN($J145:CR145)","v":24.8},{"$f":"MIN($J145:CS145)","v":24.8},{"$f":"MIN($J145:CT145)","v":24.8},{"$f":"MIN($J145:CU145)","v":24.8},{"$f":"MIN($J145:CV145)","v":24.8},{"$f":"MIN($J145:CW145)","v":24.8}]
[null,"Dean","Simon",14.7,"Y",{"$f":"IF(H147<4,\"Y\",)","v":0},null,{"$f":"COUNT(J147:CX147)","v":50},"Date","2019-06-23","2019-08-04","2019-08-19","2019-09-08","2019-09-29","2019-11-24","2020-05-20","2020-05-24","2020-05-31","2020-06-10","2020-06-14","2020-06-19","2020-06-28","2020-07-03","2020-07-12","2020-07-26","2020-08-09","2020-08-23","2020-09-06","2020-10-04","2020-11-01","2020-11-06","2020-11-15","2021-03-28","2021-04-11","2021-04-25","2021-05-09","2021-05-14","2021-05-23","2021-05-30","2021-06-13","2021-07-11","2021-08-15","2021-08-22","2021-09-19","2021-09-24","2021-10-03","2022-03-27","2022-04-15","2022-05-15","2022-05-29","2022-07-03","2022-07-10","2022-07-20","2022-07-24","2022-08-12","2023-04-07","2023-04-14","2023-05-07","2023-05-28",null,null,null,null,null,null,null,null,null,null,null,null,null,null,null,null,null,null,null,null,null,null,null,null,null,null,null,null,null,null,null,null,null,null,null,null,null,null,null,null,null,null,null,{"$f":"IF(CW151>$DD$1,36,CW151)","v":14.351526806526808},14.513684440559441,{"$f":"CZ147-CY147","v":0.16215763403263317}]
[null,null,null,null,null,null,null,null,"Course","PfaffingHG","TegernbachHG","ErdingHG","OdelzhausenHG","TegernbachHG","PfaffingHG","GutThailingHG","PfaffingHG","ErdingHG","GutThailingHG","OdelzhausenHG","StEurachHG","ErdingHG","TegernbachHG","PfaffingHG","OdelzhausenHG","ErdingHG","PfaffingHG","OdelzhausenHG","OdelzhausenHG","ErdingHG","TegernbachHG","OdelzhausenHG","OdelzhausenHG","ErdingHR","PfaffingHG","ErdingHG","StEurachHG","OdelzhausenHG","IffeldorfHG","PfaffingHG","PfaffingHG","ErdingHG","PfaffingHG","ErdingHG","TegernbachHG","OdelzhausenHG","OdelzhausenHG","ReichertshausenHG","OdelzhausenHG","OdelzhausenHG","Pfaffing2022HG","IffeldorfHG","AschheimHG","Pfaffing2022HG","ValleyHG","Reichertshausen2023HG","TegernbachHG","Odelzhausen2023HG","ErdingHG"]
[null,null,null,null,null,null,null,null,"Ad Gr",96,94,91,94,97,96,86,90,85,85,100,97,88,91,93,94,87,89,94,96,92,93,92,94,88,95,93,100,94,98,88,88,90,88,92,88,100,97,95,94,100,88,94,89,90,95,93,90,94,89]
[null,null,null,null,null,null,null,null,"SD",{"$f":"IF(J149=\"\",0,(J149-INDIRECT(CONCATENATE(J148,\"CR\")))*113/INDIRECT(CONCATENATE(J148,\"SR\")))","v":20.861538461538462},{"$f":"IF(K149=\"\",0,(K149-INDIRECT(CONCATENATE(K148,\"CR\")))*113/INDIRECT(CONCATENATE(K148,\"SR\")))","v":19.090151515151511},17.384615384615383,19.752755905511815,21.658333333333331,20.861538461538462,13.370229007633588,15.646153846153846,12.169230769230769,12.507633587786259,25.091338582677167,21.651145038167932,14.776923076923078,16.521969696969695,18.253846153846155,19.752755905511815,13.907692307692308,14.776923076923078,19.752755905511815,21.53228346456693,18.253846153846155,18.234090909090906,17.973228346456697,19.752755905511815,20.036134453781507,19.992307692307691,19.123076923076923,24.238931297709918,19.752755905511815,23.47596899224806,13.907692307692308,13.907692307692308,16.515384615384615,13.907692307692308,18.253846153846155,13.953787878787876,25.091338582677167,22.42204724409449,21.792857142857141,19.752755905511815,25.091338582677167,13.299230769230766,19.972093023255812,15.152272727272731,15.037692307692305,17.996296296296297,18.66212121212121,15.665909090909087,20.412903225806456,15.646153846153846,0,0,0,0,0,0,0,0,0,0,0,0,0,0,0,{"$f":"IF(BW149=\"\",0,(BW149-INDIRECT(CONCATENATE(BW148,\"CR\")))*113/INDIRECT(CONCATENATE(BW148,\"SR\")))","v":0},0,0,0,0,0,0,0,0,0,0,0,0,0,0,0,{"$f":"IF(CM149=\"\",0,(CM149-INDIRECT(CONCATENATE(CM148,\"CR\")))*113/INDIRECT(CONCATENATE(CM148,\"SR\")))","v":0},0,{"$f":"IF(CO149=\"\",0,(CO149-INDIRECT(CONCATENATE(CO148,\"CR\")))*113/INDIRECT(CONCATENATE(CO148,\"SR\")))","v":0},0,{"$f":"IF(CQ149=\"\",0,(CQ149-INDIRECT(CONCATENATE(CQ148,\"CR\")))*113/INDIRECT(CONCATENATE(CQ148,\"SR\")))","v":0},0,{"$f":"IF(CS149=\"\",0,(CS149-INDIRECT(CONCATENATE(CS148,\"CR\")))*113/INDIRECT(CONCATENATE(CS148,\"SR\")))","v":0},0,{"$f":"IF(CU149=\"\",0,(CU149-INDIRECT(CONCATENATE(CU148,\"CR\")))*113/INDIRECT(CONCATENATE(CU148,\"SR\")))","v":0},0,{"$f":"IF(CW149=\"\",0,(CW149-INDIRECT(CONCATENATE(CW148,\"CR\")))*113/INDIRECT(CONCATENATE(CW148,\"SR\")))","v":0}]
[null,null,null,null,null,null,null,null,"New Hcap",{"$f":"J150-2","v":18.861538461538462},{"$f":"IF(K150>0,MIN(J150:K150)-2,J151)","v":17.090151515151511},{"$f":"IF(L150>0,MIN(J150:L150)-2,K151)","v":15.384615384615383},{"$f":"IF(M150>0,MIN(J150:M150)-1,L151)","v":16.384615384615383},{"$f":"IF(N150>0,MIN(J150:N150),M151)","v":17.384615384615383},{"$f":"IF(O150>0,AVERAGE(SMALL(IF(J150:O150>0,J150:O150),{1,2}))-1,N151)","v":17.237383449883446},{"$f":"IF(P150>0,AVERAGE(SMALL(IF(J150:P150>0,J150:P150),{1,2})),O151)","v":15.377422196124485},{"$f":"IF(Q150>0,AVERAGE(SMALL(IF(J150:Q150>0,J150:Q150),{1,2})),P151)","v":14.508191426893717},{"$f":"IF(R150>0,AVERAGE(SMALL(IF(J150:R150>0,J150:R150),{1,2,3})),Q151)","v":13.7285378743394},{"$f":"IF(S150>0,AVERAGE(SMALL(IF(J150:S150>0,J150:S150),{1,2,3})),R151)","v":12.682364454883539},{"$f":"IF(T150>0,AVERAGE(SMALL(IF(J150:T150>0,J150:T150),{1,2,3})),S151)","v":12.682364454883539},{"$f":"IF(U150>0,AVERAGE(SMALL(IF(J150:U150>0,J150:U150),{1,2,3,4})),T151)","v":13.423311802701114},{"$f":"IF(V150>0,AVERAGE(SMALL(IF(J150:V150>0,J150:V150),{1,2,3,4})),U151)","v":13.206004110393422},{"$f":"IF(W150>0,AVERAGE(SMALL(IF(J150:W150>0,J150:W150),{1,2,3,4})),V151)","v":13.206004110393422},{"$f":"IF(X150>0,AVERAGE(SMALL(IF(J150:X150>0,J150:X150),{1,2,3,4,5})),W151)","v":13.694034057545508},{"$f":"IF(Y150>0,AVERAGE(SMALL(IF(J150:Y150>0,J150:Y150),{1,2,3,4,5})),X151)","v":13.694034057545508},{"$f":"IF(Z150>0,AVERAGE(SMALL(IF(J150:Z150>0,J150:Z150),{1,2,3,4,5,6})),Y151)","v":13.72964376590331},{"$f":"IF(AA150>0,AVERAGE(SMALL(IF(J150:AA150>0,J150:AA150),{1,2,3,4,5,6})),Z151)","v":13.584771971031515},{"$f":"IF(AB150>0,AVERAGE(SMALL(IF(J150:AB150>0,J150:AB150),{1,2,3,4,5,6,7})),AA151)","v":13.879255096048992},{"$f":"IF(AC150>0,AVERAGE(SMALL(IF(J150:AC150>0,J150:AC150),{1,2,3,4,5,6,7,8})),AB151)","v":14.209594421164079},{"$f":"IF(AD150>0,AVERAGE(SMALL(IF(K150:AD150>0,K150:AD150),{1,2,3,4,5,6,7,8})),AC151)","v":14.209594421164079},{"$f":"IF(AE150>0,AVERAGE(SMALL(IF(L150:AE150>0,L150:AE150),{1,2,3,4,5,6,7,8})),AD151)","v":14.209594421164079},{"$f":"IF(AF150>0,AVERAGE(SMALL(IF(M150:AF150>0,M150:AF150),{1,2,3,4,5,6,7,8})),AE151)","v":14.209594421164079},{"$f":"IF(AG150>0,AVERAGE(SMALL(IF(N150:AG150>0,N150:AG150),{1,2,3,4,5,6,7,8})),AF151)","v":14.209594421164079},{"$f":"IF(AH150>0,AVERAGE(SMALL(IF(O150:AH150>0,O150:AH150),{1,2,3,4,5,6,7,8})),AG151)","v":14.209594421164079},{"$f":"IF(AI150>0,AVERAGE(SMALL(IF(P150:AI150>0,P150:AI150),{1,2,3,4,5,6,7,8})),AH151)","v":14.209594421164079},{"$f":"IF(AJ150>0,AVERAGE(SMALL(IF(Q150:AJ150>0,Q150:AJ150),{1,2,3,4,5,6,7,8})),AI151)","v":14.784969338516966},{"$f":"IF(AK150>0,AVERAGE(SMALL(IF(R150:AK150>0,R150:AK150),{1,2,3,4,5,6,7,8})),AJ151)","v":15.108461471384098},{"$f":"IF(AL150>0,AVERAGE(SMALL(IF(S150:AL150>0,S150:AL150),{1,2,3,4,5,6,7,8})),AK151)","v":15.869038394461022},{"$f":"IF(AM150>0,AVERAGE(SMALL(IF(T150:AM150>0,T150:AM150),{1,2,3,4,5,6,7,8})),AL151)","v":16.587314965218511},{"$f":"IF(AN150>0,AVERAGE(SMALL(IF(U150:AN150>0,U150:AN150),{1,2,3,4,5,6,7,8})),AM151)","v":16.044045734449277},{"$f":"IF(AO150>0,AVERAGE(SMALL(IF(V150:AO150>0,V150:AO150),{1,2,3,4,5,6,7,8})),AN151)","v":15.500776503680047},{"$f":"IF(AP150>0,AVERAGE(SMALL(IF(W150:AP150>0,W150:AP150),{1,2,3,4,5,6,7,8})),AO151)","v":15.718084195987739},{"$f":"IF(AQ150>0,AVERAGE(SMALL(IF(X150:AQ150>0,X150:AQ150),{1,2,3,4,5,6,7,8})),AP151)","v":15.391299522328067},{"$f":"IF(AR150>0,AVERAGE(SMALL(IF(Y150:AR150>0,Y150:AR150),{1,2,3,4,5,6,7,8})),AQ151)","v":15.391299522328067},{"$f":"IF(AS150>0,AVERAGE(SMALL(IF(Z150:AS150>0,Z150:AS150),{1,2,3,4,5,6,7,8})),AR151)","v":14.856261643540188},{"$f":"IF(AT150>0,AVERAGE(SMALL(IF(AA150:AT150>0,AA150:AT150),{1,2,3,4,5,6,7,8})),AS151)","v":15.397061468715012},{"$f":"IF(AU150>0,AVERAGE(SMALL(IF(AB150:AU150>0,AB150:AU150),{1,2,3,4,5,6,7,8})),AT151)","v":15.831676853330396},{"$f":"IF(AV150>0,AVERAGE(SMALL(IF(AC150:AV150>0,AC150:AV150),{1,2,3,4,5,6,7,8})),AU151)","v":15.831676853330396},{"$f":"IF(AW150>0,AVERAGE(SMALL(IF(AD150:AW150>0,AD150:AW150),{1,2,3,4,5,6,7,8})),AV151)","v":15.831676853330396},{"$f":"IF(AX150>0,AVERAGE(SMALL(IF(AE150:AX150>0,AE150:AX150),{1,2,3,4,5,6,7,8})),AW151)","v":15.831676853330396},{"$f":"IF(AY150>0,AVERAGE(SMALL(IF(AF150:AY150>0,AF150:AY150),{1,2,3,4,5,6,7,8})),AX151)","v":15.21481933584788},{"$f":"IF(AZ150>0,AVERAGE(SMALL(IF(AG150:AZ150>0,AG150:AZ150),{1,2,3,4,5,6,7,8})),AY151)","v":15.358550407925408},{"$f":"IF(BA150>0,AVERAGE(SMALL(IF(AH150:BA150>0,AH150:BA150),{1,2,3,4,5,6,7,8})),AZ151)","v":14.862199883449884},{"$f":"IF(BB150>0,AVERAGE(SMALL(IF(AI150:BB150>0,AI150:BB150),{1,2,3,4,5,6,7,8})),BA151)","v":14.460180652680654},{"$f":"IF(BC150>0,AVERAGE(SMALL(IF(AJ150:BC150>0,AJ150:BC150),{1,2,3,4,5,6,7,8})),BB151)","v":14.460180652680654},{"$f":"IF(BD150>0,AVERAGE(SMALL(IF(AK150:BD150>0,AK150:BD150),{1,2,3,4,5,6,7,8})),BC151)","v":14.460180652680654},{"$f":"IF(BE150>0,AVERAGE(SMALL(IF(AL150:BE150>0,AL150:BE150),{1,2,3,4,5,6,7,8})),BD151)","v":14.353996212121212},{"$f":"IF(BF150>0,AVERAGE(SMALL(IF(AM150:BF150>0,AM150:BF150),{1,2,3,4,5,6,7,8})),BE151)","v":14.353996212121212},{"$f":"IF(BG150>0,AVERAGE(SMALL(IF(AN150:BG150>0,AN150:BG150),{1,2,3,4,5,6,7,8})),BF151)","v":14.351526806526808},{"$f":"IF(BH150>0,AVERAGE(SMALL(IF(AO150:BH150>0,AO150:BH150),{1,2,3,4,5,6,7,8})),BG151)","v":14.351526806526808},{"$f":"IF(BI150>0,AVERAGE(SMALL(IF(AP150:BI150>0,AP150:BI150),{1,2,3,4,5,6,7,8})),BH151)","v":14.351526806526808},{"$f":"IF(BJ150>0,AVERAGE(SMALL(IF(AQ150:BJ150>0,AQ150:BJ150),{1,2,3,4,5,6,7,8})),BI151)","v":14.351526806526808},{"$f":"IF(BK150>0,AVERAGE(SMALL(IF(AR150:BK150>0,AR150:BK150),{1,2,3,4,5,6,7,8})),BJ151)","v":14.351526806526808},{"$f":"IF(BL150>0,AVERAGE(SMALL(IF(AS150:BL150>0,AS150:BL150),{1,2,3,4,5,6,7,8})),BK151)","v":14.351526806526808},{"$f":"IF(BM150>0,AVERAGE(SMALL(IF(AT150:BM150>0,AT150:BM150),{1,2,3,4,5,6,7,8})),BL151)","v":14.351526806526808},{"$f":"IF(BN150>0,AVERAGE(SMALL(IF(AU150:BN150>0,AU150:BN150),{1,2,3,4,5,6,7,8})),BM151)","v":14.351526806526808},{"$f":"IF(BO150>0,AVERAGE(SMALL(IF(AV150:BO150>0,AV150:BO150),{1,2,3,4,5,6,7,8})),BN151)","v":14.351526806526808},{"$f":"IF(BP150>0,AVERAGE(SMALL(IF(AW150:BP150>0,AW150:BP150),{1,2,3,4,5,6,7,8})),BO151)","v":14.351526806526808},{"$f":"IF(BQ150>0,AVERAGE(SMALL(IF(AX150:BQ150>0,AX150:BQ150),{1,2,3,4,5,6,7,8})),BP151)","v":14.351526806526808},{"$f":"IF(BR150>0,AVERAGE(SMALL(IF(AY150:BR150>0,AY150:BR150),{1,2,3,4,5,6,7,8})),BQ151)","v":14.351526806526808},{"$f":"IF(BS150>0,AVERAGE(SMALL(IF(AZ150:BS150>0,AZ150:BS150),{1,2,3,4,5,6,7,8})),BR151)","v":14.351526806526808},{"$f":"IF(BT150>0,AVERAGE(SMALL(IF(BA150:BT150>0,BA150:BT150),{1,2,3,4,5,6,7,8})),BS151)","v":14.351526806526808},{"$f":"IF(BU150>0,AVERAGE(SMALL(IF(BB150:BU150>0,BB150:BU150),{1,2,3,4,5,6,7,8})),BT151)","v":14.351526806526808},{"$f":"IF(BV150>0,AVERAGE(SMALL(IF(BC150:BV150>0,BC150:BV150),{1,2,3,4,5,6,7,8})),BU151)","v":14.351526806526808},{"$f":"IF(BW150>0,AVERAGE(SMALL(IF(BD150:BW150>0,BD150:BW150),{1,2,3,4,5,6,7,8})),BV151)","v":14.351526806526808},{"$f":"IF(BX150>0,AVERAGE(SMALL(IF(BE150:BX150>0,BE150:BX150),{1,2,3,4,5,6,7,8})),BW151)","v":14.351526806526808},{"$f":"IF(BY150>0,AVERAGE(SMALL(IF(BF150:BY150>0,BF150:BY150),{1,2,3,4,5,6,7,8})),BX151)","v":14.351526806526808},{"$f":"IF(BZ150>0,AVERAGE(SMALL(IF(BG150:BZ150>0,BG150:BZ150),{1,2,3,4,5,6,7,8})),BY151)","v":14.351526806526808},{"$f":"IF(CA150>0,AVERAGE(SMALL(IF(BH150:CA150>0,BH150:CA150),{1,2,3,4,5,6,7,8})),BZ151)","v":14.351526806526808},{"$f":"IF(CB150>0,AVERAGE(SMALL(IF(BI150:CB150>0,BI150:CB150),{1,2,3,4,5,6,7,8})),CA151)","v":14.351526806526808},{"$f":"IF(CC150>0,AVERAGE(SMALL(IF(BJ150:CC150>0,BJ150:CC150),{1,2,3,4,5,6,7,8})),CB151)","v":14.351526806526808},{"$f":"IF(CD150>0,AVERAGE(SMALL(IF(BK150:CD150>0,BK150:CD150),{1,2,3,4,5,6,7,8})),CC151)","v":14.351526806526808},{"$f":"IF(CE150>0,AVERAGE(SMALL(IF(BL150:CE150>0,BL150:CE150),{1,2,3,4,5,6,7,8})),CD151)","v":14.351526806526808},{"$f":"IF(CF150>0,AVERAGE(SMALL(IF(BM150:CF150>0,BM150:CF150),{1,2,3,4,5,6,7,8})),CE151)","v":14.351526806526808},{"$f":"IF(CG150>0,AVERAGE(SMALL(IF(BN150:CG150>0,BN150:CG150),{1,2,3,4,5,6,7,8})),CF151)","v":14.351526806526808},{"$f":"IF(CH150>0,AVERAGE(SMALL(IF(BO150:CH150>0,BO150:CH150),{1,2,3,4,5,6,7,8})),CG151)","v":14.351526806526808},{"$f":"IF(CI150>0,AVERAGE(SMALL(IF(BP150:CI150>0,BP150:CI150),{1,2,3,4,5,6,7,8})),CH151)","v":14.351526806526808},{"$f":"IF(CJ150>0,AVERAGE(SMALL(IF(BQ150:CJ150>0,BQ150:CJ150),{1,2,3,4,5,6,7,8})),CI151)","v":14.351526806526808},{"$f":"IF(CK150>0,AVERAGE(SMALL(IF(BR150:CK150>0,BR150:CK150),{1,2,3,4,5,6,7,8})),CJ151)","v":14.351526806526808},{"$f":"IF(CL150>0,AVERAGE(SMALL(IF(BS150:CL150>0,BS150:CL150),{1,2,3,4,5,6,7,8})),CK151)","v":14.351526806526808},{"$f":"IF(CM150>0,AVERAGE(SMALL(IF(BT150:CM150>0,BT150:CM150),{1,2,3,4,5,6,7,8})),CL151)","v":14.351526806526808},{"$f":"IF(CN150>0,AVERAGE(SMALL(IF(BU150:CN150>0,BU150:CN150),{1,2,3,4,5,6,7,8})),CM151)","v":14.351526806526808},{"$f":"IF(CO150>0,AVERAGE(SMALL(IF(BV150:CO150>0,BV150:CO150),{1,2,3,4,5,6,7,8})),CN151)","v":14.351526806526808},{"$f":"IF(CP150>0,AVERAGE(SMALL(IF(BW150:CP150>0,BW150:CP150),{1,2,3,4,5,6,7,8})),CO151)","v":14.351526806526808},{"$f":"IF(CQ150>0,AVERAGE(SMALL(IF(BX150:CQ150>0,BX150:CQ150),{1,2,3,4,5,6,7,8})),CP151)","v":14.351526806526808},{"$f":"IF(CR150>0,AVERAGE(SMALL(IF(BY150:CR150>0,BY150:CR150),{1,2,3,4,5,6,7,8})),CQ151)","v":14.351526806526808},{"$f":"IF(CS150>0,AVERAGE(SMALL(IF(BZ150:CS150>0,BZ150:CS150),{1,2,3,4,5,6,7,8})),CR151)","v":14.351526806526808},{"$f":"IF(CT150>0,AVERAGE(SMALL(IF(CA150:CT150>0,CA150:CT150),{1,2,3,4,5,6,7,8})),CS151)","v":14.351526806526808},{"$f":"IF(CU150>0,AVERAGE(SMALL(IF(CB150:CU150>0,CB150:CU150),{1,2,3,4,5,6,7,8})),CT151)","v":14.351526806526808},{"$f":"IF(CV150>0,AVERAGE(SMALL(IF(CC150:CV150>0,CC150:CV150),{1,2,3,4,5,6,7,8})),CU151)","v":14.351526806526808},{"$f":"IF(CW150>0,AVERAGE(SMALL(IF(CD150:CW150>0,CD150:CW150),{1,2,3,4,5,6,7,8})),CV151)","v":14.351526806526808}]
[null,null,null,null,null,null,null,null,"Low Hcap",null,null,null,null,null,null,null,null,null,null,null,null,null,null,null,null,null,null,null,{"$f":"MIN($O151:AC151)","v":12.682364454883539},{"$f":"MIN($O151:AD151)","v":12.682364454883539},{"$f":"MIN($O151:AE151)","v":12.682364454883539},{"$f":"MIN($O151:AF151)","v":12.682364454883539},{"$f":"MIN($P151:AG151)","v":12.682364454883539},{"$f":"MIN($P151:AH151)","v":12.682364454883539},{"$f":"MIN($P151:AI151)","v":12.682364454883539},{"$f":"MIN($P151:AJ151)","v":12.682364454883539},{"$f":"MIN($P151:AK151)","v":12.682364454883539},{"$f":"MIN($P151:AL151)","v":12.682364454883539},{"$f":"MIN($P151:AM151)","v":12.682364454883539},{"$f":"MIN($T151:AN151)","v":12.682364454883539},{"$f":"MIN($T151:AO151)","v":12.682364454883539},{"$f":"MIN($AA151:AP151)","v":13.584771971031515},{"$f":"MIN($AA151:AQ151)","v":13.584771971031515},{"$f":"MIN($AC151:AR151)","v":14.209594421164079},{"$f":"MIN($AC151:AS151)","v":14.209594421164079},{"$f":"MIN($AC151:AT151)","v":14.209594421164079},{"$f":"MIN($AG151:AU151)","v":14.209594421164079},{"$f":"MIN($AI151:AV151)","v":14.209594421164079},{"$f":"MIN($AL151:AW151)","v":14.856261643540188},{"$f":"MIN($AM151:AX151)","v":14.856261643540188},{"$f":"MIN($AO151:AY151)","v":14.856261643540188},{"$f":"MIN($AO151:AZ151)","v":14.856261643540188},{"$f":"MIN($AO151:BA151)","v":14.856261643540188},{"$f":"MIN($AP151:BB151)","v":14.460180652680654},{"$f":"MIN($AP151:BC151)","v":14.460180652680654},{"$f":"MIN($AP151:BD151)","v":14.460180652680654},{"$f":"MIN($AP151:BE151)","v":14.353996212121212},{"$f":"MIN($AW151:BF151)","v":14.353996212121212},{"$f":"MIN($AX151:BG151)","v":14.351526806526808},{"$f":"MIN($AX151:BH151)","v":14.351526806526808},{"$f":"MIN($AX151:BI151)","v":14.351526806526808},{"$f":"MIN($AX151:BJ151)","v":14.351526806526808},{"$f":"MIN($AX151:BK151)","v":14.351526806526808},{"$f":"MIN($AX151:BL151)","v":14.351526806526808},{"$f":"MIN($AX151:BM151)","v":14.351526806526808},{"$f":"MIN($AX151:BN151)","v":14.351526806526808},{"$f":"MIN($AX151:BO151)","v":14.351526806526808},{"$f":"MIN($AX151:BP151)","v":14.351526806526808},{"$f":"MIN($AX151:BQ151)","v":14.351526806526808},{"$f":"MIN($AX151:BR151)","v":14.351526806526808},{"$f":"MIN($AX151:BS151)","v":14.351526806526808},{"$f":"MIN($AX151:BT151)","v":14.351526806526808},{"$f":"MIN($AX151:BU151)","v":14.351526806526808},{"$f":"MIN($AX151:BV151)","v":14.351526806526808},{"$f":"MIN($AX151:BW151)","v":14.351526806526808},{"$f":"MIN($AX151:BX151)","v":14.351526806526808},{"$f":"MIN($AX151:BY151)","v":14.351526806526808},{"$f":"MIN($AX151:BZ151)","v":14.351526806526808},{"$f":"MIN($AX151:CA151)","v":14.351526806526808},{"$f":"MIN($AX151:CB151)","v":14.351526806526808},{"$f":"MIN($AX151:CC151)","v":14.351526806526808},{"$f":"MIN($AX151:CD151)","v":14.351526806526808},{"$f":"MIN($AX151:CE151)","v":14.351526806526808},{"$f":"MIN($AX151:CF151)","v":14.351526806526808},{"$f":"MIN($AX151:CG151)","v":14.351526806526808},{"$f":"MIN($AX151:CH151)","v":14.351526806526808},{"$f":"MIN($AX151:CI151)","v":14.351526806526808},{"$f":"MIN($AX151:CJ151)","v":14.351526806526808},{"$f":"MIN($AX151:CK151)","v":14.351526806526808},{"$f":"MIN($AX151:CL151)","v":14.351526806526808},{"$f":"MIN($AX151:CM151)","v":14.351526806526808},{"$f":"MIN($AX151:CN151)","v":14.351526806526808},{"$f":"MIN($AX151:CO151)","v":14.351526806526808},{"$f":"MIN($AX151:CP151)","v":14.351526806526808},{"$f":"MIN($AX151:CQ151)","v":14.351526806526808},{"$f":"MIN($AX151:CR151)","v":14.351526806526808},{"$f":"MIN($AX151:CS151)","v":14.351526806526808},{"$f":"MIN($AX151:CT151)","v":14.351526806526808},{"$f":"MIN($AX151:CU151)","v":14.351526806526808},{"$f":"MIN($AX151:CV151)","v":14.351526806526808},{"$f":"MIN($AX151:CW151)","v":14.351526806526808}]
[null,"Doyle","Ronan",8,null,{"$f":"IF(H153<4,\"Y\",)","v":0},2022,{"$f":"COUNT(J153:CX153)","v":11},"Date",null,"2022-05-15","2022-06-05","2022-06-12","2022-07-03","2022-07-31","2022-08-03","2022-08-07","2022-09-23","2023-04-14","2023-05-28","2023-06-04",null,null,null,null,null,null,null,null,null,null,null,null,null,null,null,null,null,null,null,null,null,null,null,null,null,null,null,null,null,null,null,null,null,null,null,null,null,null,null,null,null,null,null,null,null,null,null,null,null,null,null,null,null,null,null,null,null,null,null,null,null,null,null,null,null,null,null,null,null,null,null,null,null,null,null,null,null,null,null,null,null,{"$f":"IF(CW157>$DD$1,36,CW157)","v":10.737477638640428},12.13180661577608,{"$f":"CZ153-CY153","v":1.3943289771356522}]
[null,null,null,null,null,null,null,null,"Course",null,"OdelzhausenHG","IffeldorfHG","ErdingHG","Pfaffing2022HG","HohenpaehlHG","GutThailingHG","IffeldorfHG","ReichertshausenHG","TegernbachHG","ErdingHG","IffeldorfHG"]
[null,null,null,null,null,null,null,null,"Ad Gr",null,92,94,84,95,94,88,91,91,113,82,85]
[null,null,null,null,null,null,null,null,"SD",10,{"$f":"IF(K155=\"\",0,(K155-INDIRECT(CONCATENATE(K154,\"CR\")))*113/INDIRECT(CONCATENATE(K154,\"SR\")))","v":17.973228346456697},{"$f":"IF(L155=\"\",0,(L155-INDIRECT(CONCATENATE(L154,\"CR\")))*113/INDIRECT(CONCATENATE(L154,\"SR\")))","v":19.972093023255812},11.3,19.38384615384615,20.098473282442747,15.095419847328245,17.344186046511624,18.205555555555552,35.355303030303027,9.5615384615384613,12.088372093023253,0,0,0,0,0,0,0,0,0,0,0,0,0,0,0,0,0,0,0,0,0,0,0,0,0,0,0,0,0,0,0,0,0,0,0,0,0,0,0,0,0,0,0,0,0,0,0,0,0,0,0,0,0,0,{"$f":"IF(BX155=\"\",0,(BX155-INDIRECT(CONCATENATE(BX154,\"CR\")))*113/INDIRECT(CONCATENATE(BX154,\"SR\")))","v":0},0,0,0,0,0,0,0,0,0,0,0,0,0,0,{"$f":"IF(CM155=\"\",0,(CM155-INDIRECT(CONCATENATE(CM154,\"CR\")))*113/INDIRECT(CONCATENATE(CM154,\"SR\")))","v":0},0,{"$f":"IF(CO155=\"\",0,(CO155-INDIRECT(CONCATENATE(CO154,\"CR\")))*113/INDIRECT(CONCATENATE(CO154,\"SR\")))","v":0},0,{"$f":"IF(CQ155=\"\",0,(CQ155-INDIRECT(CONCATENATE(CQ154,\"CR\")))*113/INDIRECT(CONCATENATE(CQ154,\"SR\")))","v":0},0,{"$f":"IF(CS155=\"\",0,(CS155-INDIRECT(CONCATENATE(CS154,\"CR\")))*113/INDIRECT(CONCATENATE(CS154,\"SR\")))","v":0},0,{"$f":"IF(CU155=\"\",0,(CU155-INDIRECT(CONCATENATE(CU154,\"CR\")))*113/INDIRECT(CONCATENATE(CU154,\"SR\")))","v":0},0,{"$f":"IF(CW155=\"\",0,(CW155-INDIRECT(CONCATENATE(CW154,\"CR\")))*113/INDIRECT(CONCATENATE(CW154,\"SR\")))","v":0}]
[null,null,null,null,null,null,null,null,"New Hcap",{"$f":"J156-2","v":8},{"$f":"IF(K156>0,MIN(J156:K156)-2,J157)","v":8},{"$f":"IF(L156>0,MIN(J156:L156)-2,K157)","v":8},{"$f":"IF(M156>0,MIN(J156:M156)-1,L157)","v":9},{"$f":"IF(N156>0,MIN(J156:N156),M157)","v":10},{"$f":"IF(O156>0,AVERAGE(SMALL(IF(J156:O156>0,J156:O156),{1,2}))-1,N157)","v":9.65},{"$f":"IF(P156>0,AVERAGE(SMALL(IF(J156:P156>0,J156:P156),{1,2})),O157)","v":10.65},{"$f":"IF(Q156>0,AVERAGE(SMALL(IF(J156:Q156>0,J156:Q156),{1,2})),P157)","v":10.65},{"$f":"IF(R156>0,AVERAGE(SMALL(IF(J156:R156>0,J156:R156),{1,2,3})),Q157)","v":12.13180661577608},{"$f":"IF(S156>0,AVERAGE(SMALL(IF(J156:S156>0,J156:S156),{1,2,3})),R157)","v":12.13180661577608},{"$f":"IF(T156>0,AVERAGE(SMALL(IF(J156:T156>0,J156:T156),{1,2,3})),S157)","v":10.287179487179488},{"$f":"IF(U156>0,AVERAGE(SMALL(IF(J156:U156>0,J156:U156),{1,2,3,4})),T157)","v":10.737477638640428},{"$f":"IF(V156>0,AVERAGE(SMALL(IF(J156:V156>0,J156:V156),{1,2,3,4})),U157)","v":10.737477638640428},{"$f":"IF(W156>0,AVERAGE(SMALL(IF(J156:W156>0,J156:W156),{1,2,3,4})),V157)","v":10.737477638640428},{"$f":"IF(X156>0,AVERAGE(SMALL(IF(J156:X156>0,J156:X156),{1,2,3,4,5})),W157)","v":10.737477638640428},{"$f":"IF(Y156>0,AVERAGE(SMALL(IF(J156:Y156>0,J156:Y156),{1,2,3,4,5})),X157)","v":10.737477638640428},{"$f":"IF(Z156>0,AVERAGE(SMALL(IF(J156:Z156>0,J156:Z156),{1,2,3,4,5,6})),Y157)","v":10.737477638640428},{"$f":"IF(AA156>0,AVERAGE(SMALL(IF(J156:AA156>0,J156:AA156),{1,2,3,4,5,6})),Z157)","v":10.737477638640428},{"$f":"IF(AB156>0,AVERAGE(SMALL(IF(J156:AB156>0,J156:AB156),{1,2,3,4,5,6,7})),AA157)","v":10.737477638640428},{"$f":"IF(AC156>0,AVERAGE(SMALL(IF(J156:AC156>0,J156:AC156),{1,2,3,4,5,6,7,8})),AB157)","v":10.737477638640428},{"$f":"IF(AD156>0,AVERAGE(SMALL(IF(K156:AD156>0,K156:AD156),{1,2,3,4,5,6,7,8})),AC157)","v":10.737477638640428},{"$f":"IF(AE156>0,AVERAGE(SMALL(IF(L156:AE156>0,L156:AE156),{1,2,3,4,5,6,7,8})),AD157)","v":10.737477638640428},{"$f":"IF(AF156>0,AVERAGE(SMALL(IF(M156:AF156>0,M156:AF156),{1,2,3,4,5,6,7,8})),AE157)","v":10.737477638640428},{"$f":"IF(AG156>0,AVERAGE(SMALL(IF(N156:AG156>0,N156:AG156),{1,2,3,4,5,6,7,8})),AF157)","v":10.737477638640428},{"$f":"IF(AH156>0,AVERAGE(SMALL(IF(O156:AH156>0,O156:AH156),{1,2,3,4,5,6,7,8})),AG157)","v":10.737477638640428},{"$f":"IF(AI156>0,AVERAGE(SMALL(IF(P156:AI156>0,P156:AI156),{1,2,3,4,5,6,7,8})),AH157)","v":10.737477638640428},{"$f":"IF(AJ156>0,AVERAGE(SMALL(IF(Q156:AJ156>0,Q156:AJ156),{1,2,3,4,5,6,7,8})),AI157)","v":10.737477638640428},{"$f":"IF(AK156>0,AVERAGE(SMALL(IF(R156:AK156>0,R156:AK156),{1,2,3,4,5,6,7,8})),AJ157)","v":10.737477638640428},{"$f":"IF(AL156>0,AVERAGE(SMALL(IF(S156:AL156>0,S156:AL156),{1,2,3,4,5,6,7,8})),AK157)","v":10.737477638640428},{"$f":"IF(AM156>0,AVERAGE(SMALL(IF(T156:AM156>0,T156:AM156),{1,2,3,4,5,6,7,8})),AL157)","v":10.737477638640428},{"$f":"IF(AN156>0,AVERAGE(SMALL(IF(U156:AN156>0,U156:AN156),{1,2,3,4,5,6,7,8})),AM157)","v":10.737477638640428},{"$f":"IF(AO156>0,AVERAGE(SMALL(IF(V156:AO156>0,V156:AO156),{1,2,3,4,5,6,7,8})),AN157)","v":10.737477638640428},{"$f":"IF(AP156>0,AVERAGE(SMALL(IF(W156:AP156>0,W156:AP156),{1,2,3,4,5,6,7,8})),AO157)","v":10.737477638640428},{"$f":"IF(AQ156>0,AVERAGE(SMALL(IF(X156:AQ156>0,X156:AQ156),{1,2,3,4,5,6,7,8})),AP157)","v":10.737477638640428},{"$f":"IF(AR156>0,AVERAGE(SMALL(IF(Y156:AR156>0,Y156:AR156),{1,2,3,4,5,6,7,8})),AQ157)","v":10.737477638640428},{"$f":"IF(AS156>0,AVERAGE(SMALL(IF(Z156:AS156>0,Z156:AS156),{1,2,3,4,5,6,7,8})),AR157)","v":10.737477638640428},{"$f":"IF(AT156>0,AVERAGE(SMALL(IF(AA156:AT156>0,AA156:AT156),{1,2,3,4,5,6,7,8})),AS157)","v":10.737477638640428},{"$f":"IF(AU156>0,AVERAGE(SMALL(IF(AB156:AU156>0,AB156:AU156),{1,2,3,4,5,6,7,8})),AT157)","v":10.737477638640428},{"$f":"IF(AV156>0,AVERAGE(SMALL(IF(AC156:AV156>0,AC156:AV156),{1,2,3,4,5,6,7,8})),AU157)","v":10.737477638640428},{"$f":"IF(AW156>0,AVERAGE(SMALL(IF(AD156:AW156>0,AD156:AW156),{1,2,3,4,5,6,7,8})),AV157)","v":10.737477638640428},{"$f":"IF(AX156>0,AVERAGE(SMALL(IF(AE156:AX156>0,AE156:AX156),{1,2,3,4,5,6,7,8})),AW157)","v":10.737477638640428},{"$f":"IF(AY156>0,AVERAGE(SMALL(IF(AF156:AY156>0,AF156:AY156),{1,2,3,4,5,6,7,8})),AX157)","v":10.737477638640428},{"$f":"IF(AZ156>0,AVERAGE(SMALL(IF(AG156:AZ156>0,AG156:AZ156),{1,2,3,4,5,6,7,8})),AY157)","v":10.737477638640428},{"$f":"IF(BA156>0,AVERAGE(SMALL(IF(AH156:BA156>0,AH156:BA156),{1,2,3,4,5,6,7,8})),AZ157)","v":10.737477638640428},{"$f":"IF(BB156>0,AVERAGE(SMALL(IF(AI156:BB156>0,AI156:BB156),{1,2,3,4,5,6,7,8})),BA157)","v":10.737477638640428},{"$f":"IF(BC156>0,AVERAGE(SMALL(IF(AJ156:BC156>0,AJ156:BC156),{1,2,3,4,5,6,7,8})),BB157)","v":10.737477638640428},{"$f":"IF(BD156>0,AVERAGE(SMALL(IF(AK156:BD156>0,AK156:BD156),{1,2,3,4,5,6,7,8})),BC157)","v":10.737477638640428},{"$f":"IF(BE156>0,AVERAGE(SMALL(IF(AL156:BE156>0,AL156:BE156),{1,2,3,4,5,6,7,8})),BD157)","v":10.737477638640428},{"$f":"IF(BF156>0,AVERAGE(SMALL(IF(AM156:BF156>0,AM156:BF156),{1,2,3,4,5,6,7,8})),BE157)","v":10.737477638640428},{"$f":"IF(BG156>0,AVERAGE(SMALL(IF(AN156:BG156>0,AN156:BG156),{1,2,3,4,5,6,7,8})),BF157)","v":10.737477638640428},{"$f":"IF(BH156>0,AVERAGE(SMALL(IF(AO156:BH156>0,AO156:BH156),{1,2,3,4,5,6,7,8})),BG157)","v":10.737477638640428},{"$f":"IF(BI156>0,AVERAGE(SMALL(IF(AP156:BI156>0,AP156:BI156),{1,2,3,4,5,6,7,8})),BH157)","v":10.737477638640428},{"$f":"IF(BJ156>0,AVERAGE(SMALL(IF(AQ156:BJ156>0,AQ156:BJ156),{1,2,3,4,5,6,7,8})),BI157)","v":10.737477638640428},{"$f":"IF(BK156>0,AVERAGE(SMALL(IF(AR156:BK156>0,AR156:BK156),{1,2,3,4,5,6,7,8})),BJ157)","v":10.737477638640428},{"$f":"IF(BL156>0,AVERAGE(SMALL(IF(AS156:BL156>0,AS156:BL156),{1,2,3,4,5,6,7,8})),BK157)","v":10.737477638640428},{"$f":"IF(BM156>0,AVERAGE(SMALL(IF(AT156:BM156>0,AT156:BM156),{1,2,3,4,5,6,7,8})),BL157)","v":10.737477638640428},{"$f":"IF(BN156>0,AVERAGE(SMALL(IF(AU156:BN156>0,AU156:BN156),{1,2,3,4,5,6,7,8})),BM157)","v":10.737477638640428},{"$f":"IF(BO156>0,AVERAGE(SMALL(IF(AV156:BO156>0,AV156:BO156),{1,2,3,4,5,6,7,8})),BN157)","v":10.737477638640428},{"$f":"IF(BP156>0,AVERAGE(SMALL(IF(AW156:BP156>0,AW156:BP156),{1,2,3,4,5,6,7,8})),BO157)","v":10.737477638640428},{"$f":"IF(BQ156>0,AVERAGE(SMALL(IF(AX156:BQ156>0,AX156:BQ156),{1,2,3,4,5,6,7,8})),BP157)","v":10.737477638640428},{"$f":"IF(BR156>0,AVERAGE(SMALL(IF(AY156:BR156>0,AY156:BR156),{1,2,3,4,5,6,7,8})),BQ157)","v":10.737477638640428},{"$f":"IF(BS156>0,AVERAGE(SMALL(IF(AZ156:BS156>0,AZ156:BS156),{1,2,3,4,5,6,7,8})),BR157)","v":10.737477638640428},{"$f":"IF(BT156>0,AVERAGE(SMALL(IF(BA156:BT156>0,BA156:BT156),{1,2,3,4,5,6,7,8})),BS157)","v":10.737477638640428},{"$f":"IF(BU156>0,AVERAGE(SMALL(IF(BB156:BU156>0,BB156:BU156),{1,2,3,4,5,6,7,8})),BT157)","v":10.737477638640428},{"$f":"IF(BV156>0,AVERAGE(SMALL(IF(BC156:BV156>0,BC156:BV156),{1,2,3,4,5,6,7,8})),BU157)","v":10.737477638640428},{"$f":"IF(BW156>0,AVERAGE(SMALL(IF(BD156:BW156>0,BD156:BW156),{1,2,3,4,5,6,7,8})),BV157)","v":10.737477638640428},{"$f":"IF(BX156>0,AVERAGE(SMALL(IF(BE156:BX156>0,BE156:BX156),{1,2,3,4,5,6,7,8})),BW157)","v":10.737477638640428},{"$f":"IF(BY156>0,AVERAGE(SMALL(IF(BF156:BY156>0,BF156:BY156),{1,2,3,4,5,6,7,8})),BX157)","v":10.737477638640428},{"$f":"IF(BZ156>0,AVERAGE(SMALL(IF(BG156:BZ156>0,BG156:BZ156),{1,2,3,4,5,6,7,8})),BY157)","v":10.737477638640428},{"$f":"IF(CA156>0,AVERAGE(SMALL(IF(BH156:CA156>0,BH156:CA156),{1,2,3,4,5,6,7,8})),BZ157)","v":10.737477638640428},{"$f":"IF(CB156>0,AVERAGE(SMALL(IF(BI156:CB156>0,BI156:CB156),{1,2,3,4,5,6,7,8})),CA157)","v":10.737477638640428},{"$f":"IF(CC156>0,AVERAGE(SMALL(IF(BJ156:CC156>0,BJ156:CC156),{1,2,3,4,5,6,7,8})),CB157)","v":10.737477638640428},{"$f":"IF(CD156>0,AVERAGE(SMALL(IF(BK156:CD156>0,BK156:CD156),{1,2,3,4,5,6,7,8})),CC157)","v":10.737477638640428},{"$f":"IF(CE156>0,AVERAGE(SMALL(IF(BL156:CE156>0,BL156:CE156),{1,2,3,4,5,6,7,8})),CD157)","v":10.737477638640428},{"$f":"IF(CF156>0,AVERAGE(SMALL(IF(BM156:CF156>0,BM156:CF156),{1,2,3,4,5,6,7,8})),CE157)","v":10.737477638640428},{"$f":"IF(CG156>0,AVERAGE(SMALL(IF(BN156:CG156>0,BN156:CG156),{1,2,3,4,5,6,7,8})),CF157)","v":10.737477638640428},{"$f":"IF(CH156>0,AVERAGE(SMALL(IF(BO156:CH156>0,BO156:CH156),{1,2,3,4,5,6,7,8})),CG157)","v":10.737477638640428},{"$f":"IF(CI156>0,AVERAGE(SMALL(IF(BP156:CI156>0,BP156:CI156),{1,2,3,4,5,6,7,8})),CH157)","v":10.737477638640428},{"$f":"IF(CJ156>0,AVERAGE(SMALL(IF(BQ156:CJ156>0,BQ156:CJ156),{1,2,3,4,5,6,7,8})),CI157)","v":10.737477638640428},{"$f":"IF(CK156>0,AVERAGE(SMALL(IF(BR156:CK156>0,BR156:CK156),{1,2,3,4,5,6,7,8})),CJ157)","v":10.737477638640428},{"$f":"IF(CL156>0,AVERAGE(SMALL(IF(BS156:CL156>0,BS156:CL156),{1,2,3,4,5,6,7,8})),CK157)","v":10.737477638640428},{"$f":"IF(CM156>0,AVERAGE(SMALL(IF(BT156:CM156>0,BT156:CM156),{1,2,3,4,5,6,7,8})),CL157)","v":10.737477638640428},{"$f":"IF(CN156>0,AVERAGE(SMALL(IF(BU156:CN156>0,BU156:CN156),{1,2,3,4,5,6,7,8})),CM157)","v":10.737477638640428},{"$f":"IF(CO156>0,AVERAGE(SMALL(IF(BV156:CO156>0,BV156:CO156),{1,2,3,4,5,6,7,8})),CN157)","v":10.737477638640428},{"$f":"IF(CP156>0,AVERAGE(SMALL(IF(BW156:CP156>0,BW156:CP156),{1,2,3,4,5,6,7,8})),CO157)","v":10.737477638640428},{"$f":"IF(CQ156>0,AVERAGE(SMALL(IF(BX156:CQ156>0,BX156:CQ156),{1,2,3,4,5,6,7,8})),CP157)","v":10.737477638640428},{"$f":"IF(CR156>0,AVERAGE(SMALL(IF(BY156:CR156>0,BY156:CR156),{1,2,3,4,5,6,7,8})),CQ157)","v":10.737477638640428},{"$f":"IF(CS156>0,AVERAGE(SMALL(IF(BZ156:CS156>0,BZ156:CS156),{1,2,3,4,5,6,7,8})),CR157)","v":10.737477638640428},{"$f":"IF(CT156>0,AVERAGE(SMALL(IF(CA156:CT156>0,CA156:CT156),{1,2,3,4,5,6,7,8})),CS157)","v":10.737477638640428},{"$f":"IF(CU156>0,AVERAGE(SMALL(IF(CB156:CU156>0,CB156:CU156),{1,2,3,4,5,6,7,8})),CT157)","v":10.737477638640428},{"$f":"IF(CV156>0,AVERAGE(SMALL(IF(CC156:CV156>0,CC156:CV156),{1,2,3,4,5,6,7,8})),CU157)","v":10.737477638640428},{"$f":"IF(CW156>0,AVERAGE(SMALL(IF(CD156:CW156>0,CD156:CW156),{1,2,3,4,5,6,7,8})),CV157)","v":10.737477638640428}]
[null,null,null,null,null,null,null,null,"Low Hcap",null,null,null,null,null,null,null,null,null,null,null,null,null,null,null,null,null,null,null,{"$f":"MIN($J157:AC157)","v":8},{"$f":"MIN($J157:AD157)","v":8},{"$f":"MIN($J157:AE157)","v":8},{"$f":"MIN($J157:AF157)","v":8},{"$f":"MIN($J157:AG157)","v":8},{"$f":"MIN($J157:AH157)","v":8},{"$f":"MIN($J157:AI157)","v":8},{"$f":"MIN($J157:AJ157)","v":8},{"$f":"MIN($J157:AK157)","v":8},{"$f":"MIN($J157:AL157)","v":8},{"$f":"MIN($J157:AM157)","v":8},{"$f":"MIN($J157:AN157)","v":8},{"$f":"MIN($J157:AO157)","v":8},{"$f":"MIN($J157:AP157)","v":8},{"$f":"MIN($J157:AQ157)","v":8},{"$f":"MIN($J157:AR157)","v":8},{"$f":"MIN($J157:AS157)","v":8},{"$f":"MIN($J157:AT157)","v":8},{"$f":"MIN($J157:AU157)","v":8},{"$f":"MIN($J157:AV157)","v":8},{"$f":"MIN($J157:AW157)","v":8},{"$f":"MIN($J157:AX157)","v":8},{"$f":"MIN($J157:AY157)","v":8},{"$f":"MIN($J157:AZ157)","v":8},{"$f":"MIN($J157:BA157)","v":8},{"$f":"MIN($J157:BB157)","v":8},{"$f":"MIN($J157:BC157)","v":8},{"$f":"MIN($J157:BD157)","v":8},{"$f":"MIN($J157:BE157)","v":8},{"$f":"MIN($J157:BF157)","v":8},{"$f":"MIN($J157:BG157)","v":8},{"$f":"MIN($J157:BH157)","v":8},{"$f":"MIN($J157:BI157)","v":8},{"$f":"MIN($J157:BJ157)","v":8},{"$f":"MIN($J157:BK157)","v":8},{"$f":"MIN($J157:BL157)","v":8},{"$f":"MIN($J157:BM157)","v":8},{"$f":"MIN($J157:BN157)","v":8},{"$f":"MIN($J157:BO157)","v":8},{"$f":"MIN($J157:BP157)","v":8},{"$f":"MIN($J157:BQ157)","v":8},{"$f":"MIN($J157:BR157)","v":8},{"$f":"MIN($J157:BS157)","v":8},{"$f":"MIN($J157:BT157)","v":8},{"$f":"MIN($J157:BU157)","v":8},{"$f":"MIN($J157:BV157)","v":8},{"$f":"MIN($J157:BW157)","v":8},{"$f":"MIN($J157:BX157)","v":8},{"$f":"MIN($J157:BY157)","v":8},{"$f":"MIN($J157:BZ157)","v":8},{"$f":"MIN($J157:CA157)","v":8},{"$f":"MIN($J157:CB157)","v":8},{"$f":"MIN($J157:CC157)","v":8},{"$f":"MIN($J157:CD157)","v":8},{"$f":"MIN($J157:CE157)","v":8},{"$f":"MIN($J157:CF157)","v":8},{"$f":"MIN($J157:CG157)","v":8},{"$f":"MIN($J157:CH157)","v":8},{"$f":"MIN($J157:CI157)","v":8},{"$f":"MIN($J157:CJ157)","v":8},{"$f":"MIN($J157:CK157)","v":8},{"$f":"MIN($J157:CL157)","v":8},{"$f":"MIN($J157:CM157)","v":8},{"$f":"MIN($J157:CN157)","v":8},{"$f":"MIN($J157:CO157)","v":8},{"$f":"MIN($J157:CP157)","v":8},{"$f":"MIN($J157:CQ157)","v":8},{"$f":"MIN($J157:CR157)","v":8},{"$f":"MIN($J157:CS157)","v":8},{"$f":"MIN($J157:CT157)","v":8},{"$f":"MIN($J157:CU157)","v":8},{"$f":"MIN($J157:CV157)","v":8},{"$f":"MIN($J157:CW157)","v":8}]
[null,"Drage","Kevin",8,null,{"$f":"IF(H159<4,\"Y\",)","v":"Y"},2022,{"$f":"COUNT(J159:CX159)","v":3},"Date",null,"2022-08-26","2022-09-02","2022-09-23",null,null,null,null,null,null,null,null,null,null,null,null,null,null,null,null,null,null,null,null,null,null,null,null,null,null,null,null,null,null,null,null,null,null,null,null,null,null,null,null,null,null,null,null,null,null,null,null,null,null,null,null,null,null,null,null,null,null,null,null,null,null,null,null,null,null,null,null,null,null,null,null,null,null,null,null,null,null,null,null,null,null,null,null,null,null,null,null,null,{"$f":"IF(CW163>$DD$1,36,CW163)","v":6.4436507936507912},6.4436507936507912,{"$f":"CZ159-CY159","v":0}]
[null,null,null,null,null,null,null,null,"Course",null,"EschenhofHG","StEurachHG","ReichertshausenHG"]
[null,null,null,null,null,null,null,null,"Ad Gr",null,84,88,79]
[null,null,null,null,null,null,null,null,"SD",10,{"$f":"IF(K161=\"\",0,(K161-INDIRECT(CONCATENATE(K160,\"CR\")))*113/INDIRECT(CONCATENATE(K160,\"SR\")))","v":10.443939393939397},{"$f":"IF(L161=\"\",0,(L161-INDIRECT(CONCATENATE(L160,\"CR\")))*113/INDIRECT(CONCATENATE(L160,\"SR\")))","v":13.887786259541979},7.4436507936507912,0,0,0,0,0,0,0,0,0,0,0,0,0,0,0,0,0,0,0,0,0,0,0,0,0,0,0,0,0,0,0,0,0,0,0,0,0,0,0,0,0,0,0,0,0,0,0,0,0,0,0,0,0,0,0,0,0,0,0,0,0,0,{"$f":"IF(BX161=\"\",0,(BX161-INDIRECT(CONCATENATE(BX160,\"CR\")))*113/INDIRECT(CONCATENATE(BX160,\"SR\")))","v":0},0,0,0,0,0,0,0,0,0,0,0,0,0,0,{"$f":"IF(CM161=\"\",0,(CM161-INDIRECT(CONCATENATE(CM160,\"CR\")))*113/INDIRECT(CONCATENATE(CM160,\"SR\")))","v":0},0,{"$f":"IF(CO161=\"\",0,(CO161-INDIRECT(CONCATENATE(CO160,\"CR\")))*113/INDIRECT(CONCATENATE(CO160,\"SR\")))","v":0},0,{"$f":"IF(CQ161=\"\",0,(CQ161-INDIRECT(CONCATENATE(CQ160,\"CR\")))*113/INDIRECT(CONCATENATE(CQ160,\"SR\")))","v":0},0,{"$f":"IF(CS161=\"\",0,(CS161-INDIRECT(CONCATENATE(CS160,\"CR\")))*113/INDIRECT(CONCATENATE(CS160,\"SR\")))","v":0},0,{"$f":"IF(CU161=\"\",0,(CU161-INDIRECT(CONCATENATE(CU160,\"CR\")))*113/INDIRECT(CONCATENATE(CU160,\"SR\")))","v":0},0,{"$f":"IF(CW161=\"\",0,(CW161-INDIRECT(CONCATENATE(CW160,\"CR\")))*113/INDIRECT(CONCATENATE(CW160,\"SR\")))","v":0}]
[null,null,null,null,null,null,null,null,"New Hcap",{"$f":"J162-2","v":8},{"$f":"IF(K162>0,MIN(J162:K162)-2,J163)","v":8},{"$f":"IF(L162>0,MIN(J162:L162)-2,K163)","v":8},{"$f":"IF(M162>0,MIN(J162:M162)-1,L163)","v":6.4436507936507912},{"$f":"IF(N162>0,MIN(J162:N162),M163)","v":6.4436507936507912},{"$f":"IF(O162>0,AVERAGE(SMALL(IF(J162:O162>0,J162:O162),{1,2}))-1,N163)","v":6.4436507936507912},{"$f":"IF(P162>0,AVERAGE(SMALL(IF(J162:P162>0,J162:P162),{1,2})),O163)","v":6.4436507936507912},{"$f":"IF(Q162>0,AVERAGE(SMALL(IF(J162:Q162>0,J162:Q162),{1,2})),P163)","v":6.4436507936507912},{"$f":"IF(R162>0,AVERAGE(SMALL(IF(J162:R162>0,J162:R162),{1,2,3})),Q163)","v":6.4436507936507912},{"$f":"IF(S162>0,AVERAGE(SMALL(IF(J162:S162>0,J162:S162),{1,2,3})),R163)","v":6.4436507936507912},{"$f":"IF(T162>0,AVERAGE(SMALL(IF(J162:T162>0,J162:T162),{1,2,3})),S163)","v":6.4436507936507912},{"$f":"IF(U162>0,AVERAGE(SMALL(IF(J162:U162>0,J162:U162),{1,2,3,4})),T163)","v":6.4436507936507912},{"$f":"IF(V162>0,AVERAGE(SMALL(IF(J162:V162>0,J162:V162),{1,2,3,4})),U163)","v":6.4436507936507912},{"$f":"IF(W162>0,AVERAGE(SMALL(IF(J162:W162>0,J162:W162),{1,2,3,4})),V163)","v":6.4436507936507912},{"$f":"IF(X162>0,AVERAGE(SMALL(IF(J162:X162>0,J162:X162),{1,2,3,4,5})),W163)","v":6.4436507936507912},{"$f":"IF(Y162>0,AVERAGE(SMALL(IF(J162:Y162>0,J162:Y162),{1,2,3,4,5})),X163)","v":6.4436507936507912},{"$f":"IF(Z162>0,AVERAGE(SMALL(IF(J162:Z162>0,J162:Z162),{1,2,3,4,5,6})),Y163)","v":6.4436507936507912},{"$f":"IF(AA162>0,AVERAGE(SMALL(IF(J162:AA162>0,J162:AA162),{1,2,3,4,5,6})),Z163)","v":6.4436507936507912},{"$f":"IF(AB162>0,AVERAGE(SMALL(IF(J162:AB162>0,J162:AB162),{1,2,3,4,5,6,7})),AA163)","v":6.4436507936507912},{"$f":"IF(AC162>0,AVERAGE(SMALL(IF(J162:AC162>0,J162:AC162),{1,2,3,4,5,6,7,8})),AB163)","v":6.4436507936507912},{"$f":"IF(AD162>0,AVERAGE(SMALL(IF(K162:AD162>0,K162:AD162),{1,2,3,4,5,6,7,8})),AC163)","v":6.4436507936507912},{"$f":"IF(AE162>0,AVERAGE(SMALL(IF(L162:AE162>0,L162:AE162),{1,2,3,4,5,6,7,8})),AD163)","v":6.4436507936507912},{"$f":"IF(AF162>0,AVERAGE(SMALL(IF(M162:AF162>0,M162:AF162),{1,2,3,4,5,6,7,8})),AE163)","v":6.4436507936507912},{"$f":"IF(AG162>0,AVERAGE(SMALL(IF(N162:AG162>0,N162:AG162),{1,2,3,4,5,6,7,8})),AF163)","v":6.4436507936507912},{"$f":"IF(AH162>0,AVERAGE(SMALL(IF(O162:AH162>0,O162:AH162),{1,2,3,4,5,6,7,8})),AG163)","v":6.4436507936507912},{"$f":"IF(AI162>0,AVERAGE(SMALL(IF(P162:AI162>0,P162:AI162),{1,2,3,4,5,6,7,8})),AH163)","v":6.4436507936507912},{"$f":"IF(AJ162>0,AVERAGE(SMALL(IF(Q162:AJ162>0,Q162:AJ162),{1,2,3,4,5,6,7,8})),AI163)","v":6.4436507936507912},{"$f":"IF(AK162>0,AVERAGE(SMALL(IF(R162:AK162>0,R162:AK162),{1,2,3,4,5,6,7,8})),AJ163)","v":6.4436507936507912},{"$f":"IF(AL162>0,AVERAGE(SMALL(IF(S162:AL162>0,S162:AL162),{1,2,3,4,5,6,7,8})),AK163)","v":6.4436507936507912},{"$f":"IF(AM162>0,AVERAGE(SMALL(IF(T162:AM162>0,T162:AM162),{1,2,3,4,5,6,7,8})),AL163)","v":6.4436507936507912},{"$f":"IF(AN162>0,AVERAGE(SMALL(IF(U162:AN162>0,U162:AN162),{1,2,3,4,5,6,7,8})),AM163)","v":6.4436507936507912},{"$f":"IF(AO162>0,AVERAGE(SMALL(IF(V162:AO162>0,V162:AO162),{1,2,3,4,5,6,7,8})),AN163)","v":6.4436507936507912},{"$f":"IF(AP162>0,AVERAGE(SMALL(IF(W162:AP162>0,W162:AP162),{1,2,3,4,5,6,7,8})),AO163)","v":6.4436507936507912},{"$f":"IF(AQ162>0,AVERAGE(SMALL(IF(X162:AQ162>0,X162:AQ162),{1,2,3,4,5,6,7,8})),AP163)","v":6.4436507936507912},{"$f":"IF(AR162>0,AVERAGE(SMALL(IF(Y162:AR162>0,Y162:AR162),{1,2,3,4,5,6,7,8})),AQ163)","v":6.4436507936507912},{"$f":"IF(AS162>0,AVERAGE(SMALL(IF(Z162:AS162>0,Z162:AS162),{1,2,3,4,5,6,7,8})),AR163)","v":6.4436507936507912},{"$f":"IF(AT162>0,AVERAGE(SMALL(IF(AA162:AT162>0,AA162:AT162),{1,2,3,4,5,6,7,8})),AS163)","v":6.4436507936507912},{"$f":"IF(AU162>0,AVERAGE(SMALL(IF(AB162:AU162>0,AB162:AU162),{1,2,3,4,5,6,7,8})),AT163)","v":6.4436507936507912},{"$f":"IF(AV162>0,AVERAGE(SMALL(IF(AC162:AV162>0,AC162:AV162),{1,2,3,4,5,6,7,8})),AU163)","v":6.4436507936507912},{"$f":"IF(AW162>0,AVERAGE(SMALL(IF(AD162:AW162>0,AD162:AW162),{1,2,3,4,5,6,7,8})),AV163)","v":6.4436507936507912},{"$f":"IF(AX162>0,AVERAGE(SMALL(IF(AE162:AX162>0,AE162:AX162),{1,2,3,4,5,6,7,8})),AW163)","v":6.4436507936507912},{"$f":"IF(AY162>0,AVERAGE(SMALL(IF(AF162:AY162>0,AF162:AY162),{1,2,3,4,5,6,7,8})),AX163)","v":6.4436507936507912},{"$f":"IF(AZ162>0,AVERAGE(SMALL(IF(AG162:AZ162>0,AG162:AZ162),{1,2,3,4,5,6,7,8})),AY163)","v":6.4436507936507912},{"$f":"IF(BA162>0,AVERAGE(SMALL(IF(AH162:BA162>0,AH162:BA162),{1,2,3,4,5,6,7,8})),AZ163)","v":6.4436507936507912},{"$f":"IF(BB162>0,AVERAGE(SMALL(IF(AI162:BB162>0,AI162:BB162),{1,2,3,4,5,6,7,8})),BA163)","v":6.4436507936507912},{"$f":"IF(BC162>0,AVERAGE(SMALL(IF(AJ162:BC162>0,AJ162:BC162),{1,2,3,4,5,6,7,8})),BB163)","v":6.4436507936507912},{"$f":"IF(BD162>0,AVERAGE(SMALL(IF(AK162:BD162>0,AK162:BD162),{1,2,3,4,5,6,7,8})),BC163)","v":6.4436507936507912},{"$f":"IF(BE162>0,AVERAGE(SMALL(IF(AL162:BE162>0,AL162:BE162),{1,2,3,4,5,6,7,8})),BD163)","v":6.4436507936507912},{"$f":"IF(BF162>0,AVERAGE(SMALL(IF(AM162:BF162>0,AM162:BF162),{1,2,3,4,5,6,7,8})),BE163)","v":6.4436507936507912},{"$f":"IF(BG162>0,AVERAGE(SMALL(IF(AN162:BG162>0,AN162:BG162),{1,2,3,4,5,6,7,8})),BF163)","v":6.4436507936507912},{"$f":"IF(BH162>0,AVERAGE(SMALL(IF(AO162:BH162>0,AO162:BH162),{1,2,3,4,5,6,7,8})),BG163)","v":6.4436507936507912},{"$f":"IF(BI162>0,AVERAGE(SMALL(IF(AP162:BI162>0,AP162:BI162),{1,2,3,4,5,6,7,8})),BH163)","v":6.4436507936507912},{"$f":"IF(BJ162>0,AVERAGE(SMALL(IF(AQ162:BJ162>0,AQ162:BJ162),{1,2,3,4,5,6,7,8})),BI163)","v":6.4436507936507912},{"$f":"IF(BK162>0,AVERAGE(SMALL(IF(AR162:BK162>0,AR162:BK162),{1,2,3,4,5,6,7,8})),BJ163)","v":6.4436507936507912},{"$f":"IF(BL162>0,AVERAGE(SMALL(IF(AS162:BL162>0,AS162:BL162),{1,2,3,4,5,6,7,8})),BK163)","v":6.4436507936507912},{"$f":"IF(BM162>0,AVERAGE(SMALL(IF(AT162:BM162>0,AT162:BM162),{1,2,3,4,5,6,7,8})),BL163)","v":6.4436507936507912},{"$f":"IF(BN162>0,AVERAGE(SMALL(IF(AU162:BN162>0,AU162:BN162),{1,2,3,4,5,6,7,8})),BM163)","v":6.4436507936507912},{"$f":"IF(BO162>0,AVERAGE(SMALL(IF(AV162:BO162>0,AV162:BO162),{1,2,3,4,5,6,7,8})),BN163)","v":6.4436507936507912},{"$f":"IF(BP162>0,AVERAGE(SMALL(IF(AW162:BP162>0,AW162:BP162),{1,2,3,4,5,6,7,8})),BO163)","v":6.4436507936507912},{"$f":"IF(BQ162>0,AVERAGE(SMALL(IF(AX162:BQ162>0,AX162:BQ162),{1,2,3,4,5,6,7,8})),BP163)","v":6.4436507936507912},{"$f":"IF(BR162>0,AVERAGE(SMALL(IF(AY162:BR162>0,AY162:BR162),{1,2,3,4,5,6,7,8})),BQ163)","v":6.4436507936507912},{"$f":"IF(BS162>0,AVERAGE(SMALL(IF(AZ162:BS162>0,AZ162:BS162),{1,2,3,4,5,6,7,8})),BR163)","v":6.4436507936507912},{"$f":"IF(BT162>0,AVERAGE(SMALL(IF(BA162:BT162>0,BA162:BT162),{1,2,3,4,5,6,7,8})),BS163)","v":6.4436507936507912},{"$f":"IF(BU162>0,AVERAGE(SMALL(IF(BB162:BU162>0,BB162:BU162),{1,2,3,4,5,6,7,8})),BT163)","v":6.4436507936507912},{"$f":"IF(BV162>0,AVERAGE(SMALL(IF(BC162:BV162>0,BC162:BV162),{1,2,3,4,5,6,7,8})),BU163)","v":6.4436507936507912},{"$f":"IF(BW162>0,AVERAGE(SMALL(IF(BD162:BW162>0,BD162:BW162),{1,2,3,4,5,6,7,8})),BV163)","v":6.4436507936507912},{"$f":"IF(BX162>0,AVERAGE(SMALL(IF(BE162:BX162>0,BE162:BX162),{1,2,3,4,5,6,7,8})),BW163)","v":6.4436507936507912},{"$f":"IF(BY162>0,AVERAGE(SMALL(IF(BF162:BY162>0,BF162:BY162),{1,2,3,4,5,6,7,8})),BX163)","v":6.4436507936507912},{"$f":"IF(BZ162>0,AVERAGE(SMALL(IF(BG162:BZ162>0,BG162:BZ162),{1,2,3,4,5,6,7,8})),BY163)","v":6.4436507936507912},{"$f":"IF(CA162>0,AVERAGE(SMALL(IF(BH162:CA162>0,BH162:CA162),{1,2,3,4,5,6,7,8})),BZ163)","v":6.4436507936507912},{"$f":"IF(CB162>0,AVERAGE(SMALL(IF(BI162:CB162>0,BI162:CB162),{1,2,3,4,5,6,7,8})),CA163)","v":6.4436507936507912},{"$f":"IF(CC162>0,AVERAGE(SMALL(IF(BJ162:CC162>0,BJ162:CC162),{1,2,3,4,5,6,7,8})),CB163)","v":6.4436507936507912},{"$f":"IF(CD162>0,AVERAGE(SMALL(IF(BK162:CD162>0,BK162:CD162),{1,2,3,4,5,6,7,8})),CC163)","v":6.4436507936507912},{"$f":"IF(CE162>0,AVERAGE(SMALL(IF(BL162:CE162>0,BL162:CE162),{1,2,3,4,5,6,7,8})),CD163)","v":6.4436507936507912},{"$f":"IF(CF162>0,AVERAGE(SMALL(IF(BM162:CF162>0,BM162:CF162),{1,2,3,4,5,6,7,8})),CE163)","v":6.4436507936507912},{"$f":"IF(CG162>0,AVERAGE(SMALL(IF(BN162:CG162>0,BN162:CG162),{1,2,3,4,5,6,7,8})),CF163)","v":6.4436507936507912},{"$f":"IF(CH162>0,AVERAGE(SMALL(IF(BO162:CH162>0,BO162:CH162),{1,2,3,4,5,6,7,8})),CG163)","v":6.4436507936507912},{"$f":"IF(CI162>0,AVERAGE(SMALL(IF(BP162:CI162>0,BP162:CI162),{1,2,3,4,5,6,7,8})),CH163)","v":6.4436507936507912},{"$f":"IF(CJ162>0,AVERAGE(SMALL(IF(BQ162:CJ162>0,BQ162:CJ162),{1,2,3,4,5,6,7,8})),CI163)","v":6.4436507936507912},{"$f":"IF(CK162>0,AVERAGE(SMALL(IF(BR162:CK162>0,BR162:CK162),{1,2,3,4,5,6,7,8})),CJ163)","v":6.4436507936507912},{"$f":"IF(CL162>0,AVERAGE(SMALL(IF(BS162:CL162>0,BS162:CL162),{1,2,3,4,5,6,7,8})),CK163)","v":6.4436507936507912},{"$f":"IF(CM162>0,AVERAGE(SMALL(IF(BT162:CM162>0,BT162:CM162),{1,2,3,4,5,6,7,8})),CL163)","v":6.4436507936507912},{"$f":"IF(CN162>0,AVERAGE(SMALL(IF(BU162:CN162>0,BU162:CN162),{1,2,3,4,5,6,7,8})),CM163)","v":6.4436507936507912},{"$f":"IF(CO162>0,AVERAGE(SMALL(IF(BV162:CO162>0,BV162:CO162),{1,2,3,4,5,6,7,8})),CN163)","v":6.4436507936507912},{"$f":"IF(CP162>0,AVERAGE(SMALL(IF(BW162:CP162>0,BW162:CP162),{1,2,3,4,5,6,7,8})),CO163)","v":6.4436507936507912},{"$f":"IF(CQ162>0,AVERAGE(SMALL(IF(BX162:CQ162>0,BX162:CQ162),{1,2,3,4,5,6,7,8})),CP163)","v":6.4436507936507912},{"$f":"IF(CR162>0,AVERAGE(SMALL(IF(BY162:CR162>0,BY162:CR162),{1,2,3,4,5,6,7,8})),CQ163)","v":6.4436507936507912},{"$f":"IF(CS162>0,AVERAGE(SMALL(IF(BZ162:CS162>0,BZ162:CS162),{1,2,3,4,5,6,7,8})),CR163)","v":6.4436507936507912},{"$f":"IF(CT162>0,AVERAGE(SMALL(IF(CA162:CT162>0,CA162:CT162),{1,2,3,4,5,6,7,8})),CS163)","v":6.4436507936507912},{"$f":"IF(CU162>0,AVERAGE(SMALL(IF(CB162:CU162>0,CB162:CU162),{1,2,3,4,5,6,7,8})),CT163)","v":6.4436507936507912},{"$f":"IF(CV162>0,AVERAGE(SMALL(IF(CC162:CV162>0,CC162:CV162),{1,2,3,4,5,6,7,8})),CU163)","v":6.4436507936507912},{"$f":"IF(CW162>0,AVERAGE(SMALL(IF(CD162:CW162>0,CD162:CW162),{1,2,3,4,5,6,7,8})),CV163)","v":6.4436507936507912}]
[null,null,null,null,null,null,null,null,"Low Hcap",null,null,null,null,null,null,null,null,null,null,null,null,null,null,null,null,null,null,null,{"$f":"MIN($J163:AC163)","v":6.4436507936507912},{"$f":"MIN($J163:AD163)","v":6.4436507936507912},{"$f":"MIN($J163:AE163)","v":6.4436507936507912},{"$f":"MIN($J163:AF163)","v":6.4436507936507912},{"$f":"MIN($J163:AG163)","v":6.4436507936507912},{"$f":"MIN($J163:AH163)","v":6.4436507936507912},{"$f":"MIN($J163:AI163)","v":6.4436507936507912},{"$f":"MIN($J163:AJ163)","v":6.4436507936507912},{"$f":"MIN($J163:AK163)","v":6.4436507936507912},{"$f":"MIN($J163:AL163)","v":6.4436507936507912},{"$f":"MIN($J163:AM163)","v":6.4436507936507912},{"$f":"MIN($J163:AN163)","v":6.4436507936507912},{"$f":"MIN($J163:AO163)","v":6.4436507936507912},{"$f":"MIN($J163:AP163)","v":6.4436507936507912},{"$f":"MIN($J163:AQ163)","v":6.4436507936507912},{"$f":"MIN($J163:AR163)","v":6.4436507936507912},{"$f":"MIN($J163:AS163)","v":6.4436507936507912},{"$f":"MIN($J163:AT163)","v":6.4436507936507912},{"$f":"MIN($J163:AU163)","v":6.4436507936507912},{"$f":"MIN($J163:AV163)","v":6.4436507936507912},{"$f":"MIN($J163:AW163)","v":6.4436507936507912},{"$f":"MIN($J163:AX163)","v":6.4436507936507912},{"$f":"MIN($J163:AY163)","v":6.4436507936507912},{"$f":"MIN($J163:AZ163)","v":6.4436507936507912},{"$f":"MIN($J163:BA163)","v":6.4436507936507912},{"$f":"MIN($J163:BB163)","v":6.4436507936507912},{"$f":"MIN($J163:BC163)","v":6.4436507936507912},{"$f":"MIN($J163:BD163)","v":6.4436507936507912},{"$f":"MIN($J163:BE163)","v":6.4436507936507912},{"$f":"MIN($J163:BF163)","v":6.4436507936507912},{"$f":"MIN($J163:BG163)","v":6.4436507936507912},{"$f":"MIN($J163:BH163)","v":6.4436507936507912},{"$f":"MIN($J163:BI163)","v":6.4436507936507912},{"$f":"MIN($J163:BJ163)","v":6.4436507936507912},{"$f":"MIN($J163:BK163)","v":6.4436507936507912},{"$f":"MIN($J163:BL163)","v":6.4436507936507912},{"$f":"MIN($J163:BM163)","v":6.4436507936507912},{"$f":"MIN($J163:BN163)","v":6.4436507936507912},{"$f":"MIN($J163:BO163)","v":6.4436507936507912},{"$f":"MIN($J163:BP163)","v":6.4436507936507912},{"$f":"MIN($J163:BQ163)","v":6.4436507936507912},{"$f":"MIN($J163:BR163)","v":6.4436507936507912},{"$f":"MIN($J163:BS163)","v":6.4436507936507912},{"$f":"MIN($J163:BT163)","v":6.4436507936507912},{"$f":"MIN($J163:BU163)","v":6.4436507936507912},{"$f":"MIN($J163:BV163)","v":6.4436507936507912},{"$f":"MIN($J163:BW163)","v":6.4436507936507912},{"$f":"MIN($J163:BX163)","v":6.4436507936507912},{"$f":"MIN($J163:BY163)","v":6.4436507936507912},{"$f":"MIN($J163:BZ163)","v":6.4436507936507912},{"$f":"MIN($J163:CA163)","v":6.4436507936507912},{"$f":"MIN($J163:CB163)","v":6.4436507936507912},{"$f":"MIN($J163:CC163)","v":6.4436507936507912},{"$f":"MIN($J163:CD163)","v":6.4436507936507912},{"$f":"MIN($J163:CE163)","v":6.4436507936507912},{"$f":"MIN($J163:CF163)","v":6.4436507936507912},{"$f":"MIN($J163:CG163)","v":6.4436507936507912},{"$f":"MIN($J163:CH163)","v":6.4436507936507912},{"$f":"MIN($J163:CI163)","v":6.4436507936507912},{"$f":"MIN($J163:CJ163)","v":6.4436507936507912},{"$f":"MIN($J163:CK163)","v":6.4436507936507912},{"$f":"MIN($J163:CL163)","v":6.4436507936507912},{"$f":"MIN($J163:CM163)","v":6.4436507936507912},{"$f":"MIN($J163:CN163)","v":6.4436507936507912},{"$f":"MIN($J163:CO163)","v":6.4436507936507912},{"$f":"MIN($J163:CP163)","v":6.4436507936507912},{"$f":"MIN($J163:CQ163)","v":6.4436507936507912},{"$f":"MIN($J163:CR163)","v":6.4436507936507912},{"$f":"MIN($J163:CS163)","v":6.4436507936507912},{"$f":"MIN($J163:CT163)","v":6.4436507936507912},{"$f":"MIN($J163:CU163)","v":6.4436507936507912},{"$f":"MIN($J163:CV163)","v":6.4436507936507912},{"$f":"MIN($J163:CW163)","v":6.4436507936507912}]
[null,"Duffell","Martin",15.1,null,{"$f":"IF(H165<4,\"Y\",)","v":0},2020,{"$f":"COUNT(J165:CX165)","v":5},"Date",null,"2020-09-16","2020-10-04","2020-11-01","2021-04-11","2021-04-25",null,null,null,null,null,null,null,null,null,null,null,null,null,null,null,null,null,null,null,null,null,null,null,null,null,null,null,null,null,null,null,null,null,null,null,null,null,null,null,null,null,null,null,null,null,null,null,null,null,null,null,null,null,null,null,null,null,null,null,null,null,null,null,null,null,null,null,null,null,null,null,null,null,null,null,null,null,null,null,null,null,null,null,null,null,null,null,{"$f":"IF(CW169>$DD$1,36,CW169)","v":13.312204724409451},13.312204724409451,{"$f":"CZ165-CY165","v":0}]
[null,null,null,null,null,null,null,null,"Course",null,"GutThailingHG","OdelzhausenHG","ErdingHG","ErdingHR","PfaffingHG"]
[null,null,null,null,null,null,null,null,"Ad Gr",null,90,87,97,90,93]
[null,null,null,null,null,null,null,null,"SD",15.1,{"$f":"IF(K167=\"\",0,(K167-INDIRECT(CONCATENATE(K166,\"CR\")))*113/INDIRECT(CONCATENATE(K166,\"SR\")))","v":16.820610687022899},{"$f":"IF(L167=\"\",0,(L167-INDIRECT(CONCATENATE(L166,\"CR\")))*113/INDIRECT(CONCATENATE(L166,\"SR\")))","v":13.524409448818901},22.6,21.935294117647054,18.253846153846155,0,0,0,0,0,0,0,0,0,0,0,0,0,0,0,0,0,0,0,0,0,0,0,0,0,0,0,0,0,0,0,0,0,0,0,0,0,0,0,0,0,0,0,0,0,0,0,0,0,0,0,0,0,0,0,0,0,0,0,0,{"$f":"IF(BX167=\"\",0,(BX167-INDIRECT(CONCATENATE(BX166,\"CR\")))*113/INDIRECT(CONCATENATE(BX166,\"SR\")))","v":0},0,0,0,0,0,0,0,0,0,0,0,0,0,0,{"$f":"IF(CM167=\"\",0,(CM167-INDIRECT(CONCATENATE(CM166,\"CR\")))*113/INDIRECT(CONCATENATE(CM166,\"SR\")))","v":0},0,{"$f":"IF(CO167=\"\",0,(CO167-INDIRECT(CONCATENATE(CO166,\"CR\")))*113/INDIRECT(CONCATENATE(CO166,\"SR\")))","v":0},0,{"$f":"IF(CQ167=\"\",0,(CQ167-INDIRECT(CONCATENATE(CQ166,\"CR\")))*113/INDIRECT(CONCATENATE(CQ166,\"SR\")))","v":0},0,{"$f":"IF(CS167=\"\",0,(CS167-INDIRECT(CONCATENATE(CS166,\"CR\")))*113/INDIRECT(CONCATENATE(CS166,\"SR\")))","v":0},0,{"$f":"IF(CU167=\"\",0,(CU167-INDIRECT(CONCATENATE(CU166,\"CR\")))*113/INDIRECT(CONCATENATE(CU166,\"SR\")))","v":0},0,{"$f":"IF(CW167=\"\",0,(CW167-INDIRECT(CONCATENATE(CW166,\"CR\")))*113/INDIRECT(CONCATENATE(CW166,\"SR\")))","v":0}]
[null,null,null,null,null,null,null,null,"New Hcap",{"$f":"J168-2","v":13.1},{"$f":"IF(K168>0,MIN(J168:K168)-2,J169)","v":13.1},{"$f":"IF(L168>0,MIN(J168:L168)-2,K169)","v":11.524409448818901},{"$f":"IF(M168>0,MIN(J168:M168)-1,L169)","v":12.524409448818901},{"$f":"IF(N168>0,MIN(J168:N168),M169)","v":13.524409448818901},{"$f":"IF(O168>0,AVERAGE(SMALL(IF(J168:O168>0,J168:O168),{1,2}))-1,N169)","v":13.312204724409451},{"$f":"IF(P168>0,AVERAGE(SMALL(IF(J168:P168>0,J168:P168),{1,2})),O169)","v":13.312204724409451},{"$f":"IF(Q168>0,AVERAGE(SMALL(IF(J168:Q168>0,J168:Q168),{1,2})),P169)","v":13.312204724409451},{"$f":"IF(R168>0,AVERAGE(SMALL(IF(J168:R168>0,J168:R168),{1,2,3})),Q169)","v":13.312204724409451},{"$f":"IF(S168>0,AVERAGE(SMALL(IF(J168:S168>0,J168:S168),{1,2,3})),R169)","v":13.312204724409451},{"$f":"IF(T168>0,AVERAGE(SMALL(IF(J168:T168>0,J168:T168),{1,2,3})),S169)","v":13.312204724409451},{"$f":"IF(U168>0,AVERAGE(SMALL(IF(J168:U168>0,J168:U168),{1,2,3,4})),T169)","v":13.312204724409451},{"$f":"IF(V168>0,AVERAGE(SMALL(IF(J168:V168>0,J168:V168),{1,2,3,4})),U169)","v":13.312204724409451},{"$f":"IF(W168>0,AVERAGE(SMALL(IF(J168:W168>0,J168:W168),{1,2,3,4})),V169)","v":13.312204724409451},{"$f":"IF(X168>0,AVERAGE(SMALL(IF(J168:X168>0,J168:X168),{1,2,3,4,5})),W169)","v":13.312204724409451},{"$f":"IF(Y168>0,AVERAGE(SMALL(IF(J168:Y168>0,J168:Y168),{1,2,3,4,5})),X169)","v":13.312204724409451},{"$f":"IF(Z168>0,AVERAGE(SMALL(IF(J168:Z168>0,J168:Z168),{1,2,3,4,5,6})),Y169)","v":13.312204724409451},{"$f":"IF(AA168>0,AVERAGE(SMALL(IF(J168:AA168>0,J168:AA168),{1,2,3,4,5,6})),Z169)","v":13.312204724409451},{"$f":"IF(AB168>0,AVERAGE(SMALL(IF(J168:AB168>0,J168:AB168),{1,2,3,4,5,6,7})),AA169)","v":13.312204724409451},{"$f":"IF(AC168>0,AVERAGE(SMALL(IF(J168:AC168>0,J168:AC168),{1,2,3,4,5,6,7,8})),AB169)","v":13.312204724409451},{"$f":"IF(AD168>0,AVERAGE(SMALL(IF(K168:AD168>0,K168:AD168),{1,2,3,4,5,6,7,8})),AC169)","v":13.312204724409451},{"$f":"IF(AE168>0,AVERAGE(SMALL(IF(L168:AE168>0,L168:AE168),{1,2,3,4,5,6,7,8})),AD169)","v":13.312204724409451},{"$f":"IF(AF168>0,AVERAGE(SMALL(IF(M168:AF168>0,M168:AF168),{1,2,3,4,5,6,7,8})),AE169)","v":13.312204724409451},{"$f":"IF(AG168>0,AVERAGE(SMALL(IF(N168:AG168>0,N168:AG168),{1,2,3,4,5,6,7,8})),AF169)","v":13.312204724409451},{"$f":"IF(AH168>0,AVERAGE(SMALL(IF(O168:AH168>0,O168:AH168),{1,2,3,4,5,6,7,8})),AG169)","v":13.312204724409451},{"$f":"IF(AI168>0,AVERAGE(SMALL(IF(P168:AI168>0,P168:AI168),{1,2,3,4,5,6,7,8})),AH169)","v":13.312204724409451},{"$f":"IF(AJ168>0,AVERAGE(SMALL(IF(Q168:AJ168>0,Q168:AJ168),{1,2,3,4,5,6,7,8})),AI169)","v":13.312204724409451},{"$f":"IF(AK168>0,AVERAGE(SMALL(IF(R168:AK168>0,R168:AK168),{1,2,3,4,5,6,7,8})),AJ169)","v":13.312204724409451},{"$f":"IF(AL168>0,AVERAGE(SMALL(IF(S168:AL168>0,S168:AL168),{1,2,3,4,5,6,7,8})),AK169)","v":13.312204724409451},{"$f":"IF(AM168>0,AVERAGE(SMALL(IF(T168:AM168>0,T168:AM168),{1,2,3,4,5,6,7,8})),AL169)","v":13.312204724409451},{"$f":"IF(AN168>0,AVERAGE(SMALL(IF(U168:AN168>0,U168:AN168),{1,2,3,4,5,6,7,8})),AM169)","v":13.312204724409451},{"$f":"IF(AO168>0,AVERAGE(SMALL(IF(V168:AO168>0,V168:AO168),{1,2,3,4,5,6,7,8})),AN169)","v":13.312204724409451},{"$f":"IF(AP168>0,AVERAGE(SMALL(IF(W168:AP168>0,W168:AP168),{1,2,3,4,5,6,7,8})),AO169)","v":13.312204724409451},{"$f":"IF(AQ168>0,AVERAGE(SMALL(IF(X168:AQ168>0,X168:AQ168),{1,2,3,4,5,6,7,8})),AP169)","v":13.312204724409451},{"$f":"IF(AR168>0,AVERAGE(SMALL(IF(Y168:AR168>0,Y168:AR168),{1,2,3,4,5,6,7,8})),AQ169)","v":13.312204724409451},{"$f":"IF(AS168>0,AVERAGE(SMALL(IF(Z168:AS168>0,Z168:AS168),{1,2,3,4,5,6,7,8})),AR169)","v":13.312204724409451},{"$f":"IF(AT168>0,AVERAGE(SMALL(IF(AA168:AT168>0,AA168:AT168),{1,2,3,4,5,6,7,8})),AS169)","v":13.312204724409451},{"$f":"IF(AU168>0,AVERAGE(SMALL(IF(AB168:AU168>0,AB168:AU168),{1,2,3,4,5,6,7,8})),AT169)","v":13.312204724409451},{"$f":"IF(AV168>0,AVERAGE(SMALL(IF(AC168:AV168>0,AC168:AV168),{1,2,3,4,5,6,7,8})),AU169)","v":13.312204724409451},{"$f":"IF(AW168>0,AVERAGE(SMALL(IF(AD168:AW168>0,AD168:AW168),{1,2,3,4,5,6,7,8})),AV169)","v":13.312204724409451},{"$f":"IF(AX168>0,AVERAGE(SMALL(IF(AE168:AX168>0,AE168:AX168),{1,2,3,4,5,6,7,8})),AW169)","v":13.312204724409451},{"$f":"IF(AY168>0,AVERAGE(SMALL(IF(AF168:AY168>0,AF168:AY168),{1,2,3,4,5,6,7,8})),AX169)","v":13.312204724409451},{"$f":"IF(AZ168>0,AVERAGE(SMALL(IF(AG168:AZ168>0,AG168:AZ168),{1,2,3,4,5,6,7,8})),AY169)","v":13.312204724409451},{"$f":"IF(BA168>0,AVERAGE(SMALL(IF(AH168:BA168>0,AH168:BA168),{1,2,3,4,5,6,7,8})),AZ169)","v":13.312204724409451},{"$f":"IF(BB168>0,AVERAGE(SMALL(IF(AI168:BB168>0,AI168:BB168),{1,2,3,4,5,6,7,8})),BA169)","v":13.312204724409451},{"$f":"IF(BC168>0,AVERAGE(SMALL(IF(AJ168:BC168>0,AJ168:BC168),{1,2,3,4,5,6,7,8})),BB169)","v":13.312204724409451},{"$f":"IF(BD168>0,AVERAGE(SMALL(IF(AK168:BD168>0,AK168:BD168),{1,2,3,4,5,6,7,8})),BC169)","v":13.312204724409451},{"$f":"IF(BE168>0,AVERAGE(SMALL(IF(AL168:BE168>0,AL168:BE168),{1,2,3,4,5,6,7,8})),BD169)","v":13.312204724409451},{"$f":"IF(BF168>0,AVERAGE(SMALL(IF(AM168:BF168>0,AM168:BF168),{1,2,3,4,5,6,7,8})),BE169)","v":13.312204724409451},{"$f":"IF(BG168>0,AVERAGE(SMALL(IF(AN168:BG168>0,AN168:BG168),{1,2,3,4,5,6,7,8})),BF169)","v":13.312204724409451},{"$f":"IF(BH168>0,AVERAGE(SMALL(IF(AO168:BH168>0,AO168:BH168),{1,2,3,4,5,6,7,8})),BG169)","v":13.312204724409451},{"$f":"IF(BI168>0,AVERAGE(SMALL(IF(AP168:BI168>0,AP168:BI168),{1,2,3,4,5,6,7,8})),BH169)","v":13.312204724409451},{"$f":"IF(BJ168>0,AVERAGE(SMALL(IF(AQ168:BJ168>0,AQ168:BJ168),{1,2,3,4,5,6,7,8})),BI169)","v":13.312204724409451},{"$f":"IF(BK168>0,AVERAGE(SMALL(IF(AR168:BK168>0,AR168:BK168),{1,2,3,4,5,6,7,8})),BJ169)","v":13.312204724409451},{"$f":"IF(BL168>0,AVERAGE(SMALL(IF(AS168:BL168>0,AS168:BL168),{1,2,3,4,5,6,7,8})),BK169)","v":13.312204724409451},{"$f":"IF(BM168>0,AVERAGE(SMALL(IF(AT168:BM168>0,AT168:BM168),{1,2,3,4,5,6,7,8})),BL169)","v":13.312204724409451},{"$f":"IF(BN168>0,AVERAGE(SMALL(IF(AU168:BN168>0,AU168:BN168),{1,2,3,4,5,6,7,8})),BM169)","v":13.312204724409451},{"$f":"IF(BO168>0,AVERAGE(SMALL(IF(AV168:BO168>0,AV168:BO168),{1,2,3,4,5,6,7,8})),BN169)","v":13.312204724409451},{"$f":"IF(BP168>0,AVERAGE(SMALL(IF(AW168:BP168>0,AW168:BP168),{1,2,3,4,5,6,7,8})),BO169)","v":13.312204724409451},{"$f":"IF(BQ168>0,AVERAGE(SMALL(IF(AX168:BQ168>0,AX168:BQ168),{1,2,3,4,5,6,7,8})),BP169)","v":13.312204724409451},{"$f":"IF(BR168>0,AVERAGE(SMALL(IF(AY168:BR168>0,AY168:BR168),{1,2,3,4,5,6,7,8})),BQ169)","v":13.312204724409451},{"$f":"IF(BS168>0,AVERAGE(SMALL(IF(AZ168:BS168>0,AZ168:BS168),{1,2,3,4,5,6,7,8})),BR169)","v":13.312204724409451},{"$f":"IF(BT168>0,AVERAGE(SMALL(IF(BA168:BT168>0,BA168:BT168),{1,2,3,4,5,6,7,8})),BS169)","v":13.312204724409451},{"$f":"IF(BU168>0,AVERAGE(SMALL(IF(BB168:BU168>0,BB168:BU168),{1,2,3,4,5,6,7,8})),BT169)","v":13.312204724409451},{"$f":"IF(BV168>0,AVERAGE(SMALL(IF(BC168:BV168>0,BC168:BV168),{1,2,3,4,5,6,7,8})),BU169)","v":13.312204724409451},{"$f":"IF(BW168>0,AVERAGE(SMALL(IF(BD168:BW168>0,BD168:BW168),{1,2,3,4,5,6,7,8})),BV169)","v":13.312204724409451},{"$f":"IF(BX168>0,AVERAGE(SMALL(IF(BE168:BX168>0,BE168:BX168),{1,2,3,4,5,6,7,8})),BW169)","v":13.312204724409451},{"$f":"IF(BY168>0,AVERAGE(SMALL(IF(BF168:BY168>0,BF168:BY168),{1,2,3,4,5,6,7,8})),BX169)","v":13.312204724409451},{"$f":"IF(BZ168>0,AVERAGE(SMALL(IF(BG168:BZ168>0,BG168:BZ168),{1,2,3,4,5,6,7,8})),BY169)","v":13.312204724409451},{"$f":"IF(CA168>0,AVERAGE(SMALL(IF(BH168:CA168>0,BH168:CA168),{1,2,3,4,5,6,7,8})),BZ169)","v":13.312204724409451},{"$f":"IF(CB168>0,AVERAGE(SMALL(IF(BI168:CB168>0,BI168:CB168),{1,2,3,4,5,6,7,8})),CA169)","v":13.312204724409451},{"$f":"IF(CC168>0,AVERAGE(SMALL(IF(BJ168:CC168>0,BJ168:CC168),{1,2,3,4,5,6,7,8})),CB169)","v":13.312204724409451},{"$f":"IF(CD168>0,AVERAGE(SMALL(IF(BK168:CD168>0,BK168:CD168),{1,2,3,4,5,6,7,8})),CC169)","v":13.312204724409451},{"$f":"IF(CE168>0,AVERAGE(SMALL(IF(BL168:CE168>0,BL168:CE168),{1,2,3,4,5,6,7,8})),CD169)","v":13.312204724409451},{"$f":"IF(CF168>0,AVERAGE(SMALL(IF(BM168:CF168>0,BM168:CF168),{1,2,3,4,5,6,7,8})),CE169)","v":13.312204724409451},{"$f":"IF(CG168>0,AVERAGE(SMALL(IF(BN168:CG168>0,BN168:CG168),{1,2,3,4,5,6,7,8})),CF169)","v":13.312204724409451},{"$f":"IF(CH168>0,AVERAGE(SMALL(IF(BO168:CH168>0,BO168:CH168),{1,2,3,4,5,6,7,8})),CG169)","v":13.312204724409451},{"$f":"IF(CI168>0,AVERAGE(SMALL(IF(BP168:CI168>0,BP168:CI168),{1,2,3,4,5,6,7,8})),CH169)","v":13.312204724409451},{"$f":"IF(CJ168>0,AVERAGE(SMALL(IF(BQ168:CJ168>0,BQ168:CJ168),{1,2,3,4,5,6,7,8})),CI169)","v":13.312204724409451},{"$f":"IF(CK168>0,AVERAGE(SMALL(IF(BR168:CK168>0,BR168:CK168),{1,2,3,4,5,6,7,8})),CJ169)","v":13.312204724409451},{"$f":"IF(CL168>0,AVERAGE(SMALL(IF(BS168:CL168>0,BS168:CL168),{1,2,3,4,5,6,7,8})),CK169)","v":13.312204724409451},{"$f":"IF(CM168>0,AVERAGE(SMALL(IF(BT168:CM168>0,BT168:CM168),{1,2,3,4,5,6,7,8})),CL169)","v":13.312204724409451},{"$f":"IF(CN168>0,AVERAGE(SMALL(IF(BU168:CN168>0,BU168:CN168),{1,2,3,4,5,6,7,8})),CM169)","v":13.312204724409451},{"$f":"IF(CO168>0,AVERAGE(SMALL(IF(BV168:CO168>0,BV168:CO168),{1,2,3,4,5,6,7,8})),CN169)","v":13.312204724409451},{"$f":"IF(CP168>0,AVERAGE(SMALL(IF(BW168:CP168>0,BW168:CP168),{1,2,3,4,5,6,7,8})),CO169)","v":13.312204724409451},{"$f":"IF(CQ168>0,AVERAGE(SMALL(IF(BX168:CQ168>0,BX168:CQ168),{1,2,3,4,5,6,7,8})),CP169)","v":13.312204724409451},{"$f":"IF(CR168>0,AVERAGE(SMALL(IF(BY168:CR168>0,BY168:CR168),{1,2,3,4,5,6,7,8})),CQ169)","v":13.312204724409451},{"$f":"IF(CS168>0,AVERAGE(SMALL(IF(BZ168:CS168>0,BZ168:CS168),{1,2,3,4,5,6,7,8})),CR169)","v":13.312204724409451},{"$f":"IF(CT168>0,AVERAGE(SMALL(IF(CA168:CT168>0,CA168:CT168),{1,2,3,4,5,6,7,8})),CS169)","v":13.312204724409451},{"$f":"IF(CU168>0,AVERAGE(SMALL(IF(CB168:CU168>0,CB168:CU168),{1,2,3,4,5,6,7,8})),CT169)","v":13.312204724409451},{"$f":"IF(CV168>0,AVERAGE(SMALL(IF(CC168:CV168>0,CC168:CV168),{1,2,3,4,5,6,7,8})),CU169)","v":13.312204724409451},{"$f":"IF(CW168>0,AVERAGE(SMALL(IF(CD168:CW168>0,CD168:CW168),{1,2,3,4,5,6,7,8})),CV169)","v":13.312204724409451}]
[null,null,null,null,null,null,null,null,"Low Hcap",null,null,null,null,null,null,null,null,null,null,null,null,null,null,null,null,null,null,null,{"$f":"MIN($J169:AC169)","v":11.524409448818901},{"$f":"MIN($J169:AD169)","v":11.524409448818901},{"$f":"MIN($J169:AE169)","v":11.524409448818901},{"$f":"MIN($J169:AF169)","v":11.524409448818901},{"$f":"MIN($J169:AG169)","v":11.524409448818901},{"$f":"MIN($J169:AH169)","v":11.524409448818901},{"$f":"MIN($J169:AI169)","v":11.524409448818901},{"$f":"MIN($J169:AJ169)","v":11.524409448818901},{"$f":"MIN($J169:AK169)","v":11.524409448818901},{"$f":"MIN($J169:AL169)","v":11.524409448818901},{"$f":"MIN($J169:AM169)","v":11.524409448818901},{"$f":"MIN($J169:AN169)","v":11.524409448818901},{"$f":"MIN($J169:AO169)","v":11.524409448818901},{"$f":"MIN($J169:AP169)","v":11.524409448818901},{"$f":"MIN($J169:AQ169)","v":11.524409448818901},{"$f":"MIN($J169:AR169)","v":11.524409448818901},{"$f":"MIN($J169:AS169)","v":11.524409448818901},{"$f":"MIN($J169:AT169)","v":11.524409448818901},{"$f":"MIN($J169:AU169)","v":11.524409448818901},{"$f":"MIN($J169:AV169)","v":11.524409448818901},{"$f":"MIN($J169:AW169)","v":11.524409448818901},{"$f":"MIN($J169:AX169)","v":11.524409448818901},{"$f":"MIN($J169:AY169)","v":11.524409448818901},{"$f":"MIN($J169:AZ169)","v":11.524409448818901},{"$f":"MIN($J169:BA169)","v":11.524409448818901},{"$f":"MIN($J169:BB169)","v":11.524409448818901},{"$f":"MIN($J169:BC169)","v":11.524409448818901},{"$f":"MIN($J169:BD169)","v":11.524409448818901},{"$f":"MIN($J169:BE169)","v":11.524409448818901},{"$f":"MIN($J169:BF169)","v":11.524409448818901},{"$f":"MIN($J169:BG169)","v":11.524409448818901},{"$f":"MIN($J169:BH169)","v":11.524409448818901},{"$f":"MIN($J169:BI169)","v":11.524409448818901},{"$f":"MIN($J169:BJ169)","v":11.524409448818901},{"$f":"MIN($J169:BK169)","v":11.524409448818901},{"$f":"MIN($J169:BL169)","v":11.524409448818901},{"$f":"MIN($J169:BM169)","v":11.524409448818901},{"$f":"MIN($J169:BN169)","v":11.524409448818901},{"$f":"MIN($J169:BO169)","v":11.524409448818901},{"$f":"MIN($J169:BP169)","v":11.524409448818901},{"$f":"MIN($J169:BQ169)","v":11.524409448818901},{"$f":"MIN($J169:BR169)","v":11.524409448818901},{"$f":"MIN($J169:BS169)","v":11.524409448818901},{"$f":"MIN($J169:BT169)","v":11.524409448818901},{"$f":"MIN($J169:BU169)","v":11.524409448818901},{"$f":"MIN($J169:BV169)","v":11.524409448818901},{"$f":"MIN($J169:BW169)","v":11.524409448818901},{"$f":"MIN($J169:BX169)","v":11.524409448818901},{"$f":"MIN($J169:BY169)","v":11.524409448818901},{"$f":"MIN($J169:BZ169)","v":11.524409448818901},{"$f":"MIN($J169:CA169)","v":11.524409448818901},{"$f":"MIN($J169:CB169)","v":11.524409448818901},{"$f":"MIN($J169:CC169)","v":11.524409448818901},{"$f":"MIN($J169:CD169)","v":11.524409448818901},{"$f":"MIN($J169:CE169)","v":11.524409448818901},{"$f":"MIN($J169:CF169)","v":11.524409448818901},{"$f":"MIN($J169:CG169)","v":11.524409448818901},{"$f":"MIN($J169:CH169)","v":11.524409448818901},{"$f":"MIN($J169:CI169)","v":11.524409448818901},{"$f":"MIN($J169:CJ169)","v":11.524409448818901},{"$f":"MIN($J169:CK169)","v":11.524409448818901},{"$f":"MIN($J169:CL169)","v":11.524409448818901},{"$f":"MIN($J169:CM169)","v":11.524409448818901},{"$f":"MIN($J169:CN169)","v":11.524409448818901},{"$f":"MIN($J169:CO169)","v":11.524409448818901},{"$f":"MIN($J169:CP169)","v":11.524409448818901},{"$f":"MIN($J169:CQ169)","v":11.524409448818901},{"$f":"MIN($J169:CR169)","v":11.524409448818901},{"$f":"MIN($J169:CS169)","v":11.524409448818901},{"$f":"MIN($J169:CT169)","v":11.524409448818901},{"$f":"MIN($J169:CU169)","v":11.524409448818901},{"$f":"MIN($J169:CV169)","v":11.524409448818901},{"$f":"MIN($J169:CW169)","v":11.524409448818901}]
[null,"East","Paul",16,null,{"$f":"IF(H171<4,\"Y\",)","v":"Y"},2000,{"$f":"COUNT(J171:CX171)","v":0},"Date",null,null,null,null,null,null,null,null,null,null,null,null,null,null,null,null,null,null,null,null,null,null,null,null,null,null,null,null,null,null,null,null,null,null,null,null,null,null,null,null,null,null,null,null,null,null,null,null,null,null,null,null,null,null,null,null,null,null,null,null,null,null,null,null,null,null,null,null,null,null,null,null,null,null,null,null,null,null,null,null,null,null,null,null,null,null,null,null,null,null,null,null,null,{"$f":"IF(CW175>$DD$1,36,CW175)","v":14},14,{"$f":"CZ171-CY171","v":0}]
[null,null,null,null,null,null,null,null,"Course"]
[null,null,null,null,null,null,null,null,"Ad Gr"]
[null,null,null,null,null,null,null,null,"SD",{"$f":"D171","v":16},{"$f":"IF(K173=\"\",0,(K173-INDIRECT(CONCATENATE(K172,\"CR\")))*113/INDIRECT(CONCATENATE(K172,\"SR\")))","v":0},{"$f":"IF(L173=\"\",0,(L173-INDIRECT(CONCATENATE(L172,\"CR\")))*113/INDIRECT(CONCATENATE(L172,\"SR\")))","v":0},0,0,0,0,0,0,0,0,0,0,0,0,0,0,0,0,0,0,0,0,0,0,0,0,0,0,0,0,0,0,0,0,0,0,0,0,0,0,0,0,0,0,0,0,0,0,0,0,0,0,0,0,0,0,0,0,0,0,0,0,0,0,0,{"$f":"IF(BX173=\"\",0,(BX173-INDIRECT(CONCATENATE(BX172,\"CR\")))*113/INDIRECT(CONCATENATE(BX172,\"SR\")))","v":0},0,0,0,0,0,0,0,0,0,0,0,0,0,0,{"$f":"IF(CM173=\"\",0,(CM173-INDIRECT(CONCATENATE(CM172,\"CR\")))*113/INDIRECT(CONCATENATE(CM172,\"SR\")))","v":0},0,{"$f":"IF(CO173=\"\",0,(CO173-INDIRECT(CONCATENATE(CO172,\"CR\")))*113/INDIRECT(CONCATENATE(CO172,\"SR\")))","v":0},0,{"$f":"IF(CQ173=\"\",0,(CQ173-INDIRECT(CONCATENATE(CQ172,\"CR\")))*113/INDIRECT(CONCATENATE(CQ172,\"SR\")))","v":0},0,{"$f":"IF(CS173=\"\",0,(CS173-INDIRECT(CONCATENATE(CS172,\"CR\")))*113/INDIRECT(CONCATENATE(CS172,\"SR\")))","v":0},0,{"$f":"IF(CU173=\"\",0,(CU173-INDIRECT(CONCATENATE(CU172,\"CR\")))*113/INDIRECT(CONCATENATE(CU172,\"SR\")))","v":0},0,{"$f":"IF(CW173=\"\",0,(CW173-INDIRECT(CONCATENATE(CW172,\"CR\")))*113/INDIRECT(CONCATENATE(CW172,\"SR\")))","v":0}]
[null,null,null,null,null,null,null,null,"New Hcap",{"$f":"J174-2","v":14},{"$f":"IF(K174>0,MIN(J174:K174)-2,J175)","v":14},{"$f":"IF(L174>0,MIN(J174:L174)-2,K175)","v":14},{"$f":"IF(M174>0,MIN(J174:M174)-1,L175)","v":14},{"$f":"IF(N174>0,MIN(J174:N174),M175)","v":14},{"$f":"IF(O174>0,AVERAGE(SMALL(IF(J174:O174>0,J174:O174),{1,2}))-1,N175)","v":14},{"$f":"IF(P174>0,AVERAGE(SMALL(IF(J174:P174>0,J174:P174),{1,2})),O175)","v":14},{"$f":"IF(Q174>0,AVERAGE(SMALL(IF(J174:Q174>0,J174:Q174),{1,2})),P175)","v":14},{"$f":"IF(R174>0,AVERAGE(SMALL(IF(J174:R174>0,J174:R174),{1,2,3})),Q175)","v":14},{"$f":"IF(S174>0,AVERAGE(SMALL(IF(J174:S174>0,J174:S174),{1,2,3})),R175)","v":14},{"$f":"IF(T174>0,AVERAGE(SMALL(IF(J174:T174>0,J174:T174),{1,2,3})),S175)","v":14},{"$f":"IF(U174>0,AVERAGE(SMALL(IF(J174:U174>0,J174:U174),{1,2,3,4})),T175)","v":14},{"$f":"IF(V174>0,AVERAGE(SMALL(IF(J174:V174>0,J174:V174),{1,2,3,4})),U175)","v":14},{"$f":"IF(W174>0,AVERAGE(SMALL(IF(J174:W174>0,J174:W174),{1,2,3,4})),V175)","v":14},{"$f":"IF(X174>0,AVERAGE(SMALL(IF(J174:X174>0,J174:X174),{1,2,3,4,5})),W175)","v":14},{"$f":"IF(Y174>0,AVERAGE(SMALL(IF(J174:Y174>0,J174:Y174),{1,2,3,4,5})),X175)","v":14},{"$f":"IF(Z174>0,AVERAGE(SMALL(IF(J174:Z174>0,J174:Z174),{1,2,3,4,5,6})),Y175)","v":14},{"$f":"IF(AA174>0,AVERAGE(SMALL(IF(J174:AA174>0,J174:AA174),{1,2,3,4,5,6})),Z175)","v":14},{"$f":"IF(AB174>0,AVERAGE(SMALL(IF(J174:AB174>0,J174:AB174),{1,2,3,4,5,6,7})),AA175)","v":14},{"$f":"IF(AC174>0,AVERAGE(SMALL(IF(J174:AC174>0,J174:AC174),{1,2,3,4,5,6,7,8})),AB175)","v":14},{"$f":"IF(AD174>0,AVERAGE(SMALL(IF(K174:AD174>0,K174:AD174),{1,2,3,4,5,6,7,8})),AC175)","v":14},{"$f":"IF(AE174>0,AVERAGE(SMALL(IF(L174:AE174>0,L174:AE174),{1,2,3,4,5,6,7,8})),AD175)","v":14},{"$f":"IF(AF174>0,AVERAGE(SMALL(IF(M174:AF174>0,M174:AF174),{1,2,3,4,5,6,7,8})),AE175)","v":14},{"$f":"IF(AG174>0,AVERAGE(SMALL(IF(N174:AG174>0,N174:AG174),{1,2,3,4,5,6,7,8})),AF175)","v":14},{"$f":"IF(AH174>0,AVERAGE(SMALL(IF(O174:AH174>0,O174:AH174),{1,2,3,4,5,6,7,8})),AG175)","v":14},{"$f":"IF(AI174>0,AVERAGE(SMALL(IF(P174:AI174>0,P174:AI174),{1,2,3,4,5,6,7,8})),AH175)","v":14},{"$f":"IF(AJ174>0,AVERAGE(SMALL(IF(Q174:AJ174>0,Q174:AJ174),{1,2,3,4,5,6,7,8})),AI175)","v":14},{"$f":"IF(AK174>0,AVERAGE(SMALL(IF(R174:AK174>0,R174:AK174),{1,2,3,4,5,6,7,8})),AJ175)","v":14},{"$f":"IF(AL174>0,AVERAGE(SMALL(IF(S174:AL174>0,S174:AL174),{1,2,3,4,5,6,7,8})),AK175)","v":14},{"$f":"IF(AM174>0,AVERAGE(SMALL(IF(T174:AM174>0,T174:AM174),{1,2,3,4,5,6,7,8})),AL175)","v":14},{"$f":"IF(AN174>0,AVERAGE(SMALL(IF(U174:AN174>0,U174:AN174),{1,2,3,4,5,6,7,8})),AM175)","v":14},{"$f":"IF(AO174>0,AVERAGE(SMALL(IF(V174:AO174>0,V174:AO174),{1,2,3,4,5,6,7,8})),AN175)","v":14},{"$f":"IF(AP174>0,AVERAGE(SMALL(IF(W174:AP174>0,W174:AP174),{1,2,3,4,5,6,7,8})),AO175)","v":14},{"$f":"IF(AQ174>0,AVERAGE(SMALL(IF(X174:AQ174>0,X174:AQ174),{1,2,3,4,5,6,7,8})),AP175)","v":14},{"$f":"IF(AR174>0,AVERAGE(SMALL(IF(Y174:AR174>0,Y174:AR174),{1,2,3,4,5,6,7,8})),AQ175)","v":14},{"$f":"IF(AS174>0,AVERAGE(SMALL(IF(Z174:AS174>0,Z174:AS174),{1,2,3,4,5,6,7,8})),AR175)","v":14},{"$f":"IF(AT174>0,AVERAGE(SMALL(IF(AA174:AT174>0,AA174:AT174),{1,2,3,4,5,6,7,8})),AS175)","v":14},{"$f":"IF(AU174>0,AVERAGE(SMALL(IF(AB174:AU174>0,AB174:AU174),{1,2,3,4,5,6,7,8})),AT175)","v":14},{"$f":"IF(AV174>0,AVERAGE(SMALL(IF(AC174:AV174>0,AC174:AV174),{1,2,3,4,5,6,7,8})),AU175)","v":14},{"$f":"IF(AW174>0,AVERAGE(SMALL(IF(AD174:AW174>0,AD174:AW174),{1,2,3,4,5,6,7,8})),AV175)","v":14},{"$f":"IF(AX174>0,AVERAGE(SMALL(IF(AE174:AX174>0,AE174:AX174),{1,2,3,4,5,6,7,8})),AW175)","v":14},{"$f":"IF(AY174>0,AVERAGE(SMALL(IF(AF174:AY174>0,AF174:AY174),{1,2,3,4,5,6,7,8})),AX175)","v":14},{"$f":"IF(AZ174>0,AVERAGE(SMALL(IF(AG174:AZ174>0,AG174:AZ174),{1,2,3,4,5,6,7,8})),AY175)","v":14},{"$f":"IF(BA174>0,AVERAGE(SMALL(IF(AH174:BA174>0,AH174:BA174),{1,2,3,4,5,6,7,8})),AZ175)","v":14},{"$f":"IF(BB174>0,AVERAGE(SMALL(IF(AI174:BB174>0,AI174:BB174),{1,2,3,4,5,6,7,8})),BA175)","v":14},{"$f":"IF(BC174>0,AVERAGE(SMALL(IF(AJ174:BC174>0,AJ174:BC174),{1,2,3,4,5,6,7,8})),BB175)","v":14},{"$f":"IF(BD174>0,AVERAGE(SMALL(IF(AK174:BD174>0,AK174:BD174),{1,2,3,4,5,6,7,8})),BC175)","v":14},{"$f":"IF(BE174>0,AVERAGE(SMALL(IF(AL174:BE174>0,AL174:BE174),{1,2,3,4,5,6,7,8})),BD175)","v":14},{"$f":"IF(BF174>0,AVERAGE(SMALL(IF(AM174:BF174>0,AM174:BF174),{1,2,3,4,5,6,7,8})),BE175)","v":14},{"$f":"IF(BG174>0,AVERAGE(SMALL(IF(AN174:BG174>0,AN174:BG174),{1,2,3,4,5,6,7,8})),BF175)","v":14},{"$f":"IF(BH174>0,AVERAGE(SMALL(IF(AO174:BH174>0,AO174:BH174),{1,2,3,4,5,6,7,8})),BG175)","v":14},{"$f":"IF(BI174>0,AVERAGE(SMALL(IF(AP174:BI174>0,AP174:BI174),{1,2,3,4,5,6,7,8})),BH175)","v":14},{"$f":"IF(BJ174>0,AVERAGE(SMALL(IF(AQ174:BJ174>0,AQ174:BJ174),{1,2,3,4,5,6,7,8})),BI175)","v":14},{"$f":"IF(BK174>0,AVERAGE(SMALL(IF(AR174:BK174>0,AR174:BK174),{1,2,3,4,5,6,7,8})),BJ175)","v":14},{"$f":"IF(BL174>0,AVERAGE(SMALL(IF(AS174:BL174>0,AS174:BL174),{1,2,3,4,5,6,7,8})),BK175)","v":14},{"$f":"IF(BM174>0,AVERAGE(SMALL(IF(AT174:BM174>0,AT174:BM174),{1,2,3,4,5,6,7,8})),BL175)","v":14},{"$f":"IF(BN174>0,AVERAGE(SMALL(IF(AU174:BN174>0,AU174:BN174),{1,2,3,4,5,6,7,8})),BM175)","v":14},{"$f":"IF(BO174>0,AVERAGE(SMALL(IF(AV174:BO174>0,AV174:BO174),{1,2,3,4,5,6,7,8})),BN175)","v":14},{"$f":"IF(BP174>0,AVERAGE(SMALL(IF(AW174:BP174>0,AW174:BP174),{1,2,3,4,5,6,7,8})),BO175)","v":14},{"$f":"IF(BQ174>0,AVERAGE(SMALL(IF(AX174:BQ174>0,AX174:BQ174),{1,2,3,4,5,6,7,8})),BP175)","v":14},{"$f":"IF(BR174>0,AVERAGE(SMALL(IF(AY174:BR174>0,AY174:BR174),{1,2,3,4,5,6,7,8})),BQ175)","v":14},{"$f":"IF(BS174>0,AVERAGE(SMALL(IF(AZ174:BS174>0,AZ174:BS174),{1,2,3,4,5,6,7,8})),BR175)","v":14},{"$f":"IF(BT174>0,AVERAGE(SMALL(IF(BA174:BT174>0,BA174:BT174),{1,2,3,4,5,6,7,8})),BS175)","v":14},{"$f":"IF(BU174>0,AVERAGE(SMALL(IF(BB174:BU174>0,BB174:BU174),{1,2,3,4,5,6,7,8})),BT175)","v":14},{"$f":"IF(BV174>0,AVERAGE(SMALL(IF(BC174:BV174>0,BC174:BV174),{1,2,3,4,5,6,7,8})),BU175)","v":14},{"$f":"IF(BW174>0,AVERAGE(SMALL(IF(BD174:BW174>0,BD174:BW174),{1,2,3,4,5,6,7,8})),BV175)","v":14},{"$f":"IF(BX174>0,AVERAGE(SMALL(IF(BE174:BX174>0,BE174:BX174),{1,2,3,4,5,6,7,8})),BW175)","v":14},{"$f":"IF(BY174>0,AVERAGE(SMALL(IF(BF174:BY174>0,BF174:BY174),{1,2,3,4,5,6,7,8})),BX175)","v":14},{"$f":"IF(BZ174>0,AVERAGE(SMALL(IF(BG174:BZ174>0,BG174:BZ174),{1,2,3,4,5,6,7,8})),BY175)","v":14},{"$f":"IF(CA174>0,AVERAGE(SMALL(IF(BH174:CA174>0,BH174:CA174),{1,2,3,4,5,6,7,8})),BZ175)","v":14},{"$f":"IF(CB174>0,AVERAGE(SMALL(IF(BI174:CB174>0,BI174:CB174),{1,2,3,4,5,6,7,8})),CA175)","v":14},{"$f":"IF(CC174>0,AVERAGE(SMALL(IF(BJ174:CC174>0,BJ174:CC174),{1,2,3,4,5,6,7,8})),CB175)","v":14},{"$f":"IF(CD174>0,AVERAGE(SMALL(IF(BK174:CD174>0,BK174:CD174),{1,2,3,4,5,6,7,8})),CC175)","v":14},{"$f":"IF(CE174>0,AVERAGE(SMALL(IF(BL174:CE174>0,BL174:CE174),{1,2,3,4,5,6,7,8})),CD175)","v":14},{"$f":"IF(CF174>0,AVERAGE(SMALL(IF(BM174:CF174>0,BM174:CF174),{1,2,3,4,5,6,7,8})),CE175)","v":14},{"$f":"IF(CG174>0,AVERAGE(SMALL(IF(BN174:CG174>0,BN174:CG174),{1,2,3,4,5,6,7,8})),CF175)","v":14},{"$f":"IF(CH174>0,AVERAGE(SMALL(IF(BO174:CH174>0,BO174:CH174),{1,2,3,4,5,6,7,8})),CG175)","v":14},{"$f":"IF(CI174>0,AVERAGE(SMALL(IF(BP174:CI174>0,BP174:CI174),{1,2,3,4,5,6,7,8})),CH175)","v":14},{"$f":"IF(CJ174>0,AVERAGE(SMALL(IF(BQ174:CJ174>0,BQ174:CJ174),{1,2,3,4,5,6,7,8})),CI175)","v":14},{"$f":"IF(CK174>0,AVERAGE(SMALL(IF(BR174:CK174>0,BR174:CK174),{1,2,3,4,5,6,7,8})),CJ175)","v":14},{"$f":"IF(CL174>0,AVERAGE(SMALL(IF(BS174:CL174>0,BS174:CL174),{1,2,3,4,5,6,7,8})),CK175)","v":14},{"$f":"IF(CM174>0,AVERAGE(SMALL(IF(BT174:CM174>0,BT174:CM174),{1,2,3,4,5,6,7,8})),CL175)","v":14},{"$f":"IF(CN174>0,AVERAGE(SMALL(IF(BU174:CN174>0,BU174:CN174),{1,2,3,4,5,6,7,8})),CM175)","v":14},{"$f":"IF(CO174>0,AVERAGE(SMALL(IF(BV174:CO174>0,BV174:CO174),{1,2,3,4,5,6,7,8})),CN175)","v":14},{"$f":"IF(CP174>0,AVERAGE(SMALL(IF(BW174:CP174>0,BW174:CP174),{1,2,3,4,5,6,7,8})),CO175)","v":14},{"$f":"IF(CQ174>0,AVERAGE(SMALL(IF(BX174:CQ174>0,BX174:CQ174),{1,2,3,4,5,6,7,8})),CP175)","v":14},{"$f":"IF(CR174>0,AVERAGE(SMALL(IF(BY174:CR174>0,BY174:CR174),{1,2,3,4,5,6,7,8})),CQ175)","v":14},{"$f":"IF(CS174>0,AVERAGE(SMALL(IF(BZ174:CS174>0,BZ174:CS174),{1,2,3,4,5,6,7,8})),CR175)","v":14},{"$f":"IF(CT174>0,AVERAGE(SMALL(IF(CA174:CT174>0,CA174:CT174),{1,2,3,4,5,6,7,8})),CS175)","v":14},{"$f":"IF(CU174>0,AVERAGE(SMALL(IF(CB174:CU174>0,CB174:CU174),{1,2,3,4,5,6,7,8})),CT175)","v":14},{"$f":"IF(CV174>0,AVERAGE(SMALL(IF(CC174:CV174>0,CC174:CV174),{1,2,3,4,5,6,7,8})),CU175)","v":14},{"$f":"IF(CW174>0,AVERAGE(SMALL(IF(CD174:CW174>0,CD174:CW174),{1,2,3,4,5,6,7,8})),CV175)","v":14}]
[null,null,null,null,null,null,null,null,"Low Hcap",null,null,null,null,null,null,null,null,null,null,null,null,null,null,null,null,null,null,null,{"$f":"MIN($J175:AC175)","v":14},{"$f":"MIN($J175:AD175)","v":14},{"$f":"MIN($J175:AE175)","v":14},{"$f":"MIN($J175:AF175)","v":14},{"$f":"MIN($J175:AG175)","v":14},{"$f":"MIN($J175:AH175)","v":14},{"$f":"MIN($J175:AI175)","v":14},{"$f":"MIN($J175:AJ175)","v":14},{"$f":"MIN($J175:AK175)","v":14},{"$f":"MIN($J175:AL175)","v":14},{"$f":"MIN($J175:AM175)","v":14},{"$f":"MIN($J175:AN175)","v":14},{"$f":"MIN($J175:AO175)","v":14},{"$f":"MIN($J175:AP175)","v":14},{"$f":"MIN($J175:AQ175)","v":14},{"$f":"MIN($J175:AR175)","v":14},{"$f":"MIN($J175:AS175)","v":14},{"$f":"MIN($J175:AT175)","v":14},{"$f":"MIN($J175:AU175)","v":14},{"$f":"MIN($J175:AV175)","v":14},{"$f":"MIN($J175:AW175)","v":14},{"$f":"MIN($J175:AX175)","v":14},{"$f":"MIN($J175:AY175)","v":14},{"$f":"MIN($J175:AZ175)","v":14},{"$f":"MIN($J175:BA175)","v":14},{"$f":"MIN($J175:BB175)","v":14},{"$f":"MIN($J175:BC175)","v":14},{"$f":"MIN($J175:BD175)","v":14},{"$f":"MIN($J175:BE175)","v":14},{"$f":"MIN($J175:BF175)","v":14},{"$f":"MIN($J175:BG175)","v":14},{"$f":"MIN($J175:BH175)","v":14},{"$f":"MIN($J175:BI175)","v":14},{"$f":"MIN($J175:BJ175)","v":14},{"$f":"MIN($J175:BK175)","v":14},{"$f":"MIN($J175:BL175)","v":14},{"$f":"MIN($J175:BM175)","v":14},{"$f":"MIN($J175:BN175)","v":14},{"$f":"MIN($J175:BO175)","v":14},{"$f":"MIN($J175:BP175)","v":14},{"$f":"MIN($J175:BQ175)","v":14},{"$f":"MIN($J175:BR175)","v":14},{"$f":"MIN($J175:BS175)","v":14},{"$f":"MIN($J175:BT175)","v":14},{"$f":"MIN($J175:BU175)","v":14},{"$f":"MIN($J175:BV175)","v":14},{"$f":"MIN($J175:BW175)","v":14},{"$f":"MIN($J175:BX175)","v":14},{"$f":"MIN($J175:BY175)","v":14},{"$f":"MIN($J175:BZ175)","v":14},{"$f":"MIN($J175:CA175)","v":14},{"$f":"MIN($J175:CB175)","v":14},{"$f":"MIN($J175:CC175)","v":14},{"$f":"MIN($J175:CD175)","v":14},{"$f":"MIN($J175:CE175)","v":14},{"$f":"MIN($J175:CF175)","v":14},{"$f":"MIN($J175:CG175)","v":14},{"$f":"MIN($J175:CH175)","v":14},{"$f":"MIN($J175:CI175)","v":14},{"$f":"MIN($J175:CJ175)","v":14},{"$f":"MIN($J175:CK175)","v":14},{"$f":"MIN($J175:CL175)","v":14},{"$f":"MIN($J175:CM175)","v":14},{"$f":"MIN($J175:CN175)","v":14},{"$f":"MIN($J175:CO175)","v":14},{"$f":"MIN($J175:CP175)","v":14},{"$f":"MIN($J175:CQ175)","v":14},{"$f":"MIN($J175:CR175)","v":14},{"$f":"MIN($J175:CS175)","v":14},{"$f":"MIN($J175:CT175)","v":14},{"$f":"MIN($J175:CU175)","v":14},{"$f":"MIN($J175:CV175)","v":14},{"$f":"MIN($J175:CW175)","v":14}]
[null,"Engel","Andreas",12,null,{"$f":"IF(H177<4,\"Y\",)","v":"Y"},2023,{"$f":"COUNT(J177:CX177)","v":0},"Date",null,null,null,null,null,null,null,null,null,null,null,null,null,null,null,null,null,null,null,null,null,null,null,null,null,null,null,null,null,null,null,null,null,null,null,null,null,null,null,null,null,null,null,null,null,null,null,null,null,null,null,null,null,null,null,null,null,null,null,null,null,null,null,null,null,null,null,null,null,null,null,null,null,null,null,null,null,null,null,null,null,null,null,null,null,null,null,null,null,null,null,null,null,{"$f":"IF(CW181>$DD$1,36,CW181)","v":12},12,{"$f":"CZ177-CY177","v":0}]
[null,null,null,null,null,null,null,null,"Course"]
[null,null,null,null,null,null,null,null,"Ad Gr"]
[null,null,null,null,null,null,null,null,"SD",14,{"$f":"IF(K179=\"\",0,(K179-INDIRECT(CONCATENATE(K178,\"CR\")))*113/INDIRECT(CONCATENATE(K178,\"SR\")))","v":0},{"$f":"IF(L179=\"\",0,(L179-INDIRECT(CONCATENATE(L178,\"CR\")))*113/INDIRECT(CONCATENATE(L178,\"SR\")))","v":0},0,0,0,0,0,0,0,0,0,0,0,0,0,0,0,0,0,0,0,0,0,0,0,0,0,0,0,0,0,0,0,0,0,0,0,0,0,0,0,0,0,0,0,0,0,0,0,0,0,0,0,0,0,0,0,0,0,0,0,0,0,0,0,{"$f":"IF(BX179=\"\",0,(BX179-INDIRECT(CONCATENATE(BX178,\"CR\")))*113/INDIRECT(CONCATENATE(BX178,\"SR\")))","v":0},0,0,0,0,0,0,0,0,0,0,0,0,0,0,{"$f":"IF(CM179=\"\",0,(CM179-INDIRECT(CONCATENATE(CM178,\"CR\")))*113/INDIRECT(CONCATENATE(CM178,\"SR\")))","v":0},0,{"$f":"IF(CO179=\"\",0,(CO179-INDIRECT(CONCATENATE(CO178,\"CR\")))*113/INDIRECT(CONCATENATE(CO178,\"SR\")))","v":0},0,{"$f":"IF(CQ179=\"\",0,(CQ179-INDIRECT(CONCATENATE(CQ178,\"CR\")))*113/INDIRECT(CONCATENATE(CQ178,\"SR\")))","v":0},0,{"$f":"IF(CS179=\"\",0,(CS179-INDIRECT(CONCATENATE(CS178,\"CR\")))*113/INDIRECT(CONCATENATE(CS178,\"SR\")))","v":0},0,{"$f":"IF(CU179=\"\",0,(CU179-INDIRECT(CONCATENATE(CU178,\"CR\")))*113/INDIRECT(CONCATENATE(CU178,\"SR\")))","v":0},0,{"$f":"IF(CW179=\"\",0,(CW179-INDIRECT(CONCATENATE(CW178,\"CR\")))*113/INDIRECT(CONCATENATE(CW178,\"SR\")))","v":0}]
[null,null,null,null,null,null,null,null,"New Hcap",{"$f":"J180-2","v":12},{"$f":"IF(K180>0,MIN(J180:K180)-2,J181)","v":12},{"$f":"IF(L180>0,MIN(J180:L180)-2,K181)","v":12},{"$f":"IF(M180>0,MIN(J180:M180)-1,L181)","v":12},{"$f":"IF(N180>0,MIN(J180:N180),M181)","v":12},{"$f":"IF(O180>0,AVERAGE(SMALL(IF(J180:O180>0,J180:O180),{1,2}))-1,N181)","v":12},{"$f":"IF(P180>0,AVERAGE(SMALL(IF(J180:P180>0,J180:P180),{1,2})),O181)","v":12},{"$f":"IF(Q180>0,AVERAGE(SMALL(IF(J180:Q180>0,J180:Q180),{1,2})),P181)","v":12},{"$f":"IF(R180>0,AVERAGE(SMALL(IF(J180:R180>0,J180:R180),{1,2,3})),Q181)","v":12},{"$f":"IF(S180>0,AVERAGE(SMALL(IF(J180:S180>0,J180:S180),{1,2,3})),R181)","v":12},{"$f":"IF(T180>0,AVERAGE(SMALL(IF(J180:T180>0,J180:T180),{1,2,3})),S181)","v":12},{"$f":"IF(U180>0,AVERAGE(SMALL(IF(J180:U180>0,J180:U180),{1,2,3,4})),T181)","v":12},{"$f":"IF(V180>0,AVERAGE(SMALL(IF(J180:V180>0,J180:V180),{1,2,3,4})),U181)","v":12},{"$f":"IF(W180>0,AVERAGE(SMALL(IF(J180:W180>0,J180:W180),{1,2,3,4})),V181)","v":12},{"$f":"IF(X180>0,AVERAGE(SMALL(IF(J180:X180>0,J180:X180),{1,2,3,4,5})),W181)","v":12},{"$f":"IF(Y180>0,AVERAGE(SMALL(IF(J180:Y180>0,J180:Y180),{1,2,3,4,5})),X181)","v":12},{"$f":"IF(Z180>0,AVERAGE(SMALL(IF(J180:Z180>0,J180:Z180),{1,2,3,4,5,6})),Y181)","v":12},{"$f":"IF(AA180>0,AVERAGE(SMALL(IF(J180:AA180>0,J180:AA180),{1,2,3,4,5,6})),Z181)","v":12},{"$f":"IF(AB180>0,AVERAGE(SMALL(IF(J180:AB180>0,J180:AB180),{1,2,3,4,5,6,7})),AA181)","v":12},{"$f":"IF(AC180>0,AVERAGE(SMALL(IF(J180:AC180>0,J180:AC180),{1,2,3,4,5,6,7,8})),AB181)","v":12},{"$f":"IF(AD180>0,AVERAGE(SMALL(IF(K180:AD180>0,K180:AD180),{1,2,3,4,5,6,7,8})),AC181)","v":12},{"$f":"IF(AE180>0,AVERAGE(SMALL(IF(L180:AE180>0,L180:AE180),{1,2,3,4,5,6,7,8})),AD181)","v":12},{"$f":"IF(AF180>0,AVERAGE(SMALL(IF(M180:AF180>0,M180:AF180),{1,2,3,4,5,6,7,8})),AE181)","v":12},{"$f":"IF(AG180>0,AVERAGE(SMALL(IF(N180:AG180>0,N180:AG180),{1,2,3,4,5,6,7,8})),AF181)","v":12},{"$f":"IF(AH180>0,AVERAGE(SMALL(IF(O180:AH180>0,O180:AH180),{1,2,3,4,5,6,7,8})),AG181)","v":12},{"$f":"IF(AI180>0,AVERAGE(SMALL(IF(P180:AI180>0,P180:AI180),{1,2,3,4,5,6,7,8})),AH181)","v":12},{"$f":"IF(AJ180>0,AVERAGE(SMALL(IF(Q180:AJ180>0,Q180:AJ180),{1,2,3,4,5,6,7,8})),AI181)","v":12},{"$f":"IF(AK180>0,AVERAGE(SMALL(IF(R180:AK180>0,R180:AK180),{1,2,3,4,5,6,7,8})),AJ181)","v":12},{"$f":"IF(AL180>0,AVERAGE(SMALL(IF(S180:AL180>0,S180:AL180),{1,2,3,4,5,6,7,8})),AK181)","v":12},{"$f":"IF(AM180>0,AVERAGE(SMALL(IF(T180:AM180>0,T180:AM180),{1,2,3,4,5,6,7,8})),AL181)","v":12},{"$f":"IF(AN180>0,AVERAGE(SMALL(IF(U180:AN180>0,U180:AN180),{1,2,3,4,5,6,7,8})),AM181)","v":12},{"$f":"IF(AO180>0,AVERAGE(SMALL(IF(V180:AO180>0,V180:AO180),{1,2,3,4,5,6,7,8})),AN181)","v":12},{"$f":"IF(AP180>0,AVERAGE(SMALL(IF(W180:AP180>0,W180:AP180),{1,2,3,4,5,6,7,8})),AO181)","v":12},{"$f":"IF(AQ180>0,AVERAGE(SMALL(IF(X180:AQ180>0,X180:AQ180),{1,2,3,4,5,6,7,8})),AP181)","v":12},{"$f":"IF(AR180>0,AVERAGE(SMALL(IF(Y180:AR180>0,Y180:AR180),{1,2,3,4,5,6,7,8})),AQ181)","v":12},{"$f":"IF(AS180>0,AVERAGE(SMALL(IF(Z180:AS180>0,Z180:AS180),{1,2,3,4,5,6,7,8})),AR181)","v":12},{"$f":"IF(AT180>0,AVERAGE(SMALL(IF(AA180:AT180>0,AA180:AT180),{1,2,3,4,5,6,7,8})),AS181)","v":12},{"$f":"IF(AU180>0,AVERAGE(SMALL(IF(AB180:AU180>0,AB180:AU180),{1,2,3,4,5,6,7,8})),AT181)","v":12},{"$f":"IF(AV180>0,AVERAGE(SMALL(IF(AC180:AV180>0,AC180:AV180),{1,2,3,4,5,6,7,8})),AU181)","v":12},{"$f":"IF(AW180>0,AVERAGE(SMALL(IF(AD180:AW180>0,AD180:AW180),{1,2,3,4,5,6,7,8})),AV181)","v":12},{"$f":"IF(AX180>0,AVERAGE(SMALL(IF(AE180:AX180>0,AE180:AX180),{1,2,3,4,5,6,7,8})),AW181)","v":12},{"$f":"IF(AY180>0,AVERAGE(SMALL(IF(AF180:AY180>0,AF180:AY180),{1,2,3,4,5,6,7,8})),AX181)","v":12},{"$f":"IF(AZ180>0,AVERAGE(SMALL(IF(AG180:AZ180>0,AG180:AZ180),{1,2,3,4,5,6,7,8})),AY181)","v":12},{"$f":"IF(BA180>0,AVERAGE(SMALL(IF(AH180:BA180>0,AH180:BA180),{1,2,3,4,5,6,7,8})),AZ181)","v":12},{"$f":"IF(BB180>0,AVERAGE(SMALL(IF(AI180:BB180>0,AI180:BB180),{1,2,3,4,5,6,7,8})),BA181)","v":12},{"$f":"IF(BC180>0,AVERAGE(SMALL(IF(AJ180:BC180>0,AJ180:BC180),{1,2,3,4,5,6,7,8})),BB181)","v":12},{"$f":"IF(BD180>0,AVERAGE(SMALL(IF(AK180:BD180>0,AK180:BD180),{1,2,3,4,5,6,7,8})),BC181)","v":12},{"$f":"IF(BE180>0,AVERAGE(SMALL(IF(AL180:BE180>0,AL180:BE180),{1,2,3,4,5,6,7,8})),BD181)","v":12},{"$f":"IF(BF180>0,AVERAGE(SMALL(IF(AM180:BF180>0,AM180:BF180),{1,2,3,4,5,6,7,8})),BE181)","v":12},{"$f":"IF(BG180>0,AVERAGE(SMALL(IF(AN180:BG180>0,AN180:BG180),{1,2,3,4,5,6,7,8})),BF181)","v":12},{"$f":"IF(BH180>0,AVERAGE(SMALL(IF(AO180:BH180>0,AO180:BH180),{1,2,3,4,5,6,7,8})),BG181)","v":12},{"$f":"IF(BI180>0,AVERAGE(SMALL(IF(AP180:BI180>0,AP180:BI180),{1,2,3,4,5,6,7,8})),BH181)","v":12},{"$f":"IF(BJ180>0,AVERAGE(SMALL(IF(AQ180:BJ180>0,AQ180:BJ180),{1,2,3,4,5,6,7,8})),BI181)","v":12},{"$f":"IF(BK180>0,AVERAGE(SMALL(IF(AR180:BK180>0,AR180:BK180),{1,2,3,4,5,6,7,8})),BJ181)","v":12},{"$f":"IF(BL180>0,AVERAGE(SMALL(IF(AS180:BL180>0,AS180:BL180),{1,2,3,4,5,6,7,8})),BK181)","v":12},{"$f":"IF(BM180>0,AVERAGE(SMALL(IF(AT180:BM180>0,AT180:BM180),{1,2,3,4,5,6,7,8})),BL181)","v":12},{"$f":"IF(BN180>0,AVERAGE(SMALL(IF(AU180:BN180>0,AU180:BN180),{1,2,3,4,5,6,7,8})),BM181)","v":12},{"$f":"IF(BO180>0,AVERAGE(SMALL(IF(AV180:BO180>0,AV180:BO180),{1,2,3,4,5,6,7,8})),BN181)","v":12},{"$f":"IF(BP180>0,AVERAGE(SMALL(IF(AW180:BP180>0,AW180:BP180),{1,2,3,4,5,6,7,8})),BO181)","v":12},{"$f":"IF(BQ180>0,AVERAGE(SMALL(IF(AX180:BQ180>0,AX180:BQ180),{1,2,3,4,5,6,7,8})),BP181)","v":12},{"$f":"IF(BR180>0,AVERAGE(SMALL(IF(AY180:BR180>0,AY180:BR180),{1,2,3,4,5,6,7,8})),BQ181)","v":12},{"$f":"IF(BS180>0,AVERAGE(SMALL(IF(AZ180:BS180>0,AZ180:BS180),{1,2,3,4,5,6,7,8})),BR181)","v":12},{"$f":"IF(BT180>0,AVERAGE(SMALL(IF(BA180:BT180>0,BA180:BT180),{1,2,3,4,5,6,7,8})),BS181)","v":12},{"$f":"IF(BU180>0,AVERAGE(SMALL(IF(BB180:BU180>0,BB180:BU180),{1,2,3,4,5,6,7,8})),BT181)","v":12},{"$f":"IF(BV180>0,AVERAGE(SMALL(IF(BC180:BV180>0,BC180:BV180),{1,2,3,4,5,6,7,8})),BU181)","v":12},{"$f":"IF(BW180>0,AVERAGE(SMALL(IF(BD180:BW180>0,BD180:BW180),{1,2,3,4,5,6,7,8})),BV181)","v":12},{"$f":"IF(BX180>0,AVERAGE(SMALL(IF(BE180:BX180>0,BE180:BX180),{1,2,3,4,5,6,7,8})),BW181)","v":12},{"$f":"IF(BY180>0,AVERAGE(SMALL(IF(BF180:BY180>0,BF180:BY180),{1,2,3,4,5,6,7,8})),BX181)","v":12},{"$f":"IF(BZ180>0,AVERAGE(SMALL(IF(BG180:BZ180>0,BG180:BZ180),{1,2,3,4,5,6,7,8})),BY181)","v":12},{"$f":"IF(CA180>0,AVERAGE(SMALL(IF(BH180:CA180>0,BH180:CA180),{1,2,3,4,5,6,7,8})),BZ181)","v":12},{"$f":"IF(CB180>0,AVERAGE(SMALL(IF(BI180:CB180>0,BI180:CB180),{1,2,3,4,5,6,7,8})),CA181)","v":12},{"$f":"IF(CC180>0,AVERAGE(SMALL(IF(BJ180:CC180>0,BJ180:CC180),{1,2,3,4,5,6,7,8})),CB181)","v":12},{"$f":"IF(CD180>0,AVERAGE(SMALL(IF(BK180:CD180>0,BK180:CD180),{1,2,3,4,5,6,7,8})),CC181)","v":12},{"$f":"IF(CE180>0,AVERAGE(SMALL(IF(BL180:CE180>0,BL180:CE180),{1,2,3,4,5,6,7,8})),CD181)","v":12},{"$f":"IF(CF180>0,AVERAGE(SMALL(IF(BM180:CF180>0,BM180:CF180),{1,2,3,4,5,6,7,8})),CE181)","v":12},{"$f":"IF(CG180>0,AVERAGE(SMALL(IF(BN180:CG180>0,BN180:CG180),{1,2,3,4,5,6,7,8})),CF181)","v":12},{"$f":"IF(CH180>0,AVERAGE(SMALL(IF(BO180:CH180>0,BO180:CH180),{1,2,3,4,5,6,7,8})),CG181)","v":12},{"$f":"IF(CI180>0,AVERAGE(SMALL(IF(BP180:CI180>0,BP180:CI180),{1,2,3,4,5,6,7,8})),CH181)","v":12},{"$f":"IF(CJ180>0,AVERAGE(SMALL(IF(BQ180:CJ180>0,BQ180:CJ180),{1,2,3,4,5,6,7,8})),CI181)","v":12},{"$f":"IF(CK180>0,AVERAGE(SMALL(IF(BR180:CK180>0,BR180:CK180),{1,2,3,4,5,6,7,8})),CJ181)","v":12},{"$f":"IF(CL180>0,AVERAGE(SMALL(IF(BS180:CL180>0,BS180:CL180),{1,2,3,4,5,6,7,8})),CK181)","v":12},{"$f":"IF(CM180>0,AVERAGE(SMALL(IF(BT180:CM180>0,BT180:CM180),{1,2,3,4,5,6,7,8})),CL181)","v":12},{"$f":"IF(CN180>0,AVERAGE(SMALL(IF(BU180:CN180>0,BU180:CN180),{1,2,3,4,5,6,7,8})),CM181)","v":12},{"$f":"IF(CO180>0,AVERAGE(SMALL(IF(BV180:CO180>0,BV180:CO180),{1,2,3,4,5,6,7,8})),CN181)","v":12},{"$f":"IF(CP180>0,AVERAGE(SMALL(IF(BW180:CP180>0,BW180:CP180),{1,2,3,4,5,6,7,8})),CO181)","v":12},{"$f":"IF(CQ180>0,AVERAGE(SMALL(IF(BX180:CQ180>0,BX180:CQ180),{1,2,3,4,5,6,7,8})),CP181)","v":12},{"$f":"IF(CR180>0,AVERAGE(SMALL(IF(BY180:CR180>0,BY180:CR180),{1,2,3,4,5,6,7,8})),CQ181)","v":12},{"$f":"IF(CS180>0,AVERAGE(SMALL(IF(BZ180:CS180>0,BZ180:CS180),{1,2,3,4,5,6,7,8})),CR181)","v":12},{"$f":"IF(CT180>0,AVERAGE(SMALL(IF(CA180:CT180>0,CA180:CT180),{1,2,3,4,5,6,7,8})),CS181)","v":12},{"$f":"IF(CU180>0,AVERAGE(SMALL(IF(CB180:CU180>0,CB180:CU180),{1,2,3,4,5,6,7,8})),CT181)","v":12},{"$f":"IF(CV180>0,AVERAGE(SMALL(IF(CC180:CV180>0,CC180:CV180),{1,2,3,4,5,6,7,8})),CU181)","v":12},{"$f":"IF(CW180>0,AVERAGE(SMALL(IF(CD180:CW180>0,CD180:CW180),{1,2,3,4,5,6,7,8})),CV181)","v":12}]
[null,null,null,null,null,null,null,null,"Low Hcap",null,null,null,null,null,null,null,null,null,null,null,null,null,null,null,null,null,null,null,{"$f":"MIN($J181:AC181)","v":12},{"$f":"MIN($J181:AD181)","v":12},{"$f":"MIN($J181:AE181)","v":12},{"$f":"MIN($J181:AF181)","v":12},{"$f":"MIN($J181:AG181)","v":12},{"$f":"MIN($J181:AH181)","v":12},{"$f":"MIN($J181:AI181)","v":12},{"$f":"MIN($J181:AJ181)","v":12},{"$f":"MIN($J181:AK181)","v":12},{"$f":"MIN($J181:AL181)","v":12},{"$f":"MIN($J181:AM181)","v":12},{"$f":"MIN($J181:AN181)","v":12},{"$f":"MIN($J181:AO181)","v":12},{"$f":"MIN($J181:AP181)","v":12},{"$f":"MIN($J181:AQ181)","v":12},{"$f":"MIN($J181:AR181)","v":12},{"$f":"MIN($J181:AS181)","v":12},{"$f":"MIN($J181:AT181)","v":12},{"$f":"MIN($J181:AU181)","v":12},{"$f":"MIN($J181:AV181)","v":12},{"$f":"MIN($J181:AW181)","v":12},{"$f":"MIN($J181:AX181)","v":12},{"$f":"MIN($J181:AY181)","v":12},{"$f":"MIN($J181:AZ181)","v":12},{"$f":"MIN($J181:BA181)","v":12},{"$f":"MIN($J181:BB181)","v":12},{"$f":"MIN($J181:BC181)","v":12},{"$f":"MIN($J181:BD181)","v":12},{"$f":"MIN($J181:BE181)","v":12},{"$f":"MIN($J181:BF181)","v":12},{"$f":"MIN($J181:BG181)","v":12},{"$f":"MIN($J181:BH181)","v":12},{"$f":"MIN($J181:BI181)","v":12},{"$f":"MIN($J181:BJ181)","v":12},{"$f":"MIN($J181:BK181)","v":12},{"$f":"MIN($J181:BL181)","v":12},{"$f":"MIN($J181:BM181)","v":12},{"$f":"MIN($J181:BN181)","v":12},{"$f":"MIN($J181:BO181)","v":12},{"$f":"MIN($J181:BP181)","v":12},{"$f":"MIN($J181:BQ181)","v":12},{"$f":"MIN($J181:BR181)","v":12},{"$f":"MIN($J181:BS181)","v":12},{"$f":"MIN($J181:BT181)","v":12},{"$f":"MIN($J181:BU181)","v":12},{"$f":"MIN($J181:BV181)","v":12},{"$f":"MIN($J181:BW181)","v":12},{"$f":"MIN($J181:BX181)","v":12},{"$f":"MIN($J181:BY181)","v":12},{"$f":"MIN($J181:BZ181)","v":12},{"$f":"MIN($J181:CA181)","v":12},{"$f":"MIN($J181:CB181)","v":12},{"$f":"MIN($J181:CC181)","v":12},{"$f":"MIN($J181:CD181)","v":12},{"$f":"MIN($J181:CE181)","v":12},{"$f":"MIN($J181:CF181)","v":12},{"$f":"MIN($J181:CG181)","v":12},{"$f":"MIN($J181:CH181)","v":12},{"$f":"MIN($J181:CI181)","v":12},{"$f":"MIN($J181:CJ181)","v":12},{"$f":"MIN($J181:CK181)","v":12},{"$f":"MIN($J181:CL181)","v":12},{"$f":"MIN($J181:CM181)","v":12},{"$f":"MIN($J181:CN181)","v":12},{"$f":"MIN($J181:CO181)","v":12},{"$f":"MIN($J181:CP181)","v":12},{"$f":"MIN($J181:CQ181)","v":12},{"$f":"MIN($J181:CR181)","v":12},{"$f":"MIN($J181:CS181)","v":12},{"$f":"MIN($J181:CT181)","v":12},{"$f":"MIN($J181:CU181)","v":12},{"$f":"MIN($J181:CV181)","v":12},{"$f":"MIN($J181:CW181)","v":12}]
[null,"Fey","Eva",14.6,null,{"$f":"IF(H183<4,\"Y\",)","v":"Y"},2019,{"$f":"COUNT(J183:CX183)","v":0},"Date",null,null,null,null,null,null,null,null,null,null,null,null,null,null,null,null,null,null,null,null,null,null,null,null,null,null,null,null,null,null,null,null,null,null,null,null,null,null,null,null,null,null,null,null,null,null,null,null,null,null,null,null,null,null,null,null,null,null,null,null,null,null,null,null,null,null,null,null,null,null,null,null,null,null,null,null,null,null,null,null,null,null,null,null,null,null,null,null,null,null,null,null,null,{"$f":"IF(CW187>$DD$1,36,CW187)","v":14.600000000000001},14.6,{"$f":"CZ183-CY183","v":0}]
[null,null,null,null,null,null,null,null,"Course"]
[null,null,null,null,null,null,null,null,"Ad Gr"]
[null,null,null,null,null,null,null,null,"SD",16.600000000000001,{"$f":"IF(K185=\"\",0,(K185-INDIRECT(CONCATENATE(K184,\"CR\")))*113/INDIRECT(CONCATENATE(K184,\"SR\")))","v":0},{"$f":"IF(L185=\"\",0,(L185-INDIRECT(CONCATENATE(L184,\"CR\")))*113/INDIRECT(CONCATENATE(L184,\"SR\")))","v":0},0,0,0,0,0,0,0,0,0,0,0,0,0,0,0,0,0,0,0,0,0,0,0,0,0,0,0,0,0,0,0,0,0,0,0,0,0,0,0,0,0,0,0,0,0,0,0,0,0,0,0,0,0,0,0,0,0,0,0,0,0,0,0,{"$f":"IF(BX185=\"\",0,(BX185-INDIRECT(CONCATENATE(BX184,\"CR\")))*113/INDIRECT(CONCATENATE(BX184,\"SR\")))","v":0},0,0,0,0,0,0,0,0,0,0,0,0,0,0,0,0,0,0,0,0,0,0,0,0,0]
[null,null,null,null,null,null,null,null,"New Hcap",{"$f":"J186-2","v":14.600000000000001},{"$f":"IF(K186>0,MIN(J186:K186)-2,J187)","v":14.600000000000001},{"$f":"IF(L186>0,MIN(J186:L186)-2,K187)","v":14.600000000000001},{"$f":"IF(M186>0,MIN(J186:M186)-1,L187)","v":14.600000000000001},{"$f":"IF(N186>0,MIN(J186:N186),M187)","v":14.600000000000001},{"$f":"IF(O186>0,AVERAGE(SMALL(IF(J186:O186>0,J186:O186),{1,2}))-1,N187)","v":14.600000000000001},{"$f":"IF(P186>0,AVERAGE(SMALL(IF(J186:P186>0,J186:P186),{1,2})),O187)","v":14.600000000000001},{"$f":"IF(Q186>0,AVERAGE(SMALL(IF(J186:Q186>0,J186:Q186),{1,2})),P187)","v":14.600000000000001},{"$f":"IF(R186>0,AVERAGE(SMALL(IF(J186:R186>0,J186:R186),{1,2,3})),Q187)","v":14.600000000000001},{"$f":"IF(S186>0,AVERAGE(SMALL(IF(J186:S186>0,J186:S186),{1,2,3})),R187)","v":14.600000000000001},{"$f":"IF(T186>0,AVERAGE(SMALL(IF(J186:T186>0,J186:T186),{1,2,3})),S187)","v":14.600000000000001},{"$f":"IF(U186>0,AVERAGE(SMALL(IF(J186:U186>0,J186:U186),{1,2,3,4})),T187)","v":14.600000000000001},{"$f":"IF(V186>0,AVERAGE(SMALL(IF(J186:V186>0,J186:V186),{1,2,3,4})),U187)","v":14.600000000000001},{"$f":"IF(W186>0,AVERAGE(SMALL(IF(J186:W186>0,J186:W186),{1,2,3,4})),V187)","v":14.600000000000001},{"$f":"IF(X186>0,AVERAGE(SMALL(IF(J186:X186>0,J186:X186),{1,2,3,4,5})),W187)","v":14.600000000000001},{"$f":"IF(Y186>0,AVERAGE(SMALL(IF(J186:Y186>0,J186:Y186),{1,2,3,4,5})),X187)","v":14.600000000000001},{"$f":"IF(Z186>0,AVERAGE(SMALL(IF(J186:Z186>0,J186:Z186),{1,2,3,4,5,6})),Y187)","v":14.600000000000001},{"$f":"IF(AA186>0,AVERAGE(SMALL(IF(J186:AA186>0,J186:AA186),{1,2,3,4,5,6})),Z187)","v":14.600000000000001},{"$f":"IF(AB186>0,AVERAGE(SMALL(IF(J186:AB186>0,J186:AB186),{1,2,3,4,5,6,7})),AA187)","v":14.600000000000001},{"$f":"IF(AC186>0,AVERAGE(SMALL(IF(J186:AC186>0,J186:AC186),{1,2,3,4,5,6,7,8})),AB187)","v":14.600000000000001},{"$f":"IF(AD186>0,AVERAGE(SMALL(IF(K186:AD186>0,K186:AD186),{1,2,3,4,5,6,7,8})),AC187)","v":14.600000000000001},{"$f":"IF(AE186>0,AVERAGE(SMALL(IF(L186:AE186>0,L186:AE186),{1,2,3,4,5,6,7,8})),AD187)","v":14.600000000000001},{"$f":"IF(AF186>0,AVERAGE(SMALL(IF(M186:AF186>0,M186:AF186),{1,2,3,4,5,6,7,8})),AE187)","v":14.600000000000001},{"$f":"IF(AG186>0,AVERAGE(SMALL(IF(N186:AG186>0,N186:AG186),{1,2,3,4,5,6,7,8})),AF187)","v":14.600000000000001},{"$f":"IF(AH186>0,AVERAGE(SMALL(IF(O186:AH186>0,O186:AH186),{1,2,3,4,5,6,7,8})),AG187)","v":14.600000000000001},{"$f":"IF(AI186>0,AVERAGE(SMALL(IF(P186:AI186>0,P186:AI186),{1,2,3,4,5,6,7,8})),AH187)","v":14.600000000000001},{"$f":"IF(AJ186>0,AVERAGE(SMALL(IF(Q186:AJ186>0,Q186:AJ186),{1,2,3,4,5,6,7,8})),AI187)","v":14.600000000000001},{"$f":"IF(AK186>0,AVERAGE(SMALL(IF(R186:AK186>0,R186:AK186),{1,2,3,4,5,6,7,8})),AJ187)","v":14.600000000000001},{"$f":"IF(AL186>0,AVERAGE(SMALL(IF(S186:AL186>0,S186:AL186),{1,2,3,4,5,6,7,8})),AK187)","v":14.600000000000001},{"$f":"IF(AM186>0,AVERAGE(SMALL(IF(T186:AM186>0,T186:AM186),{1,2,3,4,5,6,7,8})),AL187)","v":14.600000000000001},{"$f":"IF(AN186>0,AVERAGE(SMALL(IF(U186:AN186>0,U186:AN186),{1,2,3,4,5,6,7,8})),AM187)","v":14.600000000000001},{"$f":"IF(AO186>0,AVERAGE(SMALL(IF(V186:AO186>0,V186:AO186),{1,2,3,4,5,6,7,8})),AN187)","v":14.600000000000001},{"$f":"IF(AP186>0,AVERAGE(SMALL(IF(W186:AP186>0,W186:AP186),{1,2,3,4,5,6,7,8})),AO187)","v":14.600000000000001},{"$f":"IF(AQ186>0,AVERAGE(SMALL(IF(X186:AQ186>0,X186:AQ186),{1,2,3,4,5,6,7,8})),AP187)","v":14.600000000000001},{"$f":"IF(AR186>0,AVERAGE(SMALL(IF(Y186:AR186>0,Y186:AR186),{1,2,3,4,5,6,7,8})),AQ187)","v":14.600000000000001},{"$f":"IF(AS186>0,AVERAGE(SMALL(IF(Z186:AS186>0,Z186:AS186),{1,2,3,4,5,6,7,8})),AR187)","v":14.600000000000001},{"$f":"IF(AT186>0,AVERAGE(SMALL(IF(AA186:AT186>0,AA186:AT186),{1,2,3,4,5,6,7,8})),AS187)","v":14.600000000000001},{"$f":"IF(AU186>0,AVERAGE(SMALL(IF(AB186:AU186>0,AB186:AU186),{1,2,3,4,5,6,7,8})),AT187)","v":14.600000000000001},{"$f":"IF(AV186>0,AVERAGE(SMALL(IF(AC186:AV186>0,AC186:AV186),{1,2,3,4,5,6,7,8})),AU187)","v":14.600000000000001},{"$f":"IF(AW186>0,AVERAGE(SMALL(IF(AD186:AW186>0,AD186:AW186),{1,2,3,4,5,6,7,8})),AV187)","v":14.600000000000001},{"$f":"IF(AX186>0,AVERAGE(SMALL(IF(AE186:AX186>0,AE186:AX186),{1,2,3,4,5,6,7,8})),AW187)","v":14.600000000000001},{"$f":"IF(AY186>0,AVERAGE(SMALL(IF(AF186:AY186>0,AF186:AY186),{1,2,3,4,5,6,7,8})),AX187)","v":14.600000000000001},{"$f":"IF(AZ186>0,AVERAGE(SMALL(IF(AG186:AZ186>0,AG186:AZ186),{1,2,3,4,5,6,7,8})),AY187)","v":14.600000000000001},{"$f":"IF(BA186>0,AVERAGE(SMALL(IF(AH186:BA186>0,AH186:BA186),{1,2,3,4,5,6,7,8})),AZ187)","v":14.600000000000001},{"$f":"IF(BB186>0,AVERAGE(SMALL(IF(AI186:BB186>0,AI186:BB186),{1,2,3,4,5,6,7,8})),BA187)","v":14.600000000000001},{"$f":"IF(BC186>0,AVERAGE(SMALL(IF(AJ186:BC186>0,AJ186:BC186),{1,2,3,4,5,6,7,8})),BB187)","v":14.600000000000001},{"$f":"IF(BD186>0,AVERAGE(SMALL(IF(AK186:BD186>0,AK186:BD186),{1,2,3,4,5,6,7,8})),BC187)","v":14.600000000000001},{"$f":"IF(BE186>0,AVERAGE(SMALL(IF(AL186:BE186>0,AL186:BE186),{1,2,3,4,5,6,7,8})),BD187)","v":14.600000000000001},{"$f":"IF(BF186>0,AVERAGE(SMALL(IF(AM186:BF186>0,AM186:BF186),{1,2,3,4,5,6,7,8})),BE187)","v":14.600000000000001},{"$f":"IF(BG186>0,AVERAGE(SMALL(IF(AN186:BG186>0,AN186:BG186),{1,2,3,4,5,6,7,8})),BF187)","v":14.600000000000001},{"$f":"IF(BH186>0,AVERAGE(SMALL(IF(AO186:BH186>0,AO186:BH186),{1,2,3,4,5,6,7,8})),BG187)","v":14.600000000000001},{"$f":"IF(BI186>0,AVERAGE(SMALL(IF(AP186:BI186>0,AP186:BI186),{1,2,3,4,5,6,7,8})),BH187)","v":14.600000000000001},{"$f":"IF(BJ186>0,AVERAGE(SMALL(IF(AQ186:BJ186>0,AQ186:BJ186),{1,2,3,4,5,6,7,8})),BI187)","v":14.600000000000001},{"$f":"IF(BK186>0,AVERAGE(SMALL(IF(AR186:BK186>0,AR186:BK186),{1,2,3,4,5,6,7,8})),BJ187)","v":14.600000000000001},{"$f":"IF(BL186>0,AVERAGE(SMALL(IF(AS186:BL186>0,AS186:BL186),{1,2,3,4,5,6,7,8})),BK187)","v":14.600000000000001},{"$f":"IF(BM186>0,AVERAGE(SMALL(IF(AT186:BM186>0,AT186:BM186),{1,2,3,4,5,6,7,8})),BL187)","v":14.600000000000001},{"$f":"IF(BN186>0,AVERAGE(SMALL(IF(AU186:BN186>0,AU186:BN186),{1,2,3,4,5,6,7,8})),BM187)","v":14.600000000000001},{"$f":"IF(BO186>0,AVERAGE(SMALL(IF(AV186:BO186>0,AV186:BO186),{1,2,3,4,5,6,7,8})),BN187)","v":14.600000000000001},{"$f":"IF(BP186>0,AVERAGE(SMALL(IF(AW186:BP186>0,AW186:BP186),{1,2,3,4,5,6,7,8})),BO187)","v":14.600000000000001},{"$f":"IF(BQ186>0,AVERAGE(SMALL(IF(AX186:BQ186>0,AX186:BQ186),{1,2,3,4,5,6,7,8})),BP187)","v":14.600000000000001},{"$f":"IF(BR186>0,AVERAGE(SMALL(IF(AY186:BR186>0,AY186:BR186),{1,2,3,4,5,6,7,8})),BQ187)","v":14.600000000000001},{"$f":"IF(BS186>0,AVERAGE(SMALL(IF(AZ186:BS186>0,AZ186:BS186),{1,2,3,4,5,6,7,8})),BR187)","v":14.600000000000001},{"$f":"IF(BT186>0,AVERAGE(SMALL(IF(BA186:BT186>0,BA186:BT186),{1,2,3,4,5,6,7,8})),BS187)","v":14.600000000000001},{"$f":"IF(BU186>0,AVERAGE(SMALL(IF(BB186:BU186>0,BB186:BU186),{1,2,3,4,5,6,7,8})),BT187)","v":14.600000000000001},{"$f":"IF(BV186>0,AVERAGE(SMALL(IF(BC186:BV186>0,BC186:BV186),{1,2,3,4,5,6,7,8})),BU187)","v":14.600000000000001},{"$f":"IF(BW186>0,AVERAGE(SMALL(IF(BD186:BW186>0,BD186:BW186),{1,2,3,4,5,6,7,8})),BV187)","v":14.600000000000001},{"$f":"IF(BX186>0,AVERAGE(SMALL(IF(BE186:BX186>0,BE186:BX186),{1,2,3,4,5,6,7,8})),BW187)","v":14.600000000000001},{"$f":"IF(BY186>0,AVERAGE(SMALL(IF(BF186:BY186>0,BF186:BY186),{1,2,3,4,5,6,7,8})),BX187)","v":14.600000000000001},{"$f":"IF(BZ186>0,AVERAGE(SMALL(IF(BG186:BZ186>0,BG186:BZ186),{1,2,3,4,5,6,7,8})),BY187)","v":14.600000000000001},{"$f":"IF(CA186>0,AVERAGE(SMALL(IF(BH186:CA186>0,BH186:CA186),{1,2,3,4,5,6,7,8})),BZ187)","v":14.600000000000001},{"$f":"IF(CB186>0,AVERAGE(SMALL(IF(BI186:CB186>0,BI186:CB186),{1,2,3,4,5,6,7,8})),CA187)","v":14.600000000000001},{"$f":"IF(CC186>0,AVERAGE(SMALL(IF(BJ186:CC186>0,BJ186:CC186),{1,2,3,4,5,6,7,8})),CB187)","v":14.600000000000001},{"$f":"IF(CD186>0,AVERAGE(SMALL(IF(BK186:CD186>0,BK186:CD186),{1,2,3,4,5,6,7,8})),CC187)","v":14.600000000000001},{"$f":"IF(CE186>0,AVERAGE(SMALL(IF(BL186:CE186>0,BL186:CE186),{1,2,3,4,5,6,7,8})),CD187)","v":14.600000000000001},{"$f":"IF(CF186>0,AVERAGE(SMALL(IF(BM186:CF186>0,BM186:CF186),{1,2,3,4,5,6,7,8})),CE187)","v":14.600000000000001},{"$f":"IF(CG186>0,AVERAGE(SMALL(IF(BN186:CG186>0,BN186:CG186),{1,2,3,4,5,6,7,8})),CF187)","v":14.600000000000001},{"$f":"IF(CH186>0,AVERAGE(SMALL(IF(BO186:CH186>0,BO186:CH186),{1,2,3,4,5,6,7,8})),CG187)","v":14.600000000000001},{"$f":"IF(CI186>0,AVERAGE(SMALL(IF(BP186:CI186>0,BP186:CI186),{1,2,3,4,5,6,7,8})),CH187)","v":14.600000000000001},{"$f":"IF(CJ186>0,AVERAGE(SMALL(IF(BQ186:CJ186>0,BQ186:CJ186),{1,2,3,4,5,6,7,8})),CI187)","v":14.600000000000001},{"$f":"IF(CK186>0,AVERAGE(SMALL(IF(BR186:CK186>0,BR186:CK186),{1,2,3,4,5,6,7,8})),CJ187)","v":14.600000000000001},{"$f":"IF(CL186>0,AVERAGE(SMALL(IF(BS186:CL186>0,BS186:CL186),{1,2,3,4,5,6,7,8})),CK187)","v":14.600000000000001},{"$f":"IF(CM186>0,AVERAGE(SMALL(IF(BT186:CM186>0,BT186:CM186),{1,2,3,4,5,6,7,8})),CL187)","v":14.600000000000001},{"$f":"IF(CN186>0,AVERAGE(SMALL(IF(BU186:CN186>0,BU186:CN186),{1,2,3,4,5,6,7,8})),CM187)","v":14.600000000000001},{"$f":"IF(CO186>0,AVERAGE(SMALL(IF(BV186:CO186>0,BV186:CO186),{1,2,3,4,5,6,7,8})),CN187)","v":14.600000000000001},{"$f":"IF(CP186>0,AVERAGE(SMALL(IF(BW186:CP186>0,BW186:CP186),{1,2,3,4,5,6,7,8})),CO187)","v":14.600000000000001},{"$f":"IF(CQ186>0,AVERAGE(SMALL(IF(BX186:CQ186>0,BX186:CQ186),{1,2,3,4,5,6,7,8})),CP187)","v":14.600000000000001},{"$f":"IF(CR186>0,AVERAGE(SMALL(IF(BY186:CR186>0,BY186:CR186),{1,2,3,4,5,6,7,8})),CQ187)","v":14.600000000000001},{"$f":"IF(CS186>0,AVERAGE(SMALL(IF(BZ186:CS186>0,BZ186:CS186),{1,2,3,4,5,6,7,8})),CR187)","v":14.600000000000001},{"$f":"IF(CT186>0,AVERAGE(SMALL(IF(CA186:CT186>0,CA186:CT186),{1,2,3,4,5,6,7,8})),CS187)","v":14.600000000000001},{"$f":"IF(CU186>0,AVERAGE(SMALL(IF(CB186:CU186>0,CB186:CU186),{1,2,3,4,5,6,7,8})),CT187)","v":14.600000000000001},{"$f":"IF(CV186>0,AVERAGE(SMALL(IF(CC186:CV186>0,CC186:CV186),{1,2,3,4,5,6,7,8})),CU187)","v":14.600000000000001},{"$f":"IF(CW186>0,AVERAGE(SMALL(IF(CD186:CW186>0,CD186:CW186),{1,2,3,4,5,6,7,8})),CV187)","v":14.600000000000001}]
[null,null,null,null,null,null,null,null,"Low Hcap",null,null,null,null,null,null,null,null,null,null,null,null,null,null,null,null,null,null,null,{"$f":"MIN($J187:AC187)","v":14.600000000000001},{"$f":"MIN($J187:AD187)","v":14.600000000000001},{"$f":"MIN($J187:AE187)","v":14.600000000000001},{"$f":"MIN($J187:AF187)","v":14.600000000000001},{"$f":"MIN($J187:AG187)","v":14.600000000000001},{"$f":"MIN($J187:AH187)","v":14.600000000000001},{"$f":"MIN($J187:AI187)","v":14.600000000000001},{"$f":"MIN($J187:AJ187)","v":14.600000000000001},{"$f":"MIN($J187:AK187)","v":14.600000000000001},{"$f":"MIN($J187:AL187)","v":14.600000000000001},{"$f":"MIN($J187:AM187)","v":14.600000000000001},{"$f":"MIN($J187:AN187)","v":14.600000000000001},{"$f":"MIN($J187:AO187)","v":14.600000000000001},{"$f":"MIN($J187:AP187)","v":14.600000000000001},{"$f":"MIN($J187:AQ187)","v":14.600000000000001},{"$f":"MIN($J187:AR187)","v":14.600000000000001},{"$f":"MIN($J187:AS187)","v":14.600000000000001},{"$f":"MIN($J187:AT187)","v":14.600000000000001},{"$f":"MIN($J187:AU187)","v":14.600000000000001},{"$f":"MIN($J187:AV187)","v":14.600000000000001},{"$f":"MIN($J187:AW187)","v":14.600000000000001},{"$f":"MIN($J187:AX187)","v":14.600000000000001},{"$f":"MIN($J187:AY187)","v":14.600000000000001},{"$f":"MIN($J187:AZ187)","v":14.600000000000001},{"$f":"MIN($J187:BA187)","v":14.600000000000001},{"$f":"MIN($J187:BB187)","v":14.600000000000001},{"$f":"MIN($J187:BC187)","v":14.600000000000001},{"$f":"MIN($J187:BD187)","v":14.600000000000001},{"$f":"MIN($J187:BE187)","v":14.600000000000001},{"$f":"MIN($J187:BF187)","v":14.600000000000001},{"$f":"MIN($J187:BG187)","v":14.600000000000001},{"$f":"MIN($J187:BH187)","v":14.600000000000001},{"$f":"MIN($J187:BI187)","v":14.600000000000001},{"$f":"MIN($J187:BJ187)","v":14.600000000000001},{"$f":"MIN($J187:BK187)","v":14.600000000000001},{"$f":"MIN($J187:BL187)","v":14.600000000000001},{"$f":"MIN($J187:BM187)","v":14.600000000000001},{"$f":"MIN($J187:BN187)","v":14.600000000000001},{"$f":"MIN($J187:BO187)","v":14.600000000000001},{"$f":"MIN($J187:BP187)","v":14.600000000000001},{"$f":"MIN($J187:BQ187)","v":14.600000000000001},{"$f":"MIN($J187:BR187)","v":14.600000000000001},{"$f":"MIN($J187:BS187)","v":14.600000000000001},{"$f":"MIN($J187:BT187)","v":14.600000000000001},{"$f":"MIN($J187:BU187)","v":14.600000000000001},{"$f":"MIN($J187:BV187)","v":14.600000000000001},{"$f":"MIN($J187:BW187)","v":14.600000000000001},{"$f":"MIN($J187:BX187)","v":14.600000000000001},{"$f":"MIN($J187:BY187)","v":14.600000000000001},{"$f":"MIN($J187:BZ187)","v":14.600000000000001},{"$f":"MIN($J187:CA187)","v":14.600000000000001},{"$f":"MIN($J187:CB187)","v":14.600000000000001},{"$f":"MIN($J187:CC187)","v":14.600000000000001},{"$f":"MIN($J187:CD187)","v":14.600000000000001},{"$f":"MIN($J187:CE187)","v":14.600000000000001},{"$f":"MIN($J187:CF187)","v":14.600000000000001},{"$f":"MIN($J187:CG187)","v":14.600000000000001},{"$f":"MIN($J187:CH187)","v":14.600000000000001},{"$f":"MIN($J187:CI187)","v":14.600000000000001},{"$f":"MIN($J187:CJ187)","v":14.600000000000001},{"$f":"MIN($J187:CK187)","v":14.600000000000001},{"$f":"MIN($J187:CL187)","v":14.600000000000001},{"$f":"MIN($J187:CM187)","v":14.600000000000001},{"$f":"MIN($J187:CN187)","v":14.600000000000001},{"$f":"MIN($J187:CO187)","v":14.600000000000001},{"$f":"MIN($J187:CP187)","v":14.600000000000001},{"$f":"MIN($J187:CQ187)","v":14.600000000000001},{"$f":"MIN($J187:CR187)","v":14.600000000000001},{"$f":"MIN($J187:CS187)","v":14.600000000000001},{"$f":"MIN($J187:CT187)","v":14.600000000000001},{"$f":"MIN($J187:CU187)","v":14.600000000000001},{"$f":"MIN($J187:CV187)","v":14.600000000000001},{"$f":"MIN($J187:CW187)","v":14.600000000000001}]
[null,"Fraunholz","Markus",17,"Y",{"$f":"IF(H189<4,\"Y\",)","v":0},null,{"$f":"COUNT(J189:CX189)","v":69},"Date","2019-09-08","2019-09-20","2019-10-04","2019-10-13","2019-11-01","2019-11-20","2019-11-24","2020-05-20","2020-05-31","2020-06-14","2020-06-19","2020-06-28","2020-07-12","2020-07-26","2020-08-14","2020-08-23","2020-09-06","2020-09-12","2020-10-04","2020-10-09","2020-11-01","2020-11-06","2020-11-15","2021-03-28","2021-04-11","2021-04-16","2021-04-25","2021-04-30","2021-05-09","2021-05-14","2021-05-23","2021-06-13","2021-06-19","2021-07-16","2021-07-21","2021-07-25","2021-07-30","2021-08-18","2021-08-22","2021-08-27","2021-09-19","2021-09-24","2021-10-03","2022-04-15","2022-05-29","2022-06-05","2022-06-17","2022-06-25","2022-07-03","2022-07-10","2022-07-15","2022-07-24","2022-07-31","2022-08-07","2022-08-12","2022-09-02","2022-10-07","2022-10-21","2022-10-30","2022-11-09","2022-11-13","2023-03-26","2023-04-07","2023-04-14","2023-05-07","2023-05-19","2023-05-28","2023-06-04","2023-06-09",null,null,null,null,null,null,null,null,null,null,null,null,null,null,null,null,null,null,null,null,null,null,null,null,{"$f":"IF(CW193>$DD$1,36,CW193)","v":17.565204911655069},17.591443218394556,{"$f":"CZ189-CY189","v":2.6238306739486461E-2}]
[null,null,null,null,null,null,null,null,"Course","OdelzhausenHG","OdelzhausenHG","ErdingHG","PfaffingHG","ErdingHG","GutThailingHG","PfaffingHG","GutThailingHG","ErdingHG","OdelzhausenHG","StEurachHG","ErdingHG","PfaffingHG","OdelzhausenHG","EgmatingHG","PfaffingHG","OdelzhausenHG","TegernbachHG","OdelzhausenHG","TegernbachHG","ErdingHG","TegernbachHG","OdelzhausenHG","OdelzhausenHG","ErdingHR","TegernbachHG","PfaffingHG","TegernbachHG","ErdingHG","StEurachHG","OdelzhausenHG","PfaffingHG","TegernbachHG","MaxlrainHG","GutThailingHG","OdelzhausenHG","MangfalltalHG","GutThailingDR","PfaffingHG","AschheimHG","ErdingHG","TegernbachHG","OdelzhausenHB","ReichertshausenHG","OdelzhausenHG","IffeldorfHG","StEurachHG","AlgaeuerHG","Pfaffing2022HG","IffeldorfHG","MaxlrainHG","Pfaffing2022HG","HohenpaehlHG","IffeldorfHG","ValleyHG","StEurachHG","EgmatingHG","TegernbachHG","OdelzhausenHB","GutThailing2022HG","ErdingHG","Pfaffing2023HG","Reichertshausen2023HG","TegernbachHG","Odelzhausen2023HG","GarmischHG","ErdingHG","IffeldorfHG","TegernbachHG"]
[null,null,null,null,null,null,null,null,"Ad Gr",105,99,97,106,86,92,95,97,90,101,104,99,101,102,100,94,99,104,89,93,101,100,102,96,94,97,102,101,99,104,106,95,105,101,95,95,98,99,92,97,98,101,89,98,102,97,106,95,97,102,107,104,93,97,88,100,101,86,84,106,94,98,97,97,103,98,97,93,96]
[null,null,null,null,null,null,null,null,"SD",{"$f":"IF(J191=\"\",0,(J191-INDIRECT(CONCATENATE(J190,\"CR\")))*113/INDIRECT(CONCATENATE(J190,\"SR\")))","v":29.540157480314964},{"$f":"IF(K191=\"\",0,(K191-INDIRECT(CONCATENATE(K190,\"CR\")))*113/INDIRECT(CONCATENATE(K190,\"SR\")))","v":24.201574803149608},22.6,29.553846153846155,13.038461538461538,18.545801526717558,19.992307692307691,22.858778625954198,16.515384615384615,25.981102362204727,27.689312977099231,24.338461538461537,25.207692307692309,26.870866141732286,23.893893129770994,19.123076923076923,24.201574803149608,27.650757575757574,15.303937007874019,18.234090909090906,26.076923076923077,24.226515151515148,26.870866141732286,21.53228346456693,25.733613445378147,21.658333333333331,26.076923076923077,25.082575757575754,24.338461538461537,27.689312977099231,30.429921259842523,19.992307692307691,28.506818181818179,23.347794117647055,21.133587786259543,20.642519685039375,22.272463768115944,24.408000000000001,17.384615384615383,22.000757575757579,23.469230769230769,25.082575757575754,20.668376068376073,24.483333333333331,26.870866141732286,22.599999999999998,29.414503816793889,19.494656488549612,21.12230769230769,26.979844961240307,28.333088235294113,27.206923076923076,19.235877862595416,22.599999999999998,12.137037037037038,24.238931297709918,24.756488549618325,12.241666666666664,15.839316239316245,30.770769230769236,19.992307692307691,21.177037037037035,22.086363636363632,21.658333333333331,28.614516129032264,{"$f":"IF(BW191=\"\",0,(BW191-INDIRECT(CONCATENATE(BW190,\"CR\")))*113/INDIRECT(CONCATENATE(BW190,\"SR\")))","v":23.667716535433065},22.6,19.096124031007751,20.802272727272726,0,0,0,0,0,0,0,0,0,0,0,0,{"$f":"IF(CM191=\"\",0,(CM191-INDIRECT(CONCATENATE(CM190,\"CR\")))*113/INDIRECT(CONCATENATE(CM190,\"SR\")))","v":0},0,{"$f":"IF(CO191=\"\",0,(CO191-INDIRECT(CONCATENATE(CO190,\"CR\")))*113/INDIRECT(CONCATENATE(CO190,\"SR\")))","v":0},0,{"$f":"IF(CQ191=\"\",0,(CQ191-INDIRECT(CONCATENATE(CQ190,\"CR\")))*113/INDIRECT(CONCATENATE(CQ190,\"SR\")))","v":0},0,{"$f":"IF(CS191=\"\",0,(CS191-INDIRECT(CONCATENATE(CS190,\"CR\")))*113/INDIRECT(CONCATENATE(CS190,\"SR\")))","v":0},0,{"$f":"IF(CU191=\"\",0,(CU191-INDIRECT(CONCATENATE(CU190,\"CR\")))*113/INDIRECT(CONCATENATE(CU190,\"SR\")))","v":0},0,{"$f":"IF(CW191=\"\",0,(CW191-INDIRECT(CONCATENATE(CW190,\"CR\")))*113/INDIRECT(CONCATENATE(CW190,\"SR\")))","v":0}]
[null,null,null,null,null,null,null,null,"New Hcap",{"$f":"J192-2","v":27.540157480314964},{"$f":"IF(K192>0,MIN(J192:K192)-2,J193)","v":22.201574803149608},{"$f":"IF(L192>0,MIN(J192:L192)-2,K193)","v":20.6},{"$f":"IF(M192>0,MIN(J192:M192)-1,L193)","v":21.6},{"$f":"IF(N192>0,MIN(J192:N192),M193)","v":13.038461538461538},{"$f":"IF(O192>0,AVERAGE(SMALL(IF(J192:O192>0,J192:O192),{1,2}))-1,N193)","v":14.792131532589547},{"$f":"IF(P192>0,AVERAGE(SMALL(IF(J192:P192>0,J192:P192),{1,2})),O193)","v":15.792131532589547},{"$f":"IF(Q192>0,AVERAGE(SMALL(IF(J192:Q192>0,J192:Q192),{1,2})),P193)","v":15.792131532589547},{"$f":"IF(R192>0,AVERAGE(SMALL(IF(J192:R192>0,J192:R192),{1,2,3})),Q193)","v":16.033215893521234},{"$f":"IF(S192>0,AVERAGE(SMALL(IF(J192:S192>0,J192:S192),{1,2,3})),R193)","v":16.033215893521234},{"$f":"IF(T192>0,AVERAGE(SMALL(IF(J192:T192>0,J192:T192),{1,2,3})),S193)","v":16.033215893521234},{"$f":"IF(U192>0,AVERAGE(SMALL(IF(J192:U192>0,J192:U192),{1,2,3,4})),T193)","v":17.022988843217849},{"$f":"IF(V192>0,AVERAGE(SMALL(IF(J192:V192>0,J192:V192),{1,2,3,4})),U193)","v":17.022988843217849},{"$f":"IF(W192>0,AVERAGE(SMALL(IF(J192:W192>0,J192:W192),{1,2,3,4})),V193)","v":17.022988843217849},{"$f":"IF(X192>0,AVERAGE(SMALL(IF(J192:X192>0,J192:X192),{1,2,3,4,5})),W193)","v":18.13839107457428},{"$f":"IF(Y192>0,AVERAGE(SMALL(IF(J192:Y192>0,J192:Y192),{1,2,3,4,5})),X193)","v":17.443006459189665},{"$f":"IF(Z192>0,AVERAGE(SMALL(IF(J192:Z192>0,J192:Z192),{1,2,3,4,5,6})),Y193)","v":18.302505382658055},{"$f":"IF(AA192>0,AVERAGE(SMALL(IF(J192:AA192>0,J192:AA192),{1,2,3,4,5,6})),Z193)","v":18.302505382658055},{"$f":"IF(AB192>0,AVERAGE(SMALL(IF(J192:AB192>0,J192:AB192),{1,2,3,4,5,6,7})),AA193)","v":17.874138471974621},{"$f":"IF(AC192>0,AVERAGE(SMALL(IF(J192:AC192>0,J192:AC192),{1,2,3,4,5,6,7,8})),AB193)","v":17.919132526614156},{"$f":"IF(AD192>0,AVERAGE(SMALL(IF(K192:AD192>0,K192:AD192),{1,2,3,4,5,6,7,8})),AC193)","v":17.919132526614156},{"$f":"IF(AE192>0,AVERAGE(SMALL(IF(L192:AE192>0,L192:AE192),{1,2,3,4,5,6,7,8})),AD193)","v":17.919132526614156},{"$f":"IF(AF192>0,AVERAGE(SMALL(IF(M192:AF192>0,M192:AF192),{1,2,3,4,5,6,7,8})),AE193)","v":17.95147985485843},{"$f":"IF(AG192>0,AVERAGE(SMALL(IF(N192:AG192>0,N192:AG192),{1,2,3,4,5,6,7,8})),AF193)","v":17.785667959685021},{"$f":"IF(AH192>0,AVERAGE(SMALL(IF(O192:AH192>0,O192:AH192),{1,2,3,4,5,6,7,8})),AG193)","v":19.013207595621601},{"$f":"IF(AI192>0,AVERAGE(SMALL(IF(P192:AI192>0,P192:AI192),{1,2,3,4,5,6,7,8})),AH193)","v":19.402274071448574},{"$f":"IF(AJ192>0,AVERAGE(SMALL(IF(Q192:AJ192>0,Q192:AJ192),{1,2,3,4,5,6,7,8})),AI193)","v":19.889972251131489},{"$f":"IF(AK192>0,AVERAGE(SMALL(IF(R192:AK192>0,R192:AK192),{1,2,3,4,5,6,7,8})),AJ193)","v":20.057821773280917},{"$f":"IF(AL192>0,AVERAGE(SMALL(IF(S192:AL192>0,S192:AL192),{1,2,3,4,5,6,7,8})),AK193)","v":21.021713090297233},{"$f":"IF(AM192>0,AVERAGE(SMALL(IF(T192:AM192>0,T192:AM192),{1,2,3,4,5,6,7,8})),AL193)","v":21.021713090297233},{"$f":"IF(AN192>0,AVERAGE(SMALL(IF(U192:AN192>0,U192:AN192),{1,2,3,4,5,6,7,8})),AM193)","v":21.021713090297233},{"$f":"IF(AO192>0,AVERAGE(SMALL(IF(V192:AO192>0,V192:AO192),{1,2,3,4,5,6,7,8})),AN193)","v":20.492437157896301},{"$f":"IF(AP192>0,AVERAGE(SMALL(IF(W192:AP192>0,W192:AP192),{1,2,3,4,5,6,7,8})),AO193)","v":20.492437157896301},{"$f":"IF(AQ192>0,AVERAGE(SMALL(IF(X192:AQ192>0,X192:AQ192),{1,2,3,4,5,6,7,8})),AP193)","v":20.385714572208482},{"$f":"IF(AR192>0,AVERAGE(SMALL(IF(Y192:AR192>0,Y192:AR192),{1,2,3,4,5,6,7,8})),AQ193)","v":20.040676404269551},{"$f":"IF(AS192>0,AVERAGE(SMALL(IF(Z192:AS192>0,Z192:AS192),{1,2,3,4,5,6,7,8})),AR193)","v":20.230606749514855},{"$f":"IF(AT192>0,AVERAGE(SMALL(IF(AA192:AT192>0,AA192:AT192),{1,2,3,4,5,6,7,8})),AS193)","v":20.096190455823468},{"$f":"IF(AU192>0,AVERAGE(SMALL(IF(AB192:AU192>0,AB192:AU192),{1,2,3,4,5,6,7,8})),AT193)","v":20.096190455823468},{"$f":"IF(AV192>0,AVERAGE(SMALL(IF(AC192:AV192>0,AC192:AV192),{1,2,3,4,5,6,7,8})),AU193)","v":20.356275252916138},{"$f":"IF(AW192>0,AVERAGE(SMALL(IF(AD192:AW192>0,AD192:AW192),{1,2,3,4,5,6,7,8})),AV193)","v":20.827108586249473},{"$f":"IF(AX192>0,AVERAGE(SMALL(IF(AE192:AX192>0,AE192:AX192),{1,2,3,4,5,6,7,8})),AW193)","v":20.827108586249473},{"$f":"IF(AY192>0,AVERAGE(SMALL(IF(AF192:AY192>0,AF192:AY192),{1,2,3,4,5,6,7,8})),AX193)","v":20.827108586249473},{"$f":"IF(AZ192>0,AVERAGE(SMALL(IF(AG192:AZ192>0,AG192:AZ192),{1,2,3,4,5,6,7,8})),AY193)","v":20.62659762378199},{"$f":"IF(BA192>0,AVERAGE(SMALL(IF(AH192:BA192>0,AH192:BA192),{1,2,3,4,5,6,7,8})),AZ193)","v":20.719120161725616},{"$f":"IF(BB192>0,AVERAGE(SMALL(IF(AI192:BB192>0,AI192:BB192),{1,2,3,4,5,6,7,8})),BA193)","v":20.719120161725616},{"$f":"IF(BC192>0,AVERAGE(SMALL(IF(AJ192:BC192>0,AJ192:BC192),{1,2,3,4,5,6,7,8})),BB193)","v":20.836828495058949},{"$f":"IF(BD192>0,AVERAGE(SMALL(IF(AK192:BD192>0,AK192:BD192),{1,2,3,4,5,6,7,8})),BC193)","v":20.836828495058949},{"$f":"IF(BE192>0,AVERAGE(SMALL(IF(AL192:BE192>0,AL192:BE192),{1,2,3,4,5,6,7,8})),BD193)","v":20.448660556127653},{"$f":"IF(BF192>0,AVERAGE(SMALL(IF(AM192:BF192>0,AM192:BF192),{1,2,3,4,5,6,7,8})),BE193)","v":20.304891046651619},{"$f":"IF(BG192>0,AVERAGE(SMALL(IF(AN192:BG192>0,AN192:BG192),{1,2,3,4,5,6,7,8})),BF193)","v":20.304891046651619},{"$f":"IF(BH192>0,AVERAGE(SMALL(IF(AO192:BH192>0,AO192:BH192),{1,2,3,4,5,6,7,8})),BG193)","v":20.304891046651619},{"$f":"IF(BI192>0,AVERAGE(SMALL(IF(AP192:BI192>0,AP192:BI192),{1,2,3,4,5,6,7,8})),BH193)","v":20.589910556127652},{"$f":"IF(BJ192>0,AVERAGE(SMALL(IF(AQ192:BJ192>0,AQ192:BJ192),{1,2,3,4,5,6,7,8})),BI193)","v":20.210337317937583},{"$f":"IF(BK192>0,AVERAGE(SMALL(IF(AR192:BK192>0,AR192:BK192),{1,2,3,4,5,6,7,8})),BJ193)","v":20.210337317937583},{"$f":"IF(BL192>0,AVERAGE(SMALL(IF(AS192:BL192>0,AS192:BL192),{1,2,3,4,5,6,7,8})),BK193)","v":19.08576847428477},{"$f":"IF(BM192>0,AVERAGE(SMALL(IF(AT192:BM192>0,AT192:BM192),{1,2,3,4,5,6,7,8})),BL193)","v":19.289511484669344},{"$f":"IF(BN192>0,AVERAGE(SMALL(IF(AU192:BN192>0,AU192:BN192),{1,2,3,4,5,6,7,8})),BM193)","v":19.330453513654849},{"$f":"IF(BO192>0,AVERAGE(SMALL(IF(AV192:BO192>0,AV192:BO192),{1,2,3,4,5,6,7,8})),BN193)","v":18.03566184698818},{"$f":"IF(BP192>0,AVERAGE(SMALL(IF(AW192:BP192>0,AW192:BP192),{1,2,3,4,5,6,7,8})),BO193)","v":17.842499453825791},{"$f":"IF(BQ192>0,AVERAGE(SMALL(IF(AX192:BQ192>0,AX192:BQ192),{1,2,3,4,5,6,7,8})),BP193)","v":17.917404756856094},{"$f":"IF(BR192>0,AVERAGE(SMALL(IF(AY192:BR192>0,AY192:BR192),{1,2,3,4,5,6,7,8})),BQ193)","v":17.591443218394556},{"$f":"IF(BS192>0,AVERAGE(SMALL(IF(AZ192:BS192>0,AZ192:BS192),{1,2,3,4,5,6,7,8})),BR193)","v":17.591443218394556},{"$f":"IF(BT192>0,AVERAGE(SMALL(IF(BA192:BT192>0,BA192:BT192),{1,2,3,4,5,6,7,8})),BS193)","v":17.655025839477172},{"$f":"IF(BU192>0,AVERAGE(SMALL(IF(BB192:BU192>0,BB192:BU192),{1,2,3,4,5,6,7,8})),BT193)","v":17.655025839477172},{"$f":"IF(BV192>0,AVERAGE(SMALL(IF(BC192:BV192>0,BC192:BV192),{1,2,3,4,5,6,7,8})),BU193)","v":17.655025839477172},{"$f":"IF(BW192>0,AVERAGE(SMALL(IF(BD192:BW192>0,BD192:BW192),{1,2,3,4,5,6,7,8})),BV193)","v":17.655025839477172},{"$f":"IF(BX192>0,AVERAGE(SMALL(IF(BE192:BX192>0,BE192:BX192),{1,2,3,4,5,6,7,8})),BW193)","v":17.655025839477172},{"$f":"IF(BY192>0,AVERAGE(SMALL(IF(BF192:BY192>0,BF192:BY192),{1,2,3,4,5,6,7,8})),BX193)","v":17.605209282284441},{"$f":"IF(BZ192>0,AVERAGE(SMALL(IF(BG192:BZ192>0,BG192:BZ192),{1,2,3,4,5,6,7,8})),BY193)","v":17.565204911655069},{"$f":"IF(CA192>0,AVERAGE(SMALL(IF(BH192:CA192>0,BH192:CA192),{1,2,3,4,5,6,7,8})),BZ193)","v":17.565204911655069},{"$f":"IF(CB192>0,AVERAGE(SMALL(IF(BI192:CB192>0,BI192:CB192),{1,2,3,4,5,6,7,8})),CA193)","v":17.565204911655069},{"$f":"IF(CC192>0,AVERAGE(SMALL(IF(BJ192:CC192>0,BJ192:CC192),{1,2,3,4,5,6,7,8})),CB193)","v":17.565204911655069},{"$f":"IF(CD192>0,AVERAGE(SMALL(IF(BK192:CD192>0,BK192:CD192),{1,2,3,4,5,6,7,8})),CC193)","v":17.565204911655069},{"$f":"IF(CE192>0,AVERAGE(SMALL(IF(BL192:CE192>0,BL192:CE192),{1,2,3,4,5,6,7,8})),CD193)","v":17.565204911655069},{"$f":"IF(CF192>0,AVERAGE(SMALL(IF(BM192:CF192>0,BM192:CF192),{1,2,3,4,5,6,7,8})),CE193)","v":17.565204911655069},{"$f":"IF(CG192>0,AVERAGE(SMALL(IF(BN192:CG192>0,BN192:CG192),{1,2,3,4,5,6,7,8})),CF193)","v":17.565204911655069},{"$f":"IF(CH192>0,AVERAGE(SMALL(IF(BO192:CH192>0,BO192:CH192),{1,2,3,4,5,6,7,8})),CG193)","v":17.565204911655069},{"$f":"IF(CI192>0,AVERAGE(SMALL(IF(BP192:CI192>0,BP192:CI192),{1,2,3,4,5,6,7,8})),CH193)","v":17.565204911655069},{"$f":"IF(CJ192>0,AVERAGE(SMALL(IF(BQ192:CJ192>0,BQ192:CJ192),{1,2,3,4,5,6,7,8})),CI193)","v":17.565204911655069},{"$f":"IF(CK192>0,AVERAGE(SMALL(IF(BR192:CK192>0,BR192:CK192),{1,2,3,4,5,6,7,8})),CJ193)","v":17.565204911655069},{"$f":"IF(CL192>0,AVERAGE(SMALL(IF(BS192:CL192>0,BS192:CL192),{1,2,3,4,5,6,7,8})),CK193)","v":17.565204911655069},{"$f":"IF(CM192>0,AVERAGE(SMALL(IF(BT192:CM192>0,BT192:CM192),{1,2,3,4,5,6,7,8})),CL193)","v":17.565204911655069},{"$f":"IF(CN192>0,AVERAGE(SMALL(IF(BU192:CN192>0,BU192:CN192),{1,2,3,4,5,6,7,8})),CM193)","v":17.565204911655069},{"$f":"IF(CO192>0,AVERAGE(SMALL(IF(BV192:CO192>0,BV192:CO192),{1,2,3,4,5,6,7,8})),CN193)","v":17.565204911655069},{"$f":"IF(CP192>0,AVERAGE(SMALL(IF(BW192:CP192>0,BW192:CP192),{1,2,3,4,5,6,7,8})),CO193)","v":17.565204911655069},{"$f":"IF(CQ192>0,AVERAGE(SMALL(IF(BX192:CQ192>0,BX192:CQ192),{1,2,3,4,5,6,7,8})),CP193)","v":17.565204911655069},{"$f":"IF(CR192>0,AVERAGE(SMALL(IF(BY192:CR192>0,BY192:CR192),{1,2,3,4,5,6,7,8})),CQ193)","v":17.565204911655069},{"$f":"IF(CS192>0,AVERAGE(SMALL(IF(BZ192:CS192>0,BZ192:CS192),{1,2,3,4,5,6,7,8})),CR193)","v":17.565204911655069},{"$f":"IF(CT192>0,AVERAGE(SMALL(IF(CA192:CT192>0,CA192:CT192),{1,2,3,4,5,6,7,8})),CS193)","v":17.565204911655069},{"$f":"IF(CU192>0,AVERAGE(SMALL(IF(CB192:CU192>0,CB192:CU192),{1,2,3,4,5,6,7,8})),CT193)","v":17.565204911655069},{"$f":"IF(CV192>0,AVERAGE(SMALL(IF(CC192:CV192>0,CC192:CV192),{1,2,3,4,5,6,7,8})),CU193)","v":17.565204911655069},{"$f":"IF(CW192>0,AVERAGE(SMALL(IF(CD192:CW192>0,CD192:CW192),{1,2,3,4,5,6,7,8})),CV193)","v":17.565204911655069}]
[null,null,null,null,null,null,null,null,"Low Hcap",null,null,null,null,null,null,null,null,null,null,null,null,null,null,null,null,null,null,null,{"$f":"MIN($M193:AC193)","v":13.038461538461538},{"$f":"MIN($N193:AD193)","v":13.038461538461538},{"$f":"MIN($O193:AE193)","v":14.792131532589547},{"$f":"MIN($O193:AF193)","v":14.792131532589547},{"$f":"MIN($Q193:AG193)","v":15.792131532589547},{"$f":"MIN($Q193:AH193)","v":15.792131532589547},{"$f":"MIN($Q193:AI193)","v":15.792131532589547},{"$f":"MIN($Q193:AJ193)","v":15.792131532589547},{"$f":"MIN($Q193:AK193)","v":15.792131532589547},{"$f":"MIN($Q193:AL193)","v":15.792131532589547},{"$f":"MIN($Q193:AM193)","v":15.792131532589547},{"$f":"MIN($R193:AN193)","v":16.033215893521234},{"$f":"MIN($S193:AO193)","v":16.033215893521234},{"$f":"MIN($T193:AP193)","v":16.033215893521234},{"$f":"MIN($W193:AQ193)","v":17.022988843217849},{"$f":"MIN($W193:AR193)","v":17.022988843217849},{"$f":"MIN($W193:AS193)","v":17.022988843217849},{"$f":"MIN($X193:AT193)","v":17.443006459189665},{"$f":"MIN($Y193:AU193)","v":17.443006459189665},{"$f":"MIN($Y193:AV193)","v":17.443006459189665},{"$f":"MIN($Z193:AW193)","v":17.785667959685021},{"$f":"MIN($AB193:AX193)","v":17.785667959685021},{"$f":"MIN($AB193:AY193)","v":17.785667959685021},{"$f":"MIN($AB193:AZ193)","v":17.785667959685021},{"$f":"MIN($AI193:BA193)","v":19.402274071448574},{"$f":"MIN($AO193:BB193)","v":20.040676404269551},{"$f":"MIN($AO193:BC193)","v":20.040676404269551},{"$f":"MIN($AP193:BD193)","v":20.040676404269551},{"$f":"MIN($AQ193:BE193)","v":20.040676404269551},{"$f":"MIN($AQ193:BF193)","v":20.040676404269551},{"$f":"MIN($AQ193:BG193)","v":20.040676404269551},{"$f":"MIN($AQ193:BH193)","v":20.040676404269551},{"$f":"MIN($AS193:BI193)","v":20.096190455823468},{"$f":"MIN($AU193:BJ193)","v":20.096190455823468},{"$f":"MIN($AU193:BK193)","v":20.096190455823468},{"$f":"MIN($AU193:BL193)","v":19.08576847428477},{"$f":"MIN($AX193:BM193)","v":19.08576847428477},{"$f":"MIN($BA193:BN193)","v":19.08576847428477},{"$f":"MIN($BA193:BO193)","v":18.03566184698818},{"$f":"MIN($BA193:BP193)","v":17.842499453825791},{"$f":"MIN($BA193:BQ193)","v":17.842499453825791},{"$f":"MIN($BA193:BR193)","v":17.591443218394556},{"$f":"MIN($BA193:BS193)","v":17.591443218394556},{"$f":"MIN($BA193:BT193)","v":17.591443218394556},{"$f":"MIN($BA193:BU193)","v":17.591443218394556},{"$f":"MIN($BB193:BV193)","v":17.591443218394556},{"$f":"MIN($BB193:BW193)","v":17.591443218394556},{"$f":"MIN($BB193:BX193)","v":17.591443218394556},{"$f":"MIN($BC193:BY193)","v":17.591443218394556},{"$f":"MIN($BD193:BZ193)","v":17.565204911655069},{"$f":"MIN($BD193:CA193)","v":17.565204911655069},{"$f":"MIN($BD193:CB193)","v":17.565204911655069},{"$f":"MIN($BD193:CC193)","v":17.565204911655069},{"$f":"MIN($BD193:CD193)","v":17.565204911655069},{"$f":"MIN($BD193:CE193)","v":17.565204911655069},{"$f":"MIN($BD193:CF193)","v":17.565204911655069},{"$f":"MIN($BD193:CG193)","v":17.565204911655069},{"$f":"MIN($BD193:CH193)","v":17.565204911655069},{"$f":"MIN($BD193:CI193)","v":17.565204911655069},{"$f":"MIN($BD193:CJ193)","v":17.565204911655069},{"$f":"MIN($BD193:CK193)","v":17.565204911655069},{"$f":"MIN($BD193:CL193)","v":17.565204911655069},{"$f":"MIN($BD193:CM193)","v":17.565204911655069},{"$f":"MIN($BD193:CN193)","v":17.565204911655069},{"$f":"MIN($BD193:CO193)","v":17.565204911655069},{"$f":"MIN($BD193:CP193)","v":17.565204911655069},{"$f":"MIN($BD193:CQ193)","v":17.565204911655069},{"$f":"MIN($BD193:CR193)","v":17.565204911655069},{"$f":"MIN($BD193:CS193)","v":17.565204911655069},{"$f":"MIN($BD193:CT193)","v":17.565204911655069},{"$f":"MIN($BD193:CU193)","v":17.565204911655069},{"$f":"MIN($BD193:CV193)","v":17.565204911655069},{"$f":"MIN($BD193:CW193)","v":17.565204911655069}]
[null,"Furlong","Ian",19.899999999999999,null,{"$f":"IF(H195<4,\"Y\",)","v":0},null,{"$f":"COUNT(J195:CX195)","v":53},"Date","2018-08-19","2018-09-02","2018-10-21","2018-11-18","2019-06-09","2019-07-07","2019-08-09","2019-09-01","2019-09-08","2020-06-14","2020-06-19","2020-06-28","2020-07-12","2020-07-26","2020-07-31","2020-08-14","2020-09-12","2020-09-16","2020-10-04","2020-10-09","2021-04-25","2021-04-30","2021-05-30","2021-07-02","2021-07-16","2021-07-21","2021-07-25","2021-07-30","2021-08-15","2021-08-18","2021-09-08","2021-09-24","2022-06-05","2022-06-12","2022-06-17","2022-06-22","2022-06-25","2022-06-26","2022-07-03","2022-07-10","2022-07-15","2022-08-03","2022-08-07","2022-08-12","2022-08-17","2022-08-26","2022-09-02","2022-09-11","2022-10-21","2022-11-13","2022-11-27","2023-06-04","2023-06-09",null,null,null,null,null,null,null,null,null,null,null,null,null,null,null,null,null,null,null,null,null,null,null,null,null,null,null,null,null,null,null,null,null,null,null,null,null,null,null,null,{"$f":"IF(CW199>$DD$1,36,CW199)","v":17.486117088171557},17.59140927531012,{"$f":"CZ195-CY195","v":0.10529218713856281}]
[null,null,null,null,null,null,null,null,"Course","PfaffingHG","ErdingHG","PfaffingHG","OdelzhausenHG","OdelzhausenHG","ErdingHG","ErdingHG","ErdingHG","OdelzhausenHG","OdelzhausenHG","StEurachHG","ErdingHG","PfaffingHG","OdelzhausenHG","StEurachHG","EgmatingHG","TegernbachHG","GutThailingHG","OdelzhausenHG","TegernbachHG","PfaffingHG","TegernbachHG","IffeldorfHG","TegernbachHG","MaxlrainHG","GutThailingHG","OdelzhausenHG","MangfalltalHG","ErdingHG","GutThailingHG","GutThailingHG","TegernbachHG","IffeldorfHG","ErdingHG","StEurachHG","GutThailing2022HG","AlgaeuerHG","AlgaeuerHG","Pfaffing2022HG","IffeldorfHG","MaxlrainHG","GutThailingHG","IffeldorfHG","ValleyHG","GutThailing2022HG","EschenhofHG","StEurachHG","Pfaffing2022HG","TegernbachHG","ErdingHG","OdelzhausenHB","IffeldorfHG","TegernbachHG"]
[null,null,null,null,null,null,null,null,"Ad Gr",102,100,102,92,103,99,97,100,97,111,109,98,110,98,95,108,94,100,97,90,105,99,108,104,98,101,110,102,96,96,99,98,97,95,96,95,99,92,95,95,93,92,96,94,96,91,96,101,89,99,97,97,95]
[null,null,null,null,null,null,null,null,"SD",{"$f":"IF(J197=\"\",0,(J197-INDIRECT(CONCATENATE(J196,\"CR\")))*113/INDIRECT(CONCATENATE(J196,\"SR\")))","v":26.076923076923077},{"$f":"IF(K197=\"\",0,(K197-INDIRECT(CONCATENATE(K196,\"CR\")))*113/INDIRECT(CONCATENATE(K196,\"SR\")))","v":25.207692307692309},26.076923076923077,17.973228346456697,27.760629921259845,24.338461538461537,22.6,25.207692307692309,22.42204724409449,34.878740157480316,32.002290076335875,23.469230769230769,33.030769230769231,23.311811023622049,19.925954198473278,30.79465648854962,19.090151515151511,25.446564885496183,22.42204724409449,15.665909090909087,28.684615384615384,23.370454545454542,32.235658914728681,27.650757575757574,20.855147058823523,26.309160305343511,33.98897637795276,25.547826086956526,21.73076923076923,21.996183206106871,24.583969465648856,22.514393939393937,22.599999999999998,20.861538461538462,20.788549618320605,21.209230769230775,22.945038167938925,16.906870229007627,19.38384615384615,20.848062015503874,16.700735294117642,18.545801526717558,21.724031007751936,17.159259259259258,22.078461538461543,16.436363636363637,20.788549618320605,24.599230769230765,14.809848484848482,24.338461538461537,28.394871794871801,22.599999999999998,19.946212121212117,0,0,0,0,0,0,0,0,0,0,0,0,{"$f":"IF(BW197=\"\",0,(BW197-INDIRECT(CONCATENATE(BW196,\"CR\")))*113/INDIRECT(CONCATENATE(BW196,\"SR\")))","v":0},0,0,0,0,0,0,0,0,0,0,0,0,0,0,0,{"$f":"IF(CM197=\"\",0,(CM197-INDIRECT(CONCATENATE(CM196,\"CR\")))*113/INDIRECT(CONCATENATE(CM196,\"SR\")))","v":0},0,{"$f":"IF(CO197=\"\",0,(CO197-INDIRECT(CONCATENATE(CO196,\"CR\")))*113/INDIRECT(CONCATENATE(CO196,\"SR\")))","v":0},0,{"$f":"IF(CQ197=\"\",0,(CQ197-INDIRECT(CONCATENATE(CQ196,\"CR\")))*113/INDIRECT(CONCATENATE(CQ196,\"SR\")))","v":0},0,{"$f":"IF(CS197=\"\",0,(CS197-INDIRECT(CONCATENATE(CS196,\"CR\")))*113/INDIRECT(CONCATENATE(CS196,\"SR\")))","v":0},0,{"$f":"IF(CU197=\"\",0,(CU197-INDIRECT(CONCATENATE(CU196,\"CR\")))*113/INDIRECT(CONCATENATE(CU196,\"SR\")))","v":0},0,{"$f":"IF(CW197=\"\",0,(CW197-INDIRECT(CONCATENATE(CW196,\"CR\")))*113/INDIRECT(CONCATENATE(CW196,\"SR\")))","v":0}]
[null,null,null,null,null,null,null,null,"New Hcap",{"$f":"J198-2","v":24.076923076923077},{"$f":"IF(K198>0,MIN(J198:K198)-2,J199)","v":23.207692307692309},{"$f":"IF(L198>0,MIN(J198:L198)-2,K199)","v":23.207692307692309},{"$f":"IF(M198>0,MIN(J198:M198)-1,L199)","v":16.973228346456697},{"$f":"IF(N198>0,MIN(J198:N198),M199)","v":17.973228346456697},{"$f":"IF(O198>0,AVERAGE(SMALL(IF(J198:O198>0,J198:O198),{1,2}))-1,N199)","v":20.155844942459119},{"$f":"IF(P198>0,AVERAGE(SMALL(IF(J198:P198>0,J198:P198),{1,2})),O199)","v":20.286614173228351},{"$f":"IF(Q198>0,AVERAGE(SMALL(IF(J198:Q198>0,J198:Q198),{1,2})),P199)","v":20.286614173228351},{"$f":"IF(R198>0,AVERAGE(SMALL(IF(J198:R198>0,J198:R198),{1,2,3})),Q199)","v":20.998425196850395},{"$f":"IF(S198>0,AVERAGE(SMALL(IF(J198:S198>0,J198:S198),{1,2,3})),R199)","v":20.998425196850395},{"$f":"IF(T198>0,AVERAGE(SMALL(IF(J198:T198>0,J198:T198),{1,2,3})),S199)","v":20.998425196850395},{"$f":"IF(U198>0,AVERAGE(SMALL(IF(J198:U198>0,J198:U198),{1,2,3,4})),T199)","v":21.616126589945488},{"$f":"IF(V198>0,AVERAGE(SMALL(IF(J198:V198>0,J198:V198),{1,2,3,4})),U199)","v":21.616126589945488},{"$f":"IF(W198>0,AVERAGE(SMALL(IF(J198:W198>0,J198:W198),{1,2,3,4})),V199)","v":21.576771653543311},{"$f":"IF(X198>0,AVERAGE(SMALL(IF(J198:X198>0,J198:X198),{1,2,3,4,5})),W199)","v":21.246608162529306},{"$f":"IF(Y198>0,AVERAGE(SMALL(IF(J198:Y198>0,J198:Y198),{1,2,3,4,5})),X199)","v":21.246608162529306},{"$f":"IF(Z198>0,AVERAGE(SMALL(IF(J198:Z198>0,J198:Z198),{1,2,3,4,5,6})),Y199)","v":20.887198721299672},{"$f":"IF(AA198>0,AVERAGE(SMALL(IF(J198:AA198>0,J198:AA198),{1,2,3,4,5,6})),Z199)","v":20.887198721299672},{"$f":"IF(AB198>0,AVERAGE(SMALL(IF(J198:AB198>0,J198:AB198),{1,2,3,4,5,6,7})),AA199)","v":21.106462795984644},{"$f":"IF(AC198>0,AVERAGE(SMALL(IF(J198:AC198>0,J198:AC198),{1,2,3,4,5,6,7,8})),AB199)","v":20.426393582850199},{"$f":"IF(AD198>0,AVERAGE(SMALL(IF(K198:AD198>0,K198:AD198),{1,2,3,4,5,6,7,8})),AC199)","v":20.426393582850199},{"$f":"IF(AE198>0,AVERAGE(SMALL(IF(L198:AE198>0,L198:AE198),{1,2,3,4,5,6,7,8})),AD199)","v":20.426393582850199},{"$f":"IF(AF198>0,AVERAGE(SMALL(IF(M198:AF198>0,M198:AF198),{1,2,3,4,5,6,7,8})),AE199)","v":20.426393582850199},{"$f":"IF(AG198>0,AVERAGE(SMALL(IF(N198:AG198>0,N198:AG198),{1,2,3,4,5,6,7,8})),AF199)","v":21.101046857724931},{"$f":"IF(AH198>0,AVERAGE(SMALL(IF(O198:AH198>0,O198:AH198),{1,2,3,4,5,6,7,8})),AG199)","v":20.786633421896052},{"$f":"IF(AI198>0,AVERAGE(SMALL(IF(P198:AI198>0,P198:AI198),{1,2,3,4,5,6,7,8})),AH199)","v":20.786633421896052},{"$f":"IF(AJ198>0,AVERAGE(SMALL(IF(Q198:AJ198>0,Q198:AJ198),{1,2,3,4,5,6,7,8})),AI199)","v":20.882940240077872},{"$f":"IF(AK198>0,AVERAGE(SMALL(IF(R198:AK198>0,R198:AK198),{1,2,3,4,5,6,7,8})),AJ199)","v":20.882940240077872},{"$f":"IF(AL198>0,AVERAGE(SMALL(IF(S198:AL198>0,S198:AL198),{1,2,3,4,5,6,7,8})),AK199)","v":20.796530488412213},{"$f":"IF(AM198>0,AVERAGE(SMALL(IF(T198:AM198>0,T198:AM198),{1,2,3,4,5,6,7,8})),AL199)","v":20.624746570993757},{"$f":"IF(AN198>0,AVERAGE(SMALL(IF(U198:AN198>0,U198:AN198),{1,2,3,4,5,6,7,8})),AM199)","v":20.624746570993757},{"$f":"IF(AO198>0,AVERAGE(SMALL(IF(V198:AO198>0,V198:AO198),{1,2,3,4,5,6,7,8})),AN199)","v":20.525069435465241},{"$f":"IF(AP198>0,AVERAGE(SMALL(IF(W198:AP198>0,W198:AP198),{1,2,3,4,5,6,7,8})),AO199)","v":20.525069435465241},{"$f":"IF(AQ198>0,AVERAGE(SMALL(IF(X198:AQ198>0,X198:AQ198),{1,2,3,4,5,6,7,8})),AP199)","v":20.318462500733308},{"$f":"IF(AR198>0,AVERAGE(SMALL(IF(Y198:AR198>0,Y198:AR198),{1,2,3,4,5,6,7,8})),AQ199)","v":20.426286928214221},{"$f":"IF(AS198>0,AVERAGE(SMALL(IF(Z198:AS198>0,Z198:AS198),{1,2,3,4,5,6,7,8})),AR199)","v":20.274684868856259},{"$f":"IF(AT198>0,AVERAGE(SMALL(IF(AA198:AT198>0,AA198:AT198),{1,2,3,4,5,6,7,8})),AS199)","v":20.691171834974131},{"$f":"IF(AU198>0,AVERAGE(SMALL(IF(AB198:AU198>0,AB198:AU198),{1,2,3,4,5,6,7,8})),AT199)","v":20.001774708088274},{"$f":"IF(AV198>0,AVERAGE(SMALL(IF(AC198:AV198>0,AC198:AV198),{1,2,3,4,5,6,7,8})),AU199)","v":19.675232576555683},{"$f":"IF(AW198>0,AVERAGE(SMALL(IF(AD198:AW198>0,AD198:AW198),{1,2,3,4,5,6,7,8})),AV199)","v":20.323001692130028},{"$f":"IF(AX198>0,AVERAGE(SMALL(IF(AE198:AX198>0,AE198:AX198),{1,2,3,4,5,6,7,8})),AW199)","v":19.694247450048582},{"$f":"IF(AY198>0,AVERAGE(SMALL(IF(AF198:AY198>0,AF198:AY198),{1,2,3,4,5,6,7,8})),AX199)","v":19.36131879473443},{"$f":"IF(AZ198>0,AVERAGE(SMALL(IF(AG198:AZ198>0,AG198:AZ198),{1,2,3,4,5,6,7,8})),AY199)","v":19.36131879473443},{"$f":"IF(BA198>0,AVERAGE(SMALL(IF(AH198:BA198>0,AH198:BA198),{1,2,3,4,5,6,7,8})),AZ199)","v":18.898533894449528},{"$f":"IF(BB198>0,AVERAGE(SMALL(IF(AI198:BB198>0,AI198:BB198),{1,2,3,4,5,6,7,8})),BA199)","v":18.899332819788896},{"$f":"IF(BC198>0,AVERAGE(SMALL(IF(AJ198:BC198>0,AJ198:BC198),{1,2,3,4,5,6,7,8})),BB199)","v":18.346185966642043},{"$f":"IF(BD198>0,AVERAGE(SMALL(IF(AK198:BD198>0,AK198:BD198),{1,2,3,4,5,6,7,8})),BC199)","v":18.338746916994136},{"$f":"IF(BE198>0,AVERAGE(SMALL(IF(AL198:BE198>0,AL198:BE198),{1,2,3,4,5,6,7,8})),BD199)","v":18.338746916994136},{"$f":"IF(BF198>0,AVERAGE(SMALL(IF(AM198:BF198>0,AM198:BF198),{1,2,3,4,5,6,7,8})),BE199)","v":17.59140927531012},{"$f":"IF(BG198>0,AVERAGE(SMALL(IF(AN198:BG198>0,AN198:BG198),{1,2,3,4,5,6,7,8})),BF199)","v":17.59140927531012},{"$f":"IF(BH198>0,AVERAGE(SMALL(IF(AO198:BH198>0,AO198:BH198),{1,2,3,4,5,6,7,8})),BG199)","v":17.59140927531012},{"$f":"IF(BI198>0,AVERAGE(SMALL(IF(AP198:BI198>0,AP198:BI198),{1,2,3,4,5,6,7,8})),BH199)","v":17.59140927531012},{"$f":"IF(BJ198>0,AVERAGE(SMALL(IF(AQ198:BJ198>0,AQ198:BJ198),{1,2,3,4,5,6,7,8})),BI199)","v":17.486117088171557},{"$f":"IF(BK198>0,AVERAGE(SMALL(IF(AR198:BK198>0,AR198:BK198),{1,2,3,4,5,6,7,8})),BJ199)","v":17.486117088171557},{"$f":"IF(BL198>0,AVERAGE(SMALL(IF(AS198:BL198>0,AS198:BL198),{1,2,3,4,5,6,7,8})),BK199)","v":17.486117088171557},{"$f":"IF(BM198>0,AVERAGE(SMALL(IF(AT198:BM198>0,AT198:BM198),{1,2,3,4,5,6,7,8})),BL199)","v":17.486117088171557},{"$f":"IF(BN198>0,AVERAGE(SMALL(IF(AU198:BN198>0,AU198:BN198),{1,2,3,4,5,6,7,8})),BM199)","v":17.486117088171557},{"$f":"IF(BO198>0,AVERAGE(SMALL(IF(AV198:BO198>0,AV198:BO198),{1,2,3,4,5,6,7,8})),BN199)","v":17.486117088171557},{"$f":"IF(BP198>0,AVERAGE(SMALL(IF(AW198:BP198>0,AW198:BP198),{1,2,3,4,5,6,7,8})),BO199)","v":17.486117088171557},{"$f":"IF(BQ198>0,AVERAGE(SMALL(IF(AX198:BQ198>0,AX198:BQ198),{1,2,3,4,5,6,7,8})),BP199)","v":17.486117088171557},{"$f":"IF(BR198>0,AVERAGE(SMALL(IF(AY198:BR198>0,AY198:BR198),{1,2,3,4,5,6,7,8})),BQ199)","v":17.486117088171557},{"$f":"IF(BS198>0,AVERAGE(SMALL(IF(AZ198:BS198>0,AZ198:BS198),{1,2,3,4,5,6,7,8})),BR199)","v":17.486117088171557},{"$f":"IF(BT198>0,AVERAGE(SMALL(IF(BA198:BT198>0,BA198:BT198),{1,2,3,4,5,6,7,8})),BS199)","v":17.486117088171557},{"$f":"IF(BU198>0,AVERAGE(SMALL(IF(BB198:BU198>0,BB198:BU198),{1,2,3,4,5,6,7,8})),BT199)","v":17.486117088171557},{"$f":"IF(BV198>0,AVERAGE(SMALL(IF(BC198:BV198>0,BC198:BV198),{1,2,3,4,5,6,7,8})),BU199)","v":17.486117088171557},{"$f":"IF(BW198>0,AVERAGE(SMALL(IF(BD198:BW198>0,BD198:BW198),{1,2,3,4,5,6,7,8})),BV199)","v":17.486117088171557},{"$f":"IF(BX198>0,AVERAGE(SMALL(IF(BE198:BX198>0,BE198:BX198),{1,2,3,4,5,6,7,8})),BW199)","v":17.486117088171557},{"$f":"IF(BY198>0,AVERAGE(SMALL(IF(BF198:BY198>0,BF198:BY198),{1,2,3,4,5,6,7,8})),BX199)","v":17.486117088171557},{"$f":"IF(BZ198>0,AVERAGE(SMALL(IF(BG198:BZ198>0,BG198:BZ198),{1,2,3,4,5,6,7,8})),BY199)","v":17.486117088171557},{"$f":"IF(CA198>0,AVERAGE(SMALL(IF(BH198:CA198>0,BH198:CA198),{1,2,3,4,5,6,7,8})),BZ199)","v":17.486117088171557},{"$f":"IF(CB198>0,AVERAGE(SMALL(IF(BI198:CB198>0,BI198:CB198),{1,2,3,4,5,6,7,8})),CA199)","v":17.486117088171557},{"$f":"IF(CC198>0,AVERAGE(SMALL(IF(BJ198:CC198>0,BJ198:CC198),{1,2,3,4,5,6,7,8})),CB199)","v":17.486117088171557},{"$f":"IF(CD198>0,AVERAGE(SMALL(IF(BK198:CD198>0,BK198:CD198),{1,2,3,4,5,6,7,8})),CC199)","v":17.486117088171557},{"$f":"IF(CE198>0,AVERAGE(SMALL(IF(BL198:CE198>0,BL198:CE198),{1,2,3,4,5,6,7,8})),CD199)","v":17.486117088171557},{"$f":"IF(CF198>0,AVERAGE(SMALL(IF(BM198:CF198>0,BM198:CF198),{1,2,3,4,5,6,7,8})),CE199)","v":17.486117088171557},{"$f":"IF(CG198>0,AVERAGE(SMALL(IF(BN198:CG198>0,BN198:CG198),{1,2,3,4,5,6,7,8})),CF199)","v":17.486117088171557},{"$f":"IF(CH198>0,AVERAGE(SMALL(IF(BO198:CH198>0,BO198:CH198),{1,2,3,4,5,6,7,8})),CG199)","v":17.486117088171557},{"$f":"IF(CI198>0,AVERAGE(SMALL(IF(BP198:CI198>0,BP198:CI198),{1,2,3,4,5,6,7,8})),CH199)","v":17.486117088171557},{"$f":"IF(CJ198>0,AVERAGE(SMALL(IF(BQ198:CJ198>0,BQ198:CJ198),{1,2,3,4,5,6,7,8})),CI199)","v":17.486117088171557},{"$f":"IF(CK198>0,AVERAGE(SMALL(IF(BR198:CK198>0,BR198:CK198),{1,2,3,4,5,6,7,8})),CJ199)","v":17.486117088171557},{"$f":"IF(CL198>0,AVERAGE(SMALL(IF(BS198:CL198>0,BS198:CL198),{1,2,3,4,5,6,7,8})),CK199)","v":17.486117088171557},{"$f":"IF(CM198>0,AVERAGE(SMALL(IF(BT198:CM198>0,BT198:CM198),{1,2,3,4,5,6,7,8})),CL199)","v":17.486117088171557},{"$f":"IF(CN198>0,AVERAGE(SMALL(IF(BU198:CN198>0,BU198:CN198),{1,2,3,4,5,6,7,8})),CM199)","v":17.486117088171557},{"$f":"IF(CO198>0,AVERAGE(SMALL(IF(BV198:CO198>0,BV198:CO198),{1,2,3,4,5,6,7,8})),CN199)","v":17.486117088171557},{"$f":"IF(CP198>0,AVERAGE(SMALL(IF(BW198:CP198>0,BW198:CP198),{1,2,3,4,5,6,7,8})),CO199)","v":17.486117088171557},{"$f":"IF(CQ198>0,AVERAGE(SMALL(IF(BX198:CQ198>0,BX198:CQ198),{1,2,3,4,5,6,7,8})),CP199)","v":17.486117088171557},{"$f":"IF(CR198>0,AVERAGE(SMALL(IF(BY198:CR198>0,BY198:CR198),{1,2,3,4,5,6,7,8})),CQ199)","v":17.486117088171557},{"$f":"IF(CS198>0,AVERAGE(SMALL(IF(BZ198:CS198>0,BZ198:CS198),{1,2,3,4,5,6,7,8})),CR199)","v":17.486117088171557},{"$f":"IF(CT198>0,AVERAGE(SMALL(IF(CA198:CT198>0,CA198:CT198),{1,2,3,4,5,6,7,8})),CS199)","v":17.486117088171557},{"$f":"IF(CU198>0,AVERAGE(SMALL(IF(CB198:CU198>0,CB198:CU198),{1,2,3,4,5,6,7,8})),CT199)","v":17.486117088171557},{"$f":"IF(CV198>0,AVERAGE(SMALL(IF(CC198:CV198>0,CC198:CV198),{1,2,3,4,5,6,7,8})),CU199)","v":17.486117088171557},{"$f":"IF(CW198>0,AVERAGE(SMALL(IF(CD198:CW198>0,CD198:CW198),{1,2,3,4,5,6,7,8})),CV199)","v":17.486117088171557}]
[null,null,null,null,null,null,null,null,"Low Hcap",null,null,null,null,null,null,null,null,null,null,null,null,null,null,null,null,null,null,null,{"$f":"MIN($S199:AC199)","v":20.426393582850199},{"$f":"MIN($S199:AD199)","v":20.426393582850199},{"$f":"MIN($S199:AE199)","v":20.426393582850199},{"$f":"MIN($S199:AF199)","v":20.426393582850199},{"$f":"MIN($V199:AG199)","v":20.426393582850199},{"$f":"MIN($W199:AH199)","v":20.426393582850199},{"$f":"MIN($W199:AI199)","v":20.426393582850199},{"$f":"MIN($W199:AJ199)","v":20.426393582850199},{"$f":"MIN($X199:AK199)","v":20.426393582850199},{"$f":"MIN($Z199:AL199)","v":20.426393582850199},{"$f":"MIN($Z199:AM199)","v":20.426393582850199},{"$f":"MIN($Z199:AN199)","v":20.426393582850199},{"$f":"MIN($AB199:AO199)","v":20.426393582850199},{"$f":"MIN($AG199:AP199)","v":20.525069435465241},{"$f":"MIN($AG199:AQ199)","v":20.318462500733308},{"$f":"MIN($AG199:AR199)","v":20.318462500733308},{"$f":"MIN($AG199:AS199)","v":20.274684868856259},{"$f":"MIN($AG199:AT199)","v":20.274684868856259},{"$f":"MIN($AG199:AU199)","v":20.001774708088274},{"$f":"MIN($AH199:AV199)","v":19.675232576555683},{"$f":"MIN($AH199:AW199)","v":19.675232576555683},{"$f":"MIN($AH199:AX199)","v":19.675232576555683},{"$f":"MIN($AL199:AY199)","v":19.36131879473443},{"$f":"MIN($AL199:AZ199)","v":19.36131879473443},{"$f":"MIN($AL199:BA199)","v":18.898533894449528},{"$f":"MIN($AL199:BB199)","v":18.898533894449528},{"$f":"MIN($AN199:BC199)","v":18.346185966642043},{"$f":"MIN($AN199:BD199)","v":18.338746916994136},{"$f":"MIN($AN199:BE199)","v":18.338746916994136},{"$f":"MIN($AP199:BF199)","v":17.59140927531012},{"$f":"MIN($AP199:BG199)","v":17.59140927531012},{"$f":"MIN($AP199:BH199)","v":17.59140927531012},{"$f":"MIN($AP199:BI199)","v":17.59140927531012},{"$f":"MIN($AQ199:BJ199)","v":17.486117088171557},{"$f":"MIN($AQ199:BK199)","v":17.486117088171557},{"$f":"MIN($AQ199:BL199)","v":17.486117088171557},{"$f":"MIN($AQ199:BM199)","v":17.486117088171557},{"$f":"MIN($AQ199:BN199)","v":17.486117088171557},{"$f":"MIN($AQ199:BO199)","v":17.486117088171557},{"$f":"MIN($AQ199:BP199)","v":17.486117088171557},{"$f":"MIN($AQ199:BQ199)","v":17.486117088171557},{"$f":"MIN($AQ199:BR199)","v":17.486117088171557},{"$f":"MIN($AQ199:BS199)","v":17.486117088171557},{"$f":"MIN($AQ199:BT199)","v":17.486117088171557},{"$f":"MIN($AQ199:BU199)","v":17.486117088171557},{"$f":"MIN($AQ199:BV199)","v":17.486117088171557},{"$f":"MIN($AQ199:BW199)","v":17.486117088171557},{"$f":"MIN($AQ199:BX199)","v":17.486117088171557},{"$f":"MIN($AQ199:BY199)","v":17.486117088171557},{"$f":"MIN($AQ199:BZ199)","v":17.486117088171557},{"$f":"MIN($AQ199:CA199)","v":17.486117088171557},{"$f":"MIN($AQ199:CB199)","v":17.486117088171557},{"$f":"MIN($AQ199:CC199)","v":17.486117088171557},{"$f":"MIN($AQ199:CD199)","v":17.486117088171557},{"$f":"MIN($AQ199:CE199)","v":17.486117088171557},{"$f":"MIN($AQ199:CF199)","v":17.486117088171557},{"$f":"MIN($AQ199:CG199)","v":17.486117088171557},{"$f":"MIN($AQ199:CH199)","v":17.486117088171557},{"$f":"MIN($AQ199:CI199)","v":17.486117088171557},{"$f":"MIN($AQ199:CJ199)","v":17.486117088171557},{"$f":"MIN($AQ199:CK199)","v":17.486117088171557},{"$f":"MIN($AQ199:CL199)","v":17.486117088171557},{"$f":"MIN($AQ199:CM199)","v":17.486117088171557},{"$f":"MIN($AQ199:CN199)","v":17.486117088171557},{"$f":"MIN($AQ199:CO199)","v":17.486117088171557},{"$f":"MIN($AQ199:CP199)","v":17.486117088171557},{"$f":"MIN($AQ199:CQ199)","v":17.486117088171557},{"$f":"MIN($AQ199:CR199)","v":17.486117088171557},{"$f":"MIN($AQ199:CS199)","v":17.486117088171557},{"$f":"MIN($AQ199:CT199)","v":17.486117088171557},{"$f":"MIN($AQ199:CU199)","v":17.486117088171557},{"$f":"MIN($AQ199:CV199)","v":17.486117088171557},{"$f":"MIN($AQ199:CW199)","v":17.486117088171557}]
[null,"Fyans","David",18,null,{"$f":"IF(H201<4,\"Y\",)","v":0},2022,{"$f":"COUNT(J201:CX201)","v":9},"Date",null,"2022-05-11","2022-10-30","2022-11-13","2022-11-27","2023-03-26","2023-04-02","2023-04-07","2023-05-07","2023-05-28",null,null,null,null,null,null,null,null,null,null,null,null,null,null,null,null,null,null,null,null,null,null,null,null,null,null,null,null,null,null,null,null,null,null,null,null,null,null,null,null,null,null,null,null,null,null,null,null,null,null,null,null,null,null,null,null,null,null,null,null,null,null,null,null,null,null,null,null,null,null,null,null,null,null,null,null,null,null,null,null,null,null,null,{"$f":"IF(CW205>$DD$1,36,CW205)","v":12.424634377967712},14.776923076923078,{"$f":"CZ201-CY201","v":2.3522886989553662}]
[null,null,null,null,null,null,null,null,"Course",null,"AschheimHG","OdelzhausenHB","ErdingHG","OdelzhausenHB","Pfaffing2023HG","ErdingHG","Reichertshausen2023HG","Odelzhausen2023HG","ErdingHG"]
[null,null,null,null,null,null,null,null,"Ad Gr",null,93,88,88,85,84,94,93,92,86]
[null,null,null,null,null,null,null,null,"SD",20,{"$f":"IF(K203=\"\",0,(K203-INDIRECT(CONCATENATE(K202,\"CR\")))*113/INDIRECT(CONCATENATE(K202,\"SR\")))","v":18.576515151515153},{"$f":"IF(L203=\"\",0,(L203-INDIRECT(CONCATENATE(L202,\"CR\")))*113/INDIRECT(CONCATENATE(L202,\"SR\")))","v":19.702564102564107},14.776923076923078,16.805128205128213,9.458518518518515,19.992307692307691,18.66212121212121,18.590322580645168,13.038461538461538,0,0,0,0,0,0,0,0,0,0,0,0,0,0,0,0,0,0,0,0,0,0,0,0,0,0,0,0,0,0,0,0,0,0,0,0,0,0,0,0,0,0,0,0,0,0,0,0,0,0,0,0,0,0,0,0,{"$f":"IF(BX203=\"\",0,(BX203-INDIRECT(CONCATENATE(BX202,\"CR\")))*113/INDIRECT(CONCATENATE(BX202,\"SR\")))","v":0},0,0,0,0,0,0,0,0,0,0,0,0,0,0,{"$f":"IF(CM203=\"\",0,(CM203-INDIRECT(CONCATENATE(CM202,\"CR\")))*113/INDIRECT(CONCATENATE(CM202,\"SR\")))","v":0},0,{"$f":"IF(CO203=\"\",0,(CO203-INDIRECT(CONCATENATE(CO202,\"CR\")))*113/INDIRECT(CONCATENATE(CO202,\"SR\")))","v":0},0,{"$f":"IF(CQ203=\"\",0,(CQ203-INDIRECT(CONCATENATE(CQ202,\"CR\")))*113/INDIRECT(CONCATENATE(CQ202,\"SR\")))","v":0},0,{"$f":"IF(CS203=\"\",0,(CS203-INDIRECT(CONCATENATE(CS202,\"CR\")))*113/INDIRECT(CONCATENATE(CS202,\"SR\")))","v":0},0,{"$f":"IF(CU203=\"\",0,(CU203-INDIRECT(CONCATENATE(CU202,\"CR\")))*113/INDIRECT(CONCATENATE(CU202,\"SR\")))","v":0},0,{"$f":"IF(CW203=\"\",0,(CW203-INDIRECT(CONCATENATE(CW202,\"CR\")))*113/INDIRECT(CONCATENATE(CW202,\"SR\")))","v":0}]
[null,null,null,null,null,null,null,null,"New Hcap",{"$f":"J204-2","v":18},{"$f":"IF(K204>0,MIN(J204:K204)-2,J205)","v":16.576515151515153},{"$f":"IF(L204>0,MIN(J204:L204)-2,K205)","v":16.576515151515153},{"$f":"IF(M204>0,MIN(J204:M204)-1,L205)","v":13.776923076923078},{"$f":"IF(N204>0,MIN(J204:N204),M205)","v":14.776923076923078},{"$f":"IF(O204>0,AVERAGE(SMALL(IF(J204:O204>0,J204:O204),{1,2}))-1,N205)","v":11.117720797720796},{"$f":"IF(P204>0,AVERAGE(SMALL(IF(J204:P204>0,J204:P204),{1,2})),O205)","v":12.117720797720796},{"$f":"IF(Q204>0,AVERAGE(SMALL(IF(J204:Q204>0,J204:Q204),{1,2})),P205)","v":12.117720797720796},{"$f":"IF(R204>0,AVERAGE(SMALL(IF(J204:R204>0,J204:R204),{1,2,3})),Q205)","v":13.680189933523268},{"$f":"IF(S204>0,AVERAGE(SMALL(IF(J204:S204>0,J204:S204),{1,2,3})),R205)","v":12.424634377967712},{"$f":"IF(T204>0,AVERAGE(SMALL(IF(J204:T204>0,J204:T204),{1,2,3})),S205)","v":12.424634377967712},{"$f":"IF(U204>0,AVERAGE(SMALL(IF(J204:U204>0,J204:U204),{1,2,3,4})),T205)","v":12.424634377967712},{"$f":"IF(V204>0,AVERAGE(SMALL(IF(J204:V204>0,J204:V204),{1,2,3,4})),U205)","v":12.424634377967712},{"$f":"IF(W204>0,AVERAGE(SMALL(IF(J204:W204>0,J204:W204),{1,2,3,4})),V205)","v":12.424634377967712},{"$f":"IF(X204>0,AVERAGE(SMALL(IF(J204:X204>0,J204:X204),{1,2,3,4,5})),W205)","v":12.424634377967712},{"$f":"IF(Y204>0,AVERAGE(SMALL(IF(J204:Y204>0,J204:Y204),{1,2,3,4,5})),X205)","v":12.424634377967712},{"$f":"IF(Z204>0,AVERAGE(SMALL(IF(J204:Z204>0,J204:Z204),{1,2,3,4,5,6})),Y205)","v":12.424634377967712},{"$f":"IF(AA204>0,AVERAGE(SMALL(IF(J204:AA204>0,J204:AA204),{1,2,3,4,5,6})),Z205)","v":12.424634377967712},{"$f":"IF(AB204>0,AVERAGE(SMALL(IF(J204:AB204>0,J204:AB204),{1,2,3,4,5,6,7})),AA205)","v":12.424634377967712},{"$f":"IF(AC204>0,AVERAGE(SMALL(IF(J204:AC204>0,J204:AC204),{1,2,3,4,5,6,7,8})),AB205)","v":12.424634377967712},{"$f":"IF(AD204>0,AVERAGE(SMALL(IF(K204:AD204>0,K204:AD204),{1,2,3,4,5,6,7,8})),AC205)","v":12.424634377967712},{"$f":"IF(AE204>0,AVERAGE(SMALL(IF(L204:AE204>0,L204:AE204),{1,2,3,4,5,6,7,8})),AD205)","v":12.424634377967712},{"$f":"IF(AF204>0,AVERAGE(SMALL(IF(M204:AF204>0,M204:AF204),{1,2,3,4,5,6,7,8})),AE205)","v":12.424634377967712},{"$f":"IF(AG204>0,AVERAGE(SMALL(IF(N204:AG204>0,N204:AG204),{1,2,3,4,5,6,7,8})),AF205)","v":12.424634377967712},{"$f":"IF(AH204>0,AVERAGE(SMALL(IF(O204:AH204>0,O204:AH204),{1,2,3,4,5,6,7,8})),AG205)","v":12.424634377967712},{"$f":"IF(AI204>0,AVERAGE(SMALL(IF(P204:AI204>0,P204:AI204),{1,2,3,4,5,6,7,8})),AH205)","v":12.424634377967712},{"$f":"IF(AJ204>0,AVERAGE(SMALL(IF(Q204:AJ204>0,Q204:AJ204),{1,2,3,4,5,6,7,8})),AI205)","v":12.424634377967712},{"$f":"IF(AK204>0,AVERAGE(SMALL(IF(R204:AK204>0,R204:AK204),{1,2,3,4,5,6,7,8})),AJ205)","v":12.424634377967712},{"$f":"IF(AL204>0,AVERAGE(SMALL(IF(S204:AL204>0,S204:AL204),{1,2,3,4,5,6,7,8})),AK205)","v":12.424634377967712},{"$f":"IF(AM204>0,AVERAGE(SMALL(IF(T204:AM204>0,T204:AM204),{1,2,3,4,5,6,7,8})),AL205)","v":12.424634377967712},{"$f":"IF(AN204>0,AVERAGE(SMALL(IF(U204:AN204>0,U204:AN204),{1,2,3,4,5,6,7,8})),AM205)","v":12.424634377967712},{"$f":"IF(AO204>0,AVERAGE(SMALL(IF(V204:AO204>0,V204:AO204),{1,2,3,4,5,6,7,8})),AN205)","v":12.424634377967712},{"$f":"IF(AP204>0,AVERAGE(SMALL(IF(W204:AP204>0,W204:AP204),{1,2,3,4,5,6,7,8})),AO205)","v":12.424634377967712},{"$f":"IF(AQ204>0,AVERAGE(SMALL(IF(X204:AQ204>0,X204:AQ204),{1,2,3,4,5,6,7,8})),AP205)","v":12.424634377967712},{"$f":"IF(AR204>0,AVERAGE(SMALL(IF(Y204:AR204>0,Y204:AR204),{1,2,3,4,5,6,7,8})),AQ205)","v":12.424634377967712},{"$f":"IF(AS204>0,AVERAGE(SMALL(IF(Z204:AS204>0,Z204:AS204),{1,2,3,4,5,6,7,8})),AR205)","v":12.424634377967712},{"$f":"IF(AT204>0,AVERAGE(SMALL(IF(AA204:AT204>0,AA204:AT204),{1,2,3,4,5,6,7,8})),AS205)","v":12.424634377967712},{"$f":"IF(AU204>0,AVERAGE(SMALL(IF(AB204:AU204>0,AB204:AU204),{1,2,3,4,5,6,7,8})),AT205)","v":12.424634377967712},{"$f":"IF(AV204>0,AVERAGE(SMALL(IF(AC204:AV204>0,AC204:AV204),{1,2,3,4,5,6,7,8})),AU205)","v":12.424634377967712},{"$f":"IF(AW204>0,AVERAGE(SMALL(IF(AD204:AW204>0,AD204:AW204),{1,2,3,4,5,6,7,8})),AV205)","v":12.424634377967712},{"$f":"IF(AX204>0,AVERAGE(SMALL(IF(AE204:AX204>0,AE204:AX204),{1,2,3,4,5,6,7,8})),AW205)","v":12.424634377967712},{"$f":"IF(AY204>0,AVERAGE(SMALL(IF(AF204:AY204>0,AF204:AY204),{1,2,3,4,5,6,7,8})),AX205)","v":12.424634377967712},{"$f":"IF(AZ204>0,AVERAGE(SMALL(IF(AG204:AZ204>0,AG204:AZ204),{1,2,3,4,5,6,7,8})),AY205)","v":12.424634377967712},{"$f":"IF(BA204>0,AVERAGE(SMALL(IF(AH204:BA204>0,AH204:BA204),{1,2,3,4,5,6,7,8})),AZ205)","v":12.424634377967712},{"$f":"IF(BB204>0,AVERAGE(SMALL(IF(AI204:BB204>0,AI204:BB204),{1,2,3,4,5,6,7,8})),BA205)","v":12.424634377967712},{"$f":"IF(BC204>0,AVERAGE(SMALL(IF(AJ204:BC204>0,AJ204:BC204),{1,2,3,4,5,6,7,8})),BB205)","v":12.424634377967712},{"$f":"IF(BD204>0,AVERAGE(SMALL(IF(AK204:BD204>0,AK204:BD204),{1,2,3,4,5,6,7,8})),BC205)","v":12.424634377967712},{"$f":"IF(BE204>0,AVERAGE(SMALL(IF(AL204:BE204>0,AL204:BE204),{1,2,3,4,5,6,7,8})),BD205)","v":12.424634377967712},{"$f":"IF(BF204>0,AVERAGE(SMALL(IF(AM204:BF204>0,AM204:BF204),{1,2,3,4,5,6,7,8})),BE205)","v":12.424634377967712},{"$f":"IF(BG204>0,AVERAGE(SMALL(IF(AN204:BG204>0,AN204:BG204),{1,2,3,4,5,6,7,8})),BF205)","v":12.424634377967712},{"$f":"IF(BH204>0,AVERAGE(SMALL(IF(AO204:BH204>0,AO204:BH204),{1,2,3,4,5,6,7,8})),BG205)","v":12.424634377967712},{"$f":"IF(BI204>0,AVERAGE(SMALL(IF(AP204:BI204>0,AP204:BI204),{1,2,3,4,5,6,7,8})),BH205)","v":12.424634377967712},{"$f":"IF(BJ204>0,AVERAGE(SMALL(IF(AQ204:BJ204>0,AQ204:BJ204),{1,2,3,4,5,6,7,8})),BI205)","v":12.424634377967712},{"$f":"IF(BK204>0,AVERAGE(SMALL(IF(AR204:BK204>0,AR204:BK204),{1,2,3,4,5,6,7,8})),BJ205)","v":12.424634377967712},{"$f":"IF(BL204>0,AVERAGE(SMALL(IF(AS204:BL204>0,AS204:BL204),{1,2,3,4,5,6,7,8})),BK205)","v":12.424634377967712},{"$f":"IF(BM204>0,AVERAGE(SMALL(IF(AT204:BM204>0,AT204:BM204),{1,2,3,4,5,6,7,8})),BL205)","v":12.424634377967712},{"$f":"IF(BN204>0,AVERAGE(SMALL(IF(AU204:BN204>0,AU204:BN204),{1,2,3,4,5,6,7,8})),BM205)","v":12.424634377967712},{"$f":"IF(BO204>0,AVERAGE(SMALL(IF(AV204:BO204>0,AV204:BO204),{1,2,3,4,5,6,7,8})),BN205)","v":12.424634377967712},{"$f":"IF(BP204>0,AVERAGE(SMALL(IF(AW204:BP204>0,AW204:BP204),{1,2,3,4,5,6,7,8})),BO205)","v":12.424634377967712},{"$f":"IF(BQ204>0,AVERAGE(SMALL(IF(AX204:BQ204>0,AX204:BQ204),{1,2,3,4,5,6,7,8})),BP205)","v":12.424634377967712},{"$f":"IF(BR204>0,AVERAGE(SMALL(IF(AY204:BR204>0,AY204:BR204),{1,2,3,4,5,6,7,8})),BQ205)","v":12.424634377967712},{"$f":"IF(BS204>0,AVERAGE(SMALL(IF(AZ204:BS204>0,AZ204:BS204),{1,2,3,4,5,6,7,8})),BR205)","v":12.424634377967712},{"$f":"IF(BT204>0,AVERAGE(SMALL(IF(BA204:BT204>0,BA204:BT204),{1,2,3,4,5,6,7,8})),BS205)","v":12.424634377967712},{"$f":"IF(BU204>0,AVERAGE(SMALL(IF(BB204:BU204>0,BB204:BU204),{1,2,3,4,5,6,7,8})),BT205)","v":12.424634377967712},{"$f":"IF(BV204>0,AVERAGE(SMALL(IF(BC204:BV204>0,BC204:BV204),{1,2,3,4,5,6,7,8})),BU205)","v":12.424634377967712},{"$f":"IF(BW204>0,AVERAGE(SMALL(IF(BD204:BW204>0,BD204:BW204),{1,2,3,4,5,6,7,8})),BV205)","v":12.424634377967712},{"$f":"IF(BX204>0,AVERAGE(SMALL(IF(BE204:BX204>0,BE204:BX204),{1,2,3,4,5,6,7,8})),BW205)","v":12.424634377967712},{"$f":"IF(BY204>0,AVERAGE(SMALL(IF(BF204:BY204>0,BF204:BY204),{1,2,3,4,5,6,7,8})),BX205)","v":12.424634377967712},{"$f":"IF(BZ204>0,AVERAGE(SMALL(IF(BG204:BZ204>0,BG204:BZ204),{1,2,3,4,5,6,7,8})),BY205)","v":12.424634377967712},{"$f":"IF(CA204>0,AVERAGE(SMALL(IF(BH204:CA204>0,BH204:CA204),{1,2,3,4,5,6,7,8})),BZ205)","v":12.424634377967712},{"$f":"IF(CB204>0,AVERAGE(SMALL(IF(BI204:CB204>0,BI204:CB204),{1,2,3,4,5,6,7,8})),CA205)","v":12.424634377967712},{"$f":"IF(CC204>0,AVERAGE(SMALL(IF(BJ204:CC204>0,BJ204:CC204),{1,2,3,4,5,6,7,8})),CB205)","v":12.424634377967712},{"$f":"IF(CD204>0,AVERAGE(SMALL(IF(BK204:CD204>0,BK204:CD204),{1,2,3,4,5,6,7,8})),CC205)","v":12.424634377967712},{"$f":"IF(CE204>0,AVERAGE(SMALL(IF(BL204:CE204>0,BL204:CE204),{1,2,3,4,5,6,7,8})),CD205)","v":12.424634377967712},{"$f":"IF(CF204>0,AVERAGE(SMALL(IF(BM204:CF204>0,BM204:CF204),{1,2,3,4,5,6,7,8})),CE205)","v":12.424634377967712},{"$f":"IF(CG204>0,AVERAGE(SMALL(IF(BN204:CG204>0,BN204:CG204),{1,2,3,4,5,6,7,8})),CF205)","v":12.424634377967712},{"$f":"IF(CH204>0,AVERAGE(SMALL(IF(BO204:CH204>0,BO204:CH204),{1,2,3,4,5,6,7,8})),CG205)","v":12.424634377967712},{"$f":"IF(CI204>0,AVERAGE(SMALL(IF(BP204:CI204>0,BP204:CI204),{1,2,3,4,5,6,7,8})),CH205)","v":12.424634377967712},{"$f":"IF(CJ204>0,AVERAGE(SMALL(IF(BQ204:CJ204>0,BQ204:CJ204),{1,2,3,4,5,6,7,8})),CI205)","v":12.424634377967712},{"$f":"IF(CK204>0,AVERAGE(SMALL(IF(BR204:CK204>0,BR204:CK204),{1,2,3,4,5,6,7,8})),CJ205)","v":12.424634377967712},{"$f":"IF(CL204>0,AVERAGE(SMALL(IF(BS204:CL204>0,BS204:CL204),{1,2,3,4,5,6,7,8})),CK205)","v":12.424634377967712},{"$f":"IF(CM204>0,AVERAGE(SMALL(IF(BT204:CM204>0,BT204:CM204),{1,2,3,4,5,6,7,8})),CL205)","v":12.424634377967712},{"$f":"IF(CN204>0,AVERAGE(SMALL(IF(BU204:CN204>0,BU204:CN204),{1,2,3,4,5,6,7,8})),CM205)","v":12.424634377967712},{"$f":"IF(CO204>0,AVERAGE(SMALL(IF(BV204:CO204>0,BV204:CO204),{1,2,3,4,5,6,7,8})),CN205)","v":12.424634377967712},{"$f":"IF(CP204>0,AVERAGE(SMALL(IF(BW204:CP204>0,BW204:CP204),{1,2,3,4,5,6,7,8})),CO205)","v":12.424634377967712},{"$f":"IF(CQ204>0,AVERAGE(SMALL(IF(BX204:CQ204>0,BX204:CQ204),{1,2,3,4,5,6,7,8})),CP205)","v":12.424634377967712},{"$f":"IF(CR204>0,AVERAGE(SMALL(IF(BY204:CR204>0,BY204:CR204),{1,2,3,4,5,6,7,8})),CQ205)","v":12.424634377967712},{"$f":"IF(CS204>0,AVERAGE(SMALL(IF(BZ204:CS204>0,BZ204:CS204),{1,2,3,4,5,6,7,8})),CR205)","v":12.424634377967712},{"$f":"IF(CT204>0,AVERAGE(SMALL(IF(CA204:CT204>0,CA204:CT204),{1,2,3,4,5,6,7,8})),CS205)","v":12.424634377967712},{"$f":"IF(CU204>0,AVERAGE(SMALL(IF(CB204:CU204>0,CB204:CU204),{1,2,3,4,5,6,7,8})),CT205)","v":12.424634377967712},{"$f":"IF(CV204>0,AVERAGE(SMALL(IF(CC204:CV204>0,CC204:CV204),{1,2,3,4,5,6,7,8})),CU205)","v":12.424634377967712},{"$f":"IF(CW204>0,AVERAGE(SMALL(IF(CD204:CW204>0,CD204:CW204),{1,2,3,4,5,6,7,8})),CV205)","v":12.424634377967712}]
[null,null,null,null,null,null,null,null,"Low Hcap",null,null,null,null,null,null,null,null,null,null,null,null,null,null,null,null,null,null,null,{"$f":"MIN($J205:AC205)","v":11.117720797720796},{"$f":"MIN($J205:AD205)","v":11.117720797720796},{"$f":"MIN($J205:AE205)","v":11.117720797720796},{"$f":"MIN($J205:AF205)","v":11.117720797720796},{"$f":"MIN($J205:AG205)","v":11.117720797720796},{"$f":"MIN($J205:AH205)","v":11.117720797720796},{"$f":"MIN($J205:AI205)","v":11.117720797720796},{"$f":"MIN($J205:AJ205)","v":11.117720797720796},{"$f":"MIN($J205:AK205)","v":11.117720797720796},{"$f":"MIN($J205:AL205)","v":11.117720797720796},{"$f":"MIN($J205:AM205)","v":11.117720797720796},{"$f":"MIN($J205:AN205)","v":11.117720797720796},{"$f":"MIN($J205:AO205)","v":11.117720797720796},{"$f":"MIN($J205:AP205)","v":11.117720797720796},{"$f":"MIN($J205:AQ205)","v":11.117720797720796},{"$f":"MIN($J205:AR205)","v":11.117720797720796},{"$f":"MIN($J205:AS205)","v":11.117720797720796},{"$f":"MIN($J205:AT205)","v":11.117720797720796},{"$f":"MIN($J205:AU205)","v":11.117720797720796},{"$f":"MIN($J205:AV205)","v":11.117720797720796},{"$f":"MIN($J205:AW205)","v":11.117720797720796},{"$f":"MIN($J205:AX205)","v":11.117720797720796},{"$f":"MIN($J205:AY205)","v":11.117720797720796},{"$f":"MIN($J205:AZ205)","v":11.117720797720796},{"$f":"MIN($J205:BA205)","v":11.117720797720796},{"$f":"MIN($J205:BB205)","v":11.117720797720796},{"$f":"MIN($J205:BC205)","v":11.117720797720796},{"$f":"MIN($J205:BD205)","v":11.117720797720796},{"$f":"MIN($J205:BE205)","v":11.117720797720796},{"$f":"MIN($J205:BF205)","v":11.117720797720796},{"$f":"MIN($J205:BG205)","v":11.117720797720796},{"$f":"MIN($J205:BH205)","v":11.117720797720796},{"$f":"MIN($J205:BI205)","v":11.117720797720796},{"$f":"MIN($J205:BJ205)","v":11.117720797720796},{"$f":"MIN($J205:BK205)","v":11.117720797720796},{"$f":"MIN($J205:BL205)","v":11.117720797720796},{"$f":"MIN($J205:BM205)","v":11.117720797720796},{"$f":"MIN($J205:BN205)","v":11.117720797720796},{"$f":"MIN($J205:BO205)","v":11.117720797720796},{"$f":"MIN($J205:BP205)","v":11.117720797720796},{"$f":"MIN($J205:BQ205)","v":11.117720797720796},{"$f":"MIN($J205:BR205)","v":11.117720797720796},{"$f":"MIN($J205:BS205)","v":11.117720797720796},{"$f":"MIN($J205:BT205)","v":11.117720797720796},{"$f":"MIN($J205:BU205)","v":11.117720797720796},{"$f":"MIN($J205:BV205)","v":11.117720797720796},{"$f":"MIN($J205:BW205)","v":11.117720797720796},{"$f":"MIN($J205:BX205)","v":11.117720797720796},{"$f":"MIN($J205:BY205)","v":11.117720797720796},{"$f":"MIN($J205:BZ205)","v":11.117720797720796},{"$f":"MIN($J205:CA205)","v":11.117720797720796},{"$f":"MIN($J205:CB205)","v":11.117720797720796},{"$f":"MIN($J205:CC205)","v":11.117720797720796},{"$f":"MIN($J205:CD205)","v":11.117720797720796},{"$f":"MIN($J205:CE205)","v":11.117720797720796},{"$f":"MIN($J205:CF205)","v":11.117720797720796},{"$f":"MIN($J205:CG205)","v":11.117720797720796},{"$f":"MIN($J205:CH205)","v":11.117720797720796},{"$f":"MIN($J205:CI205)","v":11.117720797720796},{"$f":"MIN($J205:CJ205)","v":11.117720797720796},{"$f":"MIN($J205:CK205)","v":11.117720797720796},{"$f":"MIN($J205:CL205)","v":11.117720797720796},{"$f":"MIN($J205:CM205)","v":11.117720797720796},{"$f":"MIN($J205:CN205)","v":11.117720797720796},{"$f":"MIN($J205:CO205)","v":11.117720797720796},{"$f":"MIN($J205:CP205)","v":11.117720797720796},{"$f":"MIN($J205:CQ205)","v":11.117720797720796},{"$f":"MIN($J205:CR205)","v":11.117720797720796},{"$f":"MIN($J205:CS205)","v":11.117720797720796},{"$f":"MIN($J205:CT205)","v":11.117720797720796},{"$f":"MIN($J205:CU205)","v":11.117720797720796},{"$f":"MIN($J205:CV205)","v":11.117720797720796},{"$f":"MIN($J205:CW205)","v":11.117720797720796}]
[null,"Garvey","Richard",19,"Y",{"$f":"IF(H207<4,\"Y\",)","v":0},2021,{"$f":"COUNT(J207:CX207)","v":5},"Date",null,"2021-08-27","2021-09-03","2021-10-22","2022-05-01","2022-05-11",null,null,null,null,null,null,null,null,null,null,null,null,null,null,null,null,null,null,null,null,null,null,null,null,null,null,null,null,null,null,null,null,null,null,null,null,null,null,null,null,null,null,null,null,null,null,null,null,null,null,null,null,null,null,null,null,null,null,null,null,null,null,null,null,null,null,null,null,null,null,null,null,null,null,null,null,null,null,null,null,null,null,null,null,null,null,null,{"$f":"IF(CW211>$DD$1,36,CW211)","v":20.500378787878788},20.714393939393943,{"$f":"CZ207-CY207","v":0.21401515151515582}]
[null,null,null,null,null,null,null,null,"Course",null,"AschheimHG","StEurachHG","TegernbachHG","ErdingHG","AschheimHG"]
[null,null,null,null,null,null,null,null,"Ad Gr",null,104,113,112,102,97]
[null,null,null,null,null,null,null,null,"SD",21,{"$f":"IF(K209=\"\",0,(K209-INDIRECT(CONCATENATE(K208,\"CR\")))*113/INDIRECT(CONCATENATE(K208,\"SR\")))","v":27.993181818181821},{"$f":"IF(L209=\"\",0,(L209-INDIRECT(CONCATENATE(L208,\"CR\")))*113/INDIRECT(CONCATENATE(L208,\"SR\")))","v":35.452671755725184},34.499242424242425,26.946153846153845,22.000757575757579,0,0,0,0,0,0,0,0,0,0,0,0,0,0,0,0,0,0,0,0,0,0,0,0,0,0,0,0,0,0,0,0,0,0,0,0,0,0,0,0,0,0,0,0,0,0,0,0,0,0,0,0,0,0,0,0,0,0,0,0,{"$f":"IF(BX209=\"\",0,(BX209-INDIRECT(CONCATENATE(BX208,\"CR\")))*113/INDIRECT(CONCATENATE(BX208,\"SR\")))","v":0},0,0,0,0,0,0,0,0,0,0,0,0,0,0,{"$f":"IF(CM209=\"\",0,(CM209-INDIRECT(CONCATENATE(CM208,\"CR\")))*113/INDIRECT(CONCATENATE(CM208,\"SR\")))","v":0},0,{"$f":"IF(CO209=\"\",0,(CO209-INDIRECT(CONCATENATE(CO208,\"CR\")))*113/INDIRECT(CONCATENATE(CO208,\"SR\")))","v":0},0,{"$f":"IF(CQ209=\"\",0,(CQ209-INDIRECT(CONCATENATE(CQ208,\"CR\")))*113/INDIRECT(CONCATENATE(CQ208,\"SR\")))","v":0},0,{"$f":"IF(CS209=\"\",0,(CS209-INDIRECT(CONCATENATE(CS208,\"CR\")))*113/INDIRECT(CONCATENATE(CS208,\"SR\")))","v":0},0,{"$f":"IF(CU209=\"\",0,(CU209-INDIRECT(CONCATENATE(CU208,\"CR\")))*113/INDIRECT(CONCATENATE(CU208,\"SR\")))","v":0},0,{"$f":"IF(CW209=\"\",0,(CW209-INDIRECT(CONCATENATE(CW208,\"CR\")))*113/INDIRECT(CONCATENATE(CW208,\"SR\")))","v":0}]
[null,null,null,null,null,null,null,null,"New Hcap",{"$f":"J210-2","v":19},{"$f":"IF(K210>0,MIN(J210:K210)-2,J211)","v":19},{"$f":"IF(L210>0,MIN(J210:L210)-2,K211)","v":19},{"$f":"IF(M210>0,MIN(J210:M210)-1,L211)","v":20},{"$f":"IF(N210>0,MIN(J210:N210),M211)","v":21},{"$f":"IF(O210>0,AVERAGE(SMALL(IF(J210:O210>0,J210:O210),{1,2}))-1,N211)","v":20.500378787878788},{"$f":"IF(P210>0,AVERAGE(SMALL(IF(J210:P210>0,J210:P210),{1,2})),O211)","v":20.500378787878788},{"$f":"IF(Q210>0,AVERAGE(SMALL(IF(J210:Q210>0,J210:Q210),{1,2})),P211)","v":20.500378787878788},{"$f":"IF(R210>0,AVERAGE(SMALL(IF(J210:R210>0,J210:R210),{1,2,3})),Q211)","v":20.500378787878788},{"$f":"IF(S210>0,AVERAGE(SMALL(IF(J210:S210>0,J210:S210),{1,2,3})),R211)","v":20.500378787878788},{"$f":"IF(T210>0,AVERAGE(SMALL(IF(J210:T210>0,J210:T210),{1,2,3})),S211)","v":20.500378787878788},{"$f":"IF(U210>0,AVERAGE(SMALL(IF(J210:U210>0,J210:U210),{1,2,3,4})),T211)","v":20.500378787878788},{"$f":"IF(V210>0,AVERAGE(SMALL(IF(J210:V210>0,J210:V210),{1,2,3,4})),U211)","v":20.500378787878788},{"$f":"IF(W210>0,AVERAGE(SMALL(IF(J210:W210>0,J210:W210),{1,2,3,4})),V211)","v":20.500378787878788},{"$f":"IF(X210>0,AVERAGE(SMALL(IF(J210:X210>0,J210:X210),{1,2,3,4,5})),W211)","v":20.500378787878788},{"$f":"IF(Y210>0,AVERAGE(SMALL(IF(J210:Y210>0,J210:Y210),{1,2,3,4,5})),X211)","v":20.500378787878788},{"$f":"IF(Z210>0,AVERAGE(SMALL(IF(J210:Z210>0,J210:Z210),{1,2,3,4,5,6})),Y211)","v":20.500378787878788},{"$f":"IF(AA210>0,AVERAGE(SMALL(IF(J210:AA210>0,J210:AA210),{1,2,3,4,5,6})),Z211)","v":20.500378787878788},{"$f":"IF(AB210>0,AVERAGE(SMALL(IF(J210:AB210>0,J210:AB210),{1,2,3,4,5,6,7})),AA211)","v":20.500378787878788},{"$f":"IF(AC210>0,AVERAGE(SMALL(IF(J210:AC210>0,J210:AC210),{1,2,3,4,5,6,7,8})),AB211)","v":20.500378787878788},{"$f":"IF(AD210>0,AVERAGE(SMALL(IF(K210:AD210>0,K210:AD210),{1,2,3,4,5,6,7,8})),AC211)","v":20.500378787878788},{"$f":"IF(AE210>0,AVERAGE(SMALL(IF(L210:AE210>0,L210:AE210),{1,2,3,4,5,6,7,8})),AD211)","v":20.500378787878788},{"$f":"IF(AF210>0,AVERAGE(SMALL(IF(M210:AF210>0,M210:AF210),{1,2,3,4,5,6,7,8})),AE211)","v":20.500378787878788},{"$f":"IF(AG210>0,AVERAGE(SMALL(IF(N210:AG210>0,N210:AG210),{1,2,3,4,5,6,7,8})),AF211)","v":20.500378787878788},{"$f":"IF(AH210>0,AVERAGE(SMALL(IF(O210:AH210>0,O210:AH210),{1,2,3,4,5,6,7,8})),AG211)","v":20.500378787878788},{"$f":"IF(AI210>0,AVERAGE(SMALL(IF(P210:AI210>0,P210:AI210),{1,2,3,4,5,6,7,8})),AH211)","v":20.500378787878788},{"$f":"IF(AJ210>0,AVERAGE(SMALL(IF(Q210:AJ210>0,Q210:AJ210),{1,2,3,4,5,6,7,8})),AI211)","v":20.500378787878788},{"$f":"IF(AK210>0,AVERAGE(SMALL(IF(R210:AK210>0,R210:AK210),{1,2,3,4,5,6,7,8})),AJ211)","v":20.500378787878788},{"$f":"IF(AL210>0,AVERAGE(SMALL(IF(S210:AL210>0,S210:AL210),{1,2,3,4,5,6,7,8})),AK211)","v":20.500378787878788},{"$f":"IF(AM210>0,AVERAGE(SMALL(IF(T210:AM210>0,T210:AM210),{1,2,3,4,5,6,7,8})),AL211)","v":20.500378787878788},{"$f":"IF(AN210>0,AVERAGE(SMALL(IF(U210:AN210>0,U210:AN210),{1,2,3,4,5,6,7,8})),AM211)","v":20.500378787878788},{"$f":"IF(AO210>0,AVERAGE(SMALL(IF(V210:AO210>0,V210:AO210),{1,2,3,4,5,6,7,8})),AN211)","v":20.500378787878788},{"$f":"IF(AP210>0,AVERAGE(SMALL(IF(W210:AP210>0,W210:AP210),{1,2,3,4,5,6,7,8})),AO211)","v":20.500378787878788},{"$f":"IF(AQ210>0,AVERAGE(SMALL(IF(X210:AQ210>0,X210:AQ210),{1,2,3,4,5,6,7,8})),AP211)","v":20.500378787878788},{"$f":"IF(AR210>0,AVERAGE(SMALL(IF(Y210:AR210>0,Y210:AR210),{1,2,3,4,5,6,7,8})),AQ211)","v":20.500378787878788},{"$f":"IF(AS210>0,AVERAGE(SMALL(IF(Z210:AS210>0,Z210:AS210),{1,2,3,4,5,6,7,8})),AR211)","v":20.500378787878788},{"$f":"IF(AT210>0,AVERAGE(SMALL(IF(AA210:AT210>0,AA210:AT210),{1,2,3,4,5,6,7,8})),AS211)","v":20.500378787878788},{"$f":"IF(AU210>0,AVERAGE(SMALL(IF(AB210:AU210>0,AB210:AU210),{1,2,3,4,5,6,7,8})),AT211)","v":20.500378787878788},{"$f":"IF(AV210>0,AVERAGE(SMALL(IF(AC210:AV210>0,AC210:AV210),{1,2,3,4,5,6,7,8})),AU211)","v":20.500378787878788},{"$f":"IF(AW210>0,AVERAGE(SMALL(IF(AD210:AW210>0,AD210:AW210),{1,2,3,4,5,6,7,8})),AV211)","v":20.500378787878788},{"$f":"IF(AX210>0,AVERAGE(SMALL(IF(AE210:AX210>0,AE210:AX210),{1,2,3,4,5,6,7,8})),AW211)","v":20.500378787878788},{"$f":"IF(AY210>0,AVERAGE(SMALL(IF(AF210:AY210>0,AF210:AY210),{1,2,3,4,5,6,7,8})),AX211)","v":20.500378787878788},{"$f":"IF(AZ210>0,AVERAGE(SMALL(IF(AG210:AZ210>0,AG210:AZ210),{1,2,3,4,5,6,7,8})),AY211)","v":20.500378787878788},{"$f":"IF(BA210>0,AVERAGE(SMALL(IF(AH210:BA210>0,AH210:BA210),{1,2,3,4,5,6,7,8})),AZ211)","v":20.500378787878788},{"$f":"IF(BB210>0,AVERAGE(SMALL(IF(AI210:BB210>0,AI210:BB210),{1,2,3,4,5,6,7,8})),BA211)","v":20.500378787878788},{"$f":"IF(BC210>0,AVERAGE(SMALL(IF(AJ210:BC210>0,AJ210:BC210),{1,2,3,4,5,6,7,8})),BB211)","v":20.500378787878788},{"$f":"IF(BD210>0,AVERAGE(SMALL(IF(AK210:BD210>0,AK210:BD210),{1,2,3,4,5,6,7,8})),BC211)","v":20.500378787878788},{"$f":"IF(BE210>0,AVERAGE(SMALL(IF(AL210:BE210>0,AL210:BE210),{1,2,3,4,5,6,7,8})),BD211)","v":20.500378787878788},{"$f":"IF(BF210>0,AVERAGE(SMALL(IF(AM210:BF210>0,AM210:BF210),{1,2,3,4,5,6,7,8})),BE211)","v":20.500378787878788},{"$f":"IF(BG210>0,AVERAGE(SMALL(IF(AN210:BG210>0,AN210:BG210),{1,2,3,4,5,6,7,8})),BF211)","v":20.500378787878788},{"$f":"IF(BH210>0,AVERAGE(SMALL(IF(AO210:BH210>0,AO210:BH210),{1,2,3,4,5,6,7,8})),BG211)","v":20.500378787878788},{"$f":"IF(BI210>0,AVERAGE(SMALL(IF(AP210:BI210>0,AP210:BI210),{1,2,3,4,5,6,7,8})),BH211)","v":20.500378787878788},{"$f":"IF(BJ210>0,AVERAGE(SMALL(IF(AQ210:BJ210>0,AQ210:BJ210),{1,2,3,4,5,6,7,8})),BI211)","v":20.500378787878788},{"$f":"IF(BK210>0,AVERAGE(SMALL(IF(AR210:BK210>0,AR210:BK210),{1,2,3,4,5,6,7,8})),BJ211)","v":20.500378787878788},{"$f":"IF(BL210>0,AVERAGE(SMALL(IF(AS210:BL210>0,AS210:BL210),{1,2,3,4,5,6,7,8})),BK211)","v":20.500378787878788},{"$f":"IF(BM210>0,AVERAGE(SMALL(IF(AT210:BM210>0,AT210:BM210),{1,2,3,4,5,6,7,8})),BL211)","v":20.500378787878788},{"$f":"IF(BN210>0,AVERAGE(SMALL(IF(AU210:BN210>0,AU210:BN210),{1,2,3,4,5,6,7,8})),BM211)","v":20.500378787878788},{"$f":"IF(BO210>0,AVERAGE(SMALL(IF(AV210:BO210>0,AV210:BO210),{1,2,3,4,5,6,7,8})),BN211)","v":20.500378787878788},{"$f":"IF(BP210>0,AVERAGE(SMALL(IF(AW210:BP210>0,AW210:BP210),{1,2,3,4,5,6,7,8})),BO211)","v":20.500378787878788},{"$f":"IF(BQ210>0,AVERAGE(SMALL(IF(AX210:BQ210>0,AX210:BQ210),{1,2,3,4,5,6,7,8})),BP211)","v":20.500378787878788},{"$f":"IF(BR210>0,AVERAGE(SMALL(IF(AY210:BR210>0,AY210:BR210),{1,2,3,4,5,6,7,8})),BQ211)","v":20.500378787878788},{"$f":"IF(BS210>0,AVERAGE(SMALL(IF(AZ210:BS210>0,AZ210:BS210),{1,2,3,4,5,6,7,8})),BR211)","v":20.500378787878788},{"$f":"IF(BT210>0,AVERAGE(SMALL(IF(BA210:BT210>0,BA210:BT210),{1,2,3,4,5,6,7,8})),BS211)","v":20.500378787878788},{"$f":"IF(BU210>0,AVERAGE(SMALL(IF(BB210:BU210>0,BB210:BU210),{1,2,3,4,5,6,7,8})),BT211)","v":20.500378787878788},{"$f":"IF(BV210>0,AVERAGE(SMALL(IF(BC210:BV210>0,BC210:BV210),{1,2,3,4,5,6,7,8})),BU211)","v":20.500378787878788},{"$f":"IF(BW210>0,AVERAGE(SMALL(IF(BD210:BW210>0,BD210:BW210),{1,2,3,4,5,6,7,8})),BV211)","v":20.500378787878788},{"$f":"IF(BX210>0,AVERAGE(SMALL(IF(BE210:BX210>0,BE210:BX210),{1,2,3,4,5,6,7,8})),BW211)","v":20.500378787878788},{"$f":"IF(BY210>0,AVERAGE(SMALL(IF(BF210:BY210>0,BF210:BY210),{1,2,3,4,5,6,7,8})),BX211)","v":20.500378787878788},{"$f":"IF(BZ210>0,AVERAGE(SMALL(IF(BG210:BZ210>0,BG210:BZ210),{1,2,3,4,5,6,7,8})),BY211)","v":20.500378787878788},{"$f":"IF(CA210>0,AVERAGE(SMALL(IF(BH210:CA210>0,BH210:CA210),{1,2,3,4,5,6,7,8})),BZ211)","v":20.500378787878788},{"$f":"IF(CB210>0,AVERAGE(SMALL(IF(BI210:CB210>0,BI210:CB210),{1,2,3,4,5,6,7,8})),CA211)","v":20.500378787878788},{"$f":"IF(CC210>0,AVERAGE(SMALL(IF(BJ210:CC210>0,BJ210:CC210),{1,2,3,4,5,6,7,8})),CB211)","v":20.500378787878788},{"$f":"IF(CD210>0,AVERAGE(SMALL(IF(BK210:CD210>0,BK210:CD210),{1,2,3,4,5,6,7,8})),CC211)","v":20.500378787878788},{"$f":"IF(CE210>0,AVERAGE(SMALL(IF(BL210:CE210>0,BL210:CE210),{1,2,3,4,5,6,7,8})),CD211)","v":20.500378787878788},{"$f":"IF(CF210>0,AVERAGE(SMALL(IF(BM210:CF210>0,BM210:CF210),{1,2,3,4,5,6,7,8})),CE211)","v":20.500378787878788},{"$f":"IF(CG210>0,AVERAGE(SMALL(IF(BN210:CG210>0,BN210:CG210),{1,2,3,4,5,6,7,8})),CF211)","v":20.500378787878788},{"$f":"IF(CH210>0,AVERAGE(SMALL(IF(BO210:CH210>0,BO210:CH210),{1,2,3,4,5,6,7,8})),CG211)","v":20.500378787878788},{"$f":"IF(CI210>0,AVERAGE(SMALL(IF(BP210:CI210>0,BP210:CI210),{1,2,3,4,5,6,7,8})),CH211)","v":20.500378787878788},{"$f":"IF(CJ210>0,AVERAGE(SMALL(IF(BQ210:CJ210>0,BQ210:CJ210),{1,2,3,4,5,6,7,8})),CI211)","v":20.500378787878788},{"$f":"IF(CK210>0,AVERAGE(SMALL(IF(BR210:CK210>0,BR210:CK210),{1,2,3,4,5,6,7,8})),CJ211)","v":20.500378787878788},{"$f":"IF(CL210>0,AVERAGE(SMALL(IF(BS210:CL210>0,BS210:CL210),{1,2,3,4,5,6,7,8})),CK211)","v":20.500378787878788},{"$f":"IF(CM210>0,AVERAGE(SMALL(IF(BT210:CM210>0,BT210:CM210),{1,2,3,4,5,6,7,8})),CL211)","v":20.500378787878788},{"$f":"IF(CN210>0,AVERAGE(SMALL(IF(BU210:CN210>0,BU210:CN210),{1,2,3,4,5,6,7,8})),CM211)","v":20.500378787878788},{"$f":"IF(CO210>0,AVERAGE(SMALL(IF(BV210:CO210>0,BV210:CO210),{1,2,3,4,5,6,7,8})),CN211)","v":20.500378787878788},{"$f":"IF(CP210>0,AVERAGE(SMALL(IF(BW210:CP210>0,BW210:CP210),{1,2,3,4,5,6,7,8})),CO211)","v":20.500378787878788},{"$f":"IF(CQ210>0,AVERAGE(SMALL(IF(BX210:CQ210>0,BX210:CQ210),{1,2,3,4,5,6,7,8})),CP211)","v":20.500378787878788},{"$f":"IF(CR210>0,AVERAGE(SMALL(IF(BY210:CR210>0,BY210:CR210),{1,2,3,4,5,6,7,8})),CQ211)","v":20.500378787878788},{"$f":"IF(CS210>0,AVERAGE(SMALL(IF(BZ210:CS210>0,BZ210:CS210),{1,2,3,4,5,6,7,8})),CR211)","v":20.500378787878788},{"$f":"IF(CT210>0,AVERAGE(SMALL(IF(CA210:CT210>0,CA210:CT210),{1,2,3,4,5,6,7,8})),CS211)","v":20.500378787878788},{"$f":"IF(CU210>0,AVERAGE(SMALL(IF(CB210:CU210>0,CB210:CU210),{1,2,3,4,5,6,7,8})),CT211)","v":20.500378787878788},{"$f":"IF(CV210>0,AVERAGE(SMALL(IF(CC210:CV210>0,CC210:CV210),{1,2,3,4,5,6,7,8})),CU211)","v":20.500378787878788},{"$f":"IF(CW210>0,AVERAGE(SMALL(IF(CD210:CW210>0,CD210:CW210),{1,2,3,4,5,6,7,8})),CV211)","v":20.500378787878788}]
[null,null,null,null,null,null,null,null,"Low Hcap",null,null,null,null,null,null,null,null,null,null,null,null,null,null,null,null,null,null,null,{"$f":"MIN($J211:AC211)","v":19},{"$f":"MIN($J211:AD211)","v":19},{"$f":"MIN($J211:AE211)","v":19},{"$f":"MIN($J211:AF211)","v":19},{"$f":"MIN($J211:AG211)","v":19},{"$f":"MIN($J211:AH211)","v":19},{"$f":"MIN($J211:AI211)","v":19},{"$f":"MIN($J211:AJ211)","v":19},{"$f":"MIN($J211:AK211)","v":19},{"$f":"MIN($J211:AL211)","v":19},{"$f":"MIN($J211:AM211)","v":19},{"$f":"MIN($J211:AN211)","v":19},{"$f":"MIN($J211:AO211)","v":19},{"$f":"MIN($J211:AP211)","v":19},{"$f":"MIN($J211:AQ211)","v":19},{"$f":"MIN($J211:AR211)","v":19},{"$f":"MIN($J211:AS211)","v":19},{"$f":"MIN($J211:AT211)","v":19},{"$f":"MIN($J211:AU211)","v":19},{"$f":"MIN($J211:AV211)","v":19},{"$f":"MIN($J211:AW211)","v":19},{"$f":"MIN($J211:AX211)","v":19},{"$f":"MIN($J211:AY211)","v":19},{"$f":"MIN($J211:AZ211)","v":19},{"$f":"MIN($J211:BA211)","v":19},{"$f":"MIN($J211:BB211)","v":19},{"$f":"MIN($J211:BC211)","v":19},{"$f":"MIN($J211:BD211)","v":19},{"$f":"MIN($J211:BE211)","v":19},{"$f":"MIN($J211:BF211)","v":19},{"$f":"MIN($J211:BG211)","v":19},{"$f":"MIN($J211:BH211)","v":19},{"$f":"MIN($J211:BI211)","v":19},{"$f":"MIN($J211:BJ211)","v":19},{"$f":"MIN($J211:BK211)","v":19},{"$f":"MIN($J211:BL211)","v":19},{"$f":"MIN($J211:BM211)","v":19},{"$f":"MIN($J211:BN211)","v":19},{"$f":"MIN($J211:BO211)","v":19},{"$f":"MIN($J211:BP211)","v":19},{"$f":"MIN($J211:BQ211)","v":19},{"$f":"MIN($J211:BR211)","v":19},{"$f":"MIN($J211:BS211)","v":19},{"$f":"MIN($J211:BT211)","v":19},{"$f":"MIN($J211:BU211)","v":19},{"$f":"MIN($J211:BV211)","v":19},{"$f":"MIN($J211:BW211)","v":19},{"$f":"MIN($J211:BX211)","v":19},{"$f":"MIN($J211:BY211)","v":19},{"$f":"MIN($J211:BZ211)","v":19},{"$f":"MIN($J211:CA211)","v":19},{"$f":"MIN($J211:CB211)","v":19},{"$f":"MIN($J211:CC211)","v":19},{"$f":"MIN($J211:CD211)","v":19},{"$f":"MIN($J211:CE211)","v":19},{"$f":"MIN($J211:CF211)","v":19},{"$f":"MIN($J211:CG211)","v":19},{"$f":"MIN($J211:CH211)","v":19},{"$f":"MIN($J211:CI211)","v":19},{"$f":"MIN($J211:CJ211)","v":19},{"$f":"MIN($J211:CK211)","v":19},{"$f":"MIN($J211:CL211)","v":19},{"$f":"MIN($J211:CM211)","v":19},{"$f":"MIN($J211:CN211)","v":19},{"$f":"MIN($J211:CO211)","v":19},{"$f":"MIN($J211:CP211)","v":19},{"$f":"MIN($J211:CQ211)","v":19},{"$f":"MIN($J211:CR211)","v":19},{"$f":"MIN($J211:CS211)","v":19},{"$f":"MIN($J211:CT211)","v":19},{"$f":"MIN($J211:CU211)","v":19},{"$f":"MIN($J211:CV211)","v":19},{"$f":"MIN($J211:CW211)","v":19}]
[null,"Gill","Andy",11.9,"Y",{"$f":"IF(H213<4,\"Y\",)","v":0},2019,{"$f":"COUNT(J213:CX213)","v":86},"Date","2019-10-04","2019-10-13","2019-11-01","2019-11-10","2019-11-24","2020-05-20","2020-05-24","2020-05-31","2020-06-14","2020-06-19","2020-06-28","2020-07-03","2020-07-12","2020-07-15","2020-07-26","2020-07-31","2020-08-14","2020-08-23","2020-10-04","2020-10-21","2020-11-01","2020-11-06","2020-11-15","2021-03-28","2021-04-25","2021-04-30","2021-05-09","2021-05-14","2021-05-23","2021-05-30","2021-06-04","2021-06-13","2021-07-11","2021-07-16","2021-07-25","2021-07-30","2021-08-08","2021-08-14","2021-08-15","2021-08-18","2021-08-21","2021-08-22","2021-08-27","2021-09-03","2021-09-04","2021-09-04","2021-09-05","2021-09-17","2021-09-18","2021-09-19","2021-09-24","2021-10-03","2021-10-24","2021-11-14","2022-03-27","2022-04-15","2022-05-01","2022-05-06","2022-05-11","2022-05-15","2022-05-29","2022-06-05","2022-06-12","2022-06-17","2022-06-25","2022-06-26","2022-07-03","2022-07-10","2022-07-15","2022-07-20","2022-07-24","2022-07-31","2022-08-07","2022-08-12","2022-09-07","2022-09-11","2022-10-07","2022-10-12","2022-11-09","2023-03-26","2023-04-07","2023-04-14","2023-05-10","2023-05-19","2023-05-28","2023-05-31",null,null,null,null,null,null,null,{"$f":"IF(CW217>$DD$1,36,CW217)","v":8.5735444788345117},9.1104716604840874,{"$f":"CZ213-CY213","v":0.53692718164957576}]
[null,null,null,null,null,null,null,null,"Course","ErdingHG","PfaffingHG","ErdingHG","TegernbachHG","PfaffingHG","GutThailingHG","PfaffingHG","ErdingHG","OdelzhausenHG","StEurachHG","ErdingHG","TegernbachHG","PfaffingHG","GutThailingHG","OdelzhausenHG","StEurachHG","EgmatingHG","PfaffingHG","OdelzhausenHG","GutThailingHG","ErdingHG","TegernbachHG","OdelzhausenHG","OdelzhausenHG","PfaffingHG","TegernbachHG","ErdingHG","StEurachHG","OdelzhausenHG","IffeldorfHG","EgmatingHG","PfaffingHG","PfaffingHG","MaxlrainHG","OdelzhausenHR","MangfalltalHG","IffeldorfHG","Maxlrain","ErdingHG","GutThailingHG","Aschheim","PfaffingHB","AschheimHG","StEurachHG","Aschheim","Aschheim","Aschheim","Aschheim","Starnberg","ErdingHG","TegernbachHG","OdelzhausenHG","Aschheim","OdelzhausenHG","OdelzhausenHG","ReichertshausenHG","ErdingHG","TegernbachHG","AschheimHG","OdelzhausenHG","OdelzhausenHG","IffeldorfHG","ErdingHG","StEurachHG","AlgaeuerHG","AlgaeuerHG","Pfaffing2022HG","IffeldorfHG","MaxlrainHG","AschheimHG","Pfaffing2022HG","HohenpaehlHG","IffeldorfHG","ValleyHG","AschheimHG","Pfaffing2022HG","EgmatingHG","GutThailing2022HG","GutThailing2022HG","Pfaffing2023HG","Reichertshausen2023HG","TegernbachHG","AschheimHG","GarmischHG","ErdingHG","GutThailing2022HG"]
[null,null,null,null,null,null,null,null,"Ad Gr",98,95,95,87,89,97,91,87,99,98,93,95,104,85,87,92,91,80,92,95,97,98,95,97,87,101,94,89,100,96,90,92,101,94,85,89,85,null,89,89,null,91,94,98,null,null,null,null,null,87,86,87,null,87,92,84,86,88,87,98,89,81,88,82,95,91,88,79,102,85,85,85,87,83,82,89,82,91,89,84,92,102,81,91,80,91]
[null,null,null,null,null,null,null,null,"SD",{"$f":"IF(J215=\"\",0,(J215-INDIRECT(CONCATENATE(J214,\"CR\")))*113/INDIRECT(CONCATENATE(J214,\"SR\")))","v":23.469230769230769},{"$f":"IF(K215=\"\",0,(K215-INDIRECT(CONCATENATE(K214,\"CR\")))*113/INDIRECT(CONCATENATE(K214,\"SR\")))","v":19.992307692307691},20.861538461538462,13.097727272727269,14.776923076923078,22.858778625954198,16.515384615384615,13.907692307692308,24.201574803149608,22.513740458015263,19.123076923076923,19.946212121212117,27.815384615384616,12.507633587786259,13.524409448818901,17.338167938931292,16.130534351145041,6.953846153846154,17.973228346456697,21.133587786259543,22.6,22.514393939393937,20.642519685039375,22.42204724409449,13.038461538461538,25.082575757575754,19.992307692307691,14.750381679389307,25.091338582677167,21.724031007751936,15.267938931297712,17.384615384615383,25.207692307692309,17.53161764705882,16.758474576271187,14.90289855072464,12.088372093023253,13.4,{"$f":"IF(AV215=\"\",0,(AV215-INDIRECT(CONCATENATE(AV214,\"CR\")))*113/INDIRECT(CONCATENATE(AV214,\"SR\")))","v":15.646153846153846},15.958015267175572,22.9,{"$f":"IF(AY215=\"\",0,(AY215-INDIRECT(CONCATENATE(AY214,\"CR\")))*113/INDIRECT(CONCATENATE(AY214,\"SR\")))","v":17.744531249999994},19.432575757575762,22.513740458015263,24.5,15,18.399999999999999,14.3,15.5,{"$f":"IF(BG215=\"\",0,(BG215-INDIRECT(CONCATENATE(BG214,\"CR\")))*113/INDIRECT(CONCATENATE(BG214,\"SR\")))","v":13.907692307692308},12.241666666666664,13.524409448818901,11.7,{"$f":"IF(BK215=\"\",0,(BK215-INDIRECT(CONCATENATE(BK214,\"CR\")))*113/INDIRECT(CONCATENATE(BK214,\"SR\")))","v":13.524409448818901},17.973228346456697,11.927777777777775,13.038461538461538,13.953787878787876,13.440151515151518,23.311811023622049,15.303937007874019,8.5844961240310056,14.776923076923078,8.7122137404580098,19.494656488549612,16.044274809160299,13.299230769230766,6.8325581395348811,24.178676470588229,11.728030303030305,10.691538461538459,12.335114503816792,13.840310077519376,7.9518518518518517,9.1598484848484869,14.168461538461536,8.3671755725190859,17.7323076923077,15.99384615384616,9.458518518518515,17.806060606060605,{"$f":"IF(CM215=\"\",0,(CM215-INDIRECT(CONCATENATE(CM214,\"CR\")))*113/INDIRECT(CONCATENATE(CM214,\"SR\")))","v":25.938636363636363},8.3037878787878814,{"$f":"IF(CO215=\"\",0,(CO215-INDIRECT(CONCATENATE(CO214,\"CR\")))*113/INDIRECT(CONCATENATE(CO214,\"SR\")))","v":17.439370078740151},7.8230769230769228,{"$f":"IF(CQ215=\"\",0,(CQ215-INDIRECT(CONCATENATE(CQ214,\"CR\")))*113/INDIRECT(CONCATENATE(CQ214,\"SR\")))","v":17.7323076923077},0,{"$f":"IF(CS215=\"\",0,(CS215-INDIRECT(CONCATENATE(CS214,\"CR\")))*113/INDIRECT(CONCATENATE(CS214,\"SR\")))","v":0},0,{"$f":"IF(CU215=\"\",0,(CU215-INDIRECT(CONCATENATE(CU214,\"CR\")))*113/INDIRECT(CONCATENATE(CU214,\"SR\")))","v":0},0,{"$f":"IF(CW215=\"\",0,(CW215-INDIRECT(CONCATENATE(CW214,\"CR\")))*113/INDIRECT(CONCATENATE(CW214,\"SR\")))","v":0}]
[null,null,null,null,null,null,null,null,"New Hcap",{"$f":"J216-2","v":21.469230769230769},{"$f":"IF(K216>0,MIN(J216:K216)-2,J217)","v":17.992307692307691},{"$f":"IF(L216>0,MIN(J216:L216)-2,K217)","v":17.992307692307691},{"$f":"IF(M216>0,MIN(J216:M216)-1,L217)","v":12.097727272727269},{"$f":"IF(N216>0,MIN(J216:N216),M217)","v":13.097727272727269},{"$f":"IF(O216>0,AVERAGE(SMALL(IF(J216:O216>0,J216:O216),{1,2}))-1,N217)","v":12.937325174825173},{"$f":"IF(P216>0,AVERAGE(SMALL(IF(J216:P216>0,J216:P216),{1,2})),O217)","v":13.937325174825173},{"$f":"IF(Q216>0,AVERAGE(SMALL(IF(J216:Q216>0,J216:Q216),{1,2})),P217)","v":13.502709790209789},{"$f":"IF(R216>0,AVERAGE(SMALL(IF(J216:R216>0,J216:R216),{1,2,3})),Q217)","v":13.927447552447552},{"$f":"IF(S216>0,AVERAGE(SMALL(IF(J216:S216>0,J216:S216),{1,2,3})),R217)","v":13.927447552447552},{"$f":"IF(T216>0,AVERAGE(SMALL(IF(J216:T216>0,J216:T216),{1,2,3})),S217)","v":13.927447552447552},{"$f":"IF(U216>0,AVERAGE(SMALL(IF(J216:U216>0,J216:U216),{1,2,3,4})),T217)","v":14.574431818181818},{"$f":"IF(V216>0,AVERAGE(SMALL(IF(J216:V216>0,J216:V216),{1,2,3,4})),U217)","v":14.574431818181818},{"$f":"IF(W216>0,AVERAGE(SMALL(IF(J216:W216>0,J216:W216),{1,2,3,4})),V217)","v":13.572494061282228},{"$f":"IF(X216>0,AVERAGE(SMALL(IF(J216:X216>0,J216:X216),{1,2,3,4,5})),W217)","v":13.562877138789563},{"$f":"IF(Y216>0,AVERAGE(SMALL(IF(J216:Y216>0,J216:Y216),{1,2,3,4,5})),X217)","v":13.562877138789563},{"$f":"IF(Z216>0,AVERAGE(SMALL(IF(J216:Z216>0,J216:Z216),{1,2,3,4,5,6})),Y217)","v":13.990820007515476},{"$f":"IF(AA216>0,AVERAGE(SMALL(IF(J216:AA216>0,J216:AA216),{1,2,3,4,5,6})),Z217)","v":12.461371974632328},{"$f":"IF(AB216>0,AVERAGE(SMALL(IF(J216:AB216>0,J216:AB216),{1,2,3,4,5,6,7})),AA217)","v":12.985538028419858},{"$f":"IF(AC216>0,AVERAGE(SMALL(IF(J216:AC216>0,J216:AC216),{1,2,3,4,5,6,7,8})),AB217)","v":13.426768851790454},{"$f":"IF(AD216>0,AVERAGE(SMALL(IF(K216:AD216>0,K216:AD216),{1,2,3,4,5,6,7,8})),AC217)","v":13.426768851790454},{"$f":"IF(AE216>0,AVERAGE(SMALL(IF(L216:AE216>0,L216:AE216),{1,2,3,4,5,6,7,8})),AD217)","v":13.426768851790454},{"$f":"IF(AF216>0,AVERAGE(SMALL(IF(M216:AF216>0,M216:AF216),{1,2,3,4,5,6,7,8})),AE217)","v":13.426768851790454},{"$f":"IF(AG216>0,AVERAGE(SMALL(IF(N216:AG216>0,N216:AG216),{1,2,3,4,5,6,7,8})),AF217)","v":13.956823935065957},{"$f":"IF(AH216>0,AVERAGE(SMALL(IF(O216:AH216>0,O216:AH216),{1,2,3,4,5,6,7,8})),AG217)","v":13.739516242758263},{"$f":"IF(AI216>0,AVERAGE(SMALL(IF(P216:AI216>0,P216:AI216),{1,2,3,4,5,6,7,8})),AH217)","v":13.739516242758263},{"$f":"IF(AJ216>0,AVERAGE(SMALL(IF(Q216:AJ216>0,Q216:AJ216),{1,2,3,4,5,6,7,8})),AI217)","v":13.921746709142273},{"$f":"IF(AK216>0,AVERAGE(SMALL(IF(R216:AK216>0,R216:AK216),{1,2,3,4,5,6,7,8})),AJ217)","v":14.027082880604398},{"$f":"IF(AL216>0,AVERAGE(SMALL(IF(S216:AL216>0,S216:AL216),{1,2,3,4,5,6,7,8})),AK217)","v":14.027082880604398},{"$f":"IF(AM216>0,AVERAGE(SMALL(IF(T216:AM216>0,T216:AM216),{1,2,3,4,5,6,7,8})),AL217)","v":14.027082880604398},{"$f":"IF(AN216>0,AVERAGE(SMALL(IF(U216:AN216>0,U216:AN216),{1,2,3,4,5,6,7,8})),AM217)","v":13.688921703709525},{"$f":"IF(AO216>0,AVERAGE(SMALL(IF(V216:AO216>0,V216:AO216),{1,2,3,4,5,6,7,8})),AN217)","v":13.688921703709525},{"$f":"IF(AP216>0,AVERAGE(SMALL(IF(W216:AP216>0,W216:AP216),{1,2,3,4,5,6,7,8})),AO217)","v":13.688921703709525},{"$f":"IF(AQ216>0,AVERAGE(SMALL(IF(X216:AQ216>0,X216:AQ216),{1,2,3,4,5,6,7,8})),AP217)","v":14.298544428313166},{"$f":"IF(AR216>0,AVERAGE(SMALL(IF(Y216:AR216>0,Y216:AR216),{1,2,3,4,5,6,7,8})),AQ217)","v":14.702802569244701},{"$f":"IF(AS216>0,AVERAGE(SMALL(IF(Z216:AS216>0,Z216:AS216),{1,2,3,4,5,6,7,8})),AR217)","v":14.39839389571887},{"$f":"IF(AT216>0,AVERAGE(SMALL(IF(AA216:AT216>0,AA216:AT216),{1,2,3,4,5,6,7,8})),AS217)","v":13.893123613453646},{"$f":"IF(AU216>0,AVERAGE(SMALL(IF(AB216:AU216>0,AB216:AU216),{1,2,3,4,5,6,7,8})),AT217)","v":14.698892844222877},{"$f":"IF(AV216>0,AVERAGE(SMALL(IF(AC216:AV216>0,AC216:AV216),{1,2,3,4,5,6,7,8})),AU217)","v":14.481585151915185},{"$f":"IF(AW216>0,AVERAGE(SMALL(IF(AD216:AW216>0,AD216:AW216),{1,2,3,4,5,6,7,8})),AV217)","v":14.381527738278233},{"$f":"IF(AX216>0,AVERAGE(SMALL(IF(AE216:AX216>0,AE216:AX216),{1,2,3,4,5,6,7,8})),AW217)","v":14.381527738278233},{"$f":"IF(AY216>0,AVERAGE(SMALL(IF(AF216:AY216>0,AF216:AY216),{1,2,3,4,5,6,7,8})),AX217)","v":14.381527738278233},{"$f":"IF(AZ216>0,AVERAGE(SMALL(IF(AG216:AZ216>0,AG216:AZ216),{1,2,3,4,5,6,7,8})),AY217)","v":14.381527738278233},{"$f":"IF(BA216>0,AVERAGE(SMALL(IF(AH216:BA216>0,AH216:BA216),{1,2,3,4,5,6,7,8})),AZ217)","v":14.381527738278233},{"$f":"IF(BB216>0,AVERAGE(SMALL(IF(AI216:BB216>0,AI216:BB216),{1,2,3,4,5,6,7,8})),BA217)","v":14.846529368004438},{"$f":"IF(BC216>0,AVERAGE(SMALL(IF(AJ216:BC216>0,AJ216:BC216),{1,2,3,4,5,6,7,8})),BB217)","v":14.62672004597054},{"$f":"IF(BD216>0,AVERAGE(SMALL(IF(AK216:BD216>0,AK216:BD216),{1,2,3,4,5,6,7,8})),BC217)","v":14.62672004597054},{"$f":"IF(BE216>0,AVERAGE(SMALL(IF(AL216:BE216>0,AL216:BE216),{1,2,3,4,5,6,7,8})),BD217)","v":14.570422336046878},{"$f":"IF(BF216>0,AVERAGE(SMALL(IF(AM216:BF216>0,AM216:BF216),{1,2,3,4,5,6,7,8})),BE217)","v":14.513170427649932},{"$f":"IF(BG216>0,AVERAGE(SMALL(IF(AN216:BG216>0,AN216:BG216),{1,2,3,4,5,6,7,8})),BF217)","v":14.295862735342238},{"$f":"IF(BH216>0,AVERAGE(SMALL(IF(AO216:BH216>0,AO216:BH216),{1,2,3,4,5,6,7,8})),BG217)","v":13.917578702263359},{"$f":"IF(BI216>0,AVERAGE(SMALL(IF(AP216:BI216>0,AP216:BI216),{1,2,3,4,5,6,7,8})),BH217)","v":13.670629883365722},{"$f":"IF(BJ216>0,AVERAGE(SMALL(IF(AQ216:BJ216>0,AQ216:BJ216),{1,2,3,4,5,6,7,8})),BI217)","v":13.25812988336572},{"$f":"IF(BK216>0,AVERAGE(SMALL(IF(AR216:BK216>0,AR216:BK216),{1,2,3,4,5,6,7,8})),BJ217)","v":13.085818745627504},{"$f":"IF(BL216>0,AVERAGE(SMALL(IF(AS216:BL216>0,AS216:BL216),{1,2,3,4,5,6,7,8})),BK217)","v":13.085818745627504},{"$f":"IF(BM216>0,AVERAGE(SMALL(IF(AT216:BM216>0,AT216:BM216),{1,2,3,4,5,6,7,8})),BL217)","v":12.789290967849723},{"$f":"IF(BN216>0,AVERAGE(SMALL(IF(AU216:BN216>0,AU216:BN216),{1,2,3,4,5,6,7,8})),BM217)","v":12.90805214852951},{"$f":"IF(BO216>0,AVERAGE(SMALL(IF(AV216:BO216>0,AV216:BO216),{1,2,3,4,5,6,7,8})),BN217)","v":12.977275633377998},{"$f":"IF(BP216>0,AVERAGE(SMALL(IF(AW216:BP216>0,AW216:BP216),{1,2,3,4,5,6,7,8})),BO217)","v":12.913071087923452},{"$f":"IF(BQ216>0,AVERAGE(SMALL(IF(AX216:BQ216>0,AX216:BQ216),{1,2,3,4,5,6,7,8})),BP217)","v":12.913071087923452},{"$f":"IF(BR216>0,AVERAGE(SMALL(IF(AY216:BR216>0,AY216:BR216),{1,2,3,4,5,6,7,8})),BQ217)","v":12.913071087923452},{"$f":"IF(BS216>0,AVERAGE(SMALL(IF(AZ216:BS216>0,AZ216:BS216),{1,2,3,4,5,6,7,8})),BR217)","v":12.247671564965788},{"$f":"IF(BT216>0,AVERAGE(SMALL(IF(BA216:BT216>0,BA216:BT216),{1,2,3,4,5,6,7,8})),BS217)","v":12.247671564965788},{"$f":"IF(BU216>0,AVERAGE(SMALL(IF(BB216:BU216>0,BB216:BU216),{1,2,3,4,5,6,7,8})),BT217)","v":11.646147101420675},{"$f":"IF(BV216>0,AVERAGE(SMALL(IF(BC216:BV216>0,BC216:BV216),{1,2,3,4,5,6,7,8})),BU217)","v":11.646147101420675},{"$f":"IF(BW216>0,AVERAGE(SMALL(IF(BD216:BW216>0,BD216:BW216),{1,2,3,4,5,6,7,8})),BV217)","v":11.646147101420675},{"$f":"IF(BX216>0,AVERAGE(SMALL(IF(BE216:BX216>0,BE216:BX216),{1,2,3,4,5,6,7,8})),BW217)","v":11.617999766472158},{"$f":"IF(BY216>0,AVERAGE(SMALL(IF(BF216:BY216>0,BF216:BY216),{1,2,3,4,5,6,7,8})),BX217)","v":10.792050594520079},{"$f":"IF(BZ216>0,AVERAGE(SMALL(IF(BG216:BZ216>0,BG216:BZ216),{1,2,3,4,5,6,7,8})),BY217)","v":10.792050594520079},{"$f":"IF(CA216>0,AVERAGE(SMALL(IF(BH216:CA216>0,BH216:CA216),{1,2,3,4,5,6,7,8})),BZ217)","v":10.595650536245023},{"$f":"IF(CB216>0,AVERAGE(SMALL(IF(BI216:CB216>0,BI216:CB216),{1,2,3,4,5,6,7,8})),CA217)","v":10.401884510603997},{"$f":"IF(CC216>0,AVERAGE(SMALL(IF(BJ216:CC216>0,BJ216:CC216),{1,2,3,4,5,6,7,8})),CB217)","v":10.313966131273405},{"$f":"IF(CD216>0,AVERAGE(SMALL(IF(BK216:CD216>0,BK216:CD216),{1,2,3,4,5,6,7,8})),CC217)","v":10.481273823581096},{"$f":"IF(CE216>0,AVERAGE(SMALL(IF(BL216:CE216>0,BL216:CE216),{1,2,3,4,5,6,7,8})),CD217)","v":9.8454476127548851},{"$f":"IF(CF216>0,AVERAGE(SMALL(IF(BM216:CF216>0,BM216:CF216),{1,2,3,4,5,6,7,8})),CE217)","v":9.4485393603838475},{"$f":"IF(CG216>0,AVERAGE(SMALL(IF(BN216:CG216>0,BN216:CG216),{1,2,3,4,5,6,7,8})),CF217)","v":9.4994564511387249},{"$f":"IF(CH216>0,AVERAGE(SMALL(IF(BO216:CH216>0,BO216:CH216),{1,2,3,4,5,6,7,8})),CG217)","v":9.0034640847265113},{"$f":"IF(CI216>0,AVERAGE(SMALL(IF(BP216:CI216>0,BP216:CI216),{1,2,3,4,5,6,7,8})),CH217)","v":9.0034640847265113},{"$f":"IF(CJ216>0,AVERAGE(SMALL(IF(BQ216:CJ216>0,BQ216:CJ216),{1,2,3,4,5,6,7,8})),CI217)","v":9.0034640847265113},{"$f":"IF(CK216>0,AVERAGE(SMALL(IF(BR216:CK216>0,BR216:CK216),{1,2,3,4,5,6,7,8})),CJ217)","v":8.7197751116625373},{"$f":"IF(CL216>0,AVERAGE(SMALL(IF(BS216:CL216>0,BS216:CL216),{1,2,3,4,5,6,7,8})),CK217)","v":8.7197751116625373},{"$f":"IF(CM216>0,AVERAGE(SMALL(IF(BT216:CM216>0,BT216:CM216),{1,2,3,4,5,6,7,8})),CL217)","v":9.1127168840374502},{"$f":"IF(CN216>0,AVERAGE(SMALL(IF(BU216:CN216>0,BU216:CN216),{1,2,3,4,5,6,7,8})),CM217)","v":8.6846865810071474},{"$f":"IF(CO216>0,AVERAGE(SMALL(IF(BV216:CO216>0,BV216:CO216),{1,2,3,4,5,6,7,8})),CN217)","v":9.0616636513286828},{"$f":"IF(CP216>0,AVERAGE(SMALL(IF(BW216:CP216>0,BW216:CP216),{1,2,3,4,5,6,7,8})),CO217)","v":8.5735444788345117},{"$f":"IF(CQ216>0,AVERAGE(SMALL(IF(BX216:CQ216>0,BX216:CQ216),{1,2,3,4,5,6,7,8})),CP217)","v":8.5735444788345117},{"$f":"IF(CR216>0,AVERAGE(SMALL(IF(BY216:CR216>0,BY216:CR216),{1,2,3,4,5,6,7,8})),CQ217)","v":8.5735444788345117},{"$f":"IF(CS216>0,AVERAGE(SMALL(IF(BZ216:CS216>0,BZ216:CS216),{1,2,3,4,5,6,7,8})),CR217)","v":8.5735444788345117},{"$f":"IF(CT216>0,AVERAGE(SMALL(IF(CA216:CT216>0,CA216:CT216),{1,2,3,4,5,6,7,8})),CS217)","v":8.5735444788345117},{"$f":"IF(CU216>0,AVERAGE(SMALL(IF(CB216:CU216>0,CB216:CU216),{1,2,3,4,5,6,7,8})),CT217)","v":8.5735444788345117},{"$f":"IF(CV216>0,AVERAGE(SMALL(IF(CC216:CV216>0,CC216:CV216),{1,2,3,4,5,6,7,8})),CU217)","v":8.5735444788345117},{"$f":"IF(CW216>0,AVERAGE(SMALL(IF(CD216:CW216>0,CD216:CW216),{1,2,3,4,5,6,7,8})),CV217)","v":8.5735444788345117}]
[null,null,null,null,null,null,null,null,"Low Hcap",null,null,null,null,null,null,null,null,null,null,null,null,null,null,null,null,null,null,null,{"$f":"MIN($L217:AC217)","v":12.097727272727269},{"$f":"MIN($L217:AD217)","v":12.097727272727269},{"$f":"MIN($M217:AE217)","v":12.097727272727269},{"$f":"MIN($N217:AF217)","v":12.461371974632328},{"$f":"MIN($O217:AG217)","v":12.461371974632328},{"$f":"MIN($O217:AH217)","v":12.461371974632328},{"$f":"MIN($O217:AI217)","v":12.461371974632328},{"$f":"MIN($O217:AJ217)","v":12.461371974632328},{"$f":"MIN($O217:AK217)","v":12.461371974632328},{"$f":"MIN($O217:AL217)","v":12.461371974632328},{"$f":"MIN($O217:AM217)","v":12.461371974632328},{"$f":"MIN($R217:AN217)","v":12.461371974632328},{"$f":"MIN($R217:AO217)","v":12.461371974632328},{"$f":"MIN($V217:AP217)","v":12.461371974632328},{"$f":"MIN($X217:AQ217)","v":12.461371974632328},{"$f":"MIN($X217:AR217)","v":12.461371974632328},{"$f":"MIN($Y217:AS217)","v":12.461371974632328},{"$f":"MIN($Z217:AT217)","v":12.461371974632328},{"$f":"MIN($Z217:AU217)","v":12.461371974632328},{"$f":"MIN($AA217:AV217)","v":12.461371974632328},{"$f":"MIN($AA217:AW217)","v":12.461371974632328},{"$f":"MIN($AA217:AX217)","v":12.461371974632328},{"$f":"MIN($AA217:AY217)","v":12.461371974632328},{"$f":"MIN($AB217:AZ217)","v":12.985538028419858},{"$f":"MIN($AB217:BA217)","v":12.985538028419858},{"$f":"MIN($AB217:BB217)","v":12.985538028419858},{"$f":"MIN($AB217:BC217)","v":12.985538028419858},{"$f":"MIN($AB217:BD217)","v":12.985538028419858},{"$f":"MIN($AB217:BE217)","v":12.985538028419858},{"$f":"MIN($AB217:BF217)","v":12.985538028419858},{"$f":"MIN($AB217:BG217)","v":12.985538028419858},{"$f":"MIN($AB217:BH217)","v":12.985538028419858},{"$f":"MIN($AB217:BI217)","v":12.985538028419858},{"$f":"MIN($AD217:BJ217)","v":13.25812988336572},{"$f":"MIN($AF217:BK217)","v":13.085818745627504},{"$f":"MIN($AG217:BL217)","v":13.085818745627504},{"$f":"MIN($AH217:BM217)","v":12.789290967849723},{"$f":"MIN($AJ217:BN217)","v":12.789290967849723},{"$f":"MIN($AJ217:BO217)","v":12.789290967849723},{"$f":"MIN($AK217:BP217)","v":12.789290967849723},{"$f":"MIN($AL217:BQ217)","v":12.789290967849723},{"$f":"MIN($AM217:BR217)","v":12.789290967849723},{"$f":"MIN($AN217:BS217)","v":12.247671564965788},{"$f":"MIN($AO217:BT217)","v":12.247671564965788},{"$f":"MIN($AP217:BU217)","v":11.646147101420675},{"$f":"MIN($AP217:BV217)","v":11.646147101420675},{"$f":"MIN($AP217:BW217)","v":11.646147101420675},{"$f":"MIN($AP217:BX217)","v":11.617999766472158},{"$f":"MIN($AP217:BY217)","v":10.792050594520079},{"$f":"MIN($AQ217:BZ217)","v":10.792050594520079},{"$f":"MIN($AQ217:CA217)","v":10.595650536245023},{"$f":"MIN($AR217:CB217)","v":10.401884510603997},{"$f":"MIN($AT217:CC217)","v":10.313966131273405},{"$f":"MIN($AT217:CD217)","v":10.313966131273405},{"$f":"MIN($AU217:CE217)","v":9.8454476127548851},{"$f":"MIN($AU217:CF217)","v":9.4485393603838475},{"$f":"MIN($BE217:CG217)","v":9.4485393603838475},{"$f":"MIN($BJ217:CH217)","v":9.0034640847265113},{"$f":"MIN($BJ217:CI217)","v":9.0034640847265113},{"$f":"MIN($BK217:CJ217)","v":9.0034640847265113},{"$f":"MIN($BL217:CK217)","v":8.7197751116625373},{"$f":"MIN($BL217:CL217)","v":8.7197751116625373},{"$f":"MIN($BL217:CM217)","v":8.7197751116625373},{"$f":"MIN($BP217:CN217)","v":8.6846865810071474},{"$f":"MIN($BP217:CO217)","v":8.6846865810071474},{"$f":"MIN($BP217:CP217)","v":8.5735444788345117},{"$f":"MIN($BS217:CQ217)","v":8.5735444788345117},{"$f":"MIN($BS217:CR217)","v":8.5735444788345117},{"$f":"MIN($BS217:CS217)","v":8.5735444788345117},{"$f":"MIN($BS217:CT217)","v":8.5735444788345117},{"$f":"MIN($BS217:CU217)","v":8.5735444788345117},{"$f":"MIN($BS217:CV217)","v":8.5735444788345117},{"$f":"MIN($BS217:CW217)","v":8.5735444788345117}]
[null,"Girdler","David",13.5,"Y",{"$f":"IF(H219<4,\"Y\",)","v":0},2002,{"$f":"COUNT(J219:CX219)","v":87},"Date","2020-05-20","2020-05-24","2020-05-31","2020-06-05","2020-06-10","2020-06-14","2020-06-19","2020-06-28","2020-07-03","2020-07-12","2020-07-15","2020-07-26","2020-07-31","2020-08-09","2020-08-14","2020-08-23","2020-08-26","2020-09-16","2020-10-04","2020-10-09","2021-04-25","2021-04-30","2021-05-09","2021-05-14","2021-05-23","2021-05-30","2021-06-04","2021-06-09","2021-06-13","2021-06-19","2021-07-11","2021-07-16","2021-07-21","2021-07-25","2021-07-31","2021-08-08","2021-08-14","2021-08-18","2021-08-22","2021-08-27","2021-09-03","2021-09-04","2021-09-05","2021-09-08","2021-09-17","2021-09-19","2021-10-03","2021-10-24","2021-10-31","2022-03-27","2022-04-20","2022-05-01","2022-05-07","2022-05-08","2022-05-11","2022-05-15","2022-05-20","2022-05-29","2022-06-25","2022-06-26","2022-07-10","2022-07-20","2022-07-24","2022-07-31","2022-08-03","2022-08-07","2022-08-12","2022-08-21","2022-08-26","2022-09-11","2022-09-14","2022-09-23","2022-10-07","2022-11-09","2022-11-13","2023-05-07","2023-05-10","2023-05-17","2023-05-18","2023-05-19","2023-05-20","2023-05-21","2023-05-22","2023-05-23","2023-05-24","2023-05-25","2023-05-26",null,null,null,null,null,null,{"$f":"IF(CW223>$DD$1,36,CW223)","v":15.185419280260799},13.146183993925675,{"$f":"CZ219-CY219","v":-2.0392352863351242}]
[null,null,null,null,null,null,null,null,"Course","GutThailingHG","PfaffingHG","ErdingHG","ErdingHG","GutThailingHG","OdelzhausenHG","StEurachHG","ErdingHG","TegernbachHG","PfaffingHG","GutThailingHG","OdelzhausenHG","StEurachHG","ErdingHG","EgmatingHG","PfaffingHG","GutThailingHG","GutThailingHG","OdelzhausenHG","TegernbachHG","PfaffingHG","TegernbachHG","ErdingHG","StEurachHG","OdelzhausenHG","IffeldorfHG","EgmatingHG","Aschheim","PfaffingHG","TegernbachHG","PfaffingHG","MaxlrainHG","GutThailingHG","OdelzhausenHG","Odelzhausen","IffeldorfHG","Maxlrain","GutThailingHG","PfaffingHG","AschheimHG","StEurachHG","Aschheim","Aschheim","GutThailingHG","Aschheim","ErdingHG","OdelzhausenHG","Aschheim","ErdingHG","OdelzhausenHG","GutThailing2022HG","ErdingHG","Hohenpaehl","Aschheim","AschheimHG","OdelzhausenHG","GutHaeusenHG","OdelzhausenHG","AlgaeuerHG","AlgaeuerHG","IffeldorfHG","AschheimHG","Pfaffing2022HG","HohenpaehlHG","GutThailing2022HG","IffeldorfHG","ValleyHG","Pfaffing2022HG","EschenhofHG","Pfaffing2022HG","GutThailing2022HG","ReichertshausenHG","EgmatingHG","GutThailing2022HG","ErdingHG","Odelzhausen2023HG","AschheimHG","Prestwick","Troon","Turnberry","Dundonald","Elie","Kingsbarns","St Andrews Castle","St Andrews Old","Bamburgh","Dunstanburgh"]
[null,null,null,null,null,null,null,null,"Ad Gr",96,102,96,88,88,93,96,88,92,90,87,89,95,89,88,87,95,83,86,87,91,97,98,87,97,97,94,null,100,89,95,102,93,93,null,96,null,89,85,94,95,null,null,94,null,99,95,null,90,97,90,100,null,null,100,96,85,82,89,89,88,95,95,90,98,87,99,94,89,87,91,96,101,91,91,101,102,87,100,88,95,84,88,90,104,82,97]
[null,null,null,null,null,null,null,null,"SD",{"$f":"IF(J221=\"\",0,(J221-INDIRECT(CONCATENATE(J220,\"CR\")))*113/INDIRECT(CONCATENATE(J220,\"SR\")))","v":21.996183206106871},{"$f":"IF(K221=\"\",0,(K221-INDIRECT(CONCATENATE(K220,\"CR\")))*113/INDIRECT(CONCATENATE(K220,\"SR\")))","v":26.076923076923077},21.73076923076923,14.776923076923078,15.095419847328245,18.862992125984256,20.788549618320605,14.776923076923078,17.3780303030303,15.646153846153846,14.232824427480915,15.303937007874019,19.925954198473278,15.646153846153846,13.542748091603055,13.038461538461538,21.133587786259543,10.782442748091603,12.634645669291341,13.097727272727269,16.515384615384615,21.658333333333331,23.469230769230769,13.02519083969465,22.42204724409449,22.599999999999998,18.718320610687027,15,{"$f":"IF(AL221=\"\",0,(AL221-INDIRECT(CONCATENATE(AL220,\"CR\")))*113/INDIRECT(CONCATENATE(AL220,\"SR\")))","v":24.338461538461537},14.809848484848482,19.992307692307691,24.178676470588229,19.408396946564885,18.862992125984256,23.3,{"$f":"IF(AS221=\"\",0,(AS221-INDIRECT(CONCATENATE(AS220,\"CR\")))*113/INDIRECT(CONCATENATE(AS220,\"SR\")))","v":21.724031007751936},26.7,15.958015267175572,11.3,19.432575757575762,19.925954198473278,22,27.1,{"$f":"IF(BA221=\"\",0,(BA221-INDIRECT(CONCATENATE(BA220,\"CR\")))*113/INDIRECT(CONCATENATE(BA220,\"SR\")))","v":20.270992366412212},13.4,{"$f":"IF(BC221=\"\",0,(BC221-INDIRECT(CONCATENATE(BC220,\"CR\")))*113/INDIRECT(CONCATENATE(BC220,\"SR\")))","v":24.338461538461537},20.642519685039375,23.7,{"$f":"IF(BF221=\"\",0,(BF221-INDIRECT(CONCATENATE(BF220,\"CR\")))*113/INDIRECT(CONCATENATE(BF220,\"SR\")))","v":16.515384615384615},22.42204724409449,16.863076923076928,25.207692307692309,19.2,11.5,{"$f":"IF(BL221=\"\",0,(BL221-INDIRECT(CONCATENATE(BL220,\"CR\")))*113/INDIRECT(CONCATENATE(BL220,\"SR\")))","v":24.568939393939395},21.53228346456693,11.744881889763782,9.0755905511811044,14.319083969465643,14.319083969465643,14.716279069767438,20.288636363636368,19.38384615384615,16.648091603053434,23.816923076923082,13.840310077519376,21.344444444444445,18.514615384615382,14.724242424242426,12.429999999999998,17.7323076923077,22.689682539682536,24.756488549618325,17.7323076923077,17.384615384615383,26.791935483870972,26.28106060606061,{"$f":"(CI221-70.6)*113/122","v":15.190163934426236},{"$f":"(CJ221-71.5)*113/136","v":23.680147058823529},{"$f":"(CK221-70)*113/124","v":16.403225806451612},{"$f":"(CL221-72.2)*113/130","v":19.818461538461534},{"$f":"(CM221-69.3)*113/121","v":13.728099173553723},{"$f":"(CN221-71.3)*113/133","v":14.188721804511282},{"$f":"(CO221-69.3)*113/128","v":18.274218750000003},{"$f":"(CP221-71.4)*113/129","v":28.556589147286815},{"$f":"(CQ221-65.8)*113/105","v":17.434285714285718},{"$f":"(CR221-69.5)*113/125","v":24.86},{"$f":"IF(CS221=\"\",0,(CS221-INDIRECT(CONCATENATE(CS220,\"CR\")))*113/INDIRECT(CONCATENATE(CS220,\"SR\")))","v":0},0,{"$f":"IF(CU221=\"\",0,(CU221-INDIRECT(CONCATENATE(CU220,\"CR\")))*113/INDIRECT(CONCATENATE(CU220,\"SR\")))","v":0},0,{"$f":"IF(CW221=\"\",0,(CW221-INDIRECT(CONCATENATE(CW220,\"CR\")))*113/INDIRECT(CONCATENATE(CW220,\"SR\")))","v":0}]
[null,null,null,null,null,null,null,null,"New Hcap",{"$f":"J222-2","v":19.996183206106871},{"$f":"IF(K222>0,MIN(J222:K222)-2,J223)","v":19.996183206106871},{"$f":"IF(L222>0,MIN(J222:L222)-2,K223)","v":19.73076923076923},{"$f":"IF(M222>0,MIN(J222:M222)-1,L223)","v":13.776923076923078},{"$f":"IF(N222>0,MIN(J222:N222),M223)","v":14.776923076923078},{"$f":"IF(O222>0,AVERAGE(SMALL(IF(J222:O222>0,J222:O222),{1,2}))-1,N223)","v":13.93617146212566},{"$f":"IF(P222>0,AVERAGE(SMALL(IF(J222:P222>0,J222:P222),{1,2})),O223)","v":14.93617146212566},{"$f":"IF(Q222>0,AVERAGE(SMALL(IF(J222:Q222>0,J222:Q222),{1,2})),P223)","v":14.776923076923078},{"$f":"IF(R222>0,AVERAGE(SMALL(IF(J222:R222>0,J222:R222),{1,2,3})),Q223)","v":14.883088667058132},{"$f":"IF(S222>0,AVERAGE(SMALL(IF(J222:S222>0,J222:S222),{1,2,3})),R223)","v":14.883088667058132},{"$f":"IF(T222>0,AVERAGE(SMALL(IF(J222:T222>0,J222:T222),{1,2,3})),S223)","v":14.595556860442358},{"$f":"IF(U222>0,AVERAGE(SMALL(IF(J222:U222>0,J222:U222),{1,2,3,4})),T223)","v":14.720522607163829},{"$f":"IF(V222>0,AVERAGE(SMALL(IF(J222:V222>0,J222:V222),{1,2,3,4})),U223)","v":14.720522607163829},{"$f":"IF(W222>0,AVERAGE(SMALL(IF(J222:W222>0,J222:W222),{1,2,3,4})),V223)","v":14.720522607163829},{"$f":"IF(X222>0,AVERAGE(SMALL(IF(J222:X222>0,J222:X222),{1,2,3,4,5})),W223)","v":14.484967704051673},{"$f":"IF(Y222>0,AVERAGE(SMALL(IF(J222:Y222>0,J222:Y222),{1,2,3,4,5})),X223)","v":14.073576042278333},{"$f":"IF(Z222>0,AVERAGE(SMALL(IF(J222:Z222>0,J222:Z222),{1,2,3,4,5,6})),Y223)","v":14.243883343119984},{"$f":"IF(AA222>0,AVERAGE(SMALL(IF(J222:AA222>0,J222:AA222),{1,2,3,4,5,6})),Z223)","v":13.525053826580546},{"$f":"IF(AB222>0,AVERAGE(SMALL(IF(J222:AB222>0,J222:AB222),{1,2,3,4,5,6,7})),AA223)","v":13.397852661253518},{"$f":"IF(AC222>0,AVERAGE(SMALL(IF(J222:AC222>0,J222:AC222),{1,2,3,4,5,6,7,8})),AB223)","v":13.360336987687736},{"$f":"IF(AD222>0,AVERAGE(SMALL(IF(K222:AD222>0,K222:AD222),{1,2,3,4,5,6,7,8})),AC223)","v":13.360336987687736},{"$f":"IF(AE222>0,AVERAGE(SMALL(IF(L222:AE222>0,L222:AE222),{1,2,3,4,5,6,7,8})),AD223)","v":13.360336987687736},{"$f":"IF(AF222>0,AVERAGE(SMALL(IF(M222:AF222>0,M222:AF222),{1,2,3,4,5,6,7,8})),AE223)","v":13.360336987687736},{"$f":"IF(AG222>0,AVERAGE(SMALL(IF(N222:AG222>0,N222:AG222),{1,2,3,4,5,6,7,8})),AF223)","v":13.141370458034183},{"$f":"IF(AH222>0,AVERAGE(SMALL(IF(O222:AH222>0,O222:AH222),{1,2,3,4,5,6,7,8})),AG223)","v":13.141370458034183},{"$f":"IF(AI222>0,AVERAGE(SMALL(IF(P222:AI222>0,P222:AI222),{1,2,3,4,5,6,7,8})),AH223)","v":13.141370458034183},{"$f":"IF(AJ222>0,AVERAGE(SMALL(IF(Q222:AJ222>0,Q222:AJ222),{1,2,3,4,5,6,7,8})),AI223)","v":13.141370458034183},{"$f":"IF(AK222>0,AVERAGE(SMALL(IF(R222:AK222>0,R222:AK222),{1,2,3,4,5,6,7,8})),AJ223)","v":13.169255073418798},{"$f":"IF(AL222>0,AVERAGE(SMALL(IF(S222:AL222>0,S222:AL222),{1,2,3,4,5,6,7,8})),AK223)","v":13.169255073418798},{"$f":"IF(AM222>0,AVERAGE(SMALL(IF(T222:AM222>0,T222:AM222),{1,2,3,4,5,6,7,8})),AL223)","v":13.145486134024859},{"$f":"IF(AN222>0,AVERAGE(SMALL(IF(U222:AN222>0,U222:AN222),{1,2,3,4,5,6,7,8})),AM223)","v":13.241383080589744},{"$f":"IF(AO222>0,AVERAGE(SMALL(IF(V222:AO222>0,V222:AO222),{1,2,3,4,5,6,7,8})),AN223)","v":13.241383080589744},{"$f":"IF(AP222>0,AVERAGE(SMALL(IF(W222:AP222>0,W222:AP222),{1,2,3,4,5,6,7,8})),AO223)","v":13.241383080589744},{"$f":"IF(AQ222>0,AVERAGE(SMALL(IF(X222:AQ222>0,X222:AQ222),{1,2,3,4,5,6,7,8})),AP223)","v":13.241383080589744},{"$f":"IF(AR222>0,AVERAGE(SMALL(IF(Y222:AR222>0,Y222:AR222),{1,2,3,4,5,6,7,8})),AQ223)","v":13.612962646062439},{"$f":"IF(AS222>0,AVERAGE(SMALL(IF(Z222:AS222>0,Z222:AS222),{1,2,3,4,5,6,7,8})),AR223)","v":14.322945030090624},{"$f":"IF(AT222>0,AVERAGE(SMALL(IF(AA222:AT222>0,AA222:AT222),{1,2,3,4,5,6,7,8})),AS223)","v":14.322945030090624},{"$f":"IF(AU222>0,AVERAGE(SMALL(IF(AB222:AU222>0,AB222:AU222),{1,2,3,4,5,6,7,8})),AT223)","v":14.96989159497612},{"$f":"IF(AV222>0,AVERAGE(SMALL(IF(AC222:AV222>0,AC222:AV222),{1,2,3,4,5,6,7,8})),AU223)","v":14.803060886314702},{"$f":"IF(AW222>0,AVERAGE(SMALL(IF(AD222:AW222>0,AD222:AW222),{1,2,3,4,5,6,7,8})),AV223)","v":15.523718992971826},{"$f":"IF(AX222>0,AVERAGE(SMALL(IF(AE222:AX222>0,AE222:AX222),{1,2,3,4,5,6,7,8})),AW223)","v":15.88534553436936},{"$f":"IF(AY222>0,AVERAGE(SMALL(IF(AF222:AY222>0,AF222:AY222),{1,2,3,4,5,6,7,8})),AX223)","v":15.88534553436936},{"$f":"IF(AZ222>0,AVERAGE(SMALL(IF(AG222:AZ222>0,AG222:AZ222),{1,2,3,4,5,6,7,8})),AY223)","v":15.88534553436936},{"$f":"IF(BA222>0,AVERAGE(SMALL(IF(AH222:BA222>0,AH222:BA222),{1,2,3,4,5,6,7,8})),AZ223)","v":16.686268649104498},{"$f":"IF(BB222>0,AVERAGE(SMALL(IF(AI222:BB222>0,AI222:BB222),{1,2,3,4,5,6,7,8})),BA223)","v":15.932196679407529},{"$f":"IF(BC222>0,AVERAGE(SMALL(IF(AJ222:BC222>0,AJ222:BC222),{1,2,3,4,5,6,7,8})),BB223)","v":15.932196679407529},{"$f":"IF(BD222>0,AVERAGE(SMALL(IF(AK222:BD222>0,AK222:BD222),{1,2,3,4,5,6,7,8})),BC223)","v":16.021478572768622},{"$f":"IF(BE222>0,AVERAGE(SMALL(IF(AL222:BE222>0,AL222:BE222),{1,2,3,4,5,6,7,8})),BD223)","v":16.637222847577782},{"$f":"IF(BF222>0,AVERAGE(SMALL(IF(AM222:BF222>0,AM222:BF222),{1,2,3,4,5,6,7,8})),BE223)","v":16.210901649691699},16.600000000000001,{"$f":"IF(BH222>0,AVERAGE(SMALL(IF(AO222:BH222>0,AO222:BH222),{1,2,3,4,5,6,7,8})),BG223)","v":16.467555204470255},{"$f":"IF(BI222>0,AVERAGE(SMALL(IF(AP222:BI222>0,AP222:BI222),{1,2,3,4,5,6,7,8})),BH223)","v":16.467555204470255},{"$f":"IF(BJ222>0,AVERAGE(SMALL(IF(AQ222:BJ222>0,AQ222:BJ222),{1,2,3,4,5,6,7,8})),BI223)","v":16.441505586149646},{"$f":"IF(BK222>0,AVERAGE(SMALL(IF(AR222:BK222>0,AR222:BK222),{1,2,3,4,5,6,7,8})),BJ223)","v":15.521131570401611},{"$f":"IF(BL222>0,AVERAGE(SMALL(IF(AS222:BL222>0,AS222:BL222),{1,2,3,4,5,6,7,8})),BK223)","v":15.521131570401611},{"$f":"IF(BM222>0,AVERAGE(SMALL(IF(AT222:BM222>0,AT222:BM222),{1,2,3,4,5,6,7,8})),BL223)","v":15.521131570401611},{"$f":"IF(BN222>0,AVERAGE(SMALL(IF(AU222:BN222>0,AU222:BN222),{1,2,3,4,5,6,7,8})),BM223)","v":14.560169836925114},{"$f":"IF(BO222>0,AVERAGE(SMALL(IF(AV222:BO222>0,AV222:BO222),{1,2,3,4,5,6,7,8})),BN223)","v":13.699866747425805},{"$f":"IF(BP222>0,AVERAGE(SMALL(IF(AW222:BP222>0,AW222:BP222),{1,2,3,4,5,6,7,8})),BO223)","v":14.07725224360901},{"$f":"IF(BQ222>0,AVERAGE(SMALL(IF(AX222:BQ222>0,AX222:BQ222),{1,2,3,4,5,6,7,8})),BP223)","v":13.467137739792214},{"$f":"IF(BR222>0,AVERAGE(SMALL(IF(AY222:BR222>0,AY222:BR222),{1,2,3,4,5,6,7,8})),BQ223)","v":13.198788008128528},{"$f":"IF(BS222>0,AVERAGE(SMALL(IF(AZ222:BS222>0,AZ222:BS222),{1,2,3,4,5,6,7,8})),BR223)","v":13.198788008128528},{"$f":"IF(BT222>0,AVERAGE(SMALL(IF(BA222:BT222>0,BA222:BT222),{1,2,3,4,5,6,7,8})),BS223)","v":13.198788008128528},{"$f":"IF(BU222>0,AVERAGE(SMALL(IF(BB222:BU222>0,BB222:BU222),{1,2,3,4,5,6,7,8})),BT223)","v":13.198788008128528},{"$f":"IF(BV222>0,AVERAGE(SMALL(IF(BC222:BV222>0,BC222:BV222),{1,2,3,4,5,6,7,8})),BU223)","v":13.604799458510207},{"$f":"IF(BW222>0,AVERAGE(SMALL(IF(BD222:BW222>0,BD222:BW222),{1,2,3,4,5,6,7,8})),BV223)","v":13.253826767818451},{"$f":"IF(BX222>0,AVERAGE(SMALL(IF(BE222:BX222>0,BE222:BX222),{1,2,3,4,5,6,7,8})),BW223)","v":13.253826767818451},{"$f":"IF(BY222>0,AVERAGE(SMALL(IF(BF222:BY222>0,BF222:BY222),{1,2,3,4,5,6,7,8})),BX223)","v":13.253826767818451},{"$f":"IF(BZ222>0,AVERAGE(SMALL(IF(BG222:BZ222>0,BG222:BZ222),{1,2,3,4,5,6,7,8})),BY223)","v":13.029933993925678},{"$f":"IF(CA222>0,AVERAGE(SMALL(IF(BH222:CA222>0,BH222:CA222),{1,2,3,4,5,6,7,8})),BZ223)","v":12.743153690895372},{"$f":"IF(CB222>0,AVERAGE(SMALL(IF(BI222:CB222>0,BI222:CB222),{1,2,3,4,5,6,7,8})),CA223)","v":12.743153690895372},{"$f":"IF(CC222>0,AVERAGE(SMALL(IF(BJ222:CC222>0,BJ222:CC222),{1,2,3,4,5,6,7,8})),CB223)","v":12.743153690895372},{"$f":"IF(CD222>0,AVERAGE(SMALL(IF(BK222:CD222>0,BK222:CD222),{1,2,3,4,5,6,7,8})),CC223)","v":12.743153690895372},{"$f":"IF(CE222>0,AVERAGE(SMALL(IF(BL222:CE222>0,BL222:CE222),{1,2,3,4,5,6,7,8})),CD223)","v":13.146183993925675},{"$f":"IF(CF222>0,AVERAGE(SMALL(IF(BM222:CF222>0,BM222:CF222),{1,2,3,4,5,6,7,8})),CE223)","v":13.146183993925675},{"$f":"IF(CG222>0,AVERAGE(SMALL(IF(BN222:CG222>0,BN222:CG222),{1,2,3,4,5,6,7,8})),CF223)","v":13.146183993925675},{"$f":"IF(CH222>0,AVERAGE(SMALL(IF(BO222:CH222>0,BO222:CH222),{1,2,3,4,5,6,7,8})),CG223)","v":13.759085208086882},{"$f":"IF(CI222>0,AVERAGE(SMALL(IF(BP222:CI222>0,BP222:CI222),{1,2,3,4,5,6,7,8})),CH223)","v":14.523406880992523},{"$f":"IF(CJ222>0,AVERAGE(SMALL(IF(BQ222:CJ222>0,BQ222:CJ222),{1,2,3,4,5,6,7,8})),CI223)","v":14.906598307886243},{"$f":"IF(CK222>0,AVERAGE(SMALL(IF(BR222:CK222>0,BR222:CK222),{1,2,3,4,5,6,7,8})),CJ223)","v":15.167116037509489},{"$f":"IF(CL222>0,AVERAGE(SMALL(IF(BS222:CL222>0,BS222:CL222),{1,2,3,4,5,6,7,8})),CK223)","v":15.544119615327022},{"$f":"IF(CM222>0,AVERAGE(SMALL(IF(BT222:CM222>0,BT222:CM222),{1,2,3,4,5,6,7,8})),CL223)","v":15.043593550482774},{"$f":"IF(CN222>0,AVERAGE(SMALL(IF(BU222:CN222>0,BU222:CN222),{1,2,3,4,5,6,7,8})),CM223)","v":14.644106852969761},{"$f":"IF(CO222>0,AVERAGE(SMALL(IF(BV222:CO222>0,BV222:CO222),{1,2,3,4,5,6,7,8})),CN223)","v":14.736172325665006},{"$f":"IF(CP222>0,AVERAGE(SMALL(IF(BW222:CP222>0,BW222:CP222),{1,2,3,4,5,6,7,8})),CO223)","v":14.736172325665006},{"$f":"IF(CQ222>0,AVERAGE(SMALL(IF(BX222:CQ222>0,BX222:CQ222),{1,2,3,4,5,6,7,8})),CP223)","v":15.185419280260799},{"$f":"IF(CR222>0,AVERAGE(SMALL(IF(BY222:CR222>0,BY222:CR222),{1,2,3,4,5,6,7,8})),CQ223)","v":15.185419280260799},{"$f":"IF(CS222>0,AVERAGE(SMALL(IF(BZ222:CS222>0,BZ222:CS222),{1,2,3,4,5,6,7,8})),CR223)","v":15.185419280260799},{"$f":"IF(CT222>0,AVERAGE(SMALL(IF(CA222:CT222>0,CA222:CT222),{1,2,3,4,5,6,7,8})),CS223)","v":15.185419280260799},{"$f":"IF(CU222>0,AVERAGE(SMALL(IF(CB222:CU222>0,CB222:CU222),{1,2,3,4,5,6,7,8})),CT223)","v":15.185419280260799},{"$f":"IF(CV222>0,AVERAGE(SMALL(IF(CC222:CV222>0,CC222:CV222),{1,2,3,4,5,6,7,8})),CU223)","v":15.185419280260799},{"$f":"IF(CW222>0,AVERAGE(SMALL(IF(CD222:CW222>0,CD222:CW222),{1,2,3,4,5,6,7,8})),CV223)","v":15.185419280260799}]
[null,null,null,null,null,null,null,null,"Low Hcap",null,null,null,null,null,null,null,null,null,null,null,null,null,null,null,null,null,null,null,{"$f":"MIN($J223:AC223)","v":13.360336987687736},{"$f":"MIN($J223:AD223)","v":13.360336987687736},{"$f":"MIN($J223:AE223)","v":13.360336987687736},{"$f":"MIN($J223:AF223)","v":13.360336987687736},{"$f":"MIN($J223:AG223)","v":13.141370458034183},{"$f":"MIN($J223:AH223)","v":13.141370458034183},{"$f":"MIN($L223:AI223)","v":13.141370458034183},{"$f":"MIN($M223:AJ223)","v":13.141370458034183},{"$f":"MIN($N223:AK223)","v":13.141370458034183},{"$f":"MIN($O223:AL223)","v":13.141370458034183},{"$f":"MIN($P223:AM223)","v":13.141370458034183},{"$f":"MIN($S223:AN223)","v":13.141370458034183},{"$f":"MIN($U223:AO223)","v":13.141370458034183},{"$f":"MIN($U223:AP223)","v":13.141370458034183},{"$f":"MIN($U223:AQ223)","v":13.141370458034183},{"$f":"MIN($V223:AR223)","v":13.141370458034183},{"$f":"MIN($W223:AS223)","v":13.141370458034183},{"$f":"MIN($X223:AT223)","v":13.141370458034183},{"$f":"MIN($Y223:AU223)","v":13.141370458034183},{"$f":"MIN($Y223:AV223)","v":13.141370458034183},{"$f":"MIN($AA223:AW223)","v":13.141370458034183},{"$f":"MIN($AA223:AX223)","v":13.141370458034183},{"$f":"MIN($AA223:AY223)","v":13.141370458034183},{"$f":"MIN($AA223:AZ223)","v":13.141370458034183},{"$f":"MIN($AA223:BA223)","v":13.141370458034183},{"$f":"MIN($AB223:BB223)","v":13.141370458034183},{"$f":"MIN($AB223:BC223)","v":13.141370458034183},{"$f":"MIN($AB223:BD223)","v":13.141370458034183},{"$f":"MIN($AD223:BE223)","v":13.141370458034183},{"$f":"MIN($AD223:BF223)","v":13.141370458034183},{"$f":"MIN($AD223:BG223)","v":13.141370458034183},{"$f":"MIN($AD223:BH223)","v":13.141370458034183},{"$f":"MIN($AF223:BI223)","v":13.141370458034183},{"$f":"MIN($AF223:BJ223)","v":13.141370458034183},{"$f":"MIN($AF223:BK223)","v":13.141370458034183},{"$f":"MIN($AG223:BL223)","v":13.141370458034183},{"$f":"MIN($AH223:BM223)","v":13.141370458034183},{"$f":"MIN($AH223:BN223)","v":13.141370458034183},{"$f":"MIN($AI223:BO223)","v":13.141370458034183},{"$f":"MIN($AN223:BP223)","v":13.241383080589744},{"$f":"MIN($AN223:BQ223)","v":13.241383080589744},{"$f":"MIN($AN223:BR223)","v":13.198788008128528},{"$f":"MIN($AP223:BS223)","v":13.198788008128528},{"$f":"MIN($AQ223:BT223)","v":13.198788008128528},{"$f":"MIN($AR223:BU223)","v":13.198788008128528},{"$f":"MIN($AS223:BV223)","v":13.198788008128528},{"$f":"MIN($AS223:BW223)","v":13.198788008128528},{"$f":"MIN($AT223:BX223)","v":13.198788008128528},{"$f":"MIN($AT223:BY223)","v":13.198788008128528},{"$f":"MIN($AW223:BZ223)","v":13.029933993925678},{"$f":"MIN($BB223:CA223)","v":12.743153690895372},{"$f":"MIN($BB223:CB223)","v":12.743153690895372},{"$f":"MIN($BD223:CC223)","v":12.743153690895372},{"$f":"MIN($BE223:CD223)","v":12.743153690895372},{"$f":"MIN($BG223:CE223)","v":12.743153690895372},{"$f":"MIN($BG223:CF223)","v":12.743153690895372},{"$f":"MIN($BK223:CG223)","v":12.743153690895372},{"$f":"MIN($BL223:CH223)","v":12.743153690895372},{"$f":"MIN($BL223:CI223)","v":12.743153690895372},{"$f":"MIN($BL223:CJ223)","v":12.743153690895372},{"$f":"MIN($BO223:CK223)","v":12.743153690895372},{"$f":"MIN($BO223:CL223)","v":12.743153690895372},{"$f":"MIN($BO223:CM223)","v":12.743153690895372},{"$f":"MIN($BO223:CN223)","v":12.743153690895372},{"$f":"MIN($BO223:CO223)","v":12.743153690895372},{"$f":"MIN($BO223:CP223)","v":12.743153690895372},{"$f":"MIN($BO223:CQ223)","v":12.743153690895372},{"$f":"MIN($BO223:CR223)","v":12.743153690895372},{"$f":"MIN($BO223:CS223)","v":12.743153690895372},{"$f":"MIN($BO223:CT223)","v":12.743153690895372},{"$f":"MIN($BO223:CU223)","v":12.743153690895372},{"$f":"MIN($BO223:CV223)","v":12.743153690895372},{"$f":"MIN($BO223:CW223)","v":12.743153690895372}]
[null,"Goldner","Jake",15.8,null,{"$f":"IF(H225<4,\"Y\",)","v":0},null,{"$f":"COUNT(J225:CX225)","v":16},"Date",null,"2018-08-08","2020-05-24","2020-06-05","2020-06-19","2020-06-28","2020-07-31","2020-09-16","2020-11-06","2021-04-25","2021-05-30","2021-07-25","2021-09-03","2022-03-27","2022-04-15","2022-07-31","2022-09-11",null,null,null,null,null,null,null,null,null,null,null,null,null,null,null,null,null,null,null,null,null,null,null,null,null,null,null,null,null,null,null,null,null,null,null,null,null,null,null,null,null,null,null,null,null,null,null,null,null,null,null,null,null,null,null,null,null,null,null,null,null,null,null,null,null,null,null,null,null,null,null,null,null,null,null,null,{"$f":"IF(CW229>$DD$1,36,CW229)","v":20.248004043978618},20.248004043978618,{"$f":"CZ225-CY225","v":0}]
[null,null,null,null,null,null,null,null,"Course",null,"GutThailingHG","PfaffingHG","ErdingHG","StEurachHG","ErdingHG","StEurachHG","GutThailingHG","TegernbachHG","PfaffingHG","IffeldorfHG","OdelzhausenHR","StEurachHG","OdelzhausenHG","ReichertshausenHG","HohenpaehlHG","Pfaffing2022HG"]
[null,null,null,null,null,null,null,null,"Ad Gr",null,98,106,96,100,96,103,99,96,104,103,88,102,104,95,99,104]
[null,null,null,null,null,null,null,null,"SD",15.8,{"$f":"IF(K227=\"\",0,(K227-INDIRECT(CONCATENATE(K226,\"CR\")))*113/INDIRECT(CONCATENATE(K226,\"SR\")))","v":23.721374045801525},29.553846153846155,21.73076923076923,24.238931297709918,21.73076923076923,26.826717557251904,24.583969465648856,20.802272727272726,27.815384615384616,27.855813953488369,19.631355932203391,25.964122137404576,28.650393700787404,21.792857142857141,24.411450381679387,27.206923076923076,0,0,0,0,0,0,0,0,0,0,0,0,0,0,0,0,0,0,0,0,0,0,0,0,0,0,0,0,0,0,0,0,0,0,0,0,0,0,0,0,0,0,0,0,0,0,0,0,{"$f":"IF(BW227=\"\",0,(BW227-INDIRECT(CONCATENATE(BW226,\"CR\")))*113/INDIRECT(CONCATENATE(BW226,\"SR\")))","v":0},0,0,0,0,0,0,0,0,0,0,0,0,0,0,0,{"$f":"IF(CM227=\"\",0,(CM227-INDIRECT(CONCATENATE(CM226,\"CR\")))*113/INDIRECT(CONCATENATE(CM226,\"SR\")))","v":0},0,{"$f":"IF(CO227=\"\",0,(CO227-INDIRECT(CONCATENATE(CO226,\"CR\")))*113/INDIRECT(CONCATENATE(CO226,\"SR\")))","v":0},0,{"$f":"IF(CQ227=\"\",0,(CQ227-INDIRECT(CONCATENATE(CQ226,\"CR\")))*113/INDIRECT(CONCATENATE(CQ226,\"SR\")))","v":0},0,{"$f":"IF(CS227=\"\",0,(CS227-INDIRECT(CONCATENATE(CS226,\"CR\")))*113/INDIRECT(CONCATENATE(CS226,\"SR\")))","v":0},0,{"$f":"IF(CU227=\"\",0,(CU227-INDIRECT(CONCATENATE(CU226,\"CR\")))*113/INDIRECT(CONCATENATE(CU226,\"SR\")))","v":0},0,{"$f":"IF(CW227=\"\",0,(CW227-INDIRECT(CONCATENATE(CW226,\"CR\")))*113/INDIRECT(CONCATENATE(CW226,\"SR\")))","v":0}]
[null,null,null,null,null,null,null,null,"New Hcap",{"$f":"J228-2","v":13.8},{"$f":"IF(K228>0,MIN(J228:K228)-2,J229)","v":13.8},{"$f":"IF(L228>0,MIN(J228:L228)-2,K229)","v":13.8},{"$f":"IF(M228>0,MIN(J228:M228)-1,L229)","v":14.8},{"$f":"IF(N228>0,MIN(J228:N228),M229)","v":15.8},{"$f":"IF(O228>0,AVERAGE(SMALL(IF(J228:O228>0,J228:O228),{1,2}))-1,N229)","v":17.765384615384615},{"$f":"IF(P228>0,AVERAGE(SMALL(IF(J228:P228>0,J228:P228),{1,2})),O229)","v":18.765384615384615},{"$f":"IF(Q228>0,AVERAGE(SMALL(IF(J228:Q228>0,J228:Q228),{1,2})),P229)","v":18.765384615384615},{"$f":"IF(R228>0,AVERAGE(SMALL(IF(J228:R228>0,J228:R228),{1,2,3})),Q229)","v":19.444347319347319},{"$f":"IF(S228>0,AVERAGE(SMALL(IF(J228:S228>0,J228:S228),{1,2,3})),R229)","v":19.444347319347319},{"$f":"IF(T228>0,AVERAGE(SMALL(IF(J228:T228>0,J228:T228),{1,2,3})),S229)","v":19.444347319347319},{"$f":"IF(U228>0,AVERAGE(SMALL(IF(J228:U228>0,J228:U228),{1,2,3,4})),T229)","v":19.491099472561334},{"$f":"IF(V228>0,AVERAGE(SMALL(IF(J228:V228>0,J228:V228),{1,2,3,4})),U229)","v":19.491099472561334},{"$f":"IF(W228>0,AVERAGE(SMALL(IF(J228:W228>0,J228:W228),{1,2,3,4})),V229)","v":19.491099472561334},{"$f":"IF(X228>0,AVERAGE(SMALL(IF(J228:X228>0,J228:X228),{1,2,3,4,5})),W229)","v":19.939033424202911},{"$f":"IF(Y228>0,AVERAGE(SMALL(IF(J228:Y228>0,J228:Y228),{1,2,3,4,5})),X229)","v":19.939033424202911},{"$f":"IF(Z228>0,AVERAGE(SMALL(IF(J228:Z228>0,J228:Z228),{1,2,3,4,5,6})),Y229)","v":20.248004043978618},{"$f":"IF(AA228>0,AVERAGE(SMALL(IF(J228:AA228>0,J228:AA228),{1,2,3,4,5,6})),Z229)","v":20.248004043978618},{"$f":"IF(AB228>0,AVERAGE(SMALL(IF(J228:AB228>0,J228:AB228),{1,2,3,4,5,6,7})),AA229)","v":20.248004043978618},{"$f":"IF(AC228>0,AVERAGE(SMALL(IF(J228:AC228>0,J228:AC228),{1,2,3,4,5,6,7,8})),AB229)","v":20.248004043978618},{"$f":"IF(AD228>0,AVERAGE(SMALL(IF(K228:AD228>0,K228:AD228),{1,2,3,4,5,6,7,8})),AC229)","v":20.248004043978618},{"$f":"IF(AE228>0,AVERAGE(SMALL(IF(L228:AE228>0,L228:AE228),{1,2,3,4,5,6,7,8})),AD229)","v":20.248004043978618},{"$f":"IF(AF228>0,AVERAGE(SMALL(IF(M228:AF228>0,M228:AF228),{1,2,3,4,5,6,7,8})),AE229)","v":20.248004043978618},{"$f":"IF(AG228>0,AVERAGE(SMALL(IF(N228:AG228>0,N228:AG228),{1,2,3,4,5,6,7,8})),AF229)","v":20.248004043978618},{"$f":"IF(AH228>0,AVERAGE(SMALL(IF(O228:AH228>0,O228:AH228),{1,2,3,4,5,6,7,8})),AG229)","v":20.248004043978618},{"$f":"IF(AI228>0,AVERAGE(SMALL(IF(P228:AI228>0,P228:AI228),{1,2,3,4,5,6,7,8})),AH229)","v":20.248004043978618},{"$f":"IF(AJ228>0,AVERAGE(SMALL(IF(Q228:AJ228>0,Q228:AJ228),{1,2,3,4,5,6,7,8})),AI229)","v":20.248004043978618},{"$f":"IF(AK228>0,AVERAGE(SMALL(IF(R228:AK228>0,R228:AK228),{1,2,3,4,5,6,7,8})),AJ229)","v":20.248004043978618},{"$f":"IF(AL228>0,AVERAGE(SMALL(IF(S228:AL228>0,S228:AL228),{1,2,3,4,5,6,7,8})),AK229)","v":20.248004043978618},{"$f":"IF(AM228>0,AVERAGE(SMALL(IF(T228:AM228>0,T228:AM228),{1,2,3,4,5,6,7,8})),AL229)","v":20.248004043978618},{"$f":"IF(AN228>0,AVERAGE(SMALL(IF(U228:AN228>0,U228:AN228),{1,2,3,4,5,6,7,8})),AM229)","v":20.248004043978618},{"$f":"IF(AO228>0,AVERAGE(SMALL(IF(V228:AO228>0,V228:AO228),{1,2,3,4,5,6,7,8})),AN229)","v":20.248004043978618},{"$f":"IF(AP228>0,AVERAGE(SMALL(IF(W228:AP228>0,W228:AP228),{1,2,3,4,5,6,7,8})),AO229)","v":20.248004043978618},{"$f":"IF(AQ228>0,AVERAGE(SMALL(IF(X228:AQ228>0,X228:AQ228),{1,2,3,4,5,6,7,8})),AP229)","v":20.248004043978618},{"$f":"IF(AR228>0,AVERAGE(SMALL(IF(Y228:AR228>0,Y228:AR228),{1,2,3,4,5,6,7,8})),AQ229)","v":20.248004043978618},{"$f":"IF(AS228>0,AVERAGE(SMALL(IF(Z228:AS228>0,Z228:AS228),{1,2,3,4,5,6,7,8})),AR229)","v":20.248004043978618},{"$f":"IF(AT228>0,AVERAGE(SMALL(IF(AA228:AT228>0,AA228:AT228),{1,2,3,4,5,6,7,8})),AS229)","v":20.248004043978618},{"$f":"IF(AU228>0,AVERAGE(SMALL(IF(AB228:AU228>0,AB228:AU228),{1,2,3,4,5,6,7,8})),AT229)","v":20.248004043978618},{"$f":"IF(AV228>0,AVERAGE(SMALL(IF(AC228:AV228>0,AC228:AV228),{1,2,3,4,5,6,7,8})),AU229)","v":20.248004043978618},{"$f":"IF(AW228>0,AVERAGE(SMALL(IF(AD228:AW228>0,AD228:AW228),{1,2,3,4,5,6,7,8})),AV229)","v":20.248004043978618},{"$f":"IF(AX228>0,AVERAGE(SMALL(IF(AE228:AX228>0,AE228:AX228),{1,2,3,4,5,6,7,8})),AW229)","v":20.248004043978618},{"$f":"IF(AY228>0,AVERAGE(SMALL(IF(AF228:AY228>0,AF228:AY228),{1,2,3,4,5,6,7,8})),AX229)","v":20.248004043978618},{"$f":"IF(AZ228>0,AVERAGE(SMALL(IF(AG228:AZ228>0,AG228:AZ228),{1,2,3,4,5,6,7,8})),AY229)","v":20.248004043978618},{"$f":"IF(BA228>0,AVERAGE(SMALL(IF(AH228:BA228>0,AH228:BA228),{1,2,3,4,5,6,7,8})),AZ229)","v":20.248004043978618},{"$f":"IF(BB228>0,AVERAGE(SMALL(IF(AI228:BB228>0,AI228:BB228),{1,2,3,4,5,6,7,8})),BA229)","v":20.248004043978618},{"$f":"IF(BC228>0,AVERAGE(SMALL(IF(AJ228:BC228>0,AJ228:BC228),{1,2,3,4,5,6,7,8})),BB229)","v":20.248004043978618},{"$f":"IF(BD228>0,AVERAGE(SMALL(IF(AK228:BD228>0,AK228:BD228),{1,2,3,4,5,6,7,8})),BC229)","v":20.248004043978618},{"$f":"IF(BE228>0,AVERAGE(SMALL(IF(AL228:BE228>0,AL228:BE228),{1,2,3,4,5,6,7,8})),BD229)","v":20.248004043978618},{"$f":"IF(BF228>0,AVERAGE(SMALL(IF(AM228:BF228>0,AM228:BF228),{1,2,3,4,5,6,7,8})),BE229)","v":20.248004043978618},{"$f":"IF(BG228>0,AVERAGE(SMALL(IF(AN228:BG228>0,AN228:BG228),{1,2,3,4,5,6,7,8})),BF229)","v":20.248004043978618},{"$f":"IF(BH228>0,AVERAGE(SMALL(IF(AO228:BH228>0,AO228:BH228),{1,2,3,4,5,6,7,8})),BG229)","v":20.248004043978618},{"$f":"IF(BI228>0,AVERAGE(SMALL(IF(AP228:BI228>0,AP228:BI228),{1,2,3,4,5,6,7,8})),BH229)","v":20.248004043978618},{"$f":"IF(BJ228>0,AVERAGE(SMALL(IF(AQ228:BJ228>0,AQ228:BJ228),{1,2,3,4,5,6,7,8})),BI229)","v":20.248004043978618},{"$f":"IF(BK228>0,AVERAGE(SMALL(IF(AR228:BK228>0,AR228:BK228),{1,2,3,4,5,6,7,8})),BJ229)","v":20.248004043978618},{"$f":"IF(BL228>0,AVERAGE(SMALL(IF(AS228:BL228>0,AS228:BL228),{1,2,3,4,5,6,7,8})),BK229)","v":20.248004043978618},{"$f":"IF(BM228>0,AVERAGE(SMALL(IF(AT228:BM228>0,AT228:BM228),{1,2,3,4,5,6,7,8})),BL229)","v":20.248004043978618},{"$f":"IF(BN228>0,AVERAGE(SMALL(IF(AU228:BN228>0,AU228:BN228),{1,2,3,4,5,6,7,8})),BM229)","v":20.248004043978618},{"$f":"IF(BO228>0,AVERAGE(SMALL(IF(AV228:BO228>0,AV228:BO228),{1,2,3,4,5,6,7,8})),BN229)","v":20.248004043978618},{"$f":"IF(BP228>0,AVERAGE(SMALL(IF(AW228:BP228>0,AW228:BP228),{1,2,3,4,5,6,7,8})),BO229)","v":20.248004043978618},{"$f":"IF(BQ228>0,AVERAGE(SMALL(IF(AX228:BQ228>0,AX228:BQ228),{1,2,3,4,5,6,7,8})),BP229)","v":20.248004043978618},{"$f":"IF(BR228>0,AVERAGE(SMALL(IF(AY228:BR228>0,AY228:BR228),{1,2,3,4,5,6,7,8})),BQ229)","v":20.248004043978618},{"$f":"IF(BS228>0,AVERAGE(SMALL(IF(AZ228:BS228>0,AZ228:BS228),{1,2,3,4,5,6,7,8})),BR229)","v":20.248004043978618},{"$f":"IF(BT228>0,AVERAGE(SMALL(IF(BA228:BT228>0,BA228:BT228),{1,2,3,4,5,6,7,8})),BS229)","v":20.248004043978618},{"$f":"IF(BU228>0,AVERAGE(SMALL(IF(BB228:BU228>0,BB228:BU228),{1,2,3,4,5,6,7,8})),BT229)","v":20.248004043978618},{"$f":"IF(BV228>0,AVERAGE(SMALL(IF(BC228:BV228>0,BC228:BV228),{1,2,3,4,5,6,7,8})),BU229)","v":20.248004043978618},{"$f":"IF(BW228>0,AVERAGE(SMALL(IF(BD228:BW228>0,BD228:BW228),{1,2,3,4,5,6,7,8})),BV229)","v":20.248004043978618},{"$f":"IF(BX228>0,AVERAGE(SMALL(IF(BE228:BX228>0,BE228:BX228),{1,2,3,4,5,6,7,8})),BW229)","v":20.248004043978618},{"$f":"IF(BY228>0,AVERAGE(SMALL(IF(BF228:BY228>0,BF228:BY228),{1,2,3,4,5,6,7,8})),BX229)","v":20.248004043978618},{"$f":"IF(BZ228>0,AVERAGE(SMALL(IF(BG228:BZ228>0,BG228:BZ228),{1,2,3,4,5,6,7,8})),BY229)","v":20.248004043978618},{"$f":"IF(CA228>0,AVERAGE(SMALL(IF(BH228:CA228>0,BH228:CA228),{1,2,3,4,5,6,7,8})),BZ229)","v":20.248004043978618},{"$f":"IF(CB228>0,AVERAGE(SMALL(IF(BI228:CB228>0,BI228:CB228),{1,2,3,4,5,6,7,8})),CA229)","v":20.248004043978618},{"$f":"IF(CC228>0,AVERAGE(SMALL(IF(BJ228:CC228>0,BJ228:CC228),{1,2,3,4,5,6,7,8})),CB229)","v":20.248004043978618},{"$f":"IF(CD228>0,AVERAGE(SMALL(IF(BK228:CD228>0,BK228:CD228),{1,2,3,4,5,6,7,8})),CC229)","v":20.248004043978618},{"$f":"IF(CE228>0,AVERAGE(SMALL(IF(BL228:CE228>0,BL228:CE228),{1,2,3,4,5,6,7,8})),CD229)","v":20.248004043978618},{"$f":"IF(CF228>0,AVERAGE(SMALL(IF(BM228:CF228>0,BM228:CF228),{1,2,3,4,5,6,7,8})),CE229)","v":20.248004043978618},{"$f":"IF(CG228>0,AVERAGE(SMALL(IF(BN228:CG228>0,BN228:CG228),{1,2,3,4,5,6,7,8})),CF229)","v":20.248004043978618},{"$f":"IF(CH228>0,AVERAGE(SMALL(IF(BO228:CH228>0,BO228:CH228),{1,2,3,4,5,6,7,8})),CG229)","v":20.248004043978618},{"$f":"IF(CI228>0,AVERAGE(SMALL(IF(BP228:CI228>0,BP228:CI228),{1,2,3,4,5,6,7,8})),CH229)","v":20.248004043978618},{"$f":"IF(CJ228>0,AVERAGE(SMALL(IF(BQ228:CJ228>0,BQ228:CJ228),{1,2,3,4,5,6,7,8})),CI229)","v":20.248004043978618},{"$f":"IF(CK228>0,AVERAGE(SMALL(IF(BR228:CK228>0,BR228:CK228),{1,2,3,4,5,6,7,8})),CJ229)","v":20.248004043978618},{"$f":"IF(CL228>0,AVERAGE(SMALL(IF(BS228:CL228>0,BS228:CL228),{1,2,3,4,5,6,7,8})),CK229)","v":20.248004043978618},{"$f":"IF(CM228>0,AVERAGE(SMALL(IF(BT228:CM228>0,BT228:CM228),{1,2,3,4,5,6,7,8})),CL229)","v":20.248004043978618},{"$f":"IF(CN228>0,AVERAGE(SMALL(IF(BU228:CN228>0,BU228:CN228),{1,2,3,4,5,6,7,8})),CM229)","v":20.248004043978618},{"$f":"IF(CO228>0,AVERAGE(SMALL(IF(BV228:CO228>0,BV228:CO228),{1,2,3,4,5,6,7,8})),CN229)","v":20.248004043978618},{"$f":"IF(CP228>0,AVERAGE(SMALL(IF(BW228:CP228>0,BW228:CP228),{1,2,3,4,5,6,7,8})),CO229)","v":20.248004043978618},{"$f":"IF(CQ228>0,AVERAGE(SMALL(IF(BX228:CQ228>0,BX228:CQ228),{1,2,3,4,5,6,7,8})),CP229)","v":20.248004043978618},{"$f":"IF(CR228>0,AVERAGE(SMALL(IF(BY228:CR228>0,BY228:CR228),{1,2,3,4,5,6,7,8})),CQ229)","v":20.248004043978618},{"$f":"IF(CS228>0,AVERAGE(SMALL(IF(BZ228:CS228>0,BZ228:CS228),{1,2,3,4,5,6,7,8})),CR229)","v":20.248004043978618},{"$f":"IF(CT228>0,AVERAGE(SMALL(IF(CA228:CT228>0,CA228:CT228),{1,2,3,4,5,6,7,8})),CS229)","v":20.248004043978618},{"$f":"IF(CU228>0,AVERAGE(SMALL(IF(CB228:CU228>0,CB228:CU228),{1,2,3,4,5,6,7,8})),CT229)","v":20.248004043978618},{"$f":"IF(CV228>0,AVERAGE(SMALL(IF(CC228:CV228>0,CC228:CV228),{1,2,3,4,5,6,7,8})),CU229)","v":20.248004043978618},{"$f":"IF(CW228>0,AVERAGE(SMALL(IF(CD228:CW228>0,CD228:CW228),{1,2,3,4,5,6,7,8})),CV229)","v":20.248004043978618}]
[null,null,null,null,null,null,null,null,"Low Hcap",null,null,null,null,null,null,null,null,null,null,null,null,null,null,null,null,null,null,null,{"$f":"MIN($S229:AC229)","v":19.444347319347319},{"$f":"MIN($S229:AD229)","v":19.444347319347319},{"$f":"MIN($S229:AE229)","v":19.444347319347319},{"$f":"MIN($S229:AF229)","v":19.444347319347319},{"$f":"MIN($S229:AG229)","v":19.444347319347319},{"$f":"MIN($S229:AH229)","v":19.444347319347319},{"$f":"MIN($S229:AI229)","v":19.444347319347319},{"$f":"MIN($S229:AJ229)","v":19.444347319347319},{"$f":"MIN($S229:AK229)","v":19.444347319347319},{"$f":"MIN($S229:AL229)","v":19.444347319347319},{"$f":"MIN($S229:AM229)","v":19.444347319347319},{"$f":"MIN($S229:AN229)","v":19.444347319347319},{"$f":"MIN($S229:AO229)","v":19.444347319347319},{"$f":"MIN($S229:AP229)","v":19.444347319347319},{"$f":"MIN($S229:AQ229)","v":19.444347319347319},{"$f":"MIN($S229:AR229)","v":19.444347319347319},{"$f":"MIN($S229:AS229)","v":19.444347319347319},{"$f":"MIN($S229:AT229)","v":19.444347319347319},{"$f":"MIN($S229:AU229)","v":19.444347319347319},{"$f":"MIN($S229:AV229)","v":19.444347319347319},{"$f":"MIN($S229:AW229)","v":19.444347319347319},{"$f":"MIN($S229:AX229)","v":19.444347319347319},{"$f":"MIN($S229:AY229)","v":19.444347319347319},{"$f":"MIN($S229:AZ229)","v":19.444347319347319},{"$f":"MIN($S229:BA229)","v":19.444347319347319},{"$f":"MIN($S229:BB229)","v":19.444347319347319},{"$f":"MIN($S229:BC229)","v":19.444347319347319},{"$f":"MIN($S229:BD229)","v":19.444347319347319},{"$f":"MIN($S229:BE229)","v":19.444347319347319},{"$f":"MIN($S229:BF229)","v":19.444347319347319},{"$f":"MIN($S229:BG229)","v":19.444347319347319},{"$f":"MIN($S229:BH229)","v":19.444347319347319},{"$f":"MIN($S229:BI229)","v":19.444347319347319},{"$f":"MIN($S229:BJ229)","v":19.444347319347319},{"$f":"MIN($S229:BK229)","v":19.444347319347319},{"$f":"MIN($S229:BL229)","v":19.444347319347319},{"$f":"MIN($S229:BM229)","v":19.444347319347319},{"$f":"MIN($S229:BN229)","v":19.444347319347319},{"$f":"MIN($S229:BO229)","v":19.444347319347319},{"$f":"MIN($S229:BP229)","v":19.444347319347319},{"$f":"MIN($S229:BQ229)","v":19.444347319347319},{"$f":"MIN($S229:BR229)","v":19.444347319347319},{"$f":"MIN($S229:BS229)","v":19.444347319347319},{"$f":"MIN($S229:BT229)","v":19.444347319347319},{"$f":"MIN($S229:BU229)","v":19.444347319347319},{"$f":"MIN($S229:BV229)","v":19.444347319347319},{"$f":"MIN($S229:BW229)","v":19.444347319347319},{"$f":"MIN($S229:BX229)","v":19.444347319347319},{"$f":"MIN($S229:BY229)","v":19.444347319347319},{"$f":"MIN($S229:BZ229)","v":19.444347319347319},{"$f":"MIN($S229:CA229)","v":19.444347319347319},{"$f":"MIN($S229:CB229)","v":19.444347319347319},{"$f":"MIN($S229:CC229)","v":19.444347319347319},{"$f":"MIN($S229:CD229)","v":19.444347319347319},{"$f":"MIN($S229:CE229)","v":19.444347319347319},{"$f":"MIN($S229:CF229)","v":19.444347319347319},{"$f":"MIN($S229:CG229)","v":19.444347319347319},{"$f":"MIN($S229:CH229)","v":19.444347319347319},{"$f":"MIN($S229:CI229)","v":19.444347319347319},{"$f":"MIN($S229:CJ229)","v":19.444347319347319},{"$f":"MIN($S229:CK229)","v":19.444347319347319},{"$f":"MIN($S229:CL229)","v":19.444347319347319},{"$f":"MIN($S229:CM229)","v":19.444347319347319},{"$f":"MIN($S229:CN229)","v":19.444347319347319},{"$f":"MIN($S229:CO229)","v":19.444347319347319},{"$f":"MIN($S229:CP229)","v":19.444347319347319},{"$f":"MIN($S229:CQ229)","v":19.444347319347319},{"$f":"MIN($S229:CR229)","v":19.444347319347319},{"$f":"MIN($S229:CS229)","v":19.444347319347319},{"$f":"MIN($S229:CT229)","v":19.444347319347319},{"$f":"MIN($S229:CU229)","v":19.444347319347319},{"$f":"MIN($S229:CV229)","v":19.444347319347319},{"$f":"MIN($S229:CW229)","v":19.444347319347319}]
[null,"Gomer","Lindsay",8.8000000000000007,"Y",{"$f":"IF(H231<4,\"Y\",)","v":0},2023,{"$f":"COUNT(J231:CX231)","v":20},"Date",null,"2021-09-15","2021-10-06","2021-10-13","2021-10-20","2022-04-27","2022-05-06","2022-05-11","2022-05-18","2022-05-25","2022-06-01","2022-06-04","2022-06-22","2022-06-29","2022-07-02","2022-07-13","2022-07-20","2022-07-27","2022-09-14","2022-09-21","2022-10-19",null,null,null,null,null,null,null,null,null,null,null,null,null,null,null,null,null,null,null,null,null,null,null,null,null,null,null,null,null,null,null,null,null,null,null,null,null,null,null,null,null,null,null,null,null,null,null,null,null,null,null,null,null,null,null,null,null,null,null,null,null,null,null,null,null,null,null,null,null,null,null,null,{"$f":"IF(CW235>$DD$1,36,CW235)","v":8.7874999999999996},8.7874999999999996,{"$f":"CZ231-CY231","v":0}]
[null,null,null,null,null,null,null,null,"Course"]
[null,null,null,null,null,null,null,null,"Ad Gr"]
[null,null,null,null,null,null,null,null,"SD",10.8,8.6,4.9000000000000004,18.2,14,6.6,14.3,11.5,19.100000000000001,8.1999999999999993,9.9,13.2,10.7,9.9,18.7,12.4,12.9,12.4,17.399999999999999,19,12.4,{"$f":"IF(AE233=\"\",0,(AE233-INDIRECT(CONCATENATE(AE232,\"CR\")))*113/INDIRECT(CONCATENATE(AE232,\"SR\")))","v":0},0,0,0,0,0,0,0,0,0,0,0,0,0,0,0,0,0,0,0,0,0,0,0,0,0,0,0,0,0,0,0,0,0,0,0,0,0,0,0,0,0,0,0,0,{"$f":"IF(BX233=\"\",0,(BX233-INDIRECT(CONCATENATE(BX232,\"CR\")))*113/INDIRECT(CONCATENATE(BX232,\"SR\")))","v":0},0,0,0,0,0,0,0,0,0,0,0,0,0,0,{"$f":"IF(CM233=\"\",0,(CM233-INDIRECT(CONCATENATE(CM232,\"CR\")))*113/INDIRECT(CONCATENATE(CM232,\"SR\")))","v":0},0,{"$f":"IF(CO233=\"\",0,(CO233-INDIRECT(CONCATENATE(CO232,\"CR\")))*113/INDIRECT(CONCATENATE(CO232,\"SR\")))","v":0},0,{"$f":"IF(CQ233=\"\",0,(CQ233-INDIRECT(CONCATENATE(CQ232,\"CR\")))*113/INDIRECT(CONCATENATE(CQ232,\"SR\")))","v":0},0,{"$f":"IF(CS233=\"\",0,(CS233-INDIRECT(CONCATENATE(CS232,\"CR\")))*113/INDIRECT(CONCATENATE(CS232,\"SR\")))","v":0},0,{"$f":"IF(CU233=\"\",0,(CU233-INDIRECT(CONCATENATE(CU232,\"CR\")))*113/INDIRECT(CONCATENATE(CU232,\"SR\")))","v":0},0,{"$f":"IF(CW233=\"\",0,(CW233-INDIRECT(CONCATENATE(CW232,\"CR\")))*113/INDIRECT(CONCATENATE(CW232,\"SR\")))","v":0}]
[null,null,null,null,8.8000000000000007,null,null,null,"New Hcap",{"$f":"J234-2","v":8.8000000000000007},{"$f":"IF(K234>0,MIN(J234:K234)-2,J235)","v":6.6},{"$f":"IF(L234>0,MIN(J234:L234)-2,K235)","v":2.9000000000000004},{"$f":"IF(M234>0,MIN(J234:M234)-1,L235)","v":3.9000000000000004},{"$f":"IF(N234>0,MIN(J234:N234),M235)","v":4.9000000000000004},{"$f":"IF(O234>0,AVERAGE(SMALL(IF(J234:O234>0,J234:O234),{1,2}))-1,N235)","v":4.75},{"$f":"IF(P234>0,AVERAGE(SMALL(IF(J234:P234>0,J234:P234),{1,2})),O235)","v":5.75},{"$f":"IF(Q234>0,AVERAGE(SMALL(IF(J234:Q234>0,J234:Q234),{1,2})),P235)","v":5.75},{"$f":"IF(R234>0,AVERAGE(SMALL(IF(J234:R234>0,J234:R234),{1,2,3})),Q235)","v":6.7},{"$f":"IF(S234>0,AVERAGE(SMALL(IF(J234:S234>0,J234:S234),{1,2,3})),R235)","v":6.5666666666666664},{"$f":"IF(T234>0,AVERAGE(SMALL(IF(J234:T234>0,J234:T234),{1,2,3})),S235)","v":6.5666666666666664},{"$f":"IF(U234>0,AVERAGE(SMALL(IF(J234:U234>0,J234:U234),{1,2,3,4})),T235)","v":7.0749999999999993},{"$f":"IF(V234>0,AVERAGE(SMALL(IF(J234:V234>0,J234:V234),{1,2,3,4})),U235)","v":7.0749999999999993},{"$f":"IF(W234>0,AVERAGE(SMALL(IF(J234:W234>0,J234:W234),{1,2,3,4})),V235)","v":7.0749999999999993},{"$f":"IF(X234>0,AVERAGE(SMALL(IF(J234:X234>0,J234:X234),{1,2,3,4,5})),W235)","v":7.6399999999999988},{"$f":"IF(Y234>0,AVERAGE(SMALL(IF(J234:Y234>0,J234:Y234),{1,2,3,4,5})),X235)","v":7.6399999999999988},{"$f":"IF(Z234>0,AVERAGE(SMALL(IF(J234:Z234>0,J234:Z234),{1,2,3,4,5,6})),Y235)","v":8.0166666666666657},{"$f":"IF(AA234>0,AVERAGE(SMALL(IF(J234:AA234>0,J234:AA234),{1,2,3,4,5,6})),Z235)","v":8.0166666666666657},{"$f":"IF(AB234>0,AVERAGE(SMALL(IF(J234:AB234>0,J234:AB234),{1,2,3,4,5,6,7})),AA235)","v":8.4},{"$f":"IF(AC234>0,AVERAGE(SMALL(IF(J234:AC234>0,J234:AC234),{1,2,3,4,5,6,7,8})),AB235)","v":8.6999999999999993},{"$f":"IF(AD234>0,AVERAGE(SMALL(IF(K234:AD234>0,K234:AD234),{1,2,3,4,5,6,7,8})),AC235)","v":8.7874999999999996},{"$f":"IF(AE234>0,AVERAGE(SMALL(IF(L234:AE234>0,L234:AE234),{1,2,3,4,5,6,7,8})),AD235)","v":8.7874999999999996},{"$f":"IF(AF234>0,AVERAGE(SMALL(IF(M234:AF234>0,M234:AF234),{1,2,3,4,5,6,7,8})),AE235)","v":8.7874999999999996},{"$f":"IF(AG234>0,AVERAGE(SMALL(IF(N234:AG234>0,N234:AG234),{1,2,3,4,5,6,7,8})),AF235)","v":8.7874999999999996},{"$f":"IF(AH234>0,AVERAGE(SMALL(IF(O234:AH234>0,O234:AH234),{1,2,3,4,5,6,7,8})),AG235)","v":8.7874999999999996},{"$f":"IF(AI234>0,AVERAGE(SMALL(IF(P234:AI234>0,P234:AI234),{1,2,3,4,5,6,7,8})),AH235)","v":8.7874999999999996},{"$f":"IF(AJ234>0,AVERAGE(SMALL(IF(Q234:AJ234>0,Q234:AJ234),{1,2,3,4,5,6,7,8})),AI235)","v":8.7874999999999996},{"$f":"IF(AK234>0,AVERAGE(SMALL(IF(R234:AK234>0,R234:AK234),{1,2,3,4,5,6,7,8})),AJ235)","v":8.7874999999999996},{"$f":"IF(AL234>0,AVERAGE(SMALL(IF(S234:AL234>0,S234:AL234),{1,2,3,4,5,6,7,8})),AK235)","v":8.7874999999999996},{"$f":"IF(AM234>0,AVERAGE(SMALL(IF(T234:AM234>0,T234:AM234),{1,2,3,4,5,6,7,8})),AL235)","v":8.7874999999999996},{"$f":"IF(AN234>0,AVERAGE(SMALL(IF(U234:AN234>0,U234:AN234),{1,2,3,4,5,6,7,8})),AM235)","v":8.7874999999999996},{"$f":"IF(AO234>0,AVERAGE(SMALL(IF(V234:AO234>0,V234:AO234),{1,2,3,4,5,6,7,8})),AN235)","v":8.7874999999999996},{"$f":"IF(AP234>0,AVERAGE(SMALL(IF(W234:AP234>0,W234:AP234),{1,2,3,4,5,6,7,8})),AO235)","v":8.7874999999999996},{"$f":"IF(AQ234>0,AVERAGE(SMALL(IF(X234:AQ234>0,X234:AQ234),{1,2,3,4,5,6,7,8})),AP235)","v":8.7874999999999996},{"$f":"IF(AR234>0,AVERAGE(SMALL(IF(Y234:AR234>0,Y234:AR234),{1,2,3,4,5,6,7,8})),AQ235)","v":8.7874999999999996},{"$f":"IF(AS234>0,AVERAGE(SMALL(IF(Z234:AS234>0,Z234:AS234),{1,2,3,4,5,6,7,8})),AR235)","v":8.7874999999999996},{"$f":"IF(AT234>0,AVERAGE(SMALL(IF(AA234:AT234>0,AA234:AT234),{1,2,3,4,5,6,7,8})),AS235)","v":8.7874999999999996},{"$f":"IF(AU234>0,AVERAGE(SMALL(IF(AB234:AU234>0,AB234:AU234),{1,2,3,4,5,6,7,8})),AT235)","v":8.7874999999999996},{"$f":"IF(AV234>0,AVERAGE(SMALL(IF(AC234:AV234>0,AC234:AV234),{1,2,3,4,5,6,7,8})),AU235)","v":8.7874999999999996},{"$f":"IF(AW234>0,AVERAGE(SMALL(IF(AD234:AW234>0,AD234:AW234),{1,2,3,4,5,6,7,8})),AV235)","v":8.7874999999999996},{"$f":"IF(AX234>0,AVERAGE(SMALL(IF(AE234:AX234>0,AE234:AX234),{1,2,3,4,5,6,7,8})),AW235)","v":8.7874999999999996},{"$f":"IF(AY234>0,AVERAGE(SMALL(IF(AF234:AY234>0,AF234:AY234),{1,2,3,4,5,6,7,8})),AX235)","v":8.7874999999999996},{"$f":"IF(AZ234>0,AVERAGE(SMALL(IF(AG234:AZ234>0,AG234:AZ234),{1,2,3,4,5,6,7,8})),AY235)","v":8.7874999999999996},{"$f":"IF(BA234>0,AVERAGE(SMALL(IF(AH234:BA234>0,AH234:BA234),{1,2,3,4,5,6,7,8})),AZ235)","v":8.7874999999999996},{"$f":"IF(BB234>0,AVERAGE(SMALL(IF(AI234:BB234>0,AI234:BB234),{1,2,3,4,5,6,7,8})),BA235)","v":8.7874999999999996},{"$f":"IF(BC234>0,AVERAGE(SMALL(IF(AJ234:BC234>0,AJ234:BC234),{1,2,3,4,5,6,7,8})),BB235)","v":8.7874999999999996},{"$f":"IF(BD234>0,AVERAGE(SMALL(IF(AK234:BD234>0,AK234:BD234),{1,2,3,4,5,6,7,8})),BC235)","v":8.7874999999999996},{"$f":"IF(BE234>0,AVERAGE(SMALL(IF(AL234:BE234>0,AL234:BE234),{1,2,3,4,5,6,7,8})),BD235)","v":8.7874999999999996},{"$f":"IF(BF234>0,AVERAGE(SMALL(IF(AM234:BF234>0,AM234:BF234),{1,2,3,4,5,6,7,8})),BE235)","v":8.7874999999999996},{"$f":"IF(BG234>0,AVERAGE(SMALL(IF(AN234:BG234>0,AN234:BG234),{1,2,3,4,5,6,7,8})),BF235)","v":8.7874999999999996},{"$f":"IF(BH234>0,AVERAGE(SMALL(IF(AO234:BH234>0,AO234:BH234),{1,2,3,4,5,6,7,8})),BG235)","v":8.7874999999999996},{"$f":"IF(BI234>0,AVERAGE(SMALL(IF(AP234:BI234>0,AP234:BI234),{1,2,3,4,5,6,7,8})),BH235)","v":8.7874999999999996},{"$f":"IF(BJ234>0,AVERAGE(SMALL(IF(AQ234:BJ234>0,AQ234:BJ234),{1,2,3,4,5,6,7,8})),BI235)","v":8.7874999999999996},{"$f":"IF(BK234>0,AVERAGE(SMALL(IF(AR234:BK234>0,AR234:BK234),{1,2,3,4,5,6,7,8})),BJ235)","v":8.7874999999999996},{"$f":"IF(BL234>0,AVERAGE(SMALL(IF(AS234:BL234>0,AS234:BL234),{1,2,3,4,5,6,7,8})),BK235)","v":8.7874999999999996},{"$f":"IF(BM234>0,AVERAGE(SMALL(IF(AT234:BM234>0,AT234:BM234),{1,2,3,4,5,6,7,8})),BL235)","v":8.7874999999999996},{"$f":"IF(BN234>0,AVERAGE(SMALL(IF(AU234:BN234>0,AU234:BN234),{1,2,3,4,5,6,7,8})),BM235)","v":8.7874999999999996},{"$f":"IF(BO234>0,AVERAGE(SMALL(IF(AV234:BO234>0,AV234:BO234),{1,2,3,4,5,6,7,8})),BN235)","v":8.7874999999999996},{"$f":"IF(BP234>0,AVERAGE(SMALL(IF(AW234:BP234>0,AW234:BP234),{1,2,3,4,5,6,7,8})),BO235)","v":8.7874999999999996},{"$f":"IF(BQ234>0,AVERAGE(SMALL(IF(AX234:BQ234>0,AX234:BQ234),{1,2,3,4,5,6,7,8})),BP235)","v":8.7874999999999996},{"$f":"IF(BR234>0,AVERAGE(SMALL(IF(AY234:BR234>0,AY234:BR234),{1,2,3,4,5,6,7,8})),BQ235)","v":8.7874999999999996},{"$f":"IF(BS234>0,AVERAGE(SMALL(IF(AZ234:BS234>0,AZ234:BS234),{1,2,3,4,5,6,7,8})),BR235)","v":8.7874999999999996},{"$f":"IF(BT234>0,AVERAGE(SMALL(IF(BA234:BT234>0,BA234:BT234),{1,2,3,4,5,6,7,8})),BS235)","v":8.7874999999999996},{"$f":"IF(BU234>0,AVERAGE(SMALL(IF(BB234:BU234>0,BB234:BU234),{1,2,3,4,5,6,7,8})),BT235)","v":8.7874999999999996},{"$f":"IF(BV234>0,AVERAGE(SMALL(IF(BC234:BV234>0,BC234:BV234),{1,2,3,4,5,6,7,8})),BU235)","v":8.7874999999999996},{"$f":"IF(BW234>0,AVERAGE(SMALL(IF(BD234:BW234>0,BD234:BW234),{1,2,3,4,5,6,7,8})),BV235)","v":8.7874999999999996},{"$f":"IF(BX234>0,AVERAGE(SMALL(IF(BE234:BX234>0,BE234:BX234),{1,2,3,4,5,6,7,8})),BW235)","v":8.7874999999999996},{"$f":"IF(BY234>0,AVERAGE(SMALL(IF(BF234:BY234>0,BF234:BY234),{1,2,3,4,5,6,7,8})),BX235)","v":8.7874999999999996},{"$f":"IF(BZ234>0,AVERAGE(SMALL(IF(BG234:BZ234>0,BG234:BZ234),{1,2,3,4,5,6,7,8})),BY235)","v":8.7874999999999996},{"$f":"IF(CA234>0,AVERAGE(SMALL(IF(BH234:CA234>0,BH234:CA234),{1,2,3,4,5,6,7,8})),BZ235)","v":8.7874999999999996},{"$f":"IF(CB234>0,AVERAGE(SMALL(IF(BI234:CB234>0,BI234:CB234),{1,2,3,4,5,6,7,8})),CA235)","v":8.7874999999999996},{"$f":"IF(CC234>0,AVERAGE(SMALL(IF(BJ234:CC234>0,BJ234:CC234),{1,2,3,4,5,6,7,8})),CB235)","v":8.7874999999999996},{"$f":"IF(CD234>0,AVERAGE(SMALL(IF(BK234:CD234>0,BK234:CD234),{1,2,3,4,5,6,7,8})),CC235)","v":8.7874999999999996},{"$f":"IF(CE234>0,AVERAGE(SMALL(IF(BL234:CE234>0,BL234:CE234),{1,2,3,4,5,6,7,8})),CD235)","v":8.7874999999999996},{"$f":"IF(CF234>0,AVERAGE(SMALL(IF(BM234:CF234>0,BM234:CF234),{1,2,3,4,5,6,7,8})),CE235)","v":8.7874999999999996},{"$f":"IF(CG234>0,AVERAGE(SMALL(IF(BN234:CG234>0,BN234:CG234),{1,2,3,4,5,6,7,8})),CF235)","v":8.7874999999999996},{"$f":"IF(CH234>0,AVERAGE(SMALL(IF(BO234:CH234>0,BO234:CH234),{1,2,3,4,5,6,7,8})),CG235)","v":8.7874999999999996},{"$f":"IF(CI234>0,AVERAGE(SMALL(IF(BP234:CI234>0,BP234:CI234),{1,2,3,4,5,6,7,8})),CH235)","v":8.7874999999999996},{"$f":"IF(CJ234>0,AVERAGE(SMALL(IF(BQ234:CJ234>0,BQ234:CJ234),{1,2,3,4,5,6,7,8})),CI235)","v":8.7874999999999996},{"$f":"IF(CK234>0,AVERAGE(SMALL(IF(BR234:CK234>0,BR234:CK234),{1,2,3,4,5,6,7,8})),CJ235)","v":8.7874999999999996},{"$f":"IF(CL234>0,AVERAGE(SMALL(IF(BS234:CL234>0,BS234:CL234),{1,2,3,4,5,6,7,8})),CK235)","v":8.7874999999999996},{"$f":"IF(CM234>0,AVERAGE(SMALL(IF(BT234:CM234>0,BT234:CM234),{1,2,3,4,5,6,7,8})),CL235)","v":8.7874999999999996},{"$f":"IF(CN234>0,AVERAGE(SMALL(IF(BU234:CN234>0,BU234:CN234),{1,2,3,4,5,6,7,8})),CM235)","v":8.7874999999999996},{"$f":"IF(CO234>0,AVERAGE(SMALL(IF(BV234:CO234>0,BV234:CO234),{1,2,3,4,5,6,7,8})),CN235)","v":8.7874999999999996},{"$f":"IF(CP234>0,AVERAGE(SMALL(IF(BW234:CP234>0,BW234:CP234),{1,2,3,4,5,6,7,8})),CO235)","v":8.7874999999999996},{"$f":"IF(CQ234>0,AVERAGE(SMALL(IF(BX234:CQ234>0,BX234:CQ234),{1,2,3,4,5,6,7,8})),CP235)","v":8.7874999999999996},{"$f":"IF(CR234>0,AVERAGE(SMALL(IF(BY234:CR234>0,BY234:CR234),{1,2,3,4,5,6,7,8})),CQ235)","v":8.7874999999999996},{"$f":"IF(CS234>0,AVERAGE(SMALL(IF(BZ234:CS234>0,BZ234:CS234),{1,2,3,4,5,6,7,8})),CR235)","v":8.7874999999999996},{"$f":"IF(CT234>0,AVERAGE(SMALL(IF(CA234:CT234>0,CA234:CT234),{1,2,3,4,5,6,7,8})),CS235)","v":8.7874999999999996},{"$f":"IF(CU234>0,AVERAGE(SMALL(IF(CB234:CU234>0,CB234:CU234),{1,2,3,4,5,6,7,8})),CT235)","v":8.7874999999999996},{"$f":"IF(CV234>0,AVERAGE(SMALL(IF(CC234:CV234>0,CC234:CV234),{1,2,3,4,5,6,7,8})),CU235)","v":8.7874999999999996},{"$f":"IF(CW234>0,AVERAGE(SMALL(IF(CD234:CW234>0,CD234:CW234),{1,2,3,4,5,6,7,8})),CV235)","v":8.7874999999999996}]
[null,null,null,null,16,null,null,null,"Low Hcap",null,null,null,null,null,null,null,null,null,null,null,null,null,null,null,null,null,null,null,{"$f":"MIN($L235:AC235)","v":2.9000000000000004},{"$f":"MIN($N235:AD235)","v":4.75},{"$f":"MIN($N235:AE235)","v":4.75},{"$f":"MIN($N235:AF235)","v":4.75},{"$f":"MIN($N235:AG235)","v":4.75},{"$f":"MIN($N235:AH235)","v":4.75},{"$f":"MIN($N235:AI235)","v":4.75},{"$f":"MIN($N235:AJ235)","v":4.75},{"$f":"MIN($N235:AK235)","v":4.75},{"$f":"MIN($N235:AL235)","v":4.75},{"$f":"MIN($N235:AM235)","v":4.75},{"$f":"MIN($N235:AN235)","v":4.75},{"$f":"MIN($N235:AO235)","v":4.75},{"$f":"MIN($N235:AP235)","v":4.75},{"$f":"MIN($N235:AQ235)","v":4.75},{"$f":"MIN($N235:AR235)","v":4.75},{"$f":"MIN($N235:AS235)","v":4.75},{"$f":"MIN($N235:AT235)","v":4.75},{"$f":"MIN($N235:AU235)","v":4.75},{"$f":"MIN($N235:AV235)","v":4.75},{"$f":"MIN($N235:AW235)","v":4.75},{"$f":"MIN($N235:AX235)","v":4.75},{"$f":"MIN($N235:AY235)","v":4.75},{"$f":"MIN($N235:AZ235)","v":4.75},{"$f":"MIN($N235:BA235)","v":4.75},{"$f":"MIN($N235:BB235)","v":4.75},{"$f":"MIN($N235:BC235)","v":4.75},{"$f":"MIN($N235:BD235)","v":4.75},{"$f":"MIN($N235:BE235)","v":4.75},{"$f":"MIN($N235:BF235)","v":4.75},{"$f":"MIN($N235:BG235)","v":4.75},{"$f":"MIN($N235:BH235)","v":4.75},{"$f":"MIN($N235:BI235)","v":4.75},{"$f":"MIN($N235:BJ235)","v":4.75},{"$f":"MIN($N235:BK235)","v":4.75},{"$f":"MIN($N235:BL235)","v":4.75},{"$f":"MIN($N235:BM235)","v":4.75},{"$f":"MIN($N235:BN235)","v":4.75},{"$f":"MIN($N235:BO235)","v":4.75},{"$f":"MIN($N235:BP235)","v":4.75},{"$f":"MIN($N235:BQ235)","v":4.75},{"$f":"MIN($N235:BR235)","v":4.75},{"$f":"MIN($N235:BS235)","v":4.75},{"$f":"MIN($N235:BT235)","v":4.75},{"$f":"MIN($N235:BU235)","v":4.75},{"$f":"MIN($N235:BV235)","v":4.75},{"$f":"MIN($N235:BW235)","v":4.75},{"$f":"MIN($N235:BX235)","v":4.75},{"$f":"MIN($N235:BY235)","v":4.75},{"$f":"MIN($N235:BZ235)","v":4.75},{"$f":"MIN($N235:CA235)","v":4.75},{"$f":"MIN($N235:CB235)","v":4.75},{"$f":"MIN($N235:CC235)","v":4.75},{"$f":"MIN($N235:CD235)","v":4.75},{"$f":"MIN($N235:CE235)","v":4.75},{"$f":"MIN($N235:CF235)","v":4.75},{"$f":"MIN($N235:CG235)","v":4.75},{"$f":"MIN($N235:CH235)","v":4.75},{"$f":"MIN($N235:CI235)","v":4.75},{"$f":"MIN($N235:CJ235)","v":4.75},{"$f":"MIN($N235:CK235)","v":4.75},{"$f":"MIN($N235:CL235)","v":4.75},{"$f":"MIN($N235:CM235)","v":4.75},{"$f":"MIN($N235:CN235)","v":4.75},{"$f":"MIN($N235:CO235)","v":4.75},{"$f":"MIN($N235:CP235)","v":4.75},{"$f":"MIN($N235:CQ235)","v":4.75},{"$f":"MIN($N235:CR235)","v":4.75},{"$f":"MIN($N235:CS235)","v":4.75},{"$f":"MIN($N235:CT235)","v":4.75},{"$f":"MIN($N235:CU235)","v":4.75},{"$f":"MIN($N235:CV235)","v":4.75},{"$f":"MIN($N235:CW235)","v":4.75}]
[null,"Guluk","Cody",30,null,{"$f":"IF(H237<4,\"Y\",)","v":"Y"},2023,{"$f":"COUNT(J237:CX237)","v":0},"Date",null,null,null,null,null,null,null,null,null,null,null,null,null,null,null,null,null,null,null,null,null,null,null,null,null,null,null,null,null,null,null,null,null,null,null,null,null,null,null,null,null,null,null,null,null,null,null,null,null,null,null,null,null,null,null,null,null,null,null,null,null,null,null,null,null,null,null,null,null,null,null,null,null,null,null,null,null,null,null,null,null,null,null,null,null,null,null,null,null,null,null,null,null,{"$f":"IF(CW241>$DD$1,36,CW241)","v":30},30,{"$f":"CZ237-CY237","v":0}]
[null,null,null,null,null,null,null,null,"Course"]
[null,null,null,null,null,null,null,null,"Ad Gr"]
[null,null,null,null,null,null,null,null,"SD",32,{"$f":"IF(K239=\"\",0,(K239-INDIRECT(CONCATENATE(K238,\"CR\")))*113/INDIRECT(CONCATENATE(K238,\"SR\")))","v":0},{"$f":"IF(L239=\"\",0,(L239-INDIRECT(CONCATENATE(L238,\"CR\")))*113/INDIRECT(CONCATENATE(L238,\"SR\")))","v":0},0,0,0,0,0,0,0,0,0,0,0,0,0,0,0,0,0,0,0,0,0,0,0,0,0,0,0,0,0,0,0,0,0,0,0,0,0,0,0,0,0,0,0,0,0,0,0,0,0,0,0,0,0,0,0,0,0,0,0,0,0,0,0,{"$f":"IF(BX239=\"\",0,(BX239-INDIRECT(CONCATENATE(BX238,\"CR\")))*113/INDIRECT(CONCATENATE(BX238,\"SR\")))","v":0},0,0,0,0,0,0,0,0,0,0,0,0,0,0,0,0,0,0,0,0,0,0,0,0,0]
[null,null,null,null,null,null,null,null,"New Hcap",{"$f":"J240-2","v":30},{"$f":"IF(K240>0,MIN(J240:K240)-2,J241)","v":30},{"$f":"IF(L240>0,MIN(J240:L240)-2,K241)","v":30},{"$f":"IF(M240>0,MIN(J240:M240)-1,L241)","v":30},{"$f":"IF(N240>0,MIN(J240:N240),M241)","v":30},{"$f":"IF(O240>0,AVERAGE(SMALL(IF(J240:O240>0,J240:O240),{1,2}))-1,N241)","v":30},{"$f":"IF(P240>0,AVERAGE(SMALL(IF(J240:P240>0,J240:P240),{1,2})),O241)","v":30},{"$f":"IF(Q240>0,AVERAGE(SMALL(IF(J240:Q240>0,J240:Q240),{1,2})),P241)","v":30},{"$f":"IF(R240>0,AVERAGE(SMALL(IF(J240:R240>0,J240:R240),{1,2,3})),Q241)","v":30},{"$f":"IF(S240>0,AVERAGE(SMALL(IF(J240:S240>0,J240:S240),{1,2,3})),R241)","v":30},{"$f":"IF(T240>0,AVERAGE(SMALL(IF(J240:T240>0,J240:T240),{1,2,3})),S241)","v":30},{"$f":"IF(U240>0,AVERAGE(SMALL(IF(J240:U240>0,J240:U240),{1,2,3,4})),T241)","v":30},{"$f":"IF(V240>0,AVERAGE(SMALL(IF(J240:V240>0,J240:V240),{1,2,3,4})),U241)","v":30},{"$f":"IF(W240>0,AVERAGE(SMALL(IF(J240:W240>0,J240:W240),{1,2,3,4})),V241)","v":30},{"$f":"IF(X240>0,AVERAGE(SMALL(IF(J240:X240>0,J240:X240),{1,2,3,4,5})),W241)","v":30},{"$f":"IF(Y240>0,AVERAGE(SMALL(IF(J240:Y240>0,J240:Y240),{1,2,3,4,5})),X241)","v":30},{"$f":"IF(Z240>0,AVERAGE(SMALL(IF(J240:Z240>0,J240:Z240),{1,2,3,4,5,6})),Y241)","v":30},{"$f":"IF(AA240>0,AVERAGE(SMALL(IF(J240:AA240>0,J240:AA240),{1,2,3,4,5,6})),Z241)","v":30},{"$f":"IF(AB240>0,AVERAGE(SMALL(IF(J240:AB240>0,J240:AB240),{1,2,3,4,5,6,7})),AA241)","v":30},{"$f":"IF(AC240>0,AVERAGE(SMALL(IF(J240:AC240>0,J240:AC240),{1,2,3,4,5,6,7,8})),AB241)","v":30},{"$f":"IF(AD240>0,AVERAGE(SMALL(IF(K240:AD240>0,K240:AD240),{1,2,3,4,5,6,7,8})),AC241)","v":30},{"$f":"IF(AE240>0,AVERAGE(SMALL(IF(L240:AE240>0,L240:AE240),{1,2,3,4,5,6,7,8})),AD241)","v":30},{"$f":"IF(AF240>0,AVERAGE(SMALL(IF(M240:AF240>0,M240:AF240),{1,2,3,4,5,6,7,8})),AE241)","v":30},{"$f":"IF(AG240>0,AVERAGE(SMALL(IF(N240:AG240>0,N240:AG240),{1,2,3,4,5,6,7,8})),AF241)","v":30},{"$f":"IF(AH240>0,AVERAGE(SMALL(IF(O240:AH240>0,O240:AH240),{1,2,3,4,5,6,7,8})),AG241)","v":30},{"$f":"IF(AI240>0,AVERAGE(SMALL(IF(P240:AI240>0,P240:AI240),{1,2,3,4,5,6,7,8})),AH241)","v":30},{"$f":"IF(AJ240>0,AVERAGE(SMALL(IF(Q240:AJ240>0,Q240:AJ240),{1,2,3,4,5,6,7,8})),AI241)","v":30},{"$f":"IF(AK240>0,AVERAGE(SMALL(IF(R240:AK240>0,R240:AK240),{1,2,3,4,5,6,7,8})),AJ241)","v":30},{"$f":"IF(AL240>0,AVERAGE(SMALL(IF(S240:AL240>0,S240:AL240),{1,2,3,4,5,6,7,8})),AK241)","v":30},{"$f":"IF(AM240>0,AVERAGE(SMALL(IF(T240:AM240>0,T240:AM240),{1,2,3,4,5,6,7,8})),AL241)","v":30},{"$f":"IF(AN240>0,AVERAGE(SMALL(IF(U240:AN240>0,U240:AN240),{1,2,3,4,5,6,7,8})),AM241)","v":30},{"$f":"IF(AO240>0,AVERAGE(SMALL(IF(V240:AO240>0,V240:AO240),{1,2,3,4,5,6,7,8})),AN241)","v":30},{"$f":"IF(AP240>0,AVERAGE(SMALL(IF(W240:AP240>0,W240:AP240),{1,2,3,4,5,6,7,8})),AO241)","v":30},{"$f":"IF(AQ240>0,AVERAGE(SMALL(IF(X240:AQ240>0,X240:AQ240),{1,2,3,4,5,6,7,8})),AP241)","v":30},{"$f":"IF(AR240>0,AVERAGE(SMALL(IF(Y240:AR240>0,Y240:AR240),{1,2,3,4,5,6,7,8})),AQ241)","v":30},{"$f":"IF(AS240>0,AVERAGE(SMALL(IF(Z240:AS240>0,Z240:AS240),{1,2,3,4,5,6,7,8})),AR241)","v":30},{"$f":"IF(AT240>0,AVERAGE(SMALL(IF(AA240:AT240>0,AA240:AT240),{1,2,3,4,5,6,7,8})),AS241)","v":30},{"$f":"IF(AU240>0,AVERAGE(SMALL(IF(AB240:AU240>0,AB240:AU240),{1,2,3,4,5,6,7,8})),AT241)","v":30},{"$f":"IF(AV240>0,AVERAGE(SMALL(IF(AC240:AV240>0,AC240:AV240),{1,2,3,4,5,6,7,8})),AU241)","v":30},{"$f":"IF(AW240>0,AVERAGE(SMALL(IF(AD240:AW240>0,AD240:AW240),{1,2,3,4,5,6,7,8})),AV241)","v":30},{"$f":"IF(AX240>0,AVERAGE(SMALL(IF(AE240:AX240>0,AE240:AX240),{1,2,3,4,5,6,7,8})),AW241)","v":30},{"$f":"IF(AY240>0,AVERAGE(SMALL(IF(AF240:AY240>0,AF240:AY240),{1,2,3,4,5,6,7,8})),AX241)","v":30},{"$f":"IF(AZ240>0,AVERAGE(SMALL(IF(AG240:AZ240>0,AG240:AZ240),{1,2,3,4,5,6,7,8})),AY241)","v":30},{"$f":"IF(BA240>0,AVERAGE(SMALL(IF(AH240:BA240>0,AH240:BA240),{1,2,3,4,5,6,7,8})),AZ241)","v":30},{"$f":"IF(BB240>0,AVERAGE(SMALL(IF(AI240:BB240>0,AI240:BB240),{1,2,3,4,5,6,7,8})),BA241)","v":30},{"$f":"IF(BC240>0,AVERAGE(SMALL(IF(AJ240:BC240>0,AJ240:BC240),{1,2,3,4,5,6,7,8})),BB241)","v":30},{"$f":"IF(BD240>0,AVERAGE(SMALL(IF(AK240:BD240>0,AK240:BD240),{1,2,3,4,5,6,7,8})),BC241)","v":30},{"$f":"IF(BE240>0,AVERAGE(SMALL(IF(AL240:BE240>0,AL240:BE240),{1,2,3,4,5,6,7,8})),BD241)","v":30},{"$f":"IF(BF240>0,AVERAGE(SMALL(IF(AM240:BF240>0,AM240:BF240),{1,2,3,4,5,6,7,8})),BE241)","v":30},{"$f":"IF(BG240>0,AVERAGE(SMALL(IF(AN240:BG240>0,AN240:BG240),{1,2,3,4,5,6,7,8})),BF241)","v":30},{"$f":"IF(BH240>0,AVERAGE(SMALL(IF(AO240:BH240>0,AO240:BH240),{1,2,3,4,5,6,7,8})),BG241)","v":30},{"$f":"IF(BI240>0,AVERAGE(SMALL(IF(AP240:BI240>0,AP240:BI240),{1,2,3,4,5,6,7,8})),BH241)","v":30},{"$f":"IF(BJ240>0,AVERAGE(SMALL(IF(AQ240:BJ240>0,AQ240:BJ240),{1,2,3,4,5,6,7,8})),BI241)","v":30},{"$f":"IF(BK240>0,AVERAGE(SMALL(IF(AR240:BK240>0,AR240:BK240),{1,2,3,4,5,6,7,8})),BJ241)","v":30},{"$f":"IF(BL240>0,AVERAGE(SMALL(IF(AS240:BL240>0,AS240:BL240),{1,2,3,4,5,6,7,8})),BK241)","v":30},{"$f":"IF(BM240>0,AVERAGE(SMALL(IF(AT240:BM240>0,AT240:BM240),{1,2,3,4,5,6,7,8})),BL241)","v":30},{"$f":"IF(BN240>0,AVERAGE(SMALL(IF(AU240:BN240>0,AU240:BN240),{1,2,3,4,5,6,7,8})),BM241)","v":30},{"$f":"IF(BO240>0,AVERAGE(SMALL(IF(AV240:BO240>0,AV240:BO240),{1,2,3,4,5,6,7,8})),BN241)","v":30},{"$f":"IF(BP240>0,AVERAGE(SMALL(IF(AW240:BP240>0,AW240:BP240),{1,2,3,4,5,6,7,8})),BO241)","v":30},{"$f":"IF(BQ240>0,AVERAGE(SMALL(IF(AX240:BQ240>0,AX240:BQ240),{1,2,3,4,5,6,7,8})),BP241)","v":30},{"$f":"IF(BR240>0,AVERAGE(SMALL(IF(AY240:BR240>0,AY240:BR240),{1,2,3,4,5,6,7,8})),BQ241)","v":30},{"$f":"IF(BS240>0,AVERAGE(SMALL(IF(AZ240:BS240>0,AZ240:BS240),{1,2,3,4,5,6,7,8})),BR241)","v":30},{"$f":"IF(BT240>0,AVERAGE(SMALL(IF(BA240:BT240>0,BA240:BT240),{1,2,3,4,5,6,7,8})),BS241)","v":30},{"$f":"IF(BU240>0,AVERAGE(SMALL(IF(BB240:BU240>0,BB240:BU240),{1,2,3,4,5,6,7,8})),BT241)","v":30},{"$f":"IF(BV240>0,AVERAGE(SMALL(IF(BC240:BV240>0,BC240:BV240),{1,2,3,4,5,6,7,8})),BU241)","v":30},{"$f":"IF(BW240>0,AVERAGE(SMALL(IF(BD240:BW240>0,BD240:BW240),{1,2,3,4,5,6,7,8})),BV241)","v":30},{"$f":"IF(BX240>0,AVERAGE(SMALL(IF(BE240:BX240>0,BE240:BX240),{1,2,3,4,5,6,7,8})),BW241)","v":30},{"$f":"IF(BY240>0,AVERAGE(SMALL(IF(BF240:BY240>0,BF240:BY240),{1,2,3,4,5,6,7,8})),BX241)","v":30},{"$f":"IF(BZ240>0,AVERAGE(SMALL(IF(BG240:BZ240>0,BG240:BZ240),{1,2,3,4,5,6,7,8})),BY241)","v":30},{"$f":"IF(CA240>0,AVERAGE(SMALL(IF(BH240:CA240>0,BH240:CA240),{1,2,3,4,5,6,7,8})),BZ241)","v":30},{"$f":"IF(CB240>0,AVERAGE(SMALL(IF(BI240:CB240>0,BI240:CB240),{1,2,3,4,5,6,7,8})),CA241)","v":30},{"$f":"IF(CC240>0,AVERAGE(SMALL(IF(BJ240:CC240>0,BJ240:CC240),{1,2,3,4,5,6,7,8})),CB241)","v":30},{"$f":"IF(CD240>0,AVERAGE(SMALL(IF(BK240:CD240>0,BK240:CD240),{1,2,3,4,5,6,7,8})),CC241)","v":30},{"$f":"IF(CE240>0,AVERAGE(SMALL(IF(BL240:CE240>0,BL240:CE240),{1,2,3,4,5,6,7,8})),CD241)","v":30},{"$f":"IF(CF240>0,AVERAGE(SMALL(IF(BM240:CF240>0,BM240:CF240),{1,2,3,4,5,6,7,8})),CE241)","v":30},{"$f":"IF(CG240>0,AVERAGE(SMALL(IF(BN240:CG240>0,BN240:CG240),{1,2,3,4,5,6,7,8})),CF241)","v":30},{"$f":"IF(CH240>0,AVERAGE(SMALL(IF(BO240:CH240>0,BO240:CH240),{1,2,3,4,5,6,7,8})),CG241)","v":30},{"$f":"IF(CI240>0,AVERAGE(SMALL(IF(BP240:CI240>0,BP240:CI240),{1,2,3,4,5,6,7,8})),CH241)","v":30},{"$f":"IF(CJ240>0,AVERAGE(SMALL(IF(BQ240:CJ240>0,BQ240:CJ240),{1,2,3,4,5,6,7,8})),CI241)","v":30},{"$f":"IF(CK240>0,AVERAGE(SMALL(IF(BR240:CK240>0,BR240:CK240),{1,2,3,4,5,6,7,8})),CJ241)","v":30},{"$f":"IF(CL240>0,AVERAGE(SMALL(IF(BS240:CL240>0,BS240:CL240),{1,2,3,4,5,6,7,8})),CK241)","v":30},{"$f":"IF(CM240>0,AVERAGE(SMALL(IF(BT240:CM240>0,BT240:CM240),{1,2,3,4,5,6,7,8})),CL241)","v":30},{"$f":"IF(CN240>0,AVERAGE(SMALL(IF(BU240:CN240>0,BU240:CN240),{1,2,3,4,5,6,7,8})),CM241)","v":30},{"$f":"IF(CO240>0,AVERAGE(SMALL(IF(BV240:CO240>0,BV240:CO240),{1,2,3,4,5,6,7,8})),CN241)","v":30},{"$f":"IF(CP240>0,AVERAGE(SMALL(IF(BW240:CP240>0,BW240:CP240),{1,2,3,4,5,6,7,8})),CO241)","v":30},{"$f":"IF(CQ240>0,AVERAGE(SMALL(IF(BX240:CQ240>0,BX240:CQ240),{1,2,3,4,5,6,7,8})),CP241)","v":30},{"$f":"IF(CR240>0,AVERAGE(SMALL(IF(BY240:CR240>0,BY240:CR240),{1,2,3,4,5,6,7,8})),CQ241)","v":30},{"$f":"IF(CS240>0,AVERAGE(SMALL(IF(BZ240:CS240>0,BZ240:CS240),{1,2,3,4,5,6,7,8})),CR241)","v":30},{"$f":"IF(CT240>0,AVERAGE(SMALL(IF(CA240:CT240>0,CA240:CT240),{1,2,3,4,5,6,7,8})),CS241)","v":30},{"$f":"IF(CU240>0,AVERAGE(SMALL(IF(CB240:CU240>0,CB240:CU240),{1,2,3,4,5,6,7,8})),CT241)","v":30},{"$f":"IF(CV240>0,AVERAGE(SMALL(IF(CC240:CV240>0,CC240:CV240),{1,2,3,4,5,6,7,8})),CU241)","v":30},{"$f":"IF(CW240>0,AVERAGE(SMALL(IF(CD240:CW240>0,CD240:CW240),{1,2,3,4,5,6,7,8})),CV241)","v":30}]
[null,null,null,null,null,null,null,null,"Low Hcap",null,null,null,null,null,null,null,null,null,null,null,null,null,null,null,null,null,null,null,{"$f":"MIN($J241:AC241)","v":30},{"$f":"MIN($J241:AD241)","v":30},{"$f":"MIN($J241:AE241)","v":30},{"$f":"MIN($J241:AF241)","v":30},{"$f":"MIN($J241:AG241)","v":30},{"$f":"MIN($J241:AH241)","v":30},{"$f":"MIN($J241:AI241)","v":30},{"$f":"MIN($J241:AJ241)","v":30},{"$f":"MIN($J241:AK241)","v":30},{"$f":"MIN($J241:AL241)","v":30},{"$f":"MIN($J241:AM241)","v":30},{"$f":"MIN($J241:AN241)","v":30},{"$f":"MIN($J241:AO241)","v":30},{"$f":"MIN($J241:AP241)","v":30},{"$f":"MIN($J241:AQ241)","v":30},{"$f":"MIN($J241:AR241)","v":30},{"$f":"MIN($J241:AS241)","v":30},{"$f":"MIN($J241:AT241)","v":30},{"$f":"MIN($J241:AU241)","v":30},{"$f":"MIN($J241:AV241)","v":30},{"$f":"MIN($J241:AW241)","v":30},{"$f":"MIN($J241:AX241)","v":30},{"$f":"MIN($J241:AY241)","v":30},{"$f":"MIN($J241:AZ241)","v":30},{"$f":"MIN($J241:BA241)","v":30},{"$f":"MIN($J241:BB241)","v":30},{"$f":"MIN($J241:BC241)","v":30},{"$f":"MIN($J241:BD241)","v":30},{"$f":"MIN($J241:BE241)","v":30},{"$f":"MIN($J241:BF241)","v":30},{"$f":"MIN($J241:BG241)","v":30},{"$f":"MIN($J241:BH241)","v":30},{"$f":"MIN($J241:BI241)","v":30},{"$f":"MIN($J241:BJ241)","v":30},{"$f":"MIN($J241:BK241)","v":30},{"$f":"MIN($J241:BL241)","v":30},{"$f":"MIN($J241:BM241)","v":30},{"$f":"MIN($J241:BN241)","v":30},{"$f":"MIN($J241:BO241)","v":30},{"$f":"MIN($J241:BP241)","v":30},{"$f":"MIN($J241:BQ241)","v":30},{"$f":"MIN($J241:BR241)","v":30},{"$f":"MIN($J241:BS241)","v":30},{"$f":"MIN($J241:BT241)","v":30},{"$f":"MIN($J241:BU241)","v":30},{"$f":"MIN($J241:BV241)","v":30},{"$f":"MIN($J241:BW241)","v":30},{"$f":"MIN($J241:BX241)","v":30},{"$f":"MIN($J241:BY241)","v":30},{"$f":"MIN($J241:BZ241)","v":30},{"$f":"MIN($J241:CA241)","v":30},{"$f":"MIN($J241:CB241)","v":30},{"$f":"MIN($J241:CC241)","v":30},{"$f":"MIN($J241:CD241)","v":30},{"$f":"MIN($J241:CE241)","v":30},{"$f":"MIN($J241:CF241)","v":30},{"$f":"MIN($J241:CG241)","v":30},{"$f":"MIN($J241:CH241)","v":30},{"$f":"MIN($J241:CI241)","v":30},{"$f":"MIN($J241:CJ241)","v":30},{"$f":"MIN($J241:CK241)","v":30},{"$f":"MIN($J241:CL241)","v":30},{"$f":"MIN($J241:CM241)","v":30},{"$f":"MIN($J241:CN241)","v":30},{"$f":"MIN($J241:CO241)","v":30},{"$f":"MIN($J241:CP241)","v":30},{"$f":"MIN($J241:CQ241)","v":30},{"$f":"MIN($J241:CR241)","v":30},{"$f":"MIN($J241:CS241)","v":30},{"$f":"MIN($J241:CT241)","v":30},{"$f":"MIN($J241:CU241)","v":30},{"$f":"MIN($J241:CV241)","v":30},{"$f":"MIN($J241:CW241)","v":30}]
[null,"Gurman","Marc",12.6,null,{"$f":"IF(H243<4,\"Y\",)","v":0},2000,{"$f":"COUNT(J243:CX243)","v":19},"Date",null,"2018-05-13","2018-06-10","2018-07-08","2019-07-07","2020-07-12","2020-08-09","2020-08-14","2021-04-11","2021-05-14","2021-06-04","2021-07-11","2021-10-03","2021-10-31","2022-05-20","2022-06-25","2022-06-26","2022-07-31","2022-08-07","2022-10-30",null,null,null,null,null,null,null,null,null,null,null,null,null,null,null,null,null,null,null,null,null,null,null,null,null,null,null,null,null,null,null,null,null,null,null,null,null,null,null,null,null,null,null,null,null,null,null,null,null,null,null,null,null,null,null,null,null,null,null,null,null,null,null,null,null,null,null,null,null,null,null,null,null,{"$f":"IF(CW247>$DD$1,36,CW247)","v":18.987615767743875},18.987615767743875,{"$f":"CZ243-CY243","v":0}]
[null,null,null,null,null,null,null,null,"Course",null,"PfaffingHG","TegernbachHG","PfaffingHG","ErdingHG","PfaffingHG","ErdingHG","EgmatingHG","ErdingHR","StEurachHG","EgmatingHG","PfaffingHG","OdelzhausenHB","ErdingHG","GutHaeusenHG","AlgaeuerHG","AlgaeuerHG","HohenpaehlHG","IffeldorfHG","OdelzhausenHB"]
[null,null,null,null,null,null,null,null,"Ad Gr",null,104,94,103,90,102,100,106,90,95,109,96,94,101,94,99,97,99,112,91]
[null,null,null,null,null,null,null,null,"SD",12.6,{"$f":"IF(K245=\"\",0,(K245-INDIRECT(CONCATENATE(K244,\"CR\")))*113/INDIRECT(CONCATENATE(K244,\"SR\")))","v":27.815384615384616},19.090151515151511,26.946153846153845,16.515384615384615,26.076923076923077,25.207692307692309,29.069465648854965,21.935294117647054,19.925954198473278,31.657251908396951,20.861538461538462,25.497435897435903,26.076923076923077,19.752755905511815,22.945038167938925,21.219847328244271,24.411450381679387,35.739534883720928,22.600000000000005,0,0,0,0,0,0,0,0,0,0,0,0,0,0,0,0,0,0,0,0,0,0,0,0,0,0,0,0,0,0,0,0,0,0,0,0,0,0,0,0,0,0,0,0,0,{"$f":"IF(BW245=\"\",0,(BW245-INDIRECT(CONCATENATE(BW244,\"CR\")))*113/INDIRECT(CONCATENATE(BW244,\"SR\")))","v":0},0,0,0,0,0,0,0,0,0,0,0,0,0,0,0,{"$f":"IF(CM245=\"\",0,(CM245-INDIRECT(CONCATENATE(CM244,\"CR\")))*113/INDIRECT(CONCATENATE(CM244,\"SR\")))","v":0},0,{"$f":"IF(CO245=\"\",0,(CO245-INDIRECT(CONCATENATE(CO244,\"CR\")))*113/INDIRECT(CONCATENATE(CO244,\"SR\")))","v":0},0,{"$f":"IF(CQ245=\"\",0,(CQ245-INDIRECT(CONCATENATE(CQ244,\"CR\")))*113/INDIRECT(CONCATENATE(CQ244,\"SR\")))","v":0},0,{"$f":"IF(CS245=\"\",0,(CS245-INDIRECT(CONCATENATE(CS244,\"CR\")))*113/INDIRECT(CONCATENATE(CS244,\"SR\")))","v":0},0,{"$f":"IF(CU245=\"\",0,(CU245-INDIRECT(CONCATENATE(CU244,\"CR\")))*113/INDIRECT(CONCATENATE(CU244,\"SR\")))","v":0},0,{"$f":"IF(CW245=\"\",0,(CW245-INDIRECT(CONCATENATE(CW244,\"CR\")))*113/INDIRECT(CONCATENATE(CW244,\"SR\")))","v":0}]
[null,null,null,null,null,null,null,null,"New Hcap",{"$f":"J246-2","v":10.6},{"$f":"IF(K246>0,MIN(J246:K246)-2,J247)","v":10.6},{"$f":"IF(L246>0,MIN(J246:L246)-2,K247)","v":10.6},{"$f":"IF(M246>0,MIN(J246:M246)-1,L247)","v":11.6},{"$f":"IF(N246>0,MIN(J246:N246),M247)","v":12.6},{"$f":"IF(O246>0,AVERAGE(SMALL(IF(J246:O246>0,J246:O246),{1,2}))-1,N247)","v":13.557692307692307},{"$f":"IF(P246>0,AVERAGE(SMALL(IF(J246:P246>0,J246:P246),{1,2})),O247)","v":14.557692307692307},{"$f":"IF(Q246>0,AVERAGE(SMALL(IF(J246:Q246>0,J246:Q246),{1,2})),P247)","v":14.557692307692307},{"$f":"IF(R246>0,AVERAGE(SMALL(IF(J246:R246>0,J246:R246),{1,2,3})),Q247)","v":16.06851204351204},{"$f":"IF(S246>0,AVERAGE(SMALL(IF(J246:S246>0,J246:S246),{1,2,3})),R247)","v":16.06851204351204},{"$f":"IF(T246>0,AVERAGE(SMALL(IF(J246:T246>0,J246:T246),{1,2,3})),S247)","v":16.06851204351204},{"$f":"IF(U246>0,AVERAGE(SMALL(IF(J246:U246>0,J246:U246),{1,2,3,4})),T247)","v":17.032872582252352},{"$f":"IF(V246>0,AVERAGE(SMALL(IF(J246:V246>0,J246:V246),{1,2,3,4})),U247)","v":17.032872582252352},{"$f":"IF(W246>0,AVERAGE(SMALL(IF(J246:W246>0,J246:W246),{1,2,3,4})),V247)","v":17.032872582252352},{"$f":"IF(X246>0,AVERAGE(SMALL(IF(J246:X246>0,J246:X246),{1,2,3,4,5})),W247)","v":17.576849246904242},{"$f":"IF(Y246>0,AVERAGE(SMALL(IF(J246:Y246>0,J246:Y246),{1,2,3,4,5})),X247)","v":17.576849246904242},{"$f":"IF(Z246>0,AVERAGE(SMALL(IF(J246:Z246>0,J246:Z246),{1,2,3,4,5,6})),Y247)","v":18.124297449343278},{"$f":"IF(AA246>0,AVERAGE(SMALL(IF(J246:AA246>0,J246:AA246),{1,2,3,4,5,6})),Z247)","v":18.124297449343278},{"$f":"IF(AB246>0,AVERAGE(SMALL(IF(J246:AB246>0,J246:AB246),{1,2,3,4,5,6,7})),AA247)","v":18.566518860614849},{"$f":"IF(AC246>0,AVERAGE(SMALL(IF(J246:AC246>0,J246:AC246),{1,2,3,4,5,6,7,8})),AB247)","v":18.987615767743875},{"$f":"IF(AD246>0,AVERAGE(SMALL(IF(K246:AD246>0,K246:AD246),{1,2,3,4,5,6,7,8})),AC247)","v":18.987615767743875},{"$f":"IF(AE246>0,AVERAGE(SMALL(IF(L246:AE246>0,L246:AE246),{1,2,3,4,5,6,7,8})),AD247)","v":18.987615767743875},{"$f":"IF(AF246>0,AVERAGE(SMALL(IF(M246:AF246>0,M246:AF246),{1,2,3,4,5,6,7,8})),AE247)","v":18.987615767743875},{"$f":"IF(AG246>0,AVERAGE(SMALL(IF(N246:AG246>0,N246:AG246),{1,2,3,4,5,6,7,8})),AF247)","v":18.987615767743875},{"$f":"IF(AH246>0,AVERAGE(SMALL(IF(O246:AH246>0,O246:AH246),{1,2,3,4,5,6,7,8})),AG247)","v":18.987615767743875},{"$f":"IF(AI246>0,AVERAGE(SMALL(IF(P246:AI246>0,P246:AI246),{1,2,3,4,5,6,7,8})),AH247)","v":18.987615767743875},{"$f":"IF(AJ246>0,AVERAGE(SMALL(IF(Q246:AJ246>0,Q246:AJ246),{1,2,3,4,5,6,7,8})),AI247)","v":18.987615767743875},{"$f":"IF(AK246>0,AVERAGE(SMALL(IF(R246:AK246>0,R246:AK246),{1,2,3,4,5,6,7,8})),AJ247)","v":18.987615767743875},{"$f":"IF(AL246>0,AVERAGE(SMALL(IF(S246:AL246>0,S246:AL246),{1,2,3,4,5,6,7,8})),AK247)","v":18.987615767743875},{"$f":"IF(AM246>0,AVERAGE(SMALL(IF(T246:AM246>0,T246:AM246),{1,2,3,4,5,6,7,8})),AL247)","v":18.987615767743875},{"$f":"IF(AN246>0,AVERAGE(SMALL(IF(U246:AN246>0,U246:AN246),{1,2,3,4,5,6,7,8})),AM247)","v":18.987615767743875},{"$f":"IF(AO246>0,AVERAGE(SMALL(IF(V246:AO246>0,V246:AO246),{1,2,3,4,5,6,7,8})),AN247)","v":18.987615767743875},{"$f":"IF(AP246>0,AVERAGE(SMALL(IF(W246:AP246>0,W246:AP246),{1,2,3,4,5,6,7,8})),AO247)","v":18.987615767743875},{"$f":"IF(AQ246>0,AVERAGE(SMALL(IF(X246:AQ246>0,X246:AQ246),{1,2,3,4,5,6,7,8})),AP247)","v":18.987615767743875},{"$f":"IF(AR246>0,AVERAGE(SMALL(IF(Y246:AR246>0,Y246:AR246),{1,2,3,4,5,6,7,8})),AQ247)","v":18.987615767743875},{"$f":"IF(AS246>0,AVERAGE(SMALL(IF(Z246:AS246>0,Z246:AS246),{1,2,3,4,5,6,7,8})),AR247)","v":18.987615767743875},{"$f":"IF(AT246>0,AVERAGE(SMALL(IF(AA246:AT246>0,AA246:AT246),{1,2,3,4,5,6,7,8})),AS247)","v":18.987615767743875},{"$f":"IF(AU246>0,AVERAGE(SMALL(IF(AB246:AU246>0,AB246:AU246),{1,2,3,4,5,6,7,8})),AT247)","v":18.987615767743875},{"$f":"IF(AV246>0,AVERAGE(SMALL(IF(AC246:AV246>0,AC246:AV246),{1,2,3,4,5,6,7,8})),AU247)","v":18.987615767743875},{"$f":"IF(AW246>0,AVERAGE(SMALL(IF(AD246:AW246>0,AD246:AW246),{1,2,3,4,5,6,7,8})),AV247)","v":18.987615767743875},{"$f":"IF(AX246>0,AVERAGE(SMALL(IF(AE246:AX246>0,AE246:AX246),{1,2,3,4,5,6,7,8})),AW247)","v":18.987615767743875},{"$f":"IF(AY246>0,AVERAGE(SMALL(IF(AF246:AY246>0,AF246:AY246),{1,2,3,4,5,6,7,8})),AX247)","v":18.987615767743875},{"$f":"IF(AZ246>0,AVERAGE(SMALL(IF(AG246:AZ246>0,AG246:AZ246),{1,2,3,4,5,6,7,8})),AY247)","v":18.987615767743875},{"$f":"IF(BA246>0,AVERAGE(SMALL(IF(AH246:BA246>0,AH246:BA246),{1,2,3,4,5,6,7,8})),AZ247)","v":18.987615767743875},{"$f":"IF(BB246>0,AVERAGE(SMALL(IF(AI246:BB246>0,AI246:BB246),{1,2,3,4,5,6,7,8})),BA247)","v":18.987615767743875},{"$f":"IF(BC246>0,AVERAGE(SMALL(IF(AJ246:BC246>0,AJ246:BC246),{1,2,3,4,5,6,7,8})),BB247)","v":18.987615767743875},{"$f":"IF(BD246>0,AVERAGE(SMALL(IF(AK246:BD246>0,AK246:BD246),{1,2,3,4,5,6,7,8})),BC247)","v":18.987615767743875},{"$f":"IF(BE246>0,AVERAGE(SMALL(IF(AL246:BE246>0,AL246:BE246),{1,2,3,4,5,6,7,8})),BD247)","v":18.987615767743875},{"$f":"IF(BF246>0,AVERAGE(SMALL(IF(AM246:BF246>0,AM246:BF246),{1,2,3,4,5,6,7,8})),BE247)","v":18.987615767743875},{"$f":"IF(BG246>0,AVERAGE(SMALL(IF(AN246:BG246>0,AN246:BG246),{1,2,3,4,5,6,7,8})),BF247)","v":18.987615767743875},{"$f":"IF(BH246>0,AVERAGE(SMALL(IF(AO246:BH246>0,AO246:BH246),{1,2,3,4,5,6,7,8})),BG247)","v":18.987615767743875},{"$f":"IF(BI246>0,AVERAGE(SMALL(IF(AP246:BI246>0,AP246:BI246),{1,2,3,4,5,6,7,8})),BH247)","v":18.987615767743875},{"$f":"IF(BJ246>0,AVERAGE(SMALL(IF(AQ246:BJ246>0,AQ246:BJ246),{1,2,3,4,5,6,7,8})),BI247)","v":18.987615767743875},{"$f":"IF(BK246>0,AVERAGE(SMALL(IF(AR246:BK246>0,AR246:BK246),{1,2,3,4,5,6,7,8})),BJ247)","v":18.987615767743875},{"$f":"IF(BL246>0,AVERAGE(SMALL(IF(AS246:BL246>0,AS246:BL246),{1,2,3,4,5,6,7,8})),BK247)","v":18.987615767743875},{"$f":"IF(BM246>0,AVERAGE(SMALL(IF(AT246:BM246>0,AT246:BM246),{1,2,3,4,5,6,7,8})),BL247)","v":18.987615767743875},{"$f":"IF(BN246>0,AVERAGE(SMALL(IF(AU246:BN246>0,AU246:BN246),{1,2,3,4,5,6,7,8})),BM247)","v":18.987615767743875},{"$f":"IF(BO246>0,AVERAGE(SMALL(IF(AV246:BO246>0,AV246:BO246),{1,2,3,4,5,6,7,8})),BN247)","v":18.987615767743875},{"$f":"IF(BP246>0,AVERAGE(SMALL(IF(AW246:BP246>0,AW246:BP246),{1,2,3,4,5,6,7,8})),BO247)","v":18.987615767743875},{"$f":"IF(BQ246>0,AVERAGE(SMALL(IF(AX246:BQ246>0,AX246:BQ246),{1,2,3,4,5,6,7,8})),BP247)","v":18.987615767743875},{"$f":"IF(BR246>0,AVERAGE(SMALL(IF(AY246:BR246>0,AY246:BR246),{1,2,3,4,5,6,7,8})),BQ247)","v":18.987615767743875},{"$f":"IF(BS246>0,AVERAGE(SMALL(IF(AZ246:BS246>0,AZ246:BS246),{1,2,3,4,5,6,7,8})),BR247)","v":18.987615767743875},{"$f":"IF(BT246>0,AVERAGE(SMALL(IF(BA246:BT246>0,BA246:BT246),{1,2,3,4,5,6,7,8})),BS247)","v":18.987615767743875},{"$f":"IF(BU246>0,AVERAGE(SMALL(IF(BB246:BU246>0,BB246:BU246),{1,2,3,4,5,6,7,8})),BT247)","v":18.987615767743875},{"$f":"IF(BV246>0,AVERAGE(SMALL(IF(BC246:BV246>0,BC246:BV246),{1,2,3,4,5,6,7,8})),BU247)","v":18.987615767743875},{"$f":"IF(BW246>0,AVERAGE(SMALL(IF(BD246:BW246>0,BD246:BW246),{1,2,3,4,5,6,7,8})),BV247)","v":18.987615767743875},{"$f":"IF(BX246>0,AVERAGE(SMALL(IF(BE246:BX246>0,BE246:BX246),{1,2,3,4,5,6,7,8})),BW247)","v":18.987615767743875},{"$f":"IF(BY246>0,AVERAGE(SMALL(IF(BF246:BY246>0,BF246:BY246),{1,2,3,4,5,6,7,8})),BX247)","v":18.987615767743875},{"$f":"IF(BZ246>0,AVERAGE(SMALL(IF(BG246:BZ246>0,BG246:BZ246),{1,2,3,4,5,6,7,8})),BY247)","v":18.987615767743875},{"$f":"IF(CA246>0,AVERAGE(SMALL(IF(BH246:CA246>0,BH246:CA246),{1,2,3,4,5,6,7,8})),BZ247)","v":18.987615767743875},{"$f":"IF(CB246>0,AVERAGE(SMALL(IF(BI246:CB246>0,BI246:CB246),{1,2,3,4,5,6,7,8})),CA247)","v":18.987615767743875},{"$f":"IF(CC246>0,AVERAGE(SMALL(IF(BJ246:CC246>0,BJ246:CC246),{1,2,3,4,5,6,7,8})),CB247)","v":18.987615767743875},{"$f":"IF(CD246>0,AVERAGE(SMALL(IF(BK246:CD246>0,BK246:CD246),{1,2,3,4,5,6,7,8})),CC247)","v":18.987615767743875},{"$f":"IF(CE246>0,AVERAGE(SMALL(IF(BL246:CE246>0,BL246:CE246),{1,2,3,4,5,6,7,8})),CD247)","v":18.987615767743875},{"$f":"IF(CF246>0,AVERAGE(SMALL(IF(BM246:CF246>0,BM246:CF246),{1,2,3,4,5,6,7,8})),CE247)","v":18.987615767743875},{"$f":"IF(CG246>0,AVERAGE(SMALL(IF(BN246:CG246>0,BN246:CG246),{1,2,3,4,5,6,7,8})),CF247)","v":18.987615767743875},{"$f":"IF(CH246>0,AVERAGE(SMALL(IF(BO246:CH246>0,BO246:CH246),{1,2,3,4,5,6,7,8})),CG247)","v":18.987615767743875},{"$f":"IF(CI246>0,AVERAGE(SMALL(IF(BP246:CI246>0,BP246:CI246),{1,2,3,4,5,6,7,8})),CH247)","v":18.987615767743875},{"$f":"IF(CJ246>0,AVERAGE(SMALL(IF(BQ246:CJ246>0,BQ246:CJ246),{1,2,3,4,5,6,7,8})),CI247)","v":18.987615767743875},{"$f":"IF(CK246>0,AVERAGE(SMALL(IF(BR246:CK246>0,BR246:CK246),{1,2,3,4,5,6,7,8})),CJ247)","v":18.987615767743875},{"$f":"IF(CL246>0,AVERAGE(SMALL(IF(BS246:CL246>0,BS246:CL246),{1,2,3,4,5,6,7,8})),CK247)","v":18.987615767743875},{"$f":"IF(CM246>0,AVERAGE(SMALL(IF(BT246:CM246>0,BT246:CM246),{1,2,3,4,5,6,7,8})),CL247)","v":18.987615767743875},{"$f":"IF(CN246>0,AVERAGE(SMALL(IF(BU246:CN246>0,BU246:CN246),{1,2,3,4,5,6,7,8})),CM247)","v":18.987615767743875},{"$f":"IF(CO246>0,AVERAGE(SMALL(IF(BV246:CO246>0,BV246:CO246),{1,2,3,4,5,6,7,8})),CN247)","v":18.987615767743875},{"$f":"IF(CP246>0,AVERAGE(SMALL(IF(BW246:CP246>0,BW246:CP246),{1,2,3,4,5,6,7,8})),CO247)","v":18.987615767743875},{"$f":"IF(CQ246>0,AVERAGE(SMALL(IF(BX246:CQ246>0,BX246:CQ246),{1,2,3,4,5,6,7,8})),CP247)","v":18.987615767743875},{"$f":"IF(CR246>0,AVERAGE(SMALL(IF(BY246:CR246>0,BY246:CR246),{1,2,3,4,5,6,7,8})),CQ247)","v":18.987615767743875},{"$f":"IF(CS246>0,AVERAGE(SMALL(IF(BZ246:CS246>0,BZ246:CS246),{1,2,3,4,5,6,7,8})),CR247)","v":18.987615767743875},{"$f":"IF(CT246>0,AVERAGE(SMALL(IF(CA246:CT246>0,CA246:CT246),{1,2,3,4,5,6,7,8})),CS247)","v":18.987615767743875},{"$f":"IF(CU246>0,AVERAGE(SMALL(IF(CB246:CU246>0,CB246:CU246),{1,2,3,4,5,6,7,8})),CT247)","v":18.987615767743875},{"$f":"IF(CV246>0,AVERAGE(SMALL(IF(CC246:CV246>0,CC246:CV246),{1,2,3,4,5,6,7,8})),CU247)","v":18.987615767743875},{"$f":"IF(CW246>0,AVERAGE(SMALL(IF(CD246:CW246>0,CD246:CW246),{1,2,3,4,5,6,7,8})),CV247)","v":18.987615767743875}]
[null,null,null,null,null,null,null,null,"Low Hcap",null,null,null,null,null,null,null,null,null,null,null,null,null,null,null,null,null,null,null,{"$f":"MIN($W247:AC247)","v":17.032872582252352},{"$f":"MIN($W247:AD247)","v":17.032872582252352},{"$f":"MIN($W247:AE247)","v":17.032872582252352},{"$f":"MIN($W247:AF247)","v":17.032872582252352},{"$f":"MIN($W247:AG247)","v":17.032872582252352},{"$f":"MIN($W247:AH247)","v":17.032872582252352},{"$f":"MIN($W247:AI247)","v":17.032872582252352},{"$f":"MIN($W247:AJ247)","v":17.032872582252352},{"$f":"MIN($W247:AK247)","v":17.032872582252352},{"$f":"MIN($W247:AL247)","v":17.032872582252352},{"$f":"MIN($W247:AM247)","v":17.032872582252352},{"$f":"MIN($W247:AN247)","v":17.032872582252352},{"$f":"MIN($W247:AO247)","v":17.032872582252352},{"$f":"MIN($W247:AP247)","v":17.032872582252352},{"$f":"MIN($W247:AQ247)","v":17.032872582252352},{"$f":"MIN($W247:AR247)","v":17.032872582252352},{"$f":"MIN($W247:AS247)","v":17.032872582252352},{"$f":"MIN($W247:AT247)","v":17.032872582252352},{"$f":"MIN($W247:AU247)","v":17.032872582252352},{"$f":"MIN($W247:AV247)","v":17.032872582252352},{"$f":"MIN($W247:AW247)","v":17.032872582252352},{"$f":"MIN($W247:AX247)","v":17.032872582252352},{"$f":"MIN($W247:AY247)","v":17.032872582252352},{"$f":"MIN($W247:AZ247)","v":17.032872582252352},{"$f":"MIN($W247:BA247)","v":17.032872582252352},{"$f":"MIN($W247:BB247)","v":17.032872582252352},{"$f":"MIN($W247:BC247)","v":17.032872582252352},{"$f":"MIN($W247:BD247)","v":17.032872582252352},{"$f":"MIN($W247:BE247)","v":17.032872582252352},{"$f":"MIN($W247:BF247)","v":17.032872582252352},{"$f":"MIN($W247:BG247)","v":17.032872582252352},{"$f":"MIN($W247:BH247)","v":17.032872582252352},{"$f":"MIN($W247:BI247)","v":17.032872582252352},{"$f":"MIN($W247:BJ247)","v":17.032872582252352},{"$f":"MIN($W247:BK247)","v":17.032872582252352},{"$f":"MIN($W247:BL247)","v":17.032872582252352},{"$f":"MIN($W247:BM247)","v":17.032872582252352},{"$f":"MIN($W247:BN247)","v":17.032872582252352},{"$f":"MIN($W247:BO247)","v":17.032872582252352},{"$f":"MIN($W247:BP247)","v":17.032872582252352},{"$f":"MIN($W247:BQ247)","v":17.032872582252352},{"$f":"MIN($W247:BR247)","v":17.032872582252352},{"$f":"MIN($W247:BS247)","v":17.032872582252352},{"$f":"MIN($W247:BT247)","v":17.032872582252352},{"$f":"MIN($W247:BU247)","v":17.032872582252352},{"$f":"MIN($W247:BV247)","v":17.032872582252352},{"$f":"MIN($W247:BW247)","v":17.032872582252352},{"$f":"MIN($W247:BX247)","v":17.032872582252352},{"$f":"MIN($W247:BY247)","v":17.032872582252352},{"$f":"MIN($W247:BZ247)","v":17.032872582252352},{"$f":"MIN($W247:CA247)","v":17.032872582252352},{"$f":"MIN($W247:CB247)","v":17.032872582252352},{"$f":"MIN($W247:CC247)","v":17.032872582252352},{"$f":"MIN($W247:CD247)","v":17.032872582252352},{"$f":"MIN($W247:CE247)","v":17.032872582252352},{"$f":"MIN($W247:CF247)","v":17.032872582252352},{"$f":"MIN($W247:CG247)","v":17.032872582252352},{"$f":"MIN($W247:CH247)","v":17.032872582252352},{"$f":"MIN($W247:CI247)","v":17.032872582252352},{"$f":"MIN($W247:CJ247)","v":17.032872582252352},{"$f":"MIN($W247:CK247)","v":17.032872582252352},{"$f":"MIN($W247:CL247)","v":17.032872582252352},{"$f":"MIN($W247:CM247)","v":17.032872582252352},{"$f":"MIN($W247:CN247)","v":17.032872582252352},{"$f":"MIN($W247:CO247)","v":17.032872582252352},{"$f":"MIN($W247:CP247)","v":17.032872582252352},{"$f":"MIN($W247:CQ247)","v":17.032872582252352},{"$f":"MIN($W247:CR247)","v":17.032872582252352},{"$f":"MIN($W247:CS247)","v":17.032872582252352},{"$f":"MIN($W247:CT247)","v":17.032872582252352},{"$f":"MIN($W247:CU247)","v":17.032872582252352},{"$f":"MIN($W247:CV247)","v":17.032872582252352},{"$f":"MIN($W247:CW247)","v":17.032872582252352}]
[null,"Hall","Byron",16,null,{"$f":"IF(H249<4,\"Y\",)","v":"Y"},2022,{"$f":"COUNT(J249:CX249)","v":3},"Date",null,"2022-08-07","2022-10-21","2023-05-19",null,null,null,null,null,null,null,null,null,null,null,null,null,null,null,null,null,null,null,null,null,null,null,null,null,null,null,null,null,null,null,null,null,null,null,null,null,null,null,null,null,null,null,null,null,null,null,null,null,null,null,null,null,null,null,null,null,null,null,null,null,null,null,null,null,null,null,null,null,null,null,null,null,null,null,null,null,null,null,null,null,null,null,null,null,null,null,null,null,{"$f":"IF(CW253>$DD$1,36,CW253)","v":17},16,{"$f":"CZ249-CY249","v":-1}]
[null,null,null,null,null,null,null,null,"Course",null,"IffeldorfHG","TegernbachHG","GarmischHG"]
[null,null,null,null,null,null,null,null,"Ad Gr",null,104,112,112]
[null,null,null,null,null,null,null,null,"SD",18,{"$f":"IF(K251=\"\",0,(K251-INDIRECT(CONCATENATE(K250,\"CR\")))*113/INDIRECT(CONCATENATE(K250,\"SR\")))","v":28.73178294573643},{"$f":"IF(L251=\"\",0,(L251-INDIRECT(CONCATENATE(L250,\"CR\")))*113/INDIRECT(CONCATENATE(L250,\"SR\")))","v":34.499242424242425},36.124409448818895,0,0,0,0,0,0,0,0,0,0,0,0,0,0,0,0,0,0,0,0,0,0,0,0,0,0,0,0,0,0,0,0,0,0,0,0,0,0,0,0,0,0,0,0,0,0,0,0,0,0,0,0,0,0,0,0,0,0,0,0,0,0,{"$f":"IF(BX251=\"\",0,(BX251-INDIRECT(CONCATENATE(BX250,\"CR\")))*113/INDIRECT(CONCATENATE(BX250,\"SR\")))","v":0},0,0,0,0,0,0,0,0,0,0,0,0,0,0,{"$f":"IF(CM251=\"\",0,(CM251-INDIRECT(CONCATENATE(CM250,\"CR\")))*113/INDIRECT(CONCATENATE(CM250,\"SR\")))","v":0},0,{"$f":"IF(CO251=\"\",0,(CO251-INDIRECT(CONCATENATE(CO250,\"CR\")))*113/INDIRECT(CONCATENATE(CO250,\"SR\")))","v":0},0,{"$f":"IF(CQ251=\"\",0,(CQ251-INDIRECT(CONCATENATE(CQ250,\"CR\")))*113/INDIRECT(CONCATENATE(CQ250,\"SR\")))","v":0},0,{"$f":"IF(CS251=\"\",0,(CS251-INDIRECT(CONCATENATE(CS250,\"CR\")))*113/INDIRECT(CONCATENATE(CS250,\"SR\")))","v":0},0,{"$f":"IF(CU251=\"\",0,(CU251-INDIRECT(CONCATENATE(CU250,\"CR\")))*113/INDIRECT(CONCATENATE(CU250,\"SR\")))","v":0},0,{"$f":"IF(CW251=\"\",0,(CW251-INDIRECT(CONCATENATE(CW250,\"CR\")))*113/INDIRECT(CONCATENATE(CW250,\"SR\")))","v":0}]
[null,null,null,null,null,null,null,null,"New Hcap",{"$f":"J252-2","v":16},{"$f":"IF(K252>0,MIN(J252:K252)-2,J253)","v":16},{"$f":"IF(L252>0,MIN(J252:L252)-2,K253)","v":16},{"$f":"IF(M252>0,MIN(J252:M252)-1,L253)","v":17},{"$f":"IF(N252>0,MIN(J252:N252),M253)","v":17},{"$f":"IF(O252>0,AVERAGE(SMALL(IF(J252:O252>0,J252:O252),{1,2}))-1,N253)","v":17},{"$f":"IF(P252>0,AVERAGE(SMALL(IF(J252:P252>0,J252:P252),{1,2})),O253)","v":17},{"$f":"IF(Q252>0,AVERAGE(SMALL(IF(J252:Q252>0,J252:Q252),{1,2})),P253)","v":17},{"$f":"IF(R252>0,AVERAGE(SMALL(IF(J252:R252>0,J252:R252),{1,2,3})),Q253)","v":17},{"$f":"IF(S252>0,AVERAGE(SMALL(IF(J252:S252>0,J252:S252),{1,2,3})),R253)","v":17},{"$f":"IF(T252>0,AVERAGE(SMALL(IF(J252:T252>0,J252:T252),{1,2,3})),S253)","v":17},{"$f":"IF(U252>0,AVERAGE(SMALL(IF(J252:U252>0,J252:U252),{1,2,3,4})),T253)","v":17},{"$f":"IF(V252>0,AVERAGE(SMALL(IF(J252:V252>0,J252:V252),{1,2,3,4})),U253)","v":17},{"$f":"IF(W252>0,AVERAGE(SMALL(IF(J252:W252>0,J252:W252),{1,2,3,4})),V253)","v":17},{"$f":"IF(X252>0,AVERAGE(SMALL(IF(J252:X252>0,J252:X252),{1,2,3,4,5})),W253)","v":17},{"$f":"IF(Y252>0,AVERAGE(SMALL(IF(J252:Y252>0,J252:Y252),{1,2,3,4,5})),X253)","v":17},{"$f":"IF(Z252>0,AVERAGE(SMALL(IF(J252:Z252>0,J252:Z252),{1,2,3,4,5,6})),Y253)","v":17},{"$f":"IF(AA252>0,AVERAGE(SMALL(IF(J252:AA252>0,J252:AA252),{1,2,3,4,5,6})),Z253)","v":17},{"$f":"IF(AB252>0,AVERAGE(SMALL(IF(J252:AB252>0,J252:AB252),{1,2,3,4,5,6,7})),AA253)","v":17},{"$f":"IF(AC252>0,AVERAGE(SMALL(IF(J252:AC252>0,J252:AC252),{1,2,3,4,5,6,7,8})),AB253)","v":17},{"$f":"IF(AD252>0,AVERAGE(SMALL(IF(K252:AD252>0,K252:AD252),{1,2,3,4,5,6,7,8})),AC253)","v":17},{"$f":"IF(AE252>0,AVERAGE(SMALL(IF(L252:AE252>0,L252:AE252),{1,2,3,4,5,6,7,8})),AD253)","v":17},{"$f":"IF(AF252>0,AVERAGE(SMALL(IF(M252:AF252>0,M252:AF252),{1,2,3,4,5,6,7,8})),AE253)","v":17},{"$f":"IF(AG252>0,AVERAGE(SMALL(IF(N252:AG252>0,N252:AG252),{1,2,3,4,5,6,7,8})),AF253)","v":17},{"$f":"IF(AH252>0,AVERAGE(SMALL(IF(O252:AH252>0,O252:AH252),{1,2,3,4,5,6,7,8})),AG253)","v":17},{"$f":"IF(AI252>0,AVERAGE(SMALL(IF(P252:AI252>0,P252:AI252),{1,2,3,4,5,6,7,8})),AH253)","v":17},{"$f":"IF(AJ252>0,AVERAGE(SMALL(IF(Q252:AJ252>0,Q252:AJ252),{1,2,3,4,5,6,7,8})),AI253)","v":17},{"$f":"IF(AK252>0,AVERAGE(SMALL(IF(R252:AK252>0,R252:AK252),{1,2,3,4,5,6,7,8})),AJ253)","v":17},{"$f":"IF(AL252>0,AVERAGE(SMALL(IF(S252:AL252>0,S252:AL252),{1,2,3,4,5,6,7,8})),AK253)","v":17},{"$f":"IF(AM252>0,AVERAGE(SMALL(IF(T252:AM252>0,T252:AM252),{1,2,3,4,5,6,7,8})),AL253)","v":17},{"$f":"IF(AN252>0,AVERAGE(SMALL(IF(U252:AN252>0,U252:AN252),{1,2,3,4,5,6,7,8})),AM253)","v":17},{"$f":"IF(AO252>0,AVERAGE(SMALL(IF(V252:AO252>0,V252:AO252),{1,2,3,4,5,6,7,8})),AN253)","v":17},{"$f":"IF(AP252>0,AVERAGE(SMALL(IF(W252:AP252>0,W252:AP252),{1,2,3,4,5,6,7,8})),AO253)","v":17},{"$f":"IF(AQ252>0,AVERAGE(SMALL(IF(X252:AQ252>0,X252:AQ252),{1,2,3,4,5,6,7,8})),AP253)","v":17},{"$f":"IF(AR252>0,AVERAGE(SMALL(IF(Y252:AR252>0,Y252:AR252),{1,2,3,4,5,6,7,8})),AQ253)","v":17},{"$f":"IF(AS252>0,AVERAGE(SMALL(IF(Z252:AS252>0,Z252:AS252),{1,2,3,4,5,6,7,8})),AR253)","v":17},{"$f":"IF(AT252>0,AVERAGE(SMALL(IF(AA252:AT252>0,AA252:AT252),{1,2,3,4,5,6,7,8})),AS253)","v":17},{"$f":"IF(AU252>0,AVERAGE(SMALL(IF(AB252:AU252>0,AB252:AU252),{1,2,3,4,5,6,7,8})),AT253)","v":17},{"$f":"IF(AV252>0,AVERAGE(SMALL(IF(AC252:AV252>0,AC252:AV252),{1,2,3,4,5,6,7,8})),AU253)","v":17},{"$f":"IF(AW252>0,AVERAGE(SMALL(IF(AD252:AW252>0,AD252:AW252),{1,2,3,4,5,6,7,8})),AV253)","v":17},{"$f":"IF(AX252>0,AVERAGE(SMALL(IF(AE252:AX252>0,AE252:AX252),{1,2,3,4,5,6,7,8})),AW253)","v":17},{"$f":"IF(AY252>0,AVERAGE(SMALL(IF(AF252:AY252>0,AF252:AY252),{1,2,3,4,5,6,7,8})),AX253)","v":17},{"$f":"IF(AZ252>0,AVERAGE(SMALL(IF(AG252:AZ252>0,AG252:AZ252),{1,2,3,4,5,6,7,8})),AY253)","v":17},{"$f":"IF(BA252>0,AVERAGE(SMALL(IF(AH252:BA252>0,AH252:BA252),{1,2,3,4,5,6,7,8})),AZ253)","v":17},{"$f":"IF(BB252>0,AVERAGE(SMALL(IF(AI252:BB252>0,AI252:BB252),{1,2,3,4,5,6,7,8})),BA253)","v":17},{"$f":"IF(BC252>0,AVERAGE(SMALL(IF(AJ252:BC252>0,AJ252:BC252),{1,2,3,4,5,6,7,8})),BB253)","v":17},{"$f":"IF(BD252>0,AVERAGE(SMALL(IF(AK252:BD252>0,AK252:BD252),{1,2,3,4,5,6,7,8})),BC253)","v":17},{"$f":"IF(BE252>0,AVERAGE(SMALL(IF(AL252:BE252>0,AL252:BE252),{1,2,3,4,5,6,7,8})),BD253)","v":17},{"$f":"IF(BF252>0,AVERAGE(SMALL(IF(AM252:BF252>0,AM252:BF252),{1,2,3,4,5,6,7,8})),BE253)","v":17},{"$f":"IF(BG252>0,AVERAGE(SMALL(IF(AN252:BG252>0,AN252:BG252),{1,2,3,4,5,6,7,8})),BF253)","v":17},{"$f":"IF(BH252>0,AVERAGE(SMALL(IF(AO252:BH252>0,AO252:BH252),{1,2,3,4,5,6,7,8})),BG253)","v":17},{"$f":"IF(BI252>0,AVERAGE(SMALL(IF(AP252:BI252>0,AP252:BI252),{1,2,3,4,5,6,7,8})),BH253)","v":17},{"$f":"IF(BJ252>0,AVERAGE(SMALL(IF(AQ252:BJ252>0,AQ252:BJ252),{1,2,3,4,5,6,7,8})),BI253)","v":17},{"$f":"IF(BK252>0,AVERAGE(SMALL(IF(AR252:BK252>0,AR252:BK252),{1,2,3,4,5,6,7,8})),BJ253)","v":17},{"$f":"IF(BL252>0,AVERAGE(SMALL(IF(AS252:BL252>0,AS252:BL252),{1,2,3,4,5,6,7,8})),BK253)","v":17},{"$f":"IF(BM252>0,AVERAGE(SMALL(IF(AT252:BM252>0,AT252:BM252),{1,2,3,4,5,6,7,8})),BL253)","v":17},{"$f":"IF(BN252>0,AVERAGE(SMALL(IF(AU252:BN252>0,AU252:BN252),{1,2,3,4,5,6,7,8})),BM253)","v":17},{"$f":"IF(BO252>0,AVERAGE(SMALL(IF(AV252:BO252>0,AV252:BO252),{1,2,3,4,5,6,7,8})),BN253)","v":17},{"$f":"IF(BP252>0,AVERAGE(SMALL(IF(AW252:BP252>0,AW252:BP252),{1,2,3,4,5,6,7,8})),BO253)","v":17},{"$f":"IF(BQ252>0,AVERAGE(SMALL(IF(AX252:BQ252>0,AX252:BQ252),{1,2,3,4,5,6,7,8})),BP253)","v":17},{"$f":"IF(BR252>0,AVERAGE(SMALL(IF(AY252:BR252>0,AY252:BR252),{1,2,3,4,5,6,7,8})),BQ253)","v":17},{"$f":"IF(BS252>0,AVERAGE(SMALL(IF(AZ252:BS252>0,AZ252:BS252),{1,2,3,4,5,6,7,8})),BR253)","v":17},{"$f":"IF(BT252>0,AVERAGE(SMALL(IF(BA252:BT252>0,BA252:BT252),{1,2,3,4,5,6,7,8})),BS253)","v":17},{"$f":"IF(BU252>0,AVERAGE(SMALL(IF(BB252:BU252>0,BB252:BU252),{1,2,3,4,5,6,7,8})),BT253)","v":17},{"$f":"IF(BV252>0,AVERAGE(SMALL(IF(BC252:BV252>0,BC252:BV252),{1,2,3,4,5,6,7,8})),BU253)","v":17},{"$f":"IF(BW252>0,AVERAGE(SMALL(IF(BD252:BW252>0,BD252:BW252),{1,2,3,4,5,6,7,8})),BV253)","v":17},{"$f":"IF(BX252>0,AVERAGE(SMALL(IF(BE252:BX252>0,BE252:BX252),{1,2,3,4,5,6,7,8})),BW253)","v":17},{"$f":"IF(BY252>0,AVERAGE(SMALL(IF(BF252:BY252>0,BF252:BY252),{1,2,3,4,5,6,7,8})),BX253)","v":17},{"$f":"IF(BZ252>0,AVERAGE(SMALL(IF(BG252:BZ252>0,BG252:BZ252),{1,2,3,4,5,6,7,8})),BY253)","v":17},{"$f":"IF(CA252>0,AVERAGE(SMALL(IF(BH252:CA252>0,BH252:CA252),{1,2,3,4,5,6,7,8})),BZ253)","v":17},{"$f":"IF(CB252>0,AVERAGE(SMALL(IF(BI252:CB252>0,BI252:CB252),{1,2,3,4,5,6,7,8})),CA253)","v":17},{"$f":"IF(CC252>0,AVERAGE(SMALL(IF(BJ252:CC252>0,BJ252:CC252),{1,2,3,4,5,6,7,8})),CB253)","v":17},{"$f":"IF(CD252>0,AVERAGE(SMALL(IF(BK252:CD252>0,BK252:CD252),{1,2,3,4,5,6,7,8})),CC253)","v":17},{"$f":"IF(CE252>0,AVERAGE(SMALL(IF(BL252:CE252>0,BL252:CE252),{1,2,3,4,5,6,7,8})),CD253)","v":17},{"$f":"IF(CF252>0,AVERAGE(SMALL(IF(BM252:CF252>0,BM252:CF252),{1,2,3,4,5,6,7,8})),CE253)","v":17},{"$f":"IF(CG252>0,AVERAGE(SMALL(IF(BN252:CG252>0,BN252:CG252),{1,2,3,4,5,6,7,8})),CF253)","v":17},{"$f":"IF(CH252>0,AVERAGE(SMALL(IF(BO252:CH252>0,BO252:CH252),{1,2,3,4,5,6,7,8})),CG253)","v":17},{"$f":"IF(CI252>0,AVERAGE(SMALL(IF(BP252:CI252>0,BP252:CI252),{1,2,3,4,5,6,7,8})),CH253)","v":17},{"$f":"IF(CJ252>0,AVERAGE(SMALL(IF(BQ252:CJ252>0,BQ252:CJ252),{1,2,3,4,5,6,7,8})),CI253)","v":17},{"$f":"IF(CK252>0,AVERAGE(SMALL(IF(BR252:CK252>0,BR252:CK252),{1,2,3,4,5,6,7,8})),CJ253)","v":17},{"$f":"IF(CL252>0,AVERAGE(SMALL(IF(BS252:CL252>0,BS252:CL252),{1,2,3,4,5,6,7,8})),CK253)","v":17},{"$f":"IF(CM252>0,AVERAGE(SMALL(IF(BT252:CM252>0,BT252:CM252),{1,2,3,4,5,6,7,8})),CL253)","v":17},{"$f":"IF(CN252>0,AVERAGE(SMALL(IF(BU252:CN252>0,BU252:CN252),{1,2,3,4,5,6,7,8})),CM253)","v":17},{"$f":"IF(CO252>0,AVERAGE(SMALL(IF(BV252:CO252>0,BV252:CO252),{1,2,3,4,5,6,7,8})),CN253)","v":17},{"$f":"IF(CP252>0,AVERAGE(SMALL(IF(BW252:CP252>0,BW252:CP252),{1,2,3,4,5,6,7,8})),CO253)","v":17},{"$f":"IF(CQ252>0,AVERAGE(SMALL(IF(BX252:CQ252>0,BX252:CQ252),{1,2,3,4,5,6,7,8})),CP253)","v":17},{"$f":"IF(CR252>0,AVERAGE(SMALL(IF(BY252:CR252>0,BY252:CR252),{1,2,3,4,5,6,7,8})),CQ253)","v":17},{"$f":"IF(CS252>0,AVERAGE(SMALL(IF(BZ252:CS252>0,BZ252:CS252),{1,2,3,4,5,6,7,8})),CR253)","v":17},{"$f":"IF(CT252>0,AVERAGE(SMALL(IF(CA252:CT252>0,CA252:CT252),{1,2,3,4,5,6,7,8})),CS253)","v":17},{"$f":"IF(CU252>0,AVERAGE(SMALL(IF(CB252:CU252>0,CB252:CU252),{1,2,3,4,5,6,7,8})),CT253)","v":17},{"$f":"IF(CV252>0,AVERAGE(SMALL(IF(CC252:CV252>0,CC252:CV252),{1,2,3,4,5,6,7,8})),CU253)","v":17},{"$f":"IF(CW252>0,AVERAGE(SMALL(IF(CD252:CW252>0,CD252:CW252),{1,2,3,4,5,6,7,8})),CV253)","v":17}]
[null,null,null,null,null,null,null,null,"Low Hcap",null,null,null,null,null,null,null,null,null,null,null,null,null,null,null,null,null,null,null,{"$f":"MIN($J253:AC253)","v":16},{"$f":"MIN($J253:AD253)","v":16},{"$f":"MIN($J253:AE253)","v":16},{"$f":"MIN($J253:AF253)","v":16},{"$f":"MIN($J253:AG253)","v":16},{"$f":"MIN($J253:AH253)","v":16},{"$f":"MIN($J253:AI253)","v":16},{"$f":"MIN($J253:AJ253)","v":16},{"$f":"MIN($J253:AK253)","v":16},{"$f":"MIN($J253:AL253)","v":16},{"$f":"MIN($J253:AM253)","v":16},{"$f":"MIN($J253:AN253)","v":16},{"$f":"MIN($J253:AO253)","v":16},{"$f":"MIN($J253:AP253)","v":16},{"$f":"MIN($J253:AQ253)","v":16},{"$f":"MIN($J253:AR253)","v":16},{"$f":"MIN($J253:AS253)","v":16},{"$f":"MIN($J253:AT253)","v":16},{"$f":"MIN($J253:AU253)","v":16},{"$f":"MIN($J253:AV253)","v":16},{"$f":"MIN($J253:AW253)","v":16},{"$f":"MIN($J253:AX253)","v":16},{"$f":"MIN($J253:AY253)","v":16},{"$f":"MIN($J253:AZ253)","v":16},{"$f":"MIN($J253:BA253)","v":16},{"$f":"MIN($J253:BB253)","v":16},{"$f":"MIN($J253:BC253)","v":16},{"$f":"MIN($J253:BD253)","v":16},{"$f":"MIN($J253:BE253)","v":16},{"$f":"MIN($J253:BF253)","v":16},{"$f":"MIN($J253:BG253)","v":16},{"$f":"MIN($J253:BH253)","v":16},{"$f":"MIN($J253:BI253)","v":16},{"$f":"MIN($J253:BJ253)","v":16},{"$f":"MIN($J253:BK253)","v":16},{"$f":"MIN($J253:BL253)","v":16},{"$f":"MIN($J253:BM253)","v":16},{"$f":"MIN($J253:BN253)","v":16},{"$f":"MIN($J253:BO253)","v":16},{"$f":"MIN($J253:BP253)","v":16},{"$f":"MIN($J253:BQ253)","v":16},{"$f":"MIN($J253:BR253)","v":16},{"$f":"MIN($J253:BS253)","v":16},{"$f":"MIN($J253:BT253)","v":16},{"$f":"MIN($J253:BU253)","v":16},{"$f":"MIN($J253:BV253)","v":16},{"$f":"MIN($J253:BW253)","v":16},{"$f":"MIN($J253:BX253)","v":16},{"$f":"MIN($J253:BY253)","v":16},{"$f":"MIN($J253:BZ253)","v":16},{"$f":"MIN($J253:CA253)","v":16},{"$f":"MIN($J253:CB253)","v":16},{"$f":"MIN($J253:CC253)","v":16},{"$f":"MIN($J253:CD253)","v":16},{"$f":"MIN($J253:CE253)","v":16},{"$f":"MIN($J253:CF253)","v":16},{"$f":"MIN($J253:CG253)","v":16},{"$f":"MIN($J253:CH253)","v":16},{"$f":"MIN($J253:CI253)","v":16},{"$f":"MIN($J253:CJ253)","v":16},{"$f":"MIN($J253:CK253)","v":16},{"$f":"MIN($J253:CL253)","v":16},{"$f":"MIN($J253:CM253)","v":16},{"$f":"MIN($J253:CN253)","v":16},{"$f":"MIN($J253:CO253)","v":16},{"$f":"MIN($J253:CP253)","v":16},{"$f":"MIN($J253:CQ253)","v":16},{"$f":"MIN($J253:CR253)","v":16},{"$f":"MIN($J253:CS253)","v":16},{"$f":"MIN($J253:CT253)","v":16},{"$f":"MIN($J253:CU253)","v":16},{"$f":"MIN($J253:CV253)","v":16},{"$f":"MIN($J253:CW253)","v":16}]
[null,"Henderson","Peter ",18.899999999999999,null,{"$f":"IF(H255<4,\"Y\",)","v":0},2000,{"$f":"COUNT(J255:CX255)","v":4},"Date",null,"2020-05-24","2020-07-12","2021-06-13","2021-10-03",null,null,null,null,null,null,null,null,null,null,null,null,null,null,null,null,null,null,null,null,null,null,null,null,null,null,null,null,null,null,null,null,null,null,null,null,null,null,null,null,null,null,null,null,null,null,null,null,null,null,null,null,null,null,null,null,null,null,null,null,null,null,null,null,null,null,null,null,null,null,null,null,null,null,null,null,null,null,null,null,null,null,null,null,null,null,null,null,{"$f":"IF(CW259>$DD$1,36,CW259)","v":18.899999999999999},18.899999999999999,{"$f":"CZ255-CY255","v":0}]
[null,null,null,null,null,null,null,null,"Course",null,"PfaffingHG","PfaffingHG","PfaffingHG","OdelzhausenHG"]
[null,null,null,null,null,null,null,null,"Ad Gr",null,113,116,120,105]
[null,null,null,null,null,null,null,null,"SD",18.899999999999999,{"$f":"IF(K257=\"\",0,(K257-INDIRECT(CONCATENATE(K256,\"CR\")))*113/INDIRECT(CONCATENATE(K256,\"SR\")))","v":35.638461538461542},38.246153846153845,41.723076923076924,29.540157480314964,0,0,0,0,0,0,0,0,0,0,0,0,0,0,0,0,0,0,0,0,0,0,0,0,0,0,0,0,0,0,0,0,0,0,0,0,0,0,0,0,0,0,0,0,0,0,0,0,0,0,0,0,0,0,0,0,0,0,0,0,{"$f":"IF(BW257=\"\",0,(BW257-INDIRECT(CONCATENATE(BW256,\"CR\")))*113/INDIRECT(CONCATENATE(BW256,\"SR\")))","v":0},0,0,0,0,0,0,0,0,0,0,0,0,0,0,0,{"$f":"IF(CM257=\"\",0,(CM257-INDIRECT(CONCATENATE(CM256,\"CR\")))*113/INDIRECT(CONCATENATE(CM256,\"SR\")))","v":0},0,{"$f":"IF(CO257=\"\",0,(CO257-INDIRECT(CONCATENATE(CO256,\"CR\")))*113/INDIRECT(CONCATENATE(CO256,\"SR\")))","v":0},0,{"$f":"IF(CQ257=\"\",0,(CQ257-INDIRECT(CONCATENATE(CQ256,\"CR\")))*113/INDIRECT(CONCATENATE(CQ256,\"SR\")))","v":0},0,{"$f":"IF(CS257=\"\",0,(CS257-INDIRECT(CONCATENATE(CS256,\"CR\")))*113/INDIRECT(CONCATENATE(CS256,\"SR\")))","v":0},0,{"$f":"IF(CU257=\"\",0,(CU257-INDIRECT(CONCATENATE(CU256,\"CR\")))*113/INDIRECT(CONCATENATE(CU256,\"SR\")))","v":0},0,{"$f":"IF(CW257=\"\",0,(CW257-INDIRECT(CONCATENATE(CW256,\"CR\")))*113/INDIRECT(CONCATENATE(CW256,\"SR\")))","v":0}]
[null,null,null,null,null,null,null,null,"New Hcap",{"$f":"J258-2","v":16.899999999999999},{"$f":"IF(K258>0,MIN(J258:K258)-2,J259)","v":16.899999999999999},{"$f":"IF(L258>0,MIN(J258:L258)-2,K259)","v":16.899999999999999},{"$f":"IF(M258>0,MIN(J258:M258)-1,L259)","v":17.899999999999999},{"$f":"IF(N258>0,MIN(J258:N258),M259)","v":18.899999999999999},{"$f":"IF(O258>0,AVERAGE(SMALL(IF(J258:O258>0,J258:O258),{1,2}))-1,N259)","v":18.899999999999999},{"$f":"IF(P258>0,AVERAGE(SMALL(IF(J258:P258>0,J258:P258),{1,2})),O259)","v":18.899999999999999},{"$f":"IF(Q258>0,AVERAGE(SMALL(IF(J258:Q258>0,J258:Q258),{1,2})),P259)","v":18.899999999999999},{"$f":"IF(R258>0,AVERAGE(SMALL(IF(J258:R258>0,J258:R258),{1,2,3})),Q259)","v":18.899999999999999},{"$f":"IF(S258>0,AVERAGE(SMALL(IF(J258:S258>0,J258:S258),{1,2,3})),R259)","v":18.899999999999999},{"$f":"IF(T258>0,AVERAGE(SMALL(IF(J258:T258>0,J258:T258),{1,2,3})),S259)","v":18.899999999999999},{"$f":"IF(U258>0,AVERAGE(SMALL(IF(J258:U258>0,J258:U258),{1,2,3,4})),T259)","v":18.899999999999999},{"$f":"IF(V258>0,AVERAGE(SMALL(IF(J258:V258>0,J258:V258),{1,2,3,4})),U259)","v":18.899999999999999},{"$f":"IF(W258>0,AVERAGE(SMALL(IF(J258:W258>0,J258:W258),{1,2,3,4})),V259)","v":18.899999999999999},{"$f":"IF(X258>0,AVERAGE(SMALL(IF(J258:X258>0,J258:X258),{1,2,3,4,5})),W259)","v":18.899999999999999},{"$f":"IF(Y258>0,AVERAGE(SMALL(IF(J258:Y258>0,J258:Y258),{1,2,3,4,5})),X259)","v":18.899999999999999},{"$f":"IF(Z258>0,AVERAGE(SMALL(IF(J258:Z258>0,J258:Z258),{1,2,3,4,5,6})),Y259)","v":18.899999999999999},{"$f":"IF(AA258>0,AVERAGE(SMALL(IF(J258:AA258>0,J258:AA258),{1,2,3,4,5,6})),Z259)","v":18.899999999999999},{"$f":"IF(AB258>0,AVERAGE(SMALL(IF(J258:AB258>0,J258:AB258),{1,2,3,4,5,6,7})),AA259)","v":18.899999999999999},{"$f":"IF(AC258>0,AVERAGE(SMALL(IF(J258:AC258>0,J258:AC258),{1,2,3,4,5,6,7,8})),AB259)","v":18.899999999999999},{"$f":"IF(AD258>0,AVERAGE(SMALL(IF(K258:AD258>0,K258:AD258),{1,2,3,4,5,6,7,8})),AC259)","v":18.899999999999999},{"$f":"IF(AE258>0,AVERAGE(SMALL(IF(L258:AE258>0,L258:AE258),{1,2,3,4,5,6,7,8})),AD259)","v":18.899999999999999},{"$f":"IF(AF258>0,AVERAGE(SMALL(IF(M258:AF258>0,M258:AF258),{1,2,3,4,5,6,7,8})),AE259)","v":18.899999999999999},{"$f":"IF(AG258>0,AVERAGE(SMALL(IF(N258:AG258>0,N258:AG258),{1,2,3,4,5,6,7,8})),AF259)","v":18.899999999999999},{"$f":"IF(AH258>0,AVERAGE(SMALL(IF(O258:AH258>0,O258:AH258),{1,2,3,4,5,6,7,8})),AG259)","v":18.899999999999999},{"$f":"IF(AI258>0,AVERAGE(SMALL(IF(P258:AI258>0,P258:AI258),{1,2,3,4,5,6,7,8})),AH259)","v":18.899999999999999},{"$f":"IF(AJ258>0,AVERAGE(SMALL(IF(Q258:AJ258>0,Q258:AJ258),{1,2,3,4,5,6,7,8})),AI259)","v":18.899999999999999},{"$f":"IF(AK258>0,AVERAGE(SMALL(IF(R258:AK258>0,R258:AK258),{1,2,3,4,5,6,7,8})),AJ259)","v":18.899999999999999},{"$f":"IF(AL258>0,AVERAGE(SMALL(IF(S258:AL258>0,S258:AL258),{1,2,3,4,5,6,7,8})),AK259)","v":18.899999999999999},{"$f":"IF(AM258>0,AVERAGE(SMALL(IF(T258:AM258>0,T258:AM258),{1,2,3,4,5,6,7,8})),AL259)","v":18.899999999999999},{"$f":"IF(AN258>0,AVERAGE(SMALL(IF(U258:AN258>0,U258:AN258),{1,2,3,4,5,6,7,8})),AM259)","v":18.899999999999999},{"$f":"IF(AO258>0,AVERAGE(SMALL(IF(V258:AO258>0,V258:AO258),{1,2,3,4,5,6,7,8})),AN259)","v":18.899999999999999},{"$f":"IF(AP258>0,AVERAGE(SMALL(IF(W258:AP258>0,W258:AP258),{1,2,3,4,5,6,7,8})),AO259)","v":18.899999999999999},{"$f":"IF(AQ258>0,AVERAGE(SMALL(IF(X258:AQ258>0,X258:AQ258),{1,2,3,4,5,6,7,8})),AP259)","v":18.899999999999999},{"$f":"IF(AR258>0,AVERAGE(SMALL(IF(Y258:AR258>0,Y258:AR258),{1,2,3,4,5,6,7,8})),AQ259)","v":18.899999999999999},{"$f":"IF(AS258>0,AVERAGE(SMALL(IF(Z258:AS258>0,Z258:AS258),{1,2,3,4,5,6,7,8})),AR259)","v":18.899999999999999},{"$f":"IF(AT258>0,AVERAGE(SMALL(IF(AA258:AT258>0,AA258:AT258),{1,2,3,4,5,6,7,8})),AS259)","v":18.899999999999999},{"$f":"IF(AU258>0,AVERAGE(SMALL(IF(AB258:AU258>0,AB258:AU258),{1,2,3,4,5,6,7,8})),AT259)","v":18.899999999999999},{"$f":"IF(AV258>0,AVERAGE(SMALL(IF(AC258:AV258>0,AC258:AV258),{1,2,3,4,5,6,7,8})),AU259)","v":18.899999999999999},{"$f":"IF(AW258>0,AVERAGE(SMALL(IF(AD258:AW258>0,AD258:AW258),{1,2,3,4,5,6,7,8})),AV259)","v":18.899999999999999},{"$f":"IF(AX258>0,AVERAGE(SMALL(IF(AE258:AX258>0,AE258:AX258),{1,2,3,4,5,6,7,8})),AW259)","v":18.899999999999999},{"$f":"IF(AY258>0,AVERAGE(SMALL(IF(AF258:AY258>0,AF258:AY258),{1,2,3,4,5,6,7,8})),AX259)","v":18.899999999999999},{"$f":"IF(AZ258>0,AVERAGE(SMALL(IF(AG258:AZ258>0,AG258:AZ258),{1,2,3,4,5,6,7,8})),AY259)","v":18.899999999999999},{"$f":"IF(BA258>0,AVERAGE(SMALL(IF(AH258:BA258>0,AH258:BA258),{1,2,3,4,5,6,7,8})),AZ259)","v":18.899999999999999},{"$f":"IF(BB258>0,AVERAGE(SMALL(IF(AI258:BB258>0,AI258:BB258),{1,2,3,4,5,6,7,8})),BA259)","v":18.899999999999999},{"$f":"IF(BC258>0,AVERAGE(SMALL(IF(AJ258:BC258>0,AJ258:BC258),{1,2,3,4,5,6,7,8})),BB259)","v":18.899999999999999},{"$f":"IF(BD258>0,AVERAGE(SMALL(IF(AK258:BD258>0,AK258:BD258),{1,2,3,4,5,6,7,8})),BC259)","v":18.899999999999999},{"$f":"IF(BE258>0,AVERAGE(SMALL(IF(AL258:BE258>0,AL258:BE258),{1,2,3,4,5,6,7,8})),BD259)","v":18.899999999999999},{"$f":"IF(BF258>0,AVERAGE(SMALL(IF(AM258:BF258>0,AM258:BF258),{1,2,3,4,5,6,7,8})),BE259)","v":18.899999999999999},{"$f":"IF(BG258>0,AVERAGE(SMALL(IF(AN258:BG258>0,AN258:BG258),{1,2,3,4,5,6,7,8})),BF259)","v":18.899999999999999},{"$f":"IF(BH258>0,AVERAGE(SMALL(IF(AO258:BH258>0,AO258:BH258),{1,2,3,4,5,6,7,8})),BG259)","v":18.899999999999999},{"$f":"IF(BI258>0,AVERAGE(SMALL(IF(AP258:BI258>0,AP258:BI258),{1,2,3,4,5,6,7,8})),BH259)","v":18.899999999999999},{"$f":"IF(BJ258>0,AVERAGE(SMALL(IF(AQ258:BJ258>0,AQ258:BJ258),{1,2,3,4,5,6,7,8})),BI259)","v":18.899999999999999},{"$f":"IF(BK258>0,AVERAGE(SMALL(IF(AR258:BK258>0,AR258:BK258),{1,2,3,4,5,6,7,8})),BJ259)","v":18.899999999999999},{"$f":"IF(BL258>0,AVERAGE(SMALL(IF(AS258:BL258>0,AS258:BL258),{1,2,3,4,5,6,7,8})),BK259)","v":18.899999999999999},{"$f":"IF(BM258>0,AVERAGE(SMALL(IF(AT258:BM258>0,AT258:BM258),{1,2,3,4,5,6,7,8})),BL259)","v":18.899999999999999},{"$f":"IF(BN258>0,AVERAGE(SMALL(IF(AU258:BN258>0,AU258:BN258),{1,2,3,4,5,6,7,8})),BM259)","v":18.899999999999999},{"$f":"IF(BO258>0,AVERAGE(SMALL(IF(AV258:BO258>0,AV258:BO258),{1,2,3,4,5,6,7,8})),BN259)","v":18.899999999999999},{"$f":"IF(BP258>0,AVERAGE(SMALL(IF(AW258:BP258>0,AW258:BP258),{1,2,3,4,5,6,7,8})),BO259)","v":18.899999999999999},{"$f":"IF(BQ258>0,AVERAGE(SMALL(IF(AX258:BQ258>0,AX258:BQ258),{1,2,3,4,5,6,7,8})),BP259)","v":18.899999999999999},{"$f":"IF(BR258>0,AVERAGE(SMALL(IF(AY258:BR258>0,AY258:BR258),{1,2,3,4,5,6,7,8})),BQ259)","v":18.899999999999999},{"$f":"IF(BS258>0,AVERAGE(SMALL(IF(AZ258:BS258>0,AZ258:BS258),{1,2,3,4,5,6,7,8})),BR259)","v":18.899999999999999},{"$f":"IF(BT258>0,AVERAGE(SMALL(IF(BA258:BT258>0,BA258:BT258),{1,2,3,4,5,6,7,8})),BS259)","v":18.899999999999999},{"$f":"IF(BU258>0,AVERAGE(SMALL(IF(BB258:BU258>0,BB258:BU258),{1,2,3,4,5,6,7,8})),BT259)","v":18.899999999999999},{"$f":"IF(BV258>0,AVERAGE(SMALL(IF(BC258:BV258>0,BC258:BV258),{1,2,3,4,5,6,7,8})),BU259)","v":18.899999999999999},{"$f":"IF(BW258>0,AVERAGE(SMALL(IF(BD258:BW258>0,BD258:BW258),{1,2,3,4,5,6,7,8})),BV259)","v":18.899999999999999},{"$f":"IF(BX258>0,AVERAGE(SMALL(IF(BE258:BX258>0,BE258:BX258),{1,2,3,4,5,6,7,8})),BW259)","v":18.899999999999999},{"$f":"IF(BY258>0,AVERAGE(SMALL(IF(BF258:BY258>0,BF258:BY258),{1,2,3,4,5,6,7,8})),BX259)","v":18.899999999999999},{"$f":"IF(BZ258>0,AVERAGE(SMALL(IF(BG258:BZ258>0,BG258:BZ258),{1,2,3,4,5,6,7,8})),BY259)","v":18.899999999999999},{"$f":"IF(CA258>0,AVERAGE(SMALL(IF(BH258:CA258>0,BH258:CA258),{1,2,3,4,5,6,7,8})),BZ259)","v":18.899999999999999},{"$f":"IF(CB258>0,AVERAGE(SMALL(IF(BI258:CB258>0,BI258:CB258),{1,2,3,4,5,6,7,8})),CA259)","v":18.899999999999999},{"$f":"IF(CC258>0,AVERAGE(SMALL(IF(BJ258:CC258>0,BJ258:CC258),{1,2,3,4,5,6,7,8})),CB259)","v":18.899999999999999},{"$f":"IF(CD258>0,AVERAGE(SMALL(IF(BK258:CD258>0,BK258:CD258),{1,2,3,4,5,6,7,8})),CC259)","v":18.899999999999999},{"$f":"IF(CE258>0,AVERAGE(SMALL(IF(BL258:CE258>0,BL258:CE258),{1,2,3,4,5,6,7,8})),CD259)","v":18.899999999999999},{"$f":"IF(CF258>0,AVERAGE(SMALL(IF(BM258:CF258>0,BM258:CF258),{1,2,3,4,5,6,7,8})),CE259)","v":18.899999999999999},{"$f":"IF(CG258>0,AVERAGE(SMALL(IF(BN258:CG258>0,BN258:CG258),{1,2,3,4,5,6,7,8})),CF259)","v":18.899999999999999},{"$f":"IF(CH258>0,AVERAGE(SMALL(IF(BO258:CH258>0,BO258:CH258),{1,2,3,4,5,6,7,8})),CG259)","v":18.899999999999999},{"$f":"IF(CI258>0,AVERAGE(SMALL(IF(BP258:CI258>0,BP258:CI258),{1,2,3,4,5,6,7,8})),CH259)","v":18.899999999999999},{"$f":"IF(CJ258>0,AVERAGE(SMALL(IF(BQ258:CJ258>0,BQ258:CJ258),{1,2,3,4,5,6,7,8})),CI259)","v":18.899999999999999},{"$f":"IF(CK258>0,AVERAGE(SMALL(IF(BR258:CK258>0,BR258:CK258),{1,2,3,4,5,6,7,8})),CJ259)","v":18.899999999999999},{"$f":"IF(CL258>0,AVERAGE(SMALL(IF(BS258:CL258>0,BS258:CL258),{1,2,3,4,5,6,7,8})),CK259)","v":18.899999999999999},{"$f":"IF(CM258>0,AVERAGE(SMALL(IF(BT258:CM258>0,BT258:CM258),{1,2,3,4,5,6,7,8})),CL259)","v":18.899999999999999},{"$f":"IF(CN258>0,AVERAGE(SMALL(IF(BU258:CN258>0,BU258:CN258),{1,2,3,4,5,6,7,8})),CM259)","v":18.899999999999999},{"$f":"IF(CO258>0,AVERAGE(SMALL(IF(BV258:CO258>0,BV258:CO258),{1,2,3,4,5,6,7,8})),CN259)","v":18.899999999999999},{"$f":"IF(CP258>0,AVERAGE(SMALL(IF(BW258:CP258>0,BW258:CP258),{1,2,3,4,5,6,7,8})),CO259)","v":18.899999999999999},{"$f":"IF(CQ258>0,AVERAGE(SMALL(IF(BX258:CQ258>0,BX258:CQ258),{1,2,3,4,5,6,7,8})),CP259)","v":18.899999999999999},{"$f":"IF(CR258>0,AVERAGE(SMALL(IF(BY258:CR258>0,BY258:CR258),{1,2,3,4,5,6,7,8})),CQ259)","v":18.899999999999999},{"$f":"IF(CS258>0,AVERAGE(SMALL(IF(BZ258:CS258>0,BZ258:CS258),{1,2,3,4,5,6,7,8})),CR259)","v":18.899999999999999},{"$f":"IF(CT258>0,AVERAGE(SMALL(IF(CA258:CT258>0,CA258:CT258),{1,2,3,4,5,6,7,8})),CS259)","v":18.899999999999999},{"$f":"IF(CU258>0,AVERAGE(SMALL(IF(CB258:CU258>0,CB258:CU258),{1,2,3,4,5,6,7,8})),CT259)","v":18.899999999999999},{"$f":"IF(CV258>0,AVERAGE(SMALL(IF(CC258:CV258>0,CC258:CV258),{1,2,3,4,5,6,7,8})),CU259)","v":18.899999999999999},{"$f":"IF(CW258>0,AVERAGE(SMALL(IF(CD258:CW258>0,CD258:CW258),{1,2,3,4,5,6,7,8})),CV259)","v":18.899999999999999}]
[null,null,null,null,null,null,null,null,"Low Hcap",null,null,null,null,null,null,null,null,null,null,null,null,null,null,null,null,null,null,null,{"$f":"MIN($J259:AC259)","v":16.899999999999999},{"$f":"MIN($J259:AD259)","v":16.899999999999999},{"$f":"MIN($J259:AE259)","v":16.899999999999999},{"$f":"MIN($J259:AF259)","v":16.899999999999999},{"$f":"MIN($J259:AG259)","v":16.899999999999999},{"$f":"MIN($J259:AH259)","v":16.899999999999999},{"$f":"MIN($J259:AI259)","v":16.899999999999999},{"$f":"MIN($J259:AJ259)","v":16.899999999999999},{"$f":"MIN($J259:AK259)","v":16.899999999999999},{"$f":"MIN($J259:AL259)","v":16.899999999999999},{"$f":"MIN($J259:AM259)","v":16.899999999999999},{"$f":"MIN($J259:AN259)","v":16.899999999999999},{"$f":"MIN($J259:AO259)","v":16.899999999999999},{"$f":"MIN($J259:AP259)","v":16.899999999999999},{"$f":"MIN($J259:AQ259)","v":16.899999999999999},{"$f":"MIN($J259:AR259)","v":16.899999999999999},{"$f":"MIN($J259:AS259)","v":16.899999999999999},{"$f":"MIN($J259:AT259)","v":16.899999999999999},{"$f":"MIN($J259:AU259)","v":16.899999999999999},{"$f":"MIN($J259:AV259)","v":16.899999999999999},{"$f":"MIN($J259:AW259)","v":16.899999999999999},{"$f":"MIN($J259:AX259)","v":16.899999999999999},{"$f":"MIN($J259:AY259)","v":16.899999999999999},{"$f":"MIN($J259:AZ259)","v":16.899999999999999},{"$f":"MIN($J259:BA259)","v":16.899999999999999},{"$f":"MIN($J259:BB259)","v":16.899999999999999},{"$f":"MIN($J259:BC259)","v":16.899999999999999},{"$f":"MIN($J259:BD259)","v":16.899999999999999},{"$f":"MIN($J259:BE259)","v":16.899999999999999},{"$f":"MIN($J259:BF259)","v":16.899999999999999},{"$f":"MIN($J259:BG259)","v":16.899999999999999},{"$f":"MIN($J259:BH259)","v":16.899999999999999},{"$f":"MIN($J259:BI259)","v":16.899999999999999},{"$f":"MIN($J259:BJ259)","v":16.899999999999999},{"$f":"MIN($J259:BK259)","v":16.899999999999999},{"$f":"MIN($J259:BL259)","v":16.899999999999999},{"$f":"MIN($J259:BM259)","v":16.899999999999999},{"$f":"MIN($J259:BN259)","v":16.899999999999999},{"$f":"MIN($J259:BO259)","v":16.899999999999999},{"$f":"MIN($J259:BP259)","v":16.899999999999999},{"$f":"MIN($J259:BQ259)","v":16.899999999999999},{"$f":"MIN($J259:BR259)","v":16.899999999999999},{"$f":"MIN($J259:BS259)","v":16.899999999999999},{"$f":"MIN($J259:BT259)","v":16.899999999999999},{"$f":"MIN($J259:BU259)","v":16.899999999999999},{"$f":"MIN($J259:BV259)","v":16.899999999999999},{"$f":"MIN($J259:BW259)","v":16.899999999999999},{"$f":"MIN($J259:BX259)","v":16.899999999999999},{"$f":"MIN($J259:BY259)","v":16.899999999999999},{"$f":"MIN($J259:BZ259)","v":16.899999999999999},{"$f":"MIN($J259:CA259)","v":16.899999999999999},{"$f":"MIN($J259:CB259)","v":16.899999999999999},{"$f":"MIN($J259:CC259)","v":16.899999999999999},{"$f":"MIN($J259:CD259)","v":16.899999999999999},{"$f":"MIN($J259:CE259)","v":16.899999999999999},{"$f":"MIN($J259:CF259)","v":16.899999999999999},{"$f":"MIN($J259:CG259)","v":16.899999999999999},{"$f":"MIN($J259:CH259)","v":16.899999999999999},{"$f":"MIN($J259:CI259)","v":16.899999999999999},{"$f":"MIN($J259:CJ259)","v":16.899999999999999},{"$f":"MIN($J259:CK259)","v":16.899999999999999},{"$f":"MIN($J259:CL259)","v":16.899999999999999},{"$f":"MIN($J259:CM259)","v":16.899999999999999},{"$f":"MIN($J259:CN259)","v":16.899999999999999},{"$f":"MIN($J259:CO259)","v":16.899999999999999},{"$f":"MIN($J259:CP259)","v":16.899999999999999},{"$f":"MIN($J259:CQ259)","v":16.899999999999999},{"$f":"MIN($J259:CR259)","v":16.899999999999999},{"$f":"MIN($J259:CS259)","v":16.899999999999999},{"$f":"MIN($J259:CT259)","v":16.899999999999999},{"$f":"MIN($J259:CU259)","v":16.899999999999999},{"$f":"MIN($J259:CV259)","v":16.899999999999999},{"$f":"MIN($J259:CW259)","v":16.899999999999999}]
[null,"Henderson","Ursula",25.6,null,{"$f":"IF(H261<4,\"Y\",)","v":"Y"},2000,{"$f":"COUNT(J261:CX261)","v":0},"Date",null,null,null,null,null,null,null,null,null,null,null,null,null,null,null,null,null,null,null,null,null,null,null,null,null,null,null,null,null,null,null,null,null,null,null,null,null,null,null,null,null,null,null,null,null,null,null,null,null,null,null,null,null,null,null,null,null,null,null,null,null,null,null,null,null,null,null,null,null,null,null,null,null,null,null,null,null,null,null,null,null,null,null,null,null,null,null,null,null,null,null,null,null,{"$f":"IF(CW265>$DD$1,36,CW265)","v":23.6},23.6,{"$f":"CZ261-CY261","v":0}]
[null,null,null,null,null,null,null,null,"Course"]
[null,null,null,null,null,null,null,null,"Ad Gr"]
[null,null,null,null,null,null,null,null,"SD",{"$f":"D261","v":25.6},{"$f":"IF(K263=\"\",0,(K263-INDIRECT(CONCATENATE(K262,\"CR\")))*113/INDIRECT(CONCATENATE(K262,\"SR\")))","v":0},{"$f":"IF(L263=\"\",0,(L263-INDIRECT(CONCATENATE(L262,\"CR\")))*113/INDIRECT(CONCATENATE(L262,\"SR\")))","v":0},0,0,0,0,0,0,0,0,0,0,0,0,0,0,0,0,0,0,0,0,0,0,0,0,0,0,0,0,0,0,0,0,0,0,0,0,0,0,0,0,0,0,0,0,0,0,0,0,0,0,0,0,0,0,0,0,0,0,0,0,0,0,0,{"$f":"IF(BX263=\"\",0,(BX263-INDIRECT(CONCATENATE(BX262,\"CR\")))*113/INDIRECT(CONCATENATE(BX262,\"SR\")))","v":0},0,0,0,0,0,0,0,0,0,0,0,0,0,0,{"$f":"IF(CM263=\"\",0,(CM263-INDIRECT(CONCATENATE(CM262,\"CR\")))*113/INDIRECT(CONCATENATE(CM262,\"SR\")))","v":0},0,{"$f":"IF(CO263=\"\",0,(CO263-INDIRECT(CONCATENATE(CO262,\"CR\")))*113/INDIRECT(CONCATENATE(CO262,\"SR\")))","v":0},0,{"$f":"IF(CQ263=\"\",0,(CQ263-INDIRECT(CONCATENATE(CQ262,\"CR\")))*113/INDIRECT(CONCATENATE(CQ262,\"SR\")))","v":0},0,{"$f":"IF(CS263=\"\",0,(CS263-INDIRECT(CONCATENATE(CS262,\"CR\")))*113/INDIRECT(CONCATENATE(CS262,\"SR\")))","v":0},0,{"$f":"IF(CU263=\"\",0,(CU263-INDIRECT(CONCATENATE(CU262,\"CR\")))*113/INDIRECT(CONCATENATE(CU262,\"SR\")))","v":0},0,{"$f":"IF(CW263=\"\",0,(CW263-INDIRECT(CONCATENATE(CW262,\"CR\")))*113/INDIRECT(CONCATENATE(CW262,\"SR\")))","v":0}]
[null,null,null,null,null,null,null,null,"New Hcap",{"$f":"J264-2","v":23.6},{"$f":"IF(K264>0,MIN(J264:K264)-2,J265)","v":23.6},{"$f":"IF(L264>0,MIN(J264:L264)-2,K265)","v":23.6},{"$f":"IF(M264>0,MIN(J264:M264)-1,L265)","v":23.6},{"$f":"IF(N264>0,MIN(J264:N264),M265)","v":23.6},{"$f":"IF(O264>0,AVERAGE(SMALL(IF(J264:O264>0,J264:O264),{1,2}))-1,N265)","v":23.6},{"$f":"IF(P264>0,AVERAGE(SMALL(IF(J264:P264>0,J264:P264),{1,2})),O265)","v":23.6},{"$f":"IF(Q264>0,AVERAGE(SMALL(IF(J264:Q264>0,J264:Q264),{1,2})),P265)","v":23.6},{"$f":"IF(R264>0,AVERAGE(SMALL(IF(J264:R264>0,J264:R264),{1,2,3})),Q265)","v":23.6},{"$f":"IF(S264>0,AVERAGE(SMALL(IF(J264:S264>0,J264:S264),{1,2,3})),R265)","v":23.6},{"$f":"IF(T264>0,AVERAGE(SMALL(IF(J264:T264>0,J264:T264),{1,2,3})),S265)","v":23.6},{"$f":"IF(U264>0,AVERAGE(SMALL(IF(J264:U264>0,J264:U264),{1,2,3,4})),T265)","v":23.6},{"$f":"IF(V264>0,AVERAGE(SMALL(IF(J264:V264>0,J264:V264),{1,2,3,4})),U265)","v":23.6},{"$f":"IF(W264>0,AVERAGE(SMALL(IF(J264:W264>0,J264:W264),{1,2,3,4})),V265)","v":23.6},{"$f":"IF(X264>0,AVERAGE(SMALL(IF(J264:X264>0,J264:X264),{1,2,3,4,5})),W265)","v":23.6},{"$f":"IF(Y264>0,AVERAGE(SMALL(IF(J264:Y264>0,J264:Y264),{1,2,3,4,5})),X265)","v":23.6},{"$f":"IF(Z264>0,AVERAGE(SMALL(IF(J264:Z264>0,J264:Z264),{1,2,3,4,5,6})),Y265)","v":23.6},{"$f":"IF(AA264>0,AVERAGE(SMALL(IF(J264:AA264>0,J264:AA264),{1,2,3,4,5,6})),Z265)","v":23.6},{"$f":"IF(AB264>0,AVERAGE(SMALL(IF(J264:AB264>0,J264:AB264),{1,2,3,4,5,6,7})),AA265)","v":23.6},{"$f":"IF(AC264>0,AVERAGE(SMALL(IF(J264:AC264>0,J264:AC264),{1,2,3,4,5,6,7,8})),AB265)","v":23.6},{"$f":"IF(AD264>0,AVERAGE(SMALL(IF(K264:AD264>0,K264:AD264),{1,2,3,4,5,6,7,8})),AC265)","v":23.6},{"$f":"IF(AE264>0,AVERAGE(SMALL(IF(L264:AE264>0,L264:AE264),{1,2,3,4,5,6,7,8})),AD265)","v":23.6},{"$f":"IF(AF264>0,AVERAGE(SMALL(IF(M264:AF264>0,M264:AF264),{1,2,3,4,5,6,7,8})),AE265)","v":23.6},{"$f":"IF(AG264>0,AVERAGE(SMALL(IF(N264:AG264>0,N264:AG264),{1,2,3,4,5,6,7,8})),AF265)","v":23.6},{"$f":"IF(AH264>0,AVERAGE(SMALL(IF(O264:AH264>0,O264:AH264),{1,2,3,4,5,6,7,8})),AG265)","v":23.6},{"$f":"IF(AI264>0,AVERAGE(SMALL(IF(P264:AI264>0,P264:AI264),{1,2,3,4,5,6,7,8})),AH265)","v":23.6},{"$f":"IF(AJ264>0,AVERAGE(SMALL(IF(Q264:AJ264>0,Q264:AJ264),{1,2,3,4,5,6,7,8})),AI265)","v":23.6},{"$f":"IF(AK264>0,AVERAGE(SMALL(IF(R264:AK264>0,R264:AK264),{1,2,3,4,5,6,7,8})),AJ265)","v":23.6},{"$f":"IF(AL264>0,AVERAGE(SMALL(IF(S264:AL264>0,S264:AL264),{1,2,3,4,5,6,7,8})),AK265)","v":23.6},{"$f":"IF(AM264>0,AVERAGE(SMALL(IF(T264:AM264>0,T264:AM264),{1,2,3,4,5,6,7,8})),AL265)","v":23.6},{"$f":"IF(AN264>0,AVERAGE(SMALL(IF(U264:AN264>0,U264:AN264),{1,2,3,4,5,6,7,8})),AM265)","v":23.6},{"$f":"IF(AO264>0,AVERAGE(SMALL(IF(V264:AO264>0,V264:AO264),{1,2,3,4,5,6,7,8})),AN265)","v":23.6},{"$f":"IF(AP264>0,AVERAGE(SMALL(IF(W264:AP264>0,W264:AP264),{1,2,3,4,5,6,7,8})),AO265)","v":23.6},{"$f":"IF(AQ264>0,AVERAGE(SMALL(IF(X264:AQ264>0,X264:AQ264),{1,2,3,4,5,6,7,8})),AP265)","v":23.6},{"$f":"IF(AR264>0,AVERAGE(SMALL(IF(Y264:AR264>0,Y264:AR264),{1,2,3,4,5,6,7,8})),AQ265)","v":23.6},{"$f":"IF(AS264>0,AVERAGE(SMALL(IF(Z264:AS264>0,Z264:AS264),{1,2,3,4,5,6,7,8})),AR265)","v":23.6},{"$f":"IF(AT264>0,AVERAGE(SMALL(IF(AA264:AT264>0,AA264:AT264),{1,2,3,4,5,6,7,8})),AS265)","v":23.6},{"$f":"IF(AU264>0,AVERAGE(SMALL(IF(AB264:AU264>0,AB264:AU264),{1,2,3,4,5,6,7,8})),AT265)","v":23.6},{"$f":"IF(AV264>0,AVERAGE(SMALL(IF(AC264:AV264>0,AC264:AV264),{1,2,3,4,5,6,7,8})),AU265)","v":23.6},{"$f":"IF(AW264>0,AVERAGE(SMALL(IF(AD264:AW264>0,AD264:AW264),{1,2,3,4,5,6,7,8})),AV265)","v":23.6},{"$f":"IF(AX264>0,AVERAGE(SMALL(IF(AE264:AX264>0,AE264:AX264),{1,2,3,4,5,6,7,8})),AW265)","v":23.6},{"$f":"IF(AY264>0,AVERAGE(SMALL(IF(AF264:AY264>0,AF264:AY264),{1,2,3,4,5,6,7,8})),AX265)","v":23.6},{"$f":"IF(AZ264>0,AVERAGE(SMALL(IF(AG264:AZ264>0,AG264:AZ264),{1,2,3,4,5,6,7,8})),AY265)","v":23.6},{"$f":"IF(BA264>0,AVERAGE(SMALL(IF(AH264:BA264>0,AH264:BA264),{1,2,3,4,5,6,7,8})),AZ265)","v":23.6},{"$f":"IF(BB264>0,AVERAGE(SMALL(IF(AI264:BB264>0,AI264:BB264),{1,2,3,4,5,6,7,8})),BA265)","v":23.6},{"$f":"IF(BC264>0,AVERAGE(SMALL(IF(AJ264:BC264>0,AJ264:BC264),{1,2,3,4,5,6,7,8})),BB265)","v":23.6},{"$f":"IF(BD264>0,AVERAGE(SMALL(IF(AK264:BD264>0,AK264:BD264),{1,2,3,4,5,6,7,8})),BC265)","v":23.6},{"$f":"IF(BE264>0,AVERAGE(SMALL(IF(AL264:BE264>0,AL264:BE264),{1,2,3,4,5,6,7,8})),BD265)","v":23.6},{"$f":"IF(BF264>0,AVERAGE(SMALL(IF(AM264:BF264>0,AM264:BF264),{1,2,3,4,5,6,7,8})),BE265)","v":23.6},{"$f":"IF(BG264>0,AVERAGE(SMALL(IF(AN264:BG264>0,AN264:BG264),{1,2,3,4,5,6,7,8})),BF265)","v":23.6},{"$f":"IF(BH264>0,AVERAGE(SMALL(IF(AO264:BH264>0,AO264:BH264),{1,2,3,4,5,6,7,8})),BG265)","v":23.6},{"$f":"IF(BI264>0,AVERAGE(SMALL(IF(AP264:BI264>0,AP264:BI264),{1,2,3,4,5,6,7,8})),BH265)","v":23.6},{"$f":"IF(BJ264>0,AVERAGE(SMALL(IF(AQ264:BJ264>0,AQ264:BJ264),{1,2,3,4,5,6,7,8})),BI265)","v":23.6},{"$f":"IF(BK264>0,AVERAGE(SMALL(IF(AR264:BK264>0,AR264:BK264),{1,2,3,4,5,6,7,8})),BJ265)","v":23.6},{"$f":"IF(BL264>0,AVERAGE(SMALL(IF(AS264:BL264>0,AS264:BL264),{1,2,3,4,5,6,7,8})),BK265)","v":23.6},{"$f":"IF(BM264>0,AVERAGE(SMALL(IF(AT264:BM264>0,AT264:BM264),{1,2,3,4,5,6,7,8})),BL265)","v":23.6},{"$f":"IF(BN264>0,AVERAGE(SMALL(IF(AU264:BN264>0,AU264:BN264),{1,2,3,4,5,6,7,8})),BM265)","v":23.6},{"$f":"IF(BO264>0,AVERAGE(SMALL(IF(AV264:BO264>0,AV264:BO264),{1,2,3,4,5,6,7,8})),BN265)","v":23.6},{"$f":"IF(BP264>0,AVERAGE(SMALL(IF(AW264:BP264>0,AW264:BP264),{1,2,3,4,5,6,7,8})),BO265)","v":23.6},{"$f":"IF(BQ264>0,AVERAGE(SMALL(IF(AX264:BQ264>0,AX264:BQ264),{1,2,3,4,5,6,7,8})),BP265)","v":23.6},{"$f":"IF(BR264>0,AVERAGE(SMALL(IF(AY264:BR264>0,AY264:BR264),{1,2,3,4,5,6,7,8})),BQ265)","v":23.6},{"$f":"IF(BS264>0,AVERAGE(SMALL(IF(AZ264:BS264>0,AZ264:BS264),{1,2,3,4,5,6,7,8})),BR265)","v":23.6},{"$f":"IF(BT264>0,AVERAGE(SMALL(IF(BA264:BT264>0,BA264:BT264),{1,2,3,4,5,6,7,8})),BS265)","v":23.6},{"$f":"IF(BU264>0,AVERAGE(SMALL(IF(BB264:BU264>0,BB264:BU264),{1,2,3,4,5,6,7,8})),BT265)","v":23.6},{"$f":"IF(BV264>0,AVERAGE(SMALL(IF(BC264:BV264>0,BC264:BV264),{1,2,3,4,5,6,7,8})),BU265)","v":23.6},{"$f":"IF(BW264>0,AVERAGE(SMALL(IF(BD264:BW264>0,BD264:BW264),{1,2,3,4,5,6,7,8})),BV265)","v":23.6},{"$f":"IF(BX264>0,AVERAGE(SMALL(IF(BE264:BX264>0,BE264:BX264),{1,2,3,4,5,6,7,8})),BW265)","v":23.6},{"$f":"IF(BY264>0,AVERAGE(SMALL(IF(BF264:BY264>0,BF264:BY264),{1,2,3,4,5,6,7,8})),BX265)","v":23.6},{"$f":"IF(BZ264>0,AVERAGE(SMALL(IF(BG264:BZ264>0,BG264:BZ264),{1,2,3,4,5,6,7,8})),BY265)","v":23.6},{"$f":"IF(CA264>0,AVERAGE(SMALL(IF(BH264:CA264>0,BH264:CA264),{1,2,3,4,5,6,7,8})),BZ265)","v":23.6},{"$f":"IF(CB264>0,AVERAGE(SMALL(IF(BI264:CB264>0,BI264:CB264),{1,2,3,4,5,6,7,8})),CA265)","v":23.6},{"$f":"IF(CC264>0,AVERAGE(SMALL(IF(BJ264:CC264>0,BJ264:CC264),{1,2,3,4,5,6,7,8})),CB265)","v":23.6},{"$f":"IF(CD264>0,AVERAGE(SMALL(IF(BK264:CD264>0,BK264:CD264),{1,2,3,4,5,6,7,8})),CC265)","v":23.6},{"$f":"IF(CE264>0,AVERAGE(SMALL(IF(BL264:CE264>0,BL264:CE264),{1,2,3,4,5,6,7,8})),CD265)","v":23.6},{"$f":"IF(CF264>0,AVERAGE(SMALL(IF(BM264:CF264>0,BM264:CF264),{1,2,3,4,5,6,7,8})),CE265)","v":23.6},{"$f":"IF(CG264>0,AVERAGE(SMALL(IF(BN264:CG264>0,BN264:CG264),{1,2,3,4,5,6,7,8})),CF265)","v":23.6},{"$f":"IF(CH264>0,AVERAGE(SMALL(IF(BO264:CH264>0,BO264:CH264),{1,2,3,4,5,6,7,8})),CG265)","v":23.6},{"$f":"IF(CI264>0,AVERAGE(SMALL(IF(BP264:CI264>0,BP264:CI264),{1,2,3,4,5,6,7,8})),CH265)","v":23.6},{"$f":"IF(CJ264>0,AVERAGE(SMALL(IF(BQ264:CJ264>0,BQ264:CJ264),{1,2,3,4,5,6,7,8})),CI265)","v":23.6},{"$f":"IF(CK264>0,AVERAGE(SMALL(IF(BR264:CK264>0,BR264:CK264),{1,2,3,4,5,6,7,8})),CJ265)","v":23.6},{"$f":"IF(CL264>0,AVERAGE(SMALL(IF(BS264:CL264>0,BS264:CL264),{1,2,3,4,5,6,7,8})),CK265)","v":23.6},{"$f":"IF(CM264>0,AVERAGE(SMALL(IF(BT264:CM264>0,BT264:CM264),{1,2,3,4,5,6,7,8})),CL265)","v":23.6},{"$f":"IF(CN264>0,AVERAGE(SMALL(IF(BU264:CN264>0,BU264:CN264),{1,2,3,4,5,6,7,8})),CM265)","v":23.6},{"$f":"IF(CO264>0,AVERAGE(SMALL(IF(BV264:CO264>0,BV264:CO264),{1,2,3,4,5,6,7,8})),CN265)","v":23.6},{"$f":"IF(CP264>0,AVERAGE(SMALL(IF(BW264:CP264>0,BW264:CP264),{1,2,3,4,5,6,7,8})),CO265)","v":23.6},{"$f":"IF(CQ264>0,AVERAGE(SMALL(IF(BX264:CQ264>0,BX264:CQ264),{1,2,3,4,5,6,7,8})),CP265)","v":23.6},{"$f":"IF(CR264>0,AVERAGE(SMALL(IF(BY264:CR264>0,BY264:CR264),{1,2,3,4,5,6,7,8})),CQ265)","v":23.6},{"$f":"IF(CS264>0,AVERAGE(SMALL(IF(BZ264:CS264>0,BZ264:CS264),{1,2,3,4,5,6,7,8})),CR265)","v":23.6},{"$f":"IF(CT264>0,AVERAGE(SMALL(IF(CA264:CT264>0,CA264:CT264),{1,2,3,4,5,6,7,8})),CS265)","v":23.6},{"$f":"IF(CU264>0,AVERAGE(SMALL(IF(CB264:CU264>0,CB264:CU264),{1,2,3,4,5,6,7,8})),CT265)","v":23.6},{"$f":"IF(CV264>0,AVERAGE(SMALL(IF(CC264:CV264>0,CC264:CV264),{1,2,3,4,5,6,7,8})),CU265)","v":23.6},{"$f":"IF(CW264>0,AVERAGE(SMALL(IF(CD264:CW264>0,CD264:CW264),{1,2,3,4,5,6,7,8})),CV265)","v":23.6}]
[null,null,null,null,null,null,null,null,"Low Hcap",null,null,null,null,null,null,null,null,null,null,null,null,null,null,null,null,null,null,null,{"$f":"MIN($J265:AC265)","v":23.6},{"$f":"MIN($J265:AD265)","v":23.6},{"$f":"MIN($J265:AE265)","v":23.6},{"$f":"MIN($J265:AF265)","v":23.6},{"$f":"MIN($J265:AG265)","v":23.6},{"$f":"MIN($J265:AH265)","v":23.6},{"$f":"MIN($J265:AI265)","v":23.6},{"$f":"MIN($J265:AJ265)","v":23.6},{"$f":"MIN($J265:AK265)","v":23.6},{"$f":"MIN($J265:AL265)","v":23.6},{"$f":"MIN($J265:AM265)","v":23.6},{"$f":"MIN($J265:AN265)","v":23.6},{"$f":"MIN($J265:AO265)","v":23.6},{"$f":"MIN($J265:AP265)","v":23.6},{"$f":"MIN($J265:AQ265)","v":23.6},{"$f":"MIN($J265:AR265)","v":23.6},{"$f":"MIN($J265:AS265)","v":23.6},{"$f":"MIN($J265:AT265)","v":23.6},{"$f":"MIN($J265:AU265)","v":23.6},{"$f":"MIN($J265:AV265)","v":23.6},{"$f":"MIN($J265:AW265)","v":23.6},{"$f":"MIN($J265:AX265)","v":23.6},{"$f":"MIN($J265:AY265)","v":23.6},{"$f":"MIN($J265:AZ265)","v":23.6},{"$f":"MIN($J265:BA265)","v":23.6},{"$f":"MIN($J265:BB265)","v":23.6},{"$f":"MIN($J265:BC265)","v":23.6},{"$f":"MIN($J265:BD265)","v":23.6},{"$f":"MIN($J265:BE265)","v":23.6},{"$f":"MIN($J265:BF265)","v":23.6},{"$f":"MIN($J265:BG265)","v":23.6},{"$f":"MIN($J265:BH265)","v":23.6},{"$f":"MIN($J265:BI265)","v":23.6},{"$f":"MIN($J265:BJ265)","v":23.6},{"$f":"MIN($J265:BK265)","v":23.6},{"$f":"MIN($J265:BL265)","v":23.6},{"$f":"MIN($J265:BM265)","v":23.6},{"$f":"MIN($J265:BN265)","v":23.6},{"$f":"MIN($J265:BO265)","v":23.6},{"$f":"MIN($J265:BP265)","v":23.6},{"$f":"MIN($J265:BQ265)","v":23.6},{"$f":"MIN($J265:BR265)","v":23.6},{"$f":"MIN($J265:BS265)","v":23.6},{"$f":"MIN($J265:BT265)","v":23.6},{"$f":"MIN($J265:BU265)","v":23.6},{"$f":"MIN($J265:BV265)","v":23.6},{"$f":"MIN($J265:BW265)","v":23.6},{"$f":"MIN($J265:BX265)","v":23.6},{"$f":"MIN($J265:BY265)","v":23.6},{"$f":"MIN($J265:BZ265)","v":23.6},{"$f":"MIN($J265:CA265)","v":23.6},{"$f":"MIN($J265:CB265)","v":23.6},{"$f":"MIN($J265:CC265)","v":23.6},{"$f":"MIN($J265:CD265)","v":23.6},{"$f":"MIN($J265:CE265)","v":23.6},{"$f":"MIN($J265:CF265)","v":23.6},{"$f":"MIN($J265:CG265)","v":23.6},{"$f":"MIN($J265:CH265)","v":23.6},{"$f":"MIN($J265:CI265)","v":23.6},{"$f":"MIN($J265:CJ265)","v":23.6},{"$f":"MIN($J265:CK265)","v":23.6},{"$f":"MIN($J265:CL265)","v":23.6},{"$f":"MIN($J265:CM265)","v":23.6},{"$f":"MIN($J265:CN265)","v":23.6},{"$f":"MIN($J265:CO265)","v":23.6},{"$f":"MIN($J265:CP265)","v":23.6},{"$f":"MIN($J265:CQ265)","v":23.6},{"$f":"MIN($J265:CR265)","v":23.6},{"$f":"MIN($J265:CS265)","v":23.6},{"$f":"MIN($J265:CT265)","v":23.6},{"$f":"MIN($J265:CU265)","v":23.6},{"$f":"MIN($J265:CV265)","v":23.6},{"$f":"MIN($J265:CW265)","v":23.6}]
[null,"Hirst","Simon",17.8,null,{"$f":"IF(H267<4,\"Y\",)","v":"Y"},2019,{"$f":"COUNT(J267:CX267)","v":0},"Date",null,null,null,null,null,null,null,null,null,null,null,null,null,null,null,null,null,null,null,null,null,null,null,null,null,null,null,null,null,null,null,null,null,null,null,null,null,null,null,null,null,null,null,null,null,null,null,null,null,null,null,null,null,null,null,null,null,null,null,null,null,null,null,null,null,null,null,null,null,null,null,null,null,null,null,null,null,null,null,null,null,null,null,null,null,null,null,null,null,null,null,null,null,{"$f":"IF(CW271>$DD$1,36,CW271)","v":15.8},15.8,{"$f":"CZ267-CY267","v":0}]
[null,null,null,null,null,null,null,null,"Course"]
[null,null,null,null,null,null,null,null,"Ad Gr"]
[null,null,null,null,null,null,null,null,"SD",{"$f":"D267","v":17.8},{"$f":"IF(K269=\"\",0,(K269-INDIRECT(CONCATENATE(K268,\"CR\")))*113/INDIRECT(CONCATENATE(K268,\"SR\")))","v":0},{"$f":"IF(L269=\"\",0,(L269-INDIRECT(CONCATENATE(L268,\"CR\")))*113/INDIRECT(CONCATENATE(L268,\"SR\")))","v":0},0,0,0,0,0,0,0,0,0,0,0,0,0,0,0,0,0,0,0,0,0,0,0,0,0,0,0,0,0,0,0,0,0,0,0,0,0,0,0,0,0,0,0,0,0,0,0,0,0,0,0,0,0,0,0,0,0,0,0,0,0,0,0,{"$f":"IF(BX269=\"\",0,(BX269-INDIRECT(CONCATENATE(BX268,\"CR\")))*113/INDIRECT(CONCATENATE(BX268,\"SR\")))","v":0},0,0,0,0,0,0,0,0,0,0,0,0,0,0,{"$f":"IF(CM269=\"\",0,(CM269-INDIRECT(CONCATENATE(CM268,\"CR\")))*113/INDIRECT(CONCATENATE(CM268,\"SR\")))","v":0},0,{"$f":"IF(CO269=\"\",0,(CO269-INDIRECT(CONCATENATE(CO268,\"CR\")))*113/INDIRECT(CONCATENATE(CO268,\"SR\")))","v":0},0,{"$f":"IF(CQ269=\"\",0,(CQ269-INDIRECT(CONCATENATE(CQ268,\"CR\")))*113/INDIRECT(CONCATENATE(CQ268,\"SR\")))","v":0},0,{"$f":"IF(CS269=\"\",0,(CS269-INDIRECT(CONCATENATE(CS268,\"CR\")))*113/INDIRECT(CONCATENATE(CS268,\"SR\")))","v":0},0,{"$f":"IF(CU269=\"\",0,(CU269-INDIRECT(CONCATENATE(CU268,\"CR\")))*113/INDIRECT(CONCATENATE(CU268,\"SR\")))","v":0},0,{"$f":"IF(CW269=\"\",0,(CW269-INDIRECT(CONCATENATE(CW268,\"CR\")))*113/INDIRECT(CONCATENATE(CW268,\"SR\")))","v":0}]
[null,null,null,null,null,null,null,null,"New Hcap",{"$f":"J270-2","v":15.8},{"$f":"IF(K270>0,MIN(J270:K270)-2,J271)","v":15.8},{"$f":"IF(L270>0,MIN(J270:L270)-2,K271)","v":15.8},{"$f":"IF(M270>0,MIN(J270:M270)-1,L271)","v":15.8},{"$f":"IF(N270>0,MIN(J270:N270),M271)","v":15.8},{"$f":"IF(O270>0,AVERAGE(SMALL(IF(J270:O270>0,J270:O270),{1,2}))-1,N271)","v":15.8},{"$f":"IF(P270>0,AVERAGE(SMALL(IF(J270:P270>0,J270:P270),{1,2})),O271)","v":15.8},{"$f":"IF(Q270>0,AVERAGE(SMALL(IF(J270:Q270>0,J270:Q270),{1,2})),P271)","v":15.8},{"$f":"IF(R270>0,AVERAGE(SMALL(IF(J270:R270>0,J270:R270),{1,2,3})),Q271)","v":15.8},{"$f":"IF(S270>0,AVERAGE(SMALL(IF(J270:S270>0,J270:S270),{1,2,3})),R271)","v":15.8},{"$f":"IF(T270>0,AVERAGE(SMALL(IF(J270:T270>0,J270:T270),{1,2,3})),S271)","v":15.8},{"$f":"IF(U270>0,AVERAGE(SMALL(IF(J270:U270>0,J270:U270),{1,2,3,4})),T271)","v":15.8},{"$f":"IF(V270>0,AVERAGE(SMALL(IF(J270:V270>0,J270:V270),{1,2,3,4})),U271)","v":15.8},{"$f":"IF(W270>0,AVERAGE(SMALL(IF(J270:W270>0,J270:W270),{1,2,3,4})),V271)","v":15.8},{"$f":"IF(X270>0,AVERAGE(SMALL(IF(J270:X270>0,J270:X270),{1,2,3,4,5})),W271)","v":15.8},{"$f":"IF(Y270>0,AVERAGE(SMALL(IF(J270:Y270>0,J270:Y270),{1,2,3,4,5})),X271)","v":15.8},{"$f":"IF(Z270>0,AVERAGE(SMALL(IF(J270:Z270>0,J270:Z270),{1,2,3,4,5,6})),Y271)","v":15.8},{"$f":"IF(AA270>0,AVERAGE(SMALL(IF(J270:AA270>0,J270:AA270),{1,2,3,4,5,6})),Z271)","v":15.8},{"$f":"IF(AB270>0,AVERAGE(SMALL(IF(J270:AB270>0,J270:AB270),{1,2,3,4,5,6,7})),AA271)","v":15.8},{"$f":"IF(AC270>0,AVERAGE(SMALL(IF(J270:AC270>0,J270:AC270),{1,2,3,4,5,6,7,8})),AB271)","v":15.8},{"$f":"IF(AD270>0,AVERAGE(SMALL(IF(K270:AD270>0,K270:AD270),{1,2,3,4,5,6,7,8})),AC271)","v":15.8},{"$f":"IF(AE270>0,AVERAGE(SMALL(IF(L270:AE270>0,L270:AE270),{1,2,3,4,5,6,7,8})),AD271)","v":15.8},{"$f":"IF(AF270>0,AVERAGE(SMALL(IF(M270:AF270>0,M270:AF270),{1,2,3,4,5,6,7,8})),AE271)","v":15.8},{"$f":"IF(AG270>0,AVERAGE(SMALL(IF(N270:AG270>0,N270:AG270),{1,2,3,4,5,6,7,8})),AF271)","v":15.8},{"$f":"IF(AH270>0,AVERAGE(SMALL(IF(O270:AH270>0,O270:AH270),{1,2,3,4,5,6,7,8})),AG271)","v":15.8},{"$f":"IF(AI270>0,AVERAGE(SMALL(IF(P270:AI270>0,P270:AI270),{1,2,3,4,5,6,7,8})),AH271)","v":15.8},{"$f":"IF(AJ270>0,AVERAGE(SMALL(IF(Q270:AJ270>0,Q270:AJ270),{1,2,3,4,5,6,7,8})),AI271)","v":15.8},{"$f":"IF(AK270>0,AVERAGE(SMALL(IF(R270:AK270>0,R270:AK270),{1,2,3,4,5,6,7,8})),AJ271)","v":15.8},{"$f":"IF(AL270>0,AVERAGE(SMALL(IF(S270:AL270>0,S270:AL270),{1,2,3,4,5,6,7,8})),AK271)","v":15.8},{"$f":"IF(AM270>0,AVERAGE(SMALL(IF(T270:AM270>0,T270:AM270),{1,2,3,4,5,6,7,8})),AL271)","v":15.8},{"$f":"IF(AN270>0,AVERAGE(SMALL(IF(U270:AN270>0,U270:AN270),{1,2,3,4,5,6,7,8})),AM271)","v":15.8},{"$f":"IF(AO270>0,AVERAGE(SMALL(IF(V270:AO270>0,V270:AO270),{1,2,3,4,5,6,7,8})),AN271)","v":15.8},{"$f":"IF(AP270>0,AVERAGE(SMALL(IF(W270:AP270>0,W270:AP270),{1,2,3,4,5,6,7,8})),AO271)","v":15.8},{"$f":"IF(AQ270>0,AVERAGE(SMALL(IF(X270:AQ270>0,X270:AQ270),{1,2,3,4,5,6,7,8})),AP271)","v":15.8},{"$f":"IF(AR270>0,AVERAGE(SMALL(IF(Y270:AR270>0,Y270:AR270),{1,2,3,4,5,6,7,8})),AQ271)","v":15.8},{"$f":"IF(AS270>0,AVERAGE(SMALL(IF(Z270:AS270>0,Z270:AS270),{1,2,3,4,5,6,7,8})),AR271)","v":15.8},{"$f":"IF(AT270>0,AVERAGE(SMALL(IF(AA270:AT270>0,AA270:AT270),{1,2,3,4,5,6,7,8})),AS271)","v":15.8},{"$f":"IF(AU270>0,AVERAGE(SMALL(IF(AB270:AU270>0,AB270:AU270),{1,2,3,4,5,6,7,8})),AT271)","v":15.8},{"$f":"IF(AV270>0,AVERAGE(SMALL(IF(AC270:AV270>0,AC270:AV270),{1,2,3,4,5,6,7,8})),AU271)","v":15.8},{"$f":"IF(AW270>0,AVERAGE(SMALL(IF(AD270:AW270>0,AD270:AW270),{1,2,3,4,5,6,7,8})),AV271)","v":15.8},{"$f":"IF(AX270>0,AVERAGE(SMALL(IF(AE270:AX270>0,AE270:AX270),{1,2,3,4,5,6,7,8})),AW271)","v":15.8},{"$f":"IF(AY270>0,AVERAGE(SMALL(IF(AF270:AY270>0,AF270:AY270),{1,2,3,4,5,6,7,8})),AX271)","v":15.8},{"$f":"IF(AZ270>0,AVERAGE(SMALL(IF(AG270:AZ270>0,AG270:AZ270),{1,2,3,4,5,6,7,8})),AY271)","v":15.8},{"$f":"IF(BA270>0,AVERAGE(SMALL(IF(AH270:BA270>0,AH270:BA270),{1,2,3,4,5,6,7,8})),AZ271)","v":15.8},{"$f":"IF(BB270>0,AVERAGE(SMALL(IF(AI270:BB270>0,AI270:BB270),{1,2,3,4,5,6,7,8})),BA271)","v":15.8},{"$f":"IF(BC270>0,AVERAGE(SMALL(IF(AJ270:BC270>0,AJ270:BC270),{1,2,3,4,5,6,7,8})),BB271)","v":15.8},{"$f":"IF(BD270>0,AVERAGE(SMALL(IF(AK270:BD270>0,AK270:BD270),{1,2,3,4,5,6,7,8})),BC271)","v":15.8},{"$f":"IF(BE270>0,AVERAGE(SMALL(IF(AL270:BE270>0,AL270:BE270),{1,2,3,4,5,6,7,8})),BD271)","v":15.8},{"$f":"IF(BF270>0,AVERAGE(SMALL(IF(AM270:BF270>0,AM270:BF270),{1,2,3,4,5,6,7,8})),BE271)","v":15.8},{"$f":"IF(BG270>0,AVERAGE(SMALL(IF(AN270:BG270>0,AN270:BG270),{1,2,3,4,5,6,7,8})),BF271)","v":15.8},{"$f":"IF(BH270>0,AVERAGE(SMALL(IF(AO270:BH270>0,AO270:BH270),{1,2,3,4,5,6,7,8})),BG271)","v":15.8},{"$f":"IF(BI270>0,AVERAGE(SMALL(IF(AP270:BI270>0,AP270:BI270),{1,2,3,4,5,6,7,8})),BH271)","v":15.8},{"$f":"IF(BJ270>0,AVERAGE(SMALL(IF(AQ270:BJ270>0,AQ270:BJ270),{1,2,3,4,5,6,7,8})),BI271)","v":15.8},{"$f":"IF(BK270>0,AVERAGE(SMALL(IF(AR270:BK270>0,AR270:BK270),{1,2,3,4,5,6,7,8})),BJ271)","v":15.8},{"$f":"IF(BL270>0,AVERAGE(SMALL(IF(AS270:BL270>0,AS270:BL270),{1,2,3,4,5,6,7,8})),BK271)","v":15.8},{"$f":"IF(BM270>0,AVERAGE(SMALL(IF(AT270:BM270>0,AT270:BM270),{1,2,3,4,5,6,7,8})),BL271)","v":15.8},{"$f":"IF(BN270>0,AVERAGE(SMALL(IF(AU270:BN270>0,AU270:BN270),{1,2,3,4,5,6,7,8})),BM271)","v":15.8},{"$f":"IF(BO270>0,AVERAGE(SMALL(IF(AV270:BO270>0,AV270:BO270),{1,2,3,4,5,6,7,8})),BN271)","v":15.8},{"$f":"IF(BP270>0,AVERAGE(SMALL(IF(AW270:BP270>0,AW270:BP270),{1,2,3,4,5,6,7,8})),BO271)","v":15.8},{"$f":"IF(BQ270>0,AVERAGE(SMALL(IF(AX270:BQ270>0,AX270:BQ270),{1,2,3,4,5,6,7,8})),BP271)","v":15.8},{"$f":"IF(BR270>0,AVERAGE(SMALL(IF(AY270:BR270>0,AY270:BR270),{1,2,3,4,5,6,7,8})),BQ271)","v":15.8},{"$f":"IF(BS270>0,AVERAGE(SMALL(IF(AZ270:BS270>0,AZ270:BS270),{1,2,3,4,5,6,7,8})),BR271)","v":15.8},{"$f":"IF(BT270>0,AVERAGE(SMALL(IF(BA270:BT270>0,BA270:BT270),{1,2,3,4,5,6,7,8})),BS271)","v":15.8},{"$f":"IF(BU270>0,AVERAGE(SMALL(IF(BB270:BU270>0,BB270:BU270),{1,2,3,4,5,6,7,8})),BT271)","v":15.8},{"$f":"IF(BV270>0,AVERAGE(SMALL(IF(BC270:BV270>0,BC270:BV270),{1,2,3,4,5,6,7,8})),BU271)","v":15.8},{"$f":"IF(BW270>0,AVERAGE(SMALL(IF(BD270:BW270>0,BD270:BW270),{1,2,3,4,5,6,7,8})),BV271)","v":15.8},{"$f":"IF(BX270>0,AVERAGE(SMALL(IF(BE270:BX270>0,BE270:BX270),{1,2,3,4,5,6,7,8})),BW271)","v":15.8},{"$f":"IF(BY270>0,AVERAGE(SMALL(IF(BF270:BY270>0,BF270:BY270),{1,2,3,4,5,6,7,8})),BX271)","v":15.8},{"$f":"IF(BZ270>0,AVERAGE(SMALL(IF(BG270:BZ270>0,BG270:BZ270),{1,2,3,4,5,6,7,8})),BY271)","v":15.8},{"$f":"IF(CA270>0,AVERAGE(SMALL(IF(BH270:CA270>0,BH270:CA270),{1,2,3,4,5,6,7,8})),BZ271)","v":15.8},{"$f":"IF(CB270>0,AVERAGE(SMALL(IF(BI270:CB270>0,BI270:CB270),{1,2,3,4,5,6,7,8})),CA271)","v":15.8},{"$f":"IF(CC270>0,AVERAGE(SMALL(IF(BJ270:CC270>0,BJ270:CC270),{1,2,3,4,5,6,7,8})),CB271)","v":15.8},{"$f":"IF(CD270>0,AVERAGE(SMALL(IF(BK270:CD270>0,BK270:CD270),{1,2,3,4,5,6,7,8})),CC271)","v":15.8},{"$f":"IF(CE270>0,AVERAGE(SMALL(IF(BL270:CE270>0,BL270:CE270),{1,2,3,4,5,6,7,8})),CD271)","v":15.8},{"$f":"IF(CF270>0,AVERAGE(SMALL(IF(BM270:CF270>0,BM270:CF270),{1,2,3,4,5,6,7,8})),CE271)","v":15.8},{"$f":"IF(CG270>0,AVERAGE(SMALL(IF(BN270:CG270>0,BN270:CG270),{1,2,3,4,5,6,7,8})),CF271)","v":15.8},{"$f":"IF(CH270>0,AVERAGE(SMALL(IF(BO270:CH270>0,BO270:CH270),{1,2,3,4,5,6,7,8})),CG271)","v":15.8},{"$f":"IF(CI270>0,AVERAGE(SMALL(IF(BP270:CI270>0,BP270:CI270),{1,2,3,4,5,6,7,8})),CH271)","v":15.8},{"$f":"IF(CJ270>0,AVERAGE(SMALL(IF(BQ270:CJ270>0,BQ270:CJ270),{1,2,3,4,5,6,7,8})),CI271)","v":15.8},{"$f":"IF(CK270>0,AVERAGE(SMALL(IF(BR270:CK270>0,BR270:CK270),{1,2,3,4,5,6,7,8})),CJ271)","v":15.8},{"$f":"IF(CL270>0,AVERAGE(SMALL(IF(BS270:CL270>0,BS270:CL270),{1,2,3,4,5,6,7,8})),CK271)","v":15.8},{"$f":"IF(CM270>0,AVERAGE(SMALL(IF(BT270:CM270>0,BT270:CM270),{1,2,3,4,5,6,7,8})),CL271)","v":15.8},{"$f":"IF(CN270>0,AVERAGE(SMALL(IF(BU270:CN270>0,BU270:CN270),{1,2,3,4,5,6,7,8})),CM271)","v":15.8},{"$f":"IF(CO270>0,AVERAGE(SMALL(IF(BV270:CO270>0,BV270:CO270),{1,2,3,4,5,6,7,8})),CN271)","v":15.8},{"$f":"IF(CP270>0,AVERAGE(SMALL(IF(BW270:CP270>0,BW270:CP270),{1,2,3,4,5,6,7,8})),CO271)","v":15.8},{"$f":"IF(CQ270>0,AVERAGE(SMALL(IF(BX270:CQ270>0,BX270:CQ270),{1,2,3,4,5,6,7,8})),CP271)","v":15.8},{"$f":"IF(CR270>0,AVERAGE(SMALL(IF(BY270:CR270>0,BY270:CR270),{1,2,3,4,5,6,7,8})),CQ271)","v":15.8},{"$f":"IF(CS270>0,AVERAGE(SMALL(IF(BZ270:CS270>0,BZ270:CS270),{1,2,3,4,5,6,7,8})),CR271)","v":15.8},{"$f":"IF(CT270>0,AVERAGE(SMALL(IF(CA270:CT270>0,CA270:CT270),{1,2,3,4,5,6,7,8})),CS271)","v":15.8},{"$f":"IF(CU270>0,AVERAGE(SMALL(IF(CB270:CU270>0,CB270:CU270),{1,2,3,4,5,6,7,8})),CT271)","v":15.8},{"$f":"IF(CV270>0,AVERAGE(SMALL(IF(CC270:CV270>0,CC270:CV270),{1,2,3,4,5,6,7,8})),CU271)","v":15.8},{"$f":"IF(CW270>0,AVERAGE(SMALL(IF(CD270:CW270>0,CD270:CW270),{1,2,3,4,5,6,7,8})),CV271)","v":15.8}]
[null,null,null,null,null,null,null,null,"Low Hcap",null,null,null,null,null,null,null,null,null,null,null,null,null,null,null,null,null,null,null,{"$f":"MIN($J271:AC271)","v":15.8},{"$f":"MIN($J271:AD271)","v":15.8},{"$f":"MIN($J271:AE271)","v":15.8},{"$f":"MIN($J271:AF271)","v":15.8},{"$f":"MIN($J271:AG271)","v":15.8},{"$f":"MIN($J271:AH271)","v":15.8},{"$f":"MIN($J271:AI271)","v":15.8},{"$f":"MIN($J271:AJ271)","v":15.8},{"$f":"MIN($J271:AK271)","v":15.8},{"$f":"MIN($J271:AL271)","v":15.8},{"$f":"MIN($J271:AM271)","v":15.8},{"$f":"MIN($J271:AN271)","v":15.8},{"$f":"MIN($J271:AO271)","v":15.8},{"$f":"MIN($J271:AP271)","v":15.8},{"$f":"MIN($J271:AQ271)","v":15.8},{"$f":"MIN($J271:AR271)","v":15.8},{"$f":"MIN($J271:AS271)","v":15.8},{"$f":"MIN($J271:AT271)","v":15.8},{"$f":"MIN($J271:AU271)","v":15.8},{"$f":"MIN($J271:AV271)","v":15.8},{"$f":"MIN($J271:AW271)","v":15.8},{"$f":"MIN($J271:AX271)","v":15.8},{"$f":"MIN($J271:AY271)","v":15.8},{"$f":"MIN($J271:AZ271)","v":15.8},{"$f":"MIN($J271:BA271)","v":15.8},{"$f":"MIN($J271:BB271)","v":15.8},{"$f":"MIN($J271:BC271)","v":15.8},{"$f":"MIN($J271:BD271)","v":15.8},{"$f":"MIN($J271:BE271)","v":15.8},{"$f":"MIN($J271:BF271)","v":15.8},{"$f":"MIN($J271:BG271)","v":15.8},{"$f":"MIN($J271:BH271)","v":15.8},{"$f":"MIN($J271:BI271)","v":15.8},{"$f":"MIN($J271:BJ271)","v":15.8},{"$f":"MIN($J271:BK271)","v":15.8},{"$f":"MIN($J271:BL271)","v":15.8},{"$f":"MIN($J271:BM271)","v":15.8},{"$f":"MIN($J271:BN271)","v":15.8},{"$f":"MIN($J271:BO271)","v":15.8},{"$f":"MIN($J271:BP271)","v":15.8},{"$f":"MIN($J271:BQ271)","v":15.8},{"$f":"MIN($J271:BR271)","v":15.8},{"$f":"MIN($J271:BS271)","v":15.8},{"$f":"MIN($J271:BT271)","v":15.8},{"$f":"MIN($J271:BU271)","v":15.8},{"$f":"MIN($J271:BV271)","v":15.8},{"$f":"MIN($J271:BW271)","v":15.8},{"$f":"MIN($J271:BX271)","v":15.8},{"$f":"MIN($J271:BY271)","v":15.8},{"$f":"MIN($J271:BZ271)","v":15.8},{"$f":"MIN($J271:CA271)","v":15.8},{"$f":"MIN($J271:CB271)","v":15.8},{"$f":"MIN($J271:CC271)","v":15.8},{"$f":"MIN($J271:CD271)","v":15.8},{"$f":"MIN($J271:CE271)","v":15.8},{"$f":"MIN($J271:CF271)","v":15.8},{"$f":"MIN($J271:CG271)","v":15.8},{"$f":"MIN($J271:CH271)","v":15.8},{"$f":"MIN($J271:CI271)","v":15.8},{"$f":"MIN($J271:CJ271)","v":15.8},{"$f":"MIN($J271:CK271)","v":15.8},{"$f":"MIN($J271:CL271)","v":15.8},{"$f":"MIN($J271:CM271)","v":15.8},{"$f":"MIN($J271:CN271)","v":15.8},{"$f":"MIN($J271:CO271)","v":15.8},{"$f":"MIN($J271:CP271)","v":15.8},{"$f":"MIN($J271:CQ271)","v":15.8},{"$f":"MIN($J271:CR271)","v":15.8},{"$f":"MIN($J271:CS271)","v":15.8},{"$f":"MIN($J271:CT271)","v":15.8},{"$f":"MIN($J271:CU271)","v":15.8},{"$f":"MIN($J271:CV271)","v":15.8},{"$f":"MIN($J271:CW271)","v":15.8}]
[null,"Hollins","Gary",16,null,{"$f":"IF(H273<4,\"Y\",)","v":"Y"},2023,{"$f":"COUNT(J273:CX273)","v":0},"Date",null,null,null,null,null,null,null,null,null,null,null,null,null,null,null,null,null,null,null,null,null,null,null,null,null,null,null,null,null,null,null,null,null,null,null,null,null,null,null,null,null,null,null,null,null,null,null,null,null,null,null,null,null,null,null,null,null,null,null,null,null,null,null,null,null,null,null,null,null,null,null,null,null,null,null,null,null,null,null,null,null,null,null,null,null,null,null,null,null,null,null,null,null,{"$f":"IF(CW277>$DD$1,36,CW277)","v":16},16,{"$f":"CZ273-CY273","v":0}]
[null,null,null,null,null,null,null,null,"Course"]
[null,null,null,null,null,null,null,null,"Ad Gr"]
[null,null,null,null,null,null,null,null,"SD",18,{"$f":"IF(K275=\"\",0,(K275-INDIRECT(CONCATENATE(K274,\"CR\")))*113/INDIRECT(CONCATENATE(K274,\"SR\")))","v":0},{"$f":"IF(L275=\"\",0,(L275-INDIRECT(CONCATENATE(L274,\"CR\")))*113/INDIRECT(CONCATENATE(L274,\"SR\")))","v":0},0,0,0,0,0,0,0,0,0,0,0,0,0,0,0,0,0,0,0,0,0,0,0,0,0,0,0,0,0,0,0,0,0,0,0,0,0,0,0,0,0,0,0,0,0,0,0,0,0,0,0,0,0,0,0,0,0,0,0,0,0,0,0,{"$f":"IF(BX275=\"\",0,(BX275-INDIRECT(CONCATENATE(BX274,\"CR\")))*113/INDIRECT(CONCATENATE(BX274,\"SR\")))","v":0},0,0,0,0,0,0,0,0,0,0,0,0,0,0,{"$f":"IF(CM275=\"\",0,(CM275-INDIRECT(CONCATENATE(CM274,\"CR\")))*113/INDIRECT(CONCATENATE(CM274,\"SR\")))","v":0},0,{"$f":"IF(CO275=\"\",0,(CO275-INDIRECT(CONCATENATE(CO274,\"CR\")))*113/INDIRECT(CONCATENATE(CO274,\"SR\")))","v":0},0,{"$f":"IF(CQ275=\"\",0,(CQ275-INDIRECT(CONCATENATE(CQ274,\"CR\")))*113/INDIRECT(CONCATENATE(CQ274,\"SR\")))","v":0},0,{"$f":"IF(CS275=\"\",0,(CS275-INDIRECT(CONCATENATE(CS274,\"CR\")))*113/INDIRECT(CONCATENATE(CS274,\"SR\")))","v":0},0,{"$f":"IF(CU275=\"\",0,(CU275-INDIRECT(CONCATENATE(CU274,\"CR\")))*113/INDIRECT(CONCATENATE(CU274,\"SR\")))","v":0},0,{"$f":"IF(CW275=\"\",0,(CW275-INDIRECT(CONCATENATE(CW274,\"CR\")))*113/INDIRECT(CONCATENATE(CW274,\"SR\")))","v":0}]
[null,null,null,null,null,null,null,null,"New Hcap",{"$f":"J276-2","v":16},{"$f":"IF(K276>0,MIN(J276:K276)-2,J277)","v":16},{"$f":"IF(L276>0,MIN(J276:L276)-2,K277)","v":16},{"$f":"IF(M276>0,MIN(J276:M276)-1,L277)","v":16},{"$f":"IF(N276>0,MIN(J276:N276),M277)","v":16},{"$f":"IF(O276>0,AVERAGE(SMALL(IF(J276:O276>0,J276:O276),{1,2}))-1,N277)","v":16},{"$f":"IF(P276>0,AVERAGE(SMALL(IF(J276:P276>0,J276:P276),{1,2})),O277)","v":16},{"$f":"IF(Q276>0,AVERAGE(SMALL(IF(J276:Q276>0,J276:Q276),{1,2})),P277)","v":16},{"$f":"IF(R276>0,AVERAGE(SMALL(IF(J276:R276>0,J276:R276),{1,2,3})),Q277)","v":16},{"$f":"IF(S276>0,AVERAGE(SMALL(IF(J276:S276>0,J276:S276),{1,2,3})),R277)","v":16},{"$f":"IF(T276>0,AVERAGE(SMALL(IF(J276:T276>0,J276:T276),{1,2,3})),S277)","v":16},{"$f":"IF(U276>0,AVERAGE(SMALL(IF(J276:U276>0,J276:U276),{1,2,3,4})),T277)","v":16},{"$f":"IF(V276>0,AVERAGE(SMALL(IF(J276:V276>0,J276:V276),{1,2,3,4})),U277)","v":16},{"$f":"IF(W276>0,AVERAGE(SMALL(IF(J276:W276>0,J276:W276),{1,2,3,4})),V277)","v":16},{"$f":"IF(X276>0,AVERAGE(SMALL(IF(J276:X276>0,J276:X276),{1,2,3,4,5})),W277)","v":16},{"$f":"IF(Y276>0,AVERAGE(SMALL(IF(J276:Y276>0,J276:Y276),{1,2,3,4,5})),X277)","v":16},{"$f":"IF(Z276>0,AVERAGE(SMALL(IF(J276:Z276>0,J276:Z276),{1,2,3,4,5,6})),Y277)","v":16},{"$f":"IF(AA276>0,AVERAGE(SMALL(IF(J276:AA276>0,J276:AA276),{1,2,3,4,5,6})),Z277)","v":16},{"$f":"IF(AB276>0,AVERAGE(SMALL(IF(J276:AB276>0,J276:AB276),{1,2,3,4,5,6,7})),AA277)","v":16},{"$f":"IF(AC276>0,AVERAGE(SMALL(IF(J276:AC276>0,J276:AC276),{1,2,3,4,5,6,7,8})),AB277)","v":16},{"$f":"IF(AD276>0,AVERAGE(SMALL(IF(K276:AD276>0,K276:AD276),{1,2,3,4,5,6,7,8})),AC277)","v":16},{"$f":"IF(AE276>0,AVERAGE(SMALL(IF(L276:AE276>0,L276:AE276),{1,2,3,4,5,6,7,8})),AD277)","v":16},{"$f":"IF(AF276>0,AVERAGE(SMALL(IF(M276:AF276>0,M276:AF276),{1,2,3,4,5,6,7,8})),AE277)","v":16},{"$f":"IF(AG276>0,AVERAGE(SMALL(IF(N276:AG276>0,N276:AG276),{1,2,3,4,5,6,7,8})),AF277)","v":16},{"$f":"IF(AH276>0,AVERAGE(SMALL(IF(O276:AH276>0,O276:AH276),{1,2,3,4,5,6,7,8})),AG277)","v":16},{"$f":"IF(AI276>0,AVERAGE(SMALL(IF(P276:AI276>0,P276:AI276),{1,2,3,4,5,6,7,8})),AH277)","v":16},{"$f":"IF(AJ276>0,AVERAGE(SMALL(IF(Q276:AJ276>0,Q276:AJ276),{1,2,3,4,5,6,7,8})),AI277)","v":16},{"$f":"IF(AK276>0,AVERAGE(SMALL(IF(R276:AK276>0,R276:AK276),{1,2,3,4,5,6,7,8})),AJ277)","v":16},{"$f":"IF(AL276>0,AVERAGE(SMALL(IF(S276:AL276>0,S276:AL276),{1,2,3,4,5,6,7,8})),AK277)","v":16},{"$f":"IF(AM276>0,AVERAGE(SMALL(IF(T276:AM276>0,T276:AM276),{1,2,3,4,5,6,7,8})),AL277)","v":16},{"$f":"IF(AN276>0,AVERAGE(SMALL(IF(U276:AN276>0,U276:AN276),{1,2,3,4,5,6,7,8})),AM277)","v":16},{"$f":"IF(AO276>0,AVERAGE(SMALL(IF(V276:AO276>0,V276:AO276),{1,2,3,4,5,6,7,8})),AN277)","v":16},{"$f":"IF(AP276>0,AVERAGE(SMALL(IF(W276:AP276>0,W276:AP276),{1,2,3,4,5,6,7,8})),AO277)","v":16},{"$f":"IF(AQ276>0,AVERAGE(SMALL(IF(X276:AQ276>0,X276:AQ276),{1,2,3,4,5,6,7,8})),AP277)","v":16},{"$f":"IF(AR276>0,AVERAGE(SMALL(IF(Y276:AR276>0,Y276:AR276),{1,2,3,4,5,6,7,8})),AQ277)","v":16},{"$f":"IF(AS276>0,AVERAGE(SMALL(IF(Z276:AS276>0,Z276:AS276),{1,2,3,4,5,6,7,8})),AR277)","v":16},{"$f":"IF(AT276>0,AVERAGE(SMALL(IF(AA276:AT276>0,AA276:AT276),{1,2,3,4,5,6,7,8})),AS277)","v":16},{"$f":"IF(AU276>0,AVERAGE(SMALL(IF(AB276:AU276>0,AB276:AU276),{1,2,3,4,5,6,7,8})),AT277)","v":16},{"$f":"IF(AV276>0,AVERAGE(SMALL(IF(AC276:AV276>0,AC276:AV276),{1,2,3,4,5,6,7,8})),AU277)","v":16},{"$f":"IF(AW276>0,AVERAGE(SMALL(IF(AD276:AW276>0,AD276:AW276),{1,2,3,4,5,6,7,8})),AV277)","v":16},{"$f":"IF(AX276>0,AVERAGE(SMALL(IF(AE276:AX276>0,AE276:AX276),{1,2,3,4,5,6,7,8})),AW277)","v":16},{"$f":"IF(AY276>0,AVERAGE(SMALL(IF(AF276:AY276>0,AF276:AY276),{1,2,3,4,5,6,7,8})),AX277)","v":16},{"$f":"IF(AZ276>0,AVERAGE(SMALL(IF(AG276:AZ276>0,AG276:AZ276),{1,2,3,4,5,6,7,8})),AY277)","v":16},{"$f":"IF(BA276>0,AVERAGE(SMALL(IF(AH276:BA276>0,AH276:BA276),{1,2,3,4,5,6,7,8})),AZ277)","v":16},{"$f":"IF(BB276>0,AVERAGE(SMALL(IF(AI276:BB276>0,AI276:BB276),{1,2,3,4,5,6,7,8})),BA277)","v":16},{"$f":"IF(BC276>0,AVERAGE(SMALL(IF(AJ276:BC276>0,AJ276:BC276),{1,2,3,4,5,6,7,8})),BB277)","v":16},{"$f":"IF(BD276>0,AVERAGE(SMALL(IF(AK276:BD276>0,AK276:BD276),{1,2,3,4,5,6,7,8})),BC277)","v":16},{"$f":"IF(BE276>0,AVERAGE(SMALL(IF(AL276:BE276>0,AL276:BE276),{1,2,3,4,5,6,7,8})),BD277)","v":16},{"$f":"IF(BF276>0,AVERAGE(SMALL(IF(AM276:BF276>0,AM276:BF276),{1,2,3,4,5,6,7,8})),BE277)","v":16},{"$f":"IF(BG276>0,AVERAGE(SMALL(IF(AN276:BG276>0,AN276:BG276),{1,2,3,4,5,6,7,8})),BF277)","v":16},{"$f":"IF(BH276>0,AVERAGE(SMALL(IF(AO276:BH276>0,AO276:BH276),{1,2,3,4,5,6,7,8})),BG277)","v":16},{"$f":"IF(BI276>0,AVERAGE(SMALL(IF(AP276:BI276>0,AP276:BI276),{1,2,3,4,5,6,7,8})),BH277)","v":16},{"$f":"IF(BJ276>0,AVERAGE(SMALL(IF(AQ276:BJ276>0,AQ276:BJ276),{1,2,3,4,5,6,7,8})),BI277)","v":16},{"$f":"IF(BK276>0,AVERAGE(SMALL(IF(AR276:BK276>0,AR276:BK276),{1,2,3,4,5,6,7,8})),BJ277)","v":16},{"$f":"IF(BL276>0,AVERAGE(SMALL(IF(AS276:BL276>0,AS276:BL276),{1,2,3,4,5,6,7,8})),BK277)","v":16},{"$f":"IF(BM276>0,AVERAGE(SMALL(IF(AT276:BM276>0,AT276:BM276),{1,2,3,4,5,6,7,8})),BL277)","v":16},{"$f":"IF(BN276>0,AVERAGE(SMALL(IF(AU276:BN276>0,AU276:BN276),{1,2,3,4,5,6,7,8})),BM277)","v":16},{"$f":"IF(BO276>0,AVERAGE(SMALL(IF(AV276:BO276>0,AV276:BO276),{1,2,3,4,5,6,7,8})),BN277)","v":16},{"$f":"IF(BP276>0,AVERAGE(SMALL(IF(AW276:BP276>0,AW276:BP276),{1,2,3,4,5,6,7,8})),BO277)","v":16},{"$f":"IF(BQ276>0,AVERAGE(SMALL(IF(AX276:BQ276>0,AX276:BQ276),{1,2,3,4,5,6,7,8})),BP277)","v":16},{"$f":"IF(BR276>0,AVERAGE(SMALL(IF(AY276:BR276>0,AY276:BR276),{1,2,3,4,5,6,7,8})),BQ277)","v":16},{"$f":"IF(BS276>0,AVERAGE(SMALL(IF(AZ276:BS276>0,AZ276:BS276),{1,2,3,4,5,6,7,8})),BR277)","v":16},{"$f":"IF(BT276>0,AVERAGE(SMALL(IF(BA276:BT276>0,BA276:BT276),{1,2,3,4,5,6,7,8})),BS277)","v":16},{"$f":"IF(BU276>0,AVERAGE(SMALL(IF(BB276:BU276>0,BB276:BU276),{1,2,3,4,5,6,7,8})),BT277)","v":16},{"$f":"IF(BV276>0,AVERAGE(SMALL(IF(BC276:BV276>0,BC276:BV276),{1,2,3,4,5,6,7,8})),BU277)","v":16},{"$f":"IF(BW276>0,AVERAGE(SMALL(IF(BD276:BW276>0,BD276:BW276),{1,2,3,4,5,6,7,8})),BV277)","v":16},{"$f":"IF(BX276>0,AVERAGE(SMALL(IF(BE276:BX276>0,BE276:BX276),{1,2,3,4,5,6,7,8})),BW277)","v":16},{"$f":"IF(BY276>0,AVERAGE(SMALL(IF(BF276:BY276>0,BF276:BY276),{1,2,3,4,5,6,7,8})),BX277)","v":16},{"$f":"IF(BZ276>0,AVERAGE(SMALL(IF(BG276:BZ276>0,BG276:BZ276),{1,2,3,4,5,6,7,8})),BY277)","v":16},{"$f":"IF(CA276>0,AVERAGE(SMALL(IF(BH276:CA276>0,BH276:CA276),{1,2,3,4,5,6,7,8})),BZ277)","v":16},{"$f":"IF(CB276>0,AVERAGE(SMALL(IF(BI276:CB276>0,BI276:CB276),{1,2,3,4,5,6,7,8})),CA277)","v":16},{"$f":"IF(CC276>0,AVERAGE(SMALL(IF(BJ276:CC276>0,BJ276:CC276),{1,2,3,4,5,6,7,8})),CB277)","v":16},{"$f":"IF(CD276>0,AVERAGE(SMALL(IF(BK276:CD276>0,BK276:CD276),{1,2,3,4,5,6,7,8})),CC277)","v":16},{"$f":"IF(CE276>0,AVERAGE(SMALL(IF(BL276:CE276>0,BL276:CE276),{1,2,3,4,5,6,7,8})),CD277)","v":16},{"$f":"IF(CF276>0,AVERAGE(SMALL(IF(BM276:CF276>0,BM276:CF276),{1,2,3,4,5,6,7,8})),CE277)","v":16},{"$f":"IF(CG276>0,AVERAGE(SMALL(IF(BN276:CG276>0,BN276:CG276),{1,2,3,4,5,6,7,8})),CF277)","v":16},{"$f":"IF(CH276>0,AVERAGE(SMALL(IF(BO276:CH276>0,BO276:CH276),{1,2,3,4,5,6,7,8})),CG277)","v":16},{"$f":"IF(CI276>0,AVERAGE(SMALL(IF(BP276:CI276>0,BP276:CI276),{1,2,3,4,5,6,7,8})),CH277)","v":16},{"$f":"IF(CJ276>0,AVERAGE(SMALL(IF(BQ276:CJ276>0,BQ276:CJ276),{1,2,3,4,5,6,7,8})),CI277)","v":16},{"$f":"IF(CK276>0,AVERAGE(SMALL(IF(BR276:CK276>0,BR276:CK276),{1,2,3,4,5,6,7,8})),CJ277)","v":16},{"$f":"IF(CL276>0,AVERAGE(SMALL(IF(BS276:CL276>0,BS276:CL276),{1,2,3,4,5,6,7,8})),CK277)","v":16},{"$f":"IF(CM276>0,AVERAGE(SMALL(IF(BT276:CM276>0,BT276:CM276),{1,2,3,4,5,6,7,8})),CL277)","v":16},{"$f":"IF(CN276>0,AVERAGE(SMALL(IF(BU276:CN276>0,BU276:CN276),{1,2,3,4,5,6,7,8})),CM277)","v":16},{"$f":"IF(CO276>0,AVERAGE(SMALL(IF(BV276:CO276>0,BV276:CO276),{1,2,3,4,5,6,7,8})),CN277)","v":16},{"$f":"IF(CP276>0,AVERAGE(SMALL(IF(BW276:CP276>0,BW276:CP276),{1,2,3,4,5,6,7,8})),CO277)","v":16},{"$f":"IF(CQ276>0,AVERAGE(SMALL(IF(BX276:CQ276>0,BX276:CQ276),{1,2,3,4,5,6,7,8})),CP277)","v":16},{"$f":"IF(CR276>0,AVERAGE(SMALL(IF(BY276:CR276>0,BY276:CR276),{1,2,3,4,5,6,7,8})),CQ277)","v":16},{"$f":"IF(CS276>0,AVERAGE(SMALL(IF(BZ276:CS276>0,BZ276:CS276),{1,2,3,4,5,6,7,8})),CR277)","v":16},{"$f":"IF(CT276>0,AVERAGE(SMALL(IF(CA276:CT276>0,CA276:CT276),{1,2,3,4,5,6,7,8})),CS277)","v":16},{"$f":"IF(CU276>0,AVERAGE(SMALL(IF(CB276:CU276>0,CB276:CU276),{1,2,3,4,5,6,7,8})),CT277)","v":16},{"$f":"IF(CV276>0,AVERAGE(SMALL(IF(CC276:CV276>0,CC276:CV276),{1,2,3,4,5,6,7,8})),CU277)","v":16},{"$f":"IF(CW276>0,AVERAGE(SMALL(IF(CD276:CW276>0,CD276:CW276),{1,2,3,4,5,6,7,8})),CV277)","v":16}]
[null,null,null,null,null,null,null,null,"Low Hcap",null,null,null,null,null,null,null,null,null,null,null,null,null,null,null,null,null,null,null,{"$f":"MIN($J277:AC277)","v":16},{"$f":"MIN($J277:AD277)","v":16},{"$f":"MIN($J277:AE277)","v":16},{"$f":"MIN($J277:AF277)","v":16},{"$f":"MIN($J277:AG277)","v":16},{"$f":"MIN($J277:AH277)","v":16},{"$f":"MIN($J277:AI277)","v":16},{"$f":"MIN($J277:AJ277)","v":16},{"$f":"MIN($J277:AK277)","v":16},{"$f":"MIN($J277:AL277)","v":16},{"$f":"MIN($J277:AM277)","v":16},{"$f":"MIN($J277:AN277)","v":16},{"$f":"MIN($J277:AO277)","v":16},{"$f":"MIN($J277:AP277)","v":16},{"$f":"MIN($J277:AQ277)","v":16},{"$f":"MIN($J277:AR277)","v":16},{"$f":"MIN($J277:AS277)","v":16},{"$f":"MIN($J277:AT277)","v":16},{"$f":"MIN($J277:AU277)","v":16},{"$f":"MIN($J277:AV277)","v":16},{"$f":"MIN($J277:AW277)","v":16},{"$f":"MIN($J277:AX277)","v":16},{"$f":"MIN($J277:AY277)","v":16},{"$f":"MIN($J277:AZ277)","v":16},{"$f":"MIN($J277:BA277)","v":16},{"$f":"MIN($J277:BB277)","v":16},{"$f":"MIN($J277:BC277)","v":16},{"$f":"MIN($J277:BD277)","v":16},{"$f":"MIN($J277:BE277)","v":16},{"$f":"MIN($J277:BF277)","v":16},{"$f":"MIN($J277:BG277)","v":16},{"$f":"MIN($J277:BH277)","v":16},{"$f":"MIN($J277:BI277)","v":16},{"$f":"MIN($J277:BJ277)","v":16},{"$f":"MIN($J277:BK277)","v":16},{"$f":"MIN($J277:BL277)","v":16},{"$f":"MIN($J277:BM277)","v":16},{"$f":"MIN($J277:BN277)","v":16},{"$f":"MIN($J277:BO277)","v":16},{"$f":"MIN($J277:BP277)","v":16},{"$f":"MIN($J277:BQ277)","v":16},{"$f":"MIN($J277:BR277)","v":16},{"$f":"MIN($J277:BS277)","v":16},{"$f":"MIN($J277:BT277)","v":16},{"$f":"MIN($J277:BU277)","v":16},{"$f":"MIN($J277:BV277)","v":16},{"$f":"MIN($J277:BW277)","v":16},{"$f":"MIN($J277:BX277)","v":16},{"$f":"MIN($J277:BY277)","v":16},{"$f":"MIN($J277:BZ277)","v":16},{"$f":"MIN($J277:CA277)","v":16},{"$f":"MIN($J277:CB277)","v":16},{"$f":"MIN($J277:CC277)","v":16},{"$f":"MIN($J277:CD277)","v":16},{"$f":"MIN($J277:CE277)","v":16},{"$f":"MIN($J277:CF277)","v":16},{"$f":"MIN($J277:CG277)","v":16},{"$f":"MIN($J277:CH277)","v":16},{"$f":"MIN($J277:CI277)","v":16},{"$f":"MIN($J277:CJ277)","v":16},{"$f":"MIN($J277:CK277)","v":16},{"$f":"MIN($J277:CL277)","v":16},{"$f":"MIN($J277:CM277)","v":16},{"$f":"MIN($J277:CN277)","v":16},{"$f":"MIN($J277:CO277)","v":16},{"$f":"MIN($J277:CP277)","v":16},{"$f":"MIN($J277:CQ277)","v":16},{"$f":"MIN($J277:CR277)","v":16},{"$f":"MIN($J277:CS277)","v":16},{"$f":"MIN($J277:CT277)","v":16},{"$f":"MIN($J277:CU277)","v":16},{"$f":"MIN($J277:CV277)","v":16},{"$f":"MIN($J277:CW277)","v":16}]
[null,"Howieson","Alasdair",31,null,{"$f":"IF(H279<4,\"Y\",)","v":"Y"},2023,{"$f":"COUNT(J279:CX279)","v":0},"Date",null,null,null,null,null,null,null,null,null,null,null,null,null,null,null,null,null,null,null,null,null,null,null,null,null,null,null,null,null,null,null,null,null,null,null,null,null,null,null,null,null,null,null,null,null,null,null,null,null,null,null,null,null,null,null,null,null,null,null,null,null,null,null,null,null,null,null,null,null,null,null,null,null,null,null,null,null,null,null,null,null,null,null,null,null,null,null,null,null,null,null,null,null,{"$f":"IF(CW283>$DD$1,36,CW283)","v":31},31,{"$f":"CZ279-CY279","v":0}]
[null,null,null,null,null,null,null,null,"Course"]
[null,null,null,null,null,null,null,null,"Ad Gr"]
[null,null,null,null,null,null,null,null,"SD",33,{"$f":"IF(K281=\"\",0,(K281-INDIRECT(CONCATENATE(K280,\"CR\")))*113/INDIRECT(CONCATENATE(K280,\"SR\")))","v":0},{"$f":"IF(L281=\"\",0,(L281-INDIRECT(CONCATENATE(L280,\"CR\")))*113/INDIRECT(CONCATENATE(L280,\"SR\")))","v":0},0,0,0,0,0,0,0,0,0,0,0,0,0,0,0,0,0,0,0,0,0,0,0,0,0,0,0,0,0,0,0,0,0,0,0,0,0,0,0,0,0,0,0,0,0,0,0,0,0,0,0,0,0,0,0,0,0,0,0,0,0,0,0,{"$f":"IF(BX281=\"\",0,(BX281-INDIRECT(CONCATENATE(BX280,\"CR\")))*113/INDIRECT(CONCATENATE(BX280,\"SR\")))","v":0},0,0,0,0,0,0,0,0,0,0,0,0,0,0,0,0,0,0,0,0,0,0,0,0,0]
[null,null,null,null,null,null,null,null,"New Hcap",{"$f":"J282-2","v":31},{"$f":"IF(K282>0,MIN(J282:K282)-2,J283)","v":31},{"$f":"IF(L282>0,MIN(J282:L282)-2,K283)","v":31},{"$f":"IF(M282>0,MIN(J282:M282)-1,L283)","v":31},{"$f":"IF(N282>0,MIN(J282:N282),M283)","v":31},{"$f":"IF(O282>0,AVERAGE(SMALL(IF(J282:O282>0,J282:O282),{1,2}))-1,N283)","v":31},{"$f":"IF(P282>0,AVERAGE(SMALL(IF(J282:P282>0,J282:P282),{1,2})),O283)","v":31},{"$f":"IF(Q282>0,AVERAGE(SMALL(IF(J282:Q282>0,J282:Q282),{1,2})),P283)","v":31},{"$f":"IF(R282>0,AVERAGE(SMALL(IF(J282:R282>0,J282:R282),{1,2,3})),Q283)","v":31},{"$f":"IF(S282>0,AVERAGE(SMALL(IF(J282:S282>0,J282:S282),{1,2,3})),R283)","v":31},{"$f":"IF(T282>0,AVERAGE(SMALL(IF(J282:T282>0,J282:T282),{1,2,3})),S283)","v":31},{"$f":"IF(U282>0,AVERAGE(SMALL(IF(J282:U282>0,J282:U282),{1,2,3,4})),T283)","v":31},{"$f":"IF(V282>0,AVERAGE(SMALL(IF(J282:V282>0,J282:V282),{1,2,3,4})),U283)","v":31},{"$f":"IF(W282>0,AVERAGE(SMALL(IF(J282:W282>0,J282:W282),{1,2,3,4})),V283)","v":31},{"$f":"IF(X282>0,AVERAGE(SMALL(IF(J282:X282>0,J282:X282),{1,2,3,4,5})),W283)","v":31},{"$f":"IF(Y282>0,AVERAGE(SMALL(IF(J282:Y282>0,J282:Y282),{1,2,3,4,5})),X283)","v":31},{"$f":"IF(Z282>0,AVERAGE(SMALL(IF(J282:Z282>0,J282:Z282),{1,2,3,4,5,6})),Y283)","v":31},{"$f":"IF(AA282>0,AVERAGE(SMALL(IF(J282:AA282>0,J282:AA282),{1,2,3,4,5,6})),Z283)","v":31},{"$f":"IF(AB282>0,AVERAGE(SMALL(IF(J282:AB282>0,J282:AB282),{1,2,3,4,5,6,7})),AA283)","v":31},{"$f":"IF(AC282>0,AVERAGE(SMALL(IF(J282:AC282>0,J282:AC282),{1,2,3,4,5,6,7,8})),AB283)","v":31},{"$f":"IF(AD282>0,AVERAGE(SMALL(IF(K282:AD282>0,K282:AD282),{1,2,3,4,5,6,7,8})),AC283)","v":31},{"$f":"IF(AE282>0,AVERAGE(SMALL(IF(L282:AE282>0,L282:AE282),{1,2,3,4,5,6,7,8})),AD283)","v":31},{"$f":"IF(AF282>0,AVERAGE(SMALL(IF(M282:AF282>0,M282:AF282),{1,2,3,4,5,6,7,8})),AE283)","v":31},{"$f":"IF(AG282>0,AVERAGE(SMALL(IF(N282:AG282>0,N282:AG282),{1,2,3,4,5,6,7,8})),AF283)","v":31},{"$f":"IF(AH282>0,AVERAGE(SMALL(IF(O282:AH282>0,O282:AH282),{1,2,3,4,5,6,7,8})),AG283)","v":31},{"$f":"IF(AI282>0,AVERAGE(SMALL(IF(P282:AI282>0,P282:AI282),{1,2,3,4,5,6,7,8})),AH283)","v":31},{"$f":"IF(AJ282>0,AVERAGE(SMALL(IF(Q282:AJ282>0,Q282:AJ282),{1,2,3,4,5,6,7,8})),AI283)","v":31},{"$f":"IF(AK282>0,AVERAGE(SMALL(IF(R282:AK282>0,R282:AK282),{1,2,3,4,5,6,7,8})),AJ283)","v":31},{"$f":"IF(AL282>0,AVERAGE(SMALL(IF(S282:AL282>0,S282:AL282),{1,2,3,4,5,6,7,8})),AK283)","v":31},{"$f":"IF(AM282>0,AVERAGE(SMALL(IF(T282:AM282>0,T282:AM282),{1,2,3,4,5,6,7,8})),AL283)","v":31},{"$f":"IF(AN282>0,AVERAGE(SMALL(IF(U282:AN282>0,U282:AN282),{1,2,3,4,5,6,7,8})),AM283)","v":31},{"$f":"IF(AO282>0,AVERAGE(SMALL(IF(V282:AO282>0,V282:AO282),{1,2,3,4,5,6,7,8})),AN283)","v":31},{"$f":"IF(AP282>0,AVERAGE(SMALL(IF(W282:AP282>0,W282:AP282),{1,2,3,4,5,6,7,8})),AO283)","v":31},{"$f":"IF(AQ282>0,AVERAGE(SMALL(IF(X282:AQ282>0,X282:AQ282),{1,2,3,4,5,6,7,8})),AP283)","v":31},{"$f":"IF(AR282>0,AVERAGE(SMALL(IF(Y282:AR282>0,Y282:AR282),{1,2,3,4,5,6,7,8})),AQ283)","v":31},{"$f":"IF(AS282>0,AVERAGE(SMALL(IF(Z282:AS282>0,Z282:AS282),{1,2,3,4,5,6,7,8})),AR283)","v":31},{"$f":"IF(AT282>0,AVERAGE(SMALL(IF(AA282:AT282>0,AA282:AT282),{1,2,3,4,5,6,7,8})),AS283)","v":31},{"$f":"IF(AU282>0,AVERAGE(SMALL(IF(AB282:AU282>0,AB282:AU282),{1,2,3,4,5,6,7,8})),AT283)","v":31},{"$f":"IF(AV282>0,AVERAGE(SMALL(IF(AC282:AV282>0,AC282:AV282),{1,2,3,4,5,6,7,8})),AU283)","v":31},{"$f":"IF(AW282>0,AVERAGE(SMALL(IF(AD282:AW282>0,AD282:AW282),{1,2,3,4,5,6,7,8})),AV283)","v":31},{"$f":"IF(AX282>0,AVERAGE(SMALL(IF(AE282:AX282>0,AE282:AX282),{1,2,3,4,5,6,7,8})),AW283)","v":31},{"$f":"IF(AY282>0,AVERAGE(SMALL(IF(AF282:AY282>0,AF282:AY282),{1,2,3,4,5,6,7,8})),AX283)","v":31},{"$f":"IF(AZ282>0,AVERAGE(SMALL(IF(AG282:AZ282>0,AG282:AZ282),{1,2,3,4,5,6,7,8})),AY283)","v":31},{"$f":"IF(BA282>0,AVERAGE(SMALL(IF(AH282:BA282>0,AH282:BA282),{1,2,3,4,5,6,7,8})),AZ283)","v":31},{"$f":"IF(BB282>0,AVERAGE(SMALL(IF(AI282:BB282>0,AI282:BB282),{1,2,3,4,5,6,7,8})),BA283)","v":31},{"$f":"IF(BC282>0,AVERAGE(SMALL(IF(AJ282:BC282>0,AJ282:BC282),{1,2,3,4,5,6,7,8})),BB283)","v":31},{"$f":"IF(BD282>0,AVERAGE(SMALL(IF(AK282:BD282>0,AK282:BD282),{1,2,3,4,5,6,7,8})),BC283)","v":31},{"$f":"IF(BE282>0,AVERAGE(SMALL(IF(AL282:BE282>0,AL282:BE282),{1,2,3,4,5,6,7,8})),BD283)","v":31},{"$f":"IF(BF282>0,AVERAGE(SMALL(IF(AM282:BF282>0,AM282:BF282),{1,2,3,4,5,6,7,8})),BE283)","v":31},{"$f":"IF(BG282>0,AVERAGE(SMALL(IF(AN282:BG282>0,AN282:BG282),{1,2,3,4,5,6,7,8})),BF283)","v":31},{"$f":"IF(BH282>0,AVERAGE(SMALL(IF(AO282:BH282>0,AO282:BH282),{1,2,3,4,5,6,7,8})),BG283)","v":31},{"$f":"IF(BI282>0,AVERAGE(SMALL(IF(AP282:BI282>0,AP282:BI282),{1,2,3,4,5,6,7,8})),BH283)","v":31},{"$f":"IF(BJ282>0,AVERAGE(SMALL(IF(AQ282:BJ282>0,AQ282:BJ282),{1,2,3,4,5,6,7,8})),BI283)","v":31},{"$f":"IF(BK282>0,AVERAGE(SMALL(IF(AR282:BK282>0,AR282:BK282),{1,2,3,4,5,6,7,8})),BJ283)","v":31},{"$f":"IF(BL282>0,AVERAGE(SMALL(IF(AS282:BL282>0,AS282:BL282),{1,2,3,4,5,6,7,8})),BK283)","v":31},{"$f":"IF(BM282>0,AVERAGE(SMALL(IF(AT282:BM282>0,AT282:BM282),{1,2,3,4,5,6,7,8})),BL283)","v":31},{"$f":"IF(BN282>0,AVERAGE(SMALL(IF(AU282:BN282>0,AU282:BN282),{1,2,3,4,5,6,7,8})),BM283)","v":31},{"$f":"IF(BO282>0,AVERAGE(SMALL(IF(AV282:BO282>0,AV282:BO282),{1,2,3,4,5,6,7,8})),BN283)","v":31},{"$f":"IF(BP282>0,AVERAGE(SMALL(IF(AW282:BP282>0,AW282:BP282),{1,2,3,4,5,6,7,8})),BO283)","v":31},{"$f":"IF(BQ282>0,AVERAGE(SMALL(IF(AX282:BQ282>0,AX282:BQ282),{1,2,3,4,5,6,7,8})),BP283)","v":31},{"$f":"IF(BR282>0,AVERAGE(SMALL(IF(AY282:BR282>0,AY282:BR282),{1,2,3,4,5,6,7,8})),BQ283)","v":31},{"$f":"IF(BS282>0,AVERAGE(SMALL(IF(AZ282:BS282>0,AZ282:BS282),{1,2,3,4,5,6,7,8})),BR283)","v":31},{"$f":"IF(BT282>0,AVERAGE(SMALL(IF(BA282:BT282>0,BA282:BT282),{1,2,3,4,5,6,7,8})),BS283)","v":31},{"$f":"IF(BU282>0,AVERAGE(SMALL(IF(BB282:BU282>0,BB282:BU282),{1,2,3,4,5,6,7,8})),BT283)","v":31},{"$f":"IF(BV282>0,AVERAGE(SMALL(IF(BC282:BV282>0,BC282:BV282),{1,2,3,4,5,6,7,8})),BU283)","v":31},{"$f":"IF(BW282>0,AVERAGE(SMALL(IF(BD282:BW282>0,BD282:BW282),{1,2,3,4,5,6,7,8})),BV283)","v":31},{"$f":"IF(BX282>0,AVERAGE(SMALL(IF(BE282:BX282>0,BE282:BX282),{1,2,3,4,5,6,7,8})),BW283)","v":31},{"$f":"IF(BY282>0,AVERAGE(SMALL(IF(BF282:BY282>0,BF282:BY282),{1,2,3,4,5,6,7,8})),BX283)","v":31},{"$f":"IF(BZ282>0,AVERAGE(SMALL(IF(BG282:BZ282>0,BG282:BZ282),{1,2,3,4,5,6,7,8})),BY283)","v":31},{"$f":"IF(CA282>0,AVERAGE(SMALL(IF(BH282:CA282>0,BH282:CA282),{1,2,3,4,5,6,7,8})),BZ283)","v":31},{"$f":"IF(CB282>0,AVERAGE(SMALL(IF(BI282:CB282>0,BI282:CB282),{1,2,3,4,5,6,7,8})),CA283)","v":31},{"$f":"IF(CC282>0,AVERAGE(SMALL(IF(BJ282:CC282>0,BJ282:CC282),{1,2,3,4,5,6,7,8})),CB283)","v":31},{"$f":"IF(CD282>0,AVERAGE(SMALL(IF(BK282:CD282>0,BK282:CD282),{1,2,3,4,5,6,7,8})),CC283)","v":31},{"$f":"IF(CE282>0,AVERAGE(SMALL(IF(BL282:CE282>0,BL282:CE282),{1,2,3,4,5,6,7,8})),CD283)","v":31},{"$f":"IF(CF282>0,AVERAGE(SMALL(IF(BM282:CF282>0,BM282:CF282),{1,2,3,4,5,6,7,8})),CE283)","v":31},{"$f":"IF(CG282>0,AVERAGE(SMALL(IF(BN282:CG282>0,BN282:CG282),{1,2,3,4,5,6,7,8})),CF283)","v":31},{"$f":"IF(CH282>0,AVERAGE(SMALL(IF(BO282:CH282>0,BO282:CH282),{1,2,3,4,5,6,7,8})),CG283)","v":31},{"$f":"IF(CI282>0,AVERAGE(SMALL(IF(BP282:CI282>0,BP282:CI282),{1,2,3,4,5,6,7,8})),CH283)","v":31},{"$f":"IF(CJ282>0,AVERAGE(SMALL(IF(BQ282:CJ282>0,BQ282:CJ282),{1,2,3,4,5,6,7,8})),CI283)","v":31},{"$f":"IF(CK282>0,AVERAGE(SMALL(IF(BR282:CK282>0,BR282:CK282),{1,2,3,4,5,6,7,8})),CJ283)","v":31},{"$f":"IF(CL282>0,AVERAGE(SMALL(IF(BS282:CL282>0,BS282:CL282),{1,2,3,4,5,6,7,8})),CK283)","v":31},{"$f":"IF(CM282>0,AVERAGE(SMALL(IF(BT282:CM282>0,BT282:CM282),{1,2,3,4,5,6,7,8})),CL283)","v":31},{"$f":"IF(CN282>0,AVERAGE(SMALL(IF(BU282:CN282>0,BU282:CN282),{1,2,3,4,5,6,7,8})),CM283)","v":31},{"$f":"IF(CO282>0,AVERAGE(SMALL(IF(BV282:CO282>0,BV282:CO282),{1,2,3,4,5,6,7,8})),CN283)","v":31},{"$f":"IF(CP282>0,AVERAGE(SMALL(IF(BW282:CP282>0,BW282:CP282),{1,2,3,4,5,6,7,8})),CO283)","v":31},{"$f":"IF(CQ282>0,AVERAGE(SMALL(IF(BX282:CQ282>0,BX282:CQ282),{1,2,3,4,5,6,7,8})),CP283)","v":31},{"$f":"IF(CR282>0,AVERAGE(SMALL(IF(BY282:CR282>0,BY282:CR282),{1,2,3,4,5,6,7,8})),CQ283)","v":31},{"$f":"IF(CS282>0,AVERAGE(SMALL(IF(BZ282:CS282>0,BZ282:CS282),{1,2,3,4,5,6,7,8})),CR283)","v":31},{"$f":"IF(CT282>0,AVERAGE(SMALL(IF(CA282:CT282>0,CA282:CT282),{1,2,3,4,5,6,7,8})),CS283)","v":31},{"$f":"IF(CU282>0,AVERAGE(SMALL(IF(CB282:CU282>0,CB282:CU282),{1,2,3,4,5,6,7,8})),CT283)","v":31},{"$f":"IF(CV282>0,AVERAGE(SMALL(IF(CC282:CV282>0,CC282:CV282),{1,2,3,4,5,6,7,8})),CU283)","v":31},{"$f":"IF(CW282>0,AVERAGE(SMALL(IF(CD282:CW282>0,CD282:CW282),{1,2,3,4,5,6,7,8})),CV283)","v":31}]
[null,null,null,null,null,null,null,null,"Low Hcap",null,null,null,null,null,null,null,null,null,null,null,null,null,null,null,null,null,null,null,{"$f":"MIN($J283:AC283)","v":31},{"$f":"MIN($J283:AD283)","v":31},{"$f":"MIN($J283:AE283)","v":31},{"$f":"MIN($J283:AF283)","v":31},{"$f":"MIN($J283:AG283)","v":31},{"$f":"MIN($J283:AH283)","v":31},{"$f":"MIN($J283:AI283)","v":31},{"$f":"MIN($J283:AJ283)","v":31},{"$f":"MIN($J283:AK283)","v":31},{"$f":"MIN($J283:AL283)","v":31},{"$f":"MIN($J283:AM283)","v":31},{"$f":"MIN($J283:AN283)","v":31},{"$f":"MIN($J283:AO283)","v":31},{"$f":"MIN($J283:AP283)","v":31},{"$f":"MIN($J283:AQ283)","v":31},{"$f":"MIN($J283:AR283)","v":31},{"$f":"MIN($J283:AS283)","v":31},{"$f":"MIN($J283:AT283)","v":31},{"$f":"MIN($J283:AU283)","v":31},{"$f":"MIN($J283:AV283)","v":31},{"$f":"MIN($J283:AW283)","v":31},{"$f":"MIN($J283:AX283)","v":31},{"$f":"MIN($J283:AY283)","v":31},{"$f":"MIN($J283:AZ283)","v":31},{"$f":"MIN($J283:BA283)","v":31},{"$f":"MIN($J283:BB283)","v":31},{"$f":"MIN($J283:BC283)","v":31},{"$f":"MIN($J283:BD283)","v":31},{"$f":"MIN($J283:BE283)","v":31},{"$f":"MIN($J283:BF283)","v":31},{"$f":"MIN($J283:BG283)","v":31},{"$f":"MIN($J283:BH283)","v":31},{"$f":"MIN($J283:BI283)","v":31},{"$f":"MIN($J283:BJ283)","v":31},{"$f":"MIN($J283:BK283)","v":31},{"$f":"MIN($J283:BL283)","v":31},{"$f":"MIN($J283:BM283)","v":31},{"$f":"MIN($J283:BN283)","v":31},{"$f":"MIN($J283:BO283)","v":31},{"$f":"MIN($J283:BP283)","v":31},{"$f":"MIN($J283:BQ283)","v":31},{"$f":"MIN($J283:BR283)","v":31},{"$f":"MIN($J283:BS283)","v":31},{"$f":"MIN($J283:BT283)","v":31},{"$f":"MIN($J283:BU283)","v":31},{"$f":"MIN($J283:BV283)","v":31},{"$f":"MIN($J283:BW283)","v":31},{"$f":"MIN($J283:BX283)","v":31},{"$f":"MIN($J283:BY283)","v":31},{"$f":"MIN($J283:BZ283)","v":31},{"$f":"MIN($J283:CA283)","v":31},{"$f":"MIN($J283:CB283)","v":31},{"$f":"MIN($J283:CC283)","v":31},{"$f":"MIN($J283:CD283)","v":31},{"$f":"MIN($J283:CE283)","v":31},{"$f":"MIN($J283:CF283)","v":31},{"$f":"MIN($J283:CG283)","v":31},{"$f":"MIN($J283:CH283)","v":31},{"$f":"MIN($J283:CI283)","v":31},{"$f":"MIN($J283:CJ283)","v":31},{"$f":"MIN($J283:CK283)","v":31},{"$f":"MIN($J283:CL283)","v":31},{"$f":"MIN($J283:CM283)","v":31},{"$f":"MIN($J283:CN283)","v":31},{"$f":"MIN($J283:CO283)","v":31},{"$f":"MIN($J283:CP283)","v":31},{"$f":"MIN($J283:CQ283)","v":31},{"$f":"MIN($J283:CR283)","v":31},{"$f":"MIN($J283:CS283)","v":31},{"$f":"MIN($J283:CT283)","v":31},{"$f":"MIN($J283:CU283)","v":31},{"$f":"MIN($J283:CV283)","v":31},{"$f":"MIN($J283:CW283)","v":31}]
[null,"Hunt","Ian",14.5,"Y",{"$f":"IF(H285<4,\"Y\",)","v":0},null,{"$f":"COUNT(J285:CX285)","v":18},"Date",null,"2020-05-20","2020-06-05","2020-06-19","2020-07-03","2020-08-14","2020-08-26","2020-10-09","2020-10-21","2020-11-06","2021-04-16","2021-04-30","2021-06-23","2021-07-02","2021-08-18","2022-04-20","2022-05-25","2023-05-10","2023-05-31",null,null,null,null,null,null,null,null,null,null,null,null,null,null,null,null,null,null,null,null,null,null,null,null,null,null,null,null,null,null,null,null,null,null,null,null,null,null,null,null,null,null,null,null,null,null,null,null,null,null,null,null,null,null,null,null,null,null,null,null,null,null,null,null,null,null,null,null,null,null,null,null,null,null,{"$f":"IF(CW289>$DD$1,36,CW289)","v":15.991715116944127},15.422268145340666,{"$f":"CZ285-CY285","v":-0.56944697160346003}]
[null,null,null,null,null,null,null,null,"Course",null,"GutThailingHG","ErdingHG","StEurachHG","TegernbachHG","EgmatingHG","GutThailingHG","TegernbachHG","GutThailingHG","TegernbachHG","TegernbachHG","TegernbachHG","GutThailingHG","TegernbachHG","GutThailingHG","GutThailing2022HG","GutThailing2022HG","AschheimHG","GutThailing2022HG"]
[null,null,null,null,null,null,null,null,"Ad Gr",null,105,96,95,103,92,93,97,95,84,100,98,87,99,92,96,91,97,104]
[null,null,null,null,null,null,null,null,"SD",14.5,{"$f":"IF(K287=\"\",0,(K287-INDIRECT(CONCATENATE(K286,\"CR\")))*113/INDIRECT(CONCATENATE(K286,\"SR\")))","v":29.759541984732824},{"$f":"IF(L287=\"\",0,(L287-INDIRECT(CONCATENATE(L286,\"CR\")))*113/INDIRECT(CONCATENATE(L286,\"SR\")))","v":21.73076923076923},19.925954198473278,26.794696969696968,16.993129770992368,19.408396946564885,21.658333333333331,21.133587786259543,10.529545454545453,24.226515151515148,22.514393939393937,14.232824427480915,23.370454545454542,18.545801526717558,22.078461538461543,17.7323076923077,22.000757575757579,29.032307692307697,0,0,0,0,0,0,0,0,0,0,0,0,0,0,0,0,0,0,0,0,0,0,0,0,0,0,0,0,0,0,0,0,0,0,0,0,0,0,0,0,0,0,0,0,0,0,0,{"$f":"IF(BX287=\"\",0,(BX287-INDIRECT(CONCATENATE(BX286,\"CR\")))*113/INDIRECT(CONCATENATE(BX286,\"SR\")))","v":0},0,0,0,0,0,0,0,0,0,0,0,0,0,0,{"$f":"IF(CM287=\"\",0,(CM287-INDIRECT(CONCATENATE(CM286,\"CR\")))*113/INDIRECT(CONCATENATE(CM286,\"SR\")))","v":0},0,{"$f":"IF(CO287=\"\",0,(CO287-INDIRECT(CONCATENATE(CO286,\"CR\")))*113/INDIRECT(CONCATENATE(CO286,\"SR\")))","v":0},0,{"$f":"IF(CQ287=\"\",0,(CQ287-INDIRECT(CONCATENATE(CQ286,\"CR\")))*113/INDIRECT(CONCATENATE(CQ286,\"SR\")))","v":0},0,{"$f":"IF(CS287=\"\",0,(CS287-INDIRECT(CONCATENATE(CS286,\"CR\")))*113/INDIRECT(CONCATENATE(CS286,\"SR\")))","v":0},0,{"$f":"IF(CU287=\"\",0,(CU287-INDIRECT(CONCATENATE(CU286,\"CR\")))*113/INDIRECT(CONCATENATE(CU286,\"SR\")))","v":0},0,{"$f":"IF(CW287=\"\",0,(CW287-INDIRECT(CONCATENATE(CW286,\"CR\")))*113/INDIRECT(CONCATENATE(CW286,\"SR\")))","v":0}]
[null,null,null,null,null,null,null,null,"New Hcap",{"$f":"J288-2","v":12.5},{"$f":"IF(K288>0,MIN(J288:K288)-2,J289)","v":12.5},{"$f":"IF(L288>0,MIN(J288:L288)-2,K289)","v":12.5},{"$f":"IF(M288>0,MIN(J288:M288)-1,L289)","v":13.5},{"$f":"IF(N288>0,MIN(J288:N288),M289)","v":14.5},{"$f":"IF(O288>0,AVERAGE(SMALL(IF(J288:O288>0,J288:O288),{1,2}))-1,N289)","v":14.746564885496184},{"$f":"IF(P288>0,AVERAGE(SMALL(IF(J288:P288>0,J288:P288),{1,2})),O289)","v":15.746564885496184},{"$f":"IF(Q288>0,AVERAGE(SMALL(IF(J288:Q288>0,J288:Q288),{1,2})),P289)","v":15.746564885496184},{"$f":"IF(R288>0,AVERAGE(SMALL(IF(J288:R288>0,J288:R288),{1,2,3})),Q289)","v":16.967175572519086},{"$f":"IF(S288>0,AVERAGE(SMALL(IF(J288:S288>0,J288:S288),{1,2,3})),R289)","v":14.007558408512608},{"$f":"IF(T288>0,AVERAGE(SMALL(IF(J288:T288>0,J288:T288),{1,2,3})),S289)","v":14.007558408512608},{"$f":"IF(U288>0,AVERAGE(SMALL(IF(J288:U288>0,J288:U288),{1,2,3,4})),T289)","v":15.357768043025677},{"$f":"IF(V288>0,AVERAGE(SMALL(IF(J288:V288>0,J288:V288),{1,2,3,4})),U289)","v":14.063874913254685},{"$f":"IF(W288>0,AVERAGE(SMALL(IF(J288:W288>0,J288:W288),{1,2,3,4})),V289)","v":14.063874913254685},{"$f":"IF(X288>0,AVERAGE(SMALL(IF(J288:X288>0,J288:X288),{1,2,3,4,5})),W289)","v":14.96026023594726},{"$f":"IF(Y288>0,AVERAGE(SMALL(IF(J288:Y288>0,J288:Y288),{1,2,3,4,5})),X289)","v":14.96026023594726},{"$f":"IF(Z288>0,AVERAGE(SMALL(IF(J288:Z288>0,J288:Z288),{1,2,3,4,5,6})),Y289)","v":15.422268145340666},{"$f":"IF(AA288>0,AVERAGE(SMALL(IF(J288:AA288>0,J288:AA288),{1,2,3,4,5,6})),Z289)","v":15.422268145340666},{"$f":"IF(AB288>0,AVERAGE(SMALL(IF(J288:AB288>0,J288:AB288),{1,2,3,4,5,6,7})),AA289)","v":15.991715116944127},{"$f":"IF(AC288>0,AVERAGE(SMALL(IF(J288:AC288>0,J288:AC288),{1,2,3,4,5,6,7,8})),AB289)","v":15.991715116944127},{"$f":"IF(AD288>0,AVERAGE(SMALL(IF(K288:AD288>0,K288:AD288),{1,2,3,4,5,6,7,8})),AC289)","v":15.991715116944127},{"$f":"IF(AE288>0,AVERAGE(SMALL(IF(L288:AE288>0,L288:AE288),{1,2,3,4,5,6,7,8})),AD289)","v":15.991715116944127},{"$f":"IF(AF288>0,AVERAGE(SMALL(IF(M288:AF288>0,M288:AF288),{1,2,3,4,5,6,7,8})),AE289)","v":15.991715116944127},{"$f":"IF(AG288>0,AVERAGE(SMALL(IF(N288:AG288>0,N288:AG288),{1,2,3,4,5,6,7,8})),AF289)","v":15.991715116944127},{"$f":"IF(AH288>0,AVERAGE(SMALL(IF(O288:AH288>0,O288:AH288),{1,2,3,4,5,6,7,8})),AG289)","v":15.991715116944127},{"$f":"IF(AI288>0,AVERAGE(SMALL(IF(P288:AI288>0,P288:AI288),{1,2,3,4,5,6,7,8})),AH289)","v":15.991715116944127},{"$f":"IF(AJ288>0,AVERAGE(SMALL(IF(Q288:AJ288>0,Q288:AJ288),{1,2,3,4,5,6,7,8})),AI289)","v":15.991715116944127},{"$f":"IF(AK288>0,AVERAGE(SMALL(IF(R288:AK288>0,R288:AK288),{1,2,3,4,5,6,7,8})),AJ289)","v":15.991715116944127},{"$f":"IF(AL288>0,AVERAGE(SMALL(IF(S288:AL288>0,S288:AL288),{1,2,3,4,5,6,7,8})),AK289)","v":15.991715116944127},{"$f":"IF(AM288>0,AVERAGE(SMALL(IF(T288:AM288>0,T288:AM288),{1,2,3,4,5,6,7,8})),AL289)","v":15.991715116944127},{"$f":"IF(AN288>0,AVERAGE(SMALL(IF(U288:AN288>0,U288:AN288),{1,2,3,4,5,6,7,8})),AM289)","v":15.991715116944127},{"$f":"IF(AO288>0,AVERAGE(SMALL(IF(V288:AO288>0,V288:AO288),{1,2,3,4,5,6,7,8})),AN289)","v":15.991715116944127},{"$f":"IF(AP288>0,AVERAGE(SMALL(IF(W288:AP288>0,W288:AP288),{1,2,3,4,5,6,7,8})),AO289)","v":15.991715116944127},{"$f":"IF(AQ288>0,AVERAGE(SMALL(IF(X288:AQ288>0,X288:AQ288),{1,2,3,4,5,6,7,8})),AP289)","v":15.991715116944127},{"$f":"IF(AR288>0,AVERAGE(SMALL(IF(Y288:AR288>0,Y288:AR288),{1,2,3,4,5,6,7,8})),AQ289)","v":15.991715116944127},{"$f":"IF(AS288>0,AVERAGE(SMALL(IF(Z288:AS288>0,Z288:AS288),{1,2,3,4,5,6,7,8})),AR289)","v":15.991715116944127},{"$f":"IF(AT288>0,AVERAGE(SMALL(IF(AA288:AT288>0,AA288:AT288),{1,2,3,4,5,6,7,8})),AS289)","v":15.991715116944127},{"$f":"IF(AU288>0,AVERAGE(SMALL(IF(AB288:AU288>0,AB288:AU288),{1,2,3,4,5,6,7,8})),AT289)","v":15.991715116944127},{"$f":"IF(AV288>0,AVERAGE(SMALL(IF(AC288:AV288>0,AC288:AV288),{1,2,3,4,5,6,7,8})),AU289)","v":15.991715116944127},{"$f":"IF(AW288>0,AVERAGE(SMALL(IF(AD288:AW288>0,AD288:AW288),{1,2,3,4,5,6,7,8})),AV289)","v":15.991715116944127},{"$f":"IF(AX288>0,AVERAGE(SMALL(IF(AE288:AX288>0,AE288:AX288),{1,2,3,4,5,6,7,8})),AW289)","v":15.991715116944127},{"$f":"IF(AY288>0,AVERAGE(SMALL(IF(AF288:AY288>0,AF288:AY288),{1,2,3,4,5,6,7,8})),AX289)","v":15.991715116944127},{"$f":"IF(AZ288>0,AVERAGE(SMALL(IF(AG288:AZ288>0,AG288:AZ288),{1,2,3,4,5,6,7,8})),AY289)","v":15.991715116944127},{"$f":"IF(BA288>0,AVERAGE(SMALL(IF(AH288:BA288>0,AH288:BA288),{1,2,3,4,5,6,7,8})),AZ289)","v":15.991715116944127},{"$f":"IF(BB288>0,AVERAGE(SMALL(IF(AI288:BB288>0,AI288:BB288),{1,2,3,4,5,6,7,8})),BA289)","v":15.991715116944127},{"$f":"IF(BC288>0,AVERAGE(SMALL(IF(AJ288:BC288>0,AJ288:BC288),{1,2,3,4,5,6,7,8})),BB289)","v":15.991715116944127},{"$f":"IF(BD288>0,AVERAGE(SMALL(IF(AK288:BD288>0,AK288:BD288),{1,2,3,4,5,6,7,8})),BC289)","v":15.991715116944127},{"$f":"IF(BE288>0,AVERAGE(SMALL(IF(AL288:BE288>0,AL288:BE288),{1,2,3,4,5,6,7,8})),BD289)","v":15.991715116944127},{"$f":"IF(BF288>0,AVERAGE(SMALL(IF(AM288:BF288>0,AM288:BF288),{1,2,3,4,5,6,7,8})),BE289)","v":15.991715116944127},{"$f":"IF(BG288>0,AVERAGE(SMALL(IF(AN288:BG288>0,AN288:BG288),{1,2,3,4,5,6,7,8})),BF289)","v":15.991715116944127},{"$f":"IF(BH288>0,AVERAGE(SMALL(IF(AO288:BH288>0,AO288:BH288),{1,2,3,4,5,6,7,8})),BG289)","v":15.991715116944127},{"$f":"IF(BI288>0,AVERAGE(SMALL(IF(AP288:BI288>0,AP288:BI288),{1,2,3,4,5,6,7,8})),BH289)","v":15.991715116944127},{"$f":"IF(BJ288>0,AVERAGE(SMALL(IF(AQ288:BJ288>0,AQ288:BJ288),{1,2,3,4,5,6,7,8})),BI289)","v":15.991715116944127},{"$f":"IF(BK288>0,AVERAGE(SMALL(IF(AR288:BK288>0,AR288:BK288),{1,2,3,4,5,6,7,8})),BJ289)","v":15.991715116944127},{"$f":"IF(BL288>0,AVERAGE(SMALL(IF(AS288:BL288>0,AS288:BL288),{1,2,3,4,5,6,7,8})),BK289)","v":15.991715116944127},{"$f":"IF(BM288>0,AVERAGE(SMALL(IF(AT288:BM288>0,AT288:BM288),{1,2,3,4,5,6,7,8})),BL289)","v":15.991715116944127},{"$f":"IF(BN288>0,AVERAGE(SMALL(IF(AU288:BN288>0,AU288:BN288),{1,2,3,4,5,6,7,8})),BM289)","v":15.991715116944127},{"$f":"IF(BO288>0,AVERAGE(SMALL(IF(AV288:BO288>0,AV288:BO288),{1,2,3,4,5,6,7,8})),BN289)","v":15.991715116944127},{"$f":"IF(BP288>0,AVERAGE(SMALL(IF(AW288:BP288>0,AW288:BP288),{1,2,3,4,5,6,7,8})),BO289)","v":15.991715116944127},{"$f":"IF(BQ288>0,AVERAGE(SMALL(IF(AX288:BQ288>0,AX288:BQ288),{1,2,3,4,5,6,7,8})),BP289)","v":15.991715116944127},{"$f":"IF(BR288>0,AVERAGE(SMALL(IF(AY288:BR288>0,AY288:BR288),{1,2,3,4,5,6,7,8})),BQ289)","v":15.991715116944127},{"$f":"IF(BS288>0,AVERAGE(SMALL(IF(AZ288:BS288>0,AZ288:BS288),{1,2,3,4,5,6,7,8})),BR289)","v":15.991715116944127},{"$f":"IF(BT288>0,AVERAGE(SMALL(IF(BA288:BT288>0,BA288:BT288),{1,2,3,4,5,6,7,8})),BS289)","v":15.991715116944127},{"$f":"IF(BU288>0,AVERAGE(SMALL(IF(BB288:BU288>0,BB288:BU288),{1,2,3,4,5,6,7,8})),BT289)","v":15.991715116944127},{"$f":"IF(BV288>0,AVERAGE(SMALL(IF(BC288:BV288>0,BC288:BV288),{1,2,3,4,5,6,7,8})),BU289)","v":15.991715116944127},{"$f":"IF(BW288>0,AVERAGE(SMALL(IF(BD288:BW288>0,BD288:BW288),{1,2,3,4,5,6,7,8})),BV289)","v":15.991715116944127},{"$f":"IF(BX288>0,AVERAGE(SMALL(IF(BE288:BX288>0,BE288:BX288),{1,2,3,4,5,6,7,8})),BW289)","v":15.991715116944127},{"$f":"IF(BY288>0,AVERAGE(SMALL(IF(BF288:BY288>0,BF288:BY288),{1,2,3,4,5,6,7,8})),BX289)","v":15.991715116944127},{"$f":"IF(BZ288>0,AVERAGE(SMALL(IF(BG288:BZ288>0,BG288:BZ288),{1,2,3,4,5,6,7,8})),BY289)","v":15.991715116944127},{"$f":"IF(CA288>0,AVERAGE(SMALL(IF(BH288:CA288>0,BH288:CA288),{1,2,3,4,5,6,7,8})),BZ289)","v":15.991715116944127},{"$f":"IF(CB288>0,AVERAGE(SMALL(IF(BI288:CB288>0,BI288:CB288),{1,2,3,4,5,6,7,8})),CA289)","v":15.991715116944127},{"$f":"IF(CC288>0,AVERAGE(SMALL(IF(BJ288:CC288>0,BJ288:CC288),{1,2,3,4,5,6,7,8})),CB289)","v":15.991715116944127},{"$f":"IF(CD288>0,AVERAGE(SMALL(IF(BK288:CD288>0,BK288:CD288),{1,2,3,4,5,6,7,8})),CC289)","v":15.991715116944127},{"$f":"IF(CE288>0,AVERAGE(SMALL(IF(BL288:CE288>0,BL288:CE288),{1,2,3,4,5,6,7,8})),CD289)","v":15.991715116944127},{"$f":"IF(CF288>0,AVERAGE(SMALL(IF(BM288:CF288>0,BM288:CF288),{1,2,3,4,5,6,7,8})),CE289)","v":15.991715116944127},{"$f":"IF(CG288>0,AVERAGE(SMALL(IF(BN288:CG288>0,BN288:CG288),{1,2,3,4,5,6,7,8})),CF289)","v":15.991715116944127},{"$f":"IF(CH288>0,AVERAGE(SMALL(IF(BO288:CH288>0,BO288:CH288),{1,2,3,4,5,6,7,8})),CG289)","v":15.991715116944127},{"$f":"IF(CI288>0,AVERAGE(SMALL(IF(BP288:CI288>0,BP288:CI288),{1,2,3,4,5,6,7,8})),CH289)","v":15.991715116944127},{"$f":"IF(CJ288>0,AVERAGE(SMALL(IF(BQ288:CJ288>0,BQ288:CJ288),{1,2,3,4,5,6,7,8})),CI289)","v":15.991715116944127},{"$f":"IF(CK288>0,AVERAGE(SMALL(IF(BR288:CK288>0,BR288:CK288),{1,2,3,4,5,6,7,8})),CJ289)","v":15.991715116944127},{"$f":"IF(CL288>0,AVERAGE(SMALL(IF(BS288:CL288>0,BS288:CL288),{1,2,3,4,5,6,7,8})),CK289)","v":15.991715116944127},{"$f":"IF(CM288>0,AVERAGE(SMALL(IF(BT288:CM288>0,BT288:CM288),{1,2,3,4,5,6,7,8})),CL289)","v":15.991715116944127},{"$f":"IF(CN288>0,AVERAGE(SMALL(IF(BU288:CN288>0,BU288:CN288),{1,2,3,4,5,6,7,8})),CM289)","v":15.991715116944127},{"$f":"IF(CO288>0,AVERAGE(SMALL(IF(BV288:CO288>0,BV288:CO288),{1,2,3,4,5,6,7,8})),CN289)","v":15.991715116944127},{"$f":"IF(CP288>0,AVERAGE(SMALL(IF(BW288:CP288>0,BW288:CP288),{1,2,3,4,5,6,7,8})),CO289)","v":15.991715116944127},{"$f":"IF(CQ288>0,AVERAGE(SMALL(IF(BX288:CQ288>0,BX288:CQ288),{1,2,3,4,5,6,7,8})),CP289)","v":15.991715116944127},{"$f":"IF(CR288>0,AVERAGE(SMALL(IF(BY288:CR288>0,BY288:CR288),{1,2,3,4,5,6,7,8})),CQ289)","v":15.991715116944127},{"$f":"IF(CS288>0,AVERAGE(SMALL(IF(BZ288:CS288>0,BZ288:CS288),{1,2,3,4,5,6,7,8})),CR289)","v":15.991715116944127},{"$f":"IF(CT288>0,AVERAGE(SMALL(IF(CA288:CT288>0,CA288:CT288),{1,2,3,4,5,6,7,8})),CS289)","v":15.991715116944127},{"$f":"IF(CU288>0,AVERAGE(SMALL(IF(CB288:CU288>0,CB288:CU288),{1,2,3,4,5,6,7,8})),CT289)","v":15.991715116944127},{"$f":"IF(CV288>0,AVERAGE(SMALL(IF(CC288:CV288>0,CC288:CV288),{1,2,3,4,5,6,7,8})),CU289)","v":15.991715116944127},{"$f":"IF(CW288>0,AVERAGE(SMALL(IF(CD288:CW288>0,CD288:CW288),{1,2,3,4,5,6,7,8})),CV289)","v":15.991715116944127}]
[null,null,null,null,null,null,null,null,"Low Hcap",null,null,null,null,null,null,null,null,null,null,null,null,null,null,null,null,null,null,null,{"$f":"MIN($V289:AC289)","v":14.063874913254685},{"$f":"MIN($V289:AD289)","v":14.063874913254685},{"$f":"MIN($V289:AE289)","v":14.063874913254685},{"$f":"MIN($V289:AF289)","v":14.063874913254685},{"$f":"MIN($V289:AG289)","v":14.063874913254685},{"$f":"MIN($V289:AH289)","v":14.063874913254685},{"$f":"MIN($V289:AI289)","v":14.063874913254685},{"$f":"MIN($V289:AJ289)","v":14.063874913254685},{"$f":"MIN($V289:AK289)","v":14.063874913254685},{"$f":"MIN($V289:AL289)","v":14.063874913254685},{"$f":"MIN($V289:AM289)","v":14.063874913254685},{"$f":"MIN($V289:AN289)","v":14.063874913254685},{"$f":"MIN($V289:AO289)","v":14.063874913254685},{"$f":"MIN($V289:AP289)","v":14.063874913254685},{"$f":"MIN($V289:AQ289)","v":14.063874913254685},{"$f":"MIN($V289:AR289)","v":14.063874913254685},{"$f":"MIN($V289:AS289)","v":14.063874913254685},{"$f":"MIN($V289:AT289)","v":14.063874913254685},{"$f":"MIN($V289:AU289)","v":14.063874913254685},{"$f":"MIN($V289:AV289)","v":14.063874913254685},{"$f":"MIN($V289:AW289)","v":14.063874913254685},{"$f":"MIN($V289:AX289)","v":14.063874913254685},{"$f":"MIN($V289:AY289)","v":14.063874913254685},{"$f":"MIN($V289:AZ289)","v":14.063874913254685},{"$f":"MIN($V289:BA289)","v":14.063874913254685},{"$f":"MIN($V289:BB289)","v":14.063874913254685},{"$f":"MIN($V289:BC289)","v":14.063874913254685},{"$f":"MIN($V289:BD289)","v":14.063874913254685},{"$f":"MIN($V289:BE289)","v":14.063874913254685},{"$f":"MIN($V289:BF289)","v":14.063874913254685},{"$f":"MIN($V289:BG289)","v":14.063874913254685},{"$f":"MIN($V289:BH289)","v":14.063874913254685},{"$f":"MIN($V289:BI289)","v":14.063874913254685},{"$f":"MIN($V289:BJ289)","v":14.063874913254685},{"$f":"MIN($V289:BK289)","v":14.063874913254685},{"$f":"MIN($V289:BL289)","v":14.063874913254685},{"$f":"MIN($V289:BM289)","v":14.063874913254685},{"$f":"MIN($V289:BN289)","v":14.063874913254685},{"$f":"MIN($V289:BO289)","v":14.063874913254685},{"$f":"MIN($V289:BP289)","v":14.063874913254685},{"$f":"MIN($V289:BQ289)","v":14.063874913254685},{"$f":"MIN($V289:BR289)","v":14.063874913254685},{"$f":"MIN($V289:BS289)","v":14.063874913254685},{"$f":"MIN($V289:BT289)","v":14.063874913254685},{"$f":"MIN($V289:BU289)","v":14.063874913254685},{"$f":"MIN($V289:BV289)","v":14.063874913254685},{"$f":"MIN($V289:BW289)","v":14.063874913254685},{"$f":"MIN($V289:BX289)","v":14.063874913254685},{"$f":"MIN($V289:BY289)","v":14.063874913254685},{"$f":"MIN($V289:BZ289)","v":14.063874913254685},{"$f":"MIN($V289:CA289)","v":14.063874913254685},{"$f":"MIN($V289:CB289)","v":14.063874913254685},{"$f":"MIN($V289:CC289)","v":14.063874913254685},{"$f":"MIN($V289:CD289)","v":14.063874913254685},{"$f":"MIN($V289:CE289)","v":14.063874913254685},{"$f":"MIN($V289:CF289)","v":14.063874913254685},{"$f":"MIN($V289:CG289)","v":14.063874913254685},{"$f":"MIN($V289:CH289)","v":14.063874913254685},{"$f":"MIN($V289:CI289)","v":14.063874913254685},{"$f":"MIN($V289:CJ289)","v":14.063874913254685},{"$f":"MIN($V289:CK289)","v":14.063874913254685},{"$f":"MIN($V289:CL289)","v":14.063874913254685},{"$f":"MIN($V289:CM289)","v":14.063874913254685},{"$f":"MIN($V289:CN289)","v":14.063874913254685},{"$f":"MIN($V289:CO289)","v":14.063874913254685},{"$f":"MIN($V289:CP289)","v":14.063874913254685},{"$f":"MIN($V289:CQ289)","v":14.063874913254685},{"$f":"MIN($V289:CR289)","v":14.063874913254685},{"$f":"MIN($V289:CS289)","v":14.063874913254685},{"$f":"MIN($V289:CT289)","v":14.063874913254685},{"$f":"MIN($V289:CU289)","v":14.063874913254685},{"$f":"MIN($V289:CV289)","v":14.063874913254685},{"$f":"MIN($V289:CW289)","v":14.063874913254685}]
[null,"Jagger","Chris",16.7,null,{"$f":"IF(H291<4,\"Y\",)","v":0},2020,{"$f":"COUNT(J291:CX291)","v":15},"Date",null,"2020-08-26","2020-09-06","2020-09-16","2020-10-04","2020-11-15","2021-04-25","2021-05-14","2021-07-02","2021-08-22","2021-09-08","2021-10-31","2022-06-22","2022-10-30","2023-05-07","2023-05-19",null,null,null,null,null,null,null,null,null,null,null,null,null,null,null,null,null,null,null,null,null,null,null,null,null,null,null,null,null,null,null,null,null,null,null,null,null,null,null,null,null,null,null,null,null,null,null,null,null,null,null,null,null,null,null,null,null,null,null,null,null,null,null,null,null,null,null,null,null,null,null,null,null,null,null,null,null,{"$f":"IF(CW295>$DD$1,36,CW295)","v":14.158186056355138},13.786194108905461,{"$f":"CZ291-CY291","v":-0.37199194744967734}]
[null,null,null,null,null,null,null,null,"Course",null,"GutThailingHG","OdelzhausenHG","GutThailingHG","OdelzhausenHG","OdelzhausenHG","PfaffingHG","StEurachHG","TegernbachHG","PfaffingHB","GutThailingHG","ErdingHG","GutThailing2022HG","OdelzhausenHB","Odelzhausen2023HG","GarmischHG",null,null,null,null,null,null,null,null,null,null,null,null,null,null,null,null,null,null,null,null,null,null,null,null,null,null,null,null,null,null,null,null,null,null,null,null,null,null,null,null,null,null,null,null,null,null,null,null,null,null,null,null,null,null,null,null,null,null,null,null,null,null,null,null,null,null,null,null,null,null,null,null,null,null,null,null,null,null,null,null,null,null,null,null,null,null,null,null,null,null,null,null,null,null,""]
[null,null,null,null,null,null,null,null,"Ad Gr",null,90,93,88,95,89,98,92,87,89,93,89,84,88,94,89]
[null,null,null,null,null,null,null,null,"SD",16.7,{"$f":"IF(K293=\"\",0,(K293-INDIRECT(CONCATENATE(K292,\"CR\")))*113/INDIRECT(CONCATENATE(K292,\"SR\")))","v":16.820610687022899},{"$f":"IF(L293=\"\",0,(L293-INDIRECT(CONCATENATE(L292,\"CR\")))*113/INDIRECT(CONCATENATE(L292,\"SR\")))","v":18.862992125984256},15.095419847328245,20.642519685039375,15.303937007874019,22.6,17.338167938931292,13.097727272727269,15.978906249999994,19.408396946564885,15.646153846153846,11.647692307692314,19.702564102564107,20.412903225806456,15.659842519685034,0,0,0,0,0,0,0,0,0,0,0,0,0,0,0,0,0,0,0,0,0,0,0,0,0,0,0,0,0,0,0,0,0,0,0,0,0,0,0,0,0,0,0,0,0,0,0,0,0,0,{"$f":"IF(BX293=\"\",0,(BX293-INDIRECT(CONCATENATE(BX292,\"CR\")))*113/INDIRECT(CONCATENATE(BX292,\"SR\")))","v":0},0,0,0,0,0,0,0,0,0,0,0,0,0,0,{"$f":"IF(CM293=\"\",0,(CM293-INDIRECT(CONCATENATE(CM292,\"CR\")))*113/INDIRECT(CONCATENATE(CM292,\"SR\")))","v":0},0,{"$f":"IF(CO293=\"\",0,(CO293-INDIRECT(CONCATENATE(CO292,\"CR\")))*113/INDIRECT(CONCATENATE(CO292,\"SR\")))","v":0},0,{"$f":"IF(CQ293=\"\",0,(CQ293-INDIRECT(CONCATENATE(CQ292,\"CR\")))*113/INDIRECT(CONCATENATE(CQ292,\"SR\")))","v":0},0,{"$f":"IF(CS293=\"\",0,(CS293-INDIRECT(CONCATENATE(CS292,\"CR\")))*113/INDIRECT(CONCATENATE(CS292,\"SR\")))","v":0},0,{"$f":"IF(CU293=\"\",0,(CU293-INDIRECT(CONCATENATE(CU292,\"CR\")))*113/INDIRECT(CONCATENATE(CU292,\"SR\")))","v":0},0,{"$f":"IF(CW293=\"\",0,(CW293-INDIRECT(CONCATENATE(CW292,\"CR\")))*113/INDIRECT(CONCATENATE(CW292,\"SR\")))","v":0}]
[null,null,null,null,null,null,null,null,"New Hcap",{"$f":"J294-2","v":14.7},{"$f":"IF(K294>0,MIN(J294:K294)-2,J295)","v":14.7},{"$f":"IF(L294>0,MIN(J294:L294)-2,K295)","v":14.7},{"$f":"IF(M294>0,MIN(J294:M294)-1,L295)","v":14.095419847328245},{"$f":"IF(N294>0,MIN(J294:N294),M295)","v":15.095419847328245},{"$f":"IF(O294>0,AVERAGE(SMALL(IF(J294:O294>0,J294:O294),{1,2}))-1,N295)","v":14.199678427601132},{"$f":"IF(P294>0,AVERAGE(SMALL(IF(J294:P294>0,J294:P294),{1,2})),O295)","v":15.199678427601132},{"$f":"IF(Q294>0,AVERAGE(SMALL(IF(J294:Q294>0,J294:Q294),{1,2})),P295)","v":15.199678427601132},{"$f":"IF(R294>0,AVERAGE(SMALL(IF(J294:R294>0,J294:R294),{1,2,3})),Q295)","v":14.499028042643177},{"$f":"IF(S294>0,AVERAGE(SMALL(IF(J294:S294>0,J294:S294),{1,2,3})),R295)","v":14.499028042643177},{"$f":"IF(T294>0,AVERAGE(SMALL(IF(J294:T294>0,J294:T294),{1,2,3})),S295)","v":14.499028042643177},{"$f":"IF(U294>0,AVERAGE(SMALL(IF(J294:U294>0,J294:U294),{1,2,3,4})),T295)","v":14.785809493520844},{"$f":"IF(V294>0,AVERAGE(SMALL(IF(J294:V294>0,J294:V294),{1,2,3,4})),U295)","v":13.786194108905461},{"$f":"IF(W294>0,AVERAGE(SMALL(IF(J294:W294>0,J294:W294),{1,2,3,4})),V295)","v":13.786194108905461},{"$f":"IF(X294>0,AVERAGE(SMALL(IF(J294:X294>0,J294:X294),{1,2,3,4,5})),W295)","v":14.158186056355138},{"$f":"IF(Y294>0,AVERAGE(SMALL(IF(J294:Y294>0,J294:Y294),{1,2,3,4,5})),X295)","v":14.158186056355138},{"$f":"IF(Z294>0,AVERAGE(SMALL(IF(J294:Z294>0,J294:Z294),{1,2,3,4,5,6})),Y295)","v":14.158186056355138},{"$f":"IF(AA294>0,AVERAGE(SMALL(IF(J294:AA294>0,J294:AA294),{1,2,3,4,5,6})),Z295)","v":14.158186056355138},{"$f":"IF(AB294>0,AVERAGE(SMALL(IF(J294:AB294>0,J294:AB294),{1,2,3,4,5,6,7})),AA295)","v":14.158186056355138},{"$f":"IF(AC294>0,AVERAGE(SMALL(IF(J294:AC294>0,J294:AC294),{1,2,3,4,5,6,7,8})),AB295)","v":14.158186056355138},{"$f":"IF(AD294>0,AVERAGE(SMALL(IF(K294:AD294>0,K294:AD294),{1,2,3,4,5,6,7,8})),AC295)","v":14.158186056355138},{"$f":"IF(AE294>0,AVERAGE(SMALL(IF(L294:AE294>0,L294:AE294),{1,2,3,4,5,6,7,8})),AD295)","v":14.158186056355138},{"$f":"IF(AF294>0,AVERAGE(SMALL(IF(M294:AF294>0,M294:AF294),{1,2,3,4,5,6,7,8})),AE295)","v":14.158186056355138},{"$f":"IF(AG294>0,AVERAGE(SMALL(IF(N294:AG294>0,N294:AG294),{1,2,3,4,5,6,7,8})),AF295)","v":14.158186056355138},{"$f":"IF(AH294>0,AVERAGE(SMALL(IF(O294:AH294>0,O294:AH294),{1,2,3,4,5,6,7,8})),AG295)","v":14.158186056355138},{"$f":"IF(AI294>0,AVERAGE(SMALL(IF(P294:AI294>0,P294:AI294),{1,2,3,4,5,6,7,8})),AH295)","v":14.158186056355138},{"$f":"IF(AJ294>0,AVERAGE(SMALL(IF(Q294:AJ294>0,Q294:AJ294),{1,2,3,4,5,6,7,8})),AI295)","v":14.158186056355138},{"$f":"IF(AK294>0,AVERAGE(SMALL(IF(R294:AK294>0,R294:AK294),{1,2,3,4,5,6,7,8})),AJ295)","v":14.158186056355138},{"$f":"IF(AL294>0,AVERAGE(SMALL(IF(S294:AL294>0,S294:AL294),{1,2,3,4,5,6,7,8})),AK295)","v":14.158186056355138},{"$f":"IF(AM294>0,AVERAGE(SMALL(IF(T294:AM294>0,T294:AM294),{1,2,3,4,5,6,7,8})),AL295)","v":14.158186056355138},{"$f":"IF(AN294>0,AVERAGE(SMALL(IF(U294:AN294>0,U294:AN294),{1,2,3,4,5,6,7,8})),AM295)","v":14.158186056355138},{"$f":"IF(AO294>0,AVERAGE(SMALL(IF(V294:AO294>0,V294:AO294),{1,2,3,4,5,6,7,8})),AN295)","v":14.158186056355138},{"$f":"IF(AP294>0,AVERAGE(SMALL(IF(W294:AP294>0,W294:AP294),{1,2,3,4,5,6,7,8})),AO295)","v":14.158186056355138},{"$f":"IF(AQ294>0,AVERAGE(SMALL(IF(X294:AQ294>0,X294:AQ294),{1,2,3,4,5,6,7,8})),AP295)","v":14.158186056355138},{"$f":"IF(AR294>0,AVERAGE(SMALL(IF(Y294:AR294>0,Y294:AR294),{1,2,3,4,5,6,7,8})),AQ295)","v":14.158186056355138},{"$f":"IF(AS294>0,AVERAGE(SMALL(IF(Z294:AS294>0,Z294:AS294),{1,2,3,4,5,6,7,8})),AR295)","v":14.158186056355138},{"$f":"IF(AT294>0,AVERAGE(SMALL(IF(AA294:AT294>0,AA294:AT294),{1,2,3,4,5,6,7,8})),AS295)","v":14.158186056355138},{"$f":"IF(AU294>0,AVERAGE(SMALL(IF(AB294:AU294>0,AB294:AU294),{1,2,3,4,5,6,7,8})),AT295)","v":14.158186056355138},{"$f":"IF(AV294>0,AVERAGE(SMALL(IF(AC294:AV294>0,AC294:AV294),{1,2,3,4,5,6,7,8})),AU295)","v":14.158186056355138},{"$f":"IF(AW294>0,AVERAGE(SMALL(IF(AD294:AW294>0,AD294:AW294),{1,2,3,4,5,6,7,8})),AV295)","v":14.158186056355138},{"$f":"IF(AX294>0,AVERAGE(SMALL(IF(AE294:AX294>0,AE294:AX294),{1,2,3,4,5,6,7,8})),AW295)","v":14.158186056355138},{"$f":"IF(AY294>0,AVERAGE(SMALL(IF(AF294:AY294>0,AF294:AY294),{1,2,3,4,5,6,7,8})),AX295)","v":14.158186056355138},{"$f":"IF(AZ294>0,AVERAGE(SMALL(IF(AG294:AZ294>0,AG294:AZ294),{1,2,3,4,5,6,7,8})),AY295)","v":14.158186056355138},{"$f":"IF(BA294>0,AVERAGE(SMALL(IF(AH294:BA294>0,AH294:BA294),{1,2,3,4,5,6,7,8})),AZ295)","v":14.158186056355138},{"$f":"IF(BB294>0,AVERAGE(SMALL(IF(AI294:BB294>0,AI294:BB294),{1,2,3,4,5,6,7,8})),BA295)","v":14.158186056355138},{"$f":"IF(BC294>0,AVERAGE(SMALL(IF(AJ294:BC294>0,AJ294:BC294),{1,2,3,4,5,6,7,8})),BB295)","v":14.158186056355138},{"$f":"IF(BD294>0,AVERAGE(SMALL(IF(AK294:BD294>0,AK294:BD294),{1,2,3,4,5,6,7,8})),BC295)","v":14.158186056355138},{"$f":"IF(BE294>0,AVERAGE(SMALL(IF(AL294:BE294>0,AL294:BE294),{1,2,3,4,5,6,7,8})),BD295)","v":14.158186056355138},{"$f":"IF(BF294>0,AVERAGE(SMALL(IF(AM294:BF294>0,AM294:BF294),{1,2,3,4,5,6,7,8})),BE295)","v":14.158186056355138},{"$f":"IF(BG294>0,AVERAGE(SMALL(IF(AN294:BG294>0,AN294:BG294),{1,2,3,4,5,6,7,8})),BF295)","v":14.158186056355138},{"$f":"IF(BH294>0,AVERAGE(SMALL(IF(AO294:BH294>0,AO294:BH294),{1,2,3,4,5,6,7,8})),BG295)","v":14.158186056355138},{"$f":"IF(BI294>0,AVERAGE(SMALL(IF(AP294:BI294>0,AP294:BI294),{1,2,3,4,5,6,7,8})),BH295)","v":14.158186056355138},{"$f":"IF(BJ294>0,AVERAGE(SMALL(IF(AQ294:BJ294>0,AQ294:BJ294),{1,2,3,4,5,6,7,8})),BI295)","v":14.158186056355138},{"$f":"IF(BK294>0,AVERAGE(SMALL(IF(AR294:BK294>0,AR294:BK294),{1,2,3,4,5,6,7,8})),BJ295)","v":14.158186056355138},{"$f":"IF(BL294>0,AVERAGE(SMALL(IF(AS294:BL294>0,AS294:BL294),{1,2,3,4,5,6,7,8})),BK295)","v":14.158186056355138},{"$f":"IF(BM294>0,AVERAGE(SMALL(IF(AT294:BM294>0,AT294:BM294),{1,2,3,4,5,6,7,8})),BL295)","v":14.158186056355138},{"$f":"IF(BN294>0,AVERAGE(SMALL(IF(AU294:BN294>0,AU294:BN294),{1,2,3,4,5,6,7,8})),BM295)","v":14.158186056355138},{"$f":"IF(BO294>0,AVERAGE(SMALL(IF(AV294:BO294>0,AV294:BO294),{1,2,3,4,5,6,7,8})),BN295)","v":14.158186056355138},{"$f":"IF(BP294>0,AVERAGE(SMALL(IF(AW294:BP294>0,AW294:BP294),{1,2,3,4,5,6,7,8})),BO295)","v":14.158186056355138},{"$f":"IF(BQ294>0,AVERAGE(SMALL(IF(AX294:BQ294>0,AX294:BQ294),{1,2,3,4,5,6,7,8})),BP295)","v":14.158186056355138},{"$f":"IF(BR294>0,AVERAGE(SMALL(IF(AY294:BR294>0,AY294:BR294),{1,2,3,4,5,6,7,8})),BQ295)","v":14.158186056355138},{"$f":"IF(BS294>0,AVERAGE(SMALL(IF(AZ294:BS294>0,AZ294:BS294),{1,2,3,4,5,6,7,8})),BR295)","v":14.158186056355138},{"$f":"IF(BT294>0,AVERAGE(SMALL(IF(BA294:BT294>0,BA294:BT294),{1,2,3,4,5,6,7,8})),BS295)","v":14.158186056355138},{"$f":"IF(BU294>0,AVERAGE(SMALL(IF(BB294:BU294>0,BB294:BU294),{1,2,3,4,5,6,7,8})),BT295)","v":14.158186056355138},{"$f":"IF(BV294>0,AVERAGE(SMALL(IF(BC294:BV294>0,BC294:BV294),{1,2,3,4,5,6,7,8})),BU295)","v":14.158186056355138},{"$f":"IF(BW294>0,AVERAGE(SMALL(IF(BD294:BW294>0,BD294:BW294),{1,2,3,4,5,6,7,8})),BV295)","v":14.158186056355138},{"$f":"IF(BX294>0,AVERAGE(SMALL(IF(BE294:BX294>0,BE294:BX294),{1,2,3,4,5,6,7,8})),BW295)","v":14.158186056355138},{"$f":"IF(BY294>0,AVERAGE(SMALL(IF(BF294:BY294>0,BF294:BY294),{1,2,3,4,5,6,7,8})),BX295)","v":14.158186056355138},{"$f":"IF(BZ294>0,AVERAGE(SMALL(IF(BG294:BZ294>0,BG294:BZ294),{1,2,3,4,5,6,7,8})),BY295)","v":14.158186056355138},{"$f":"IF(CA294>0,AVERAGE(SMALL(IF(BH294:CA294>0,BH294:CA294),{1,2,3,4,5,6,7,8})),BZ295)","v":14.158186056355138},{"$f":"IF(CB294>0,AVERAGE(SMALL(IF(BI294:CB294>0,BI294:CB294),{1,2,3,4,5,6,7,8})),CA295)","v":14.158186056355138},{"$f":"IF(CC294>0,AVERAGE(SMALL(IF(BJ294:CC294>0,BJ294:CC294),{1,2,3,4,5,6,7,8})),CB295)","v":14.158186056355138},{"$f":"IF(CD294>0,AVERAGE(SMALL(IF(BK294:CD294>0,BK294:CD294),{1,2,3,4,5,6,7,8})),CC295)","v":14.158186056355138},{"$f":"IF(CE294>0,AVERAGE(SMALL(IF(BL294:CE294>0,BL294:CE294),{1,2,3,4,5,6,7,8})),CD295)","v":14.158186056355138},{"$f":"IF(CF294>0,AVERAGE(SMALL(IF(BM294:CF294>0,BM294:CF294),{1,2,3,4,5,6,7,8})),CE295)","v":14.158186056355138},{"$f":"IF(CG294>0,AVERAGE(SMALL(IF(BN294:CG294>0,BN294:CG294),{1,2,3,4,5,6,7,8})),CF295)","v":14.158186056355138},{"$f":"IF(CH294>0,AVERAGE(SMALL(IF(BO294:CH294>0,BO294:CH294),{1,2,3,4,5,6,7,8})),CG295)","v":14.158186056355138},{"$f":"IF(CI294>0,AVERAGE(SMALL(IF(BP294:CI294>0,BP294:CI294),{1,2,3,4,5,6,7,8})),CH295)","v":14.158186056355138},{"$f":"IF(CJ294>0,AVERAGE(SMALL(IF(BQ294:CJ294>0,BQ294:CJ294),{1,2,3,4,5,6,7,8})),CI295)","v":14.158186056355138},{"$f":"IF(CK294>0,AVERAGE(SMALL(IF(BR294:CK294>0,BR294:CK294),{1,2,3,4,5,6,7,8})),CJ295)","v":14.158186056355138},{"$f":"IF(CL294>0,AVERAGE(SMALL(IF(BS294:CL294>0,BS294:CL294),{1,2,3,4,5,6,7,8})),CK295)","v":14.158186056355138},{"$f":"IF(CM294>0,AVERAGE(SMALL(IF(BT294:CM294>0,BT294:CM294),{1,2,3,4,5,6,7,8})),CL295)","v":14.158186056355138},{"$f":"IF(CN294>0,AVERAGE(SMALL(IF(BU294:CN294>0,BU294:CN294),{1,2,3,4,5,6,7,8})),CM295)","v":14.158186056355138},{"$f":"IF(CO294>0,AVERAGE(SMALL(IF(BV294:CO294>0,BV294:CO294),{1,2,3,4,5,6,7,8})),CN295)","v":14.158186056355138},{"$f":"IF(CP294>0,AVERAGE(SMALL(IF(BW294:CP294>0,BW294:CP294),{1,2,3,4,5,6,7,8})),CO295)","v":14.158186056355138},{"$f":"IF(CQ294>0,AVERAGE(SMALL(IF(BX294:CQ294>0,BX294:CQ294),{1,2,3,4,5,6,7,8})),CP295)","v":14.158186056355138},{"$f":"IF(CR294>0,AVERAGE(SMALL(IF(BY294:CR294>0,BY294:CR294),{1,2,3,4,5,6,7,8})),CQ295)","v":14.158186056355138},{"$f":"IF(CS294>0,AVERAGE(SMALL(IF(BZ294:CS294>0,BZ294:CS294),{1,2,3,4,5,6,7,8})),CR295)","v":14.158186056355138},{"$f":"IF(CT294>0,AVERAGE(SMALL(IF(CA294:CT294>0,CA294:CT294),{1,2,3,4,5,6,7,8})),CS295)","v":14.158186056355138},{"$f":"IF(CU294>0,AVERAGE(SMALL(IF(CB294:CU294>0,CB294:CU294),{1,2,3,4,5,6,7,8})),CT295)","v":14.158186056355138},{"$f":"IF(CV294>0,AVERAGE(SMALL(IF(CC294:CV294>0,CC294:CV294),{1,2,3,4,5,6,7,8})),CU295)","v":14.158186056355138},{"$f":"IF(CW294>0,AVERAGE(SMALL(IF(CD294:CW294>0,CD294:CW294),{1,2,3,4,5,6,7,8})),CV295)","v":14.158186056355138}]
[null,null,null,null,null,null,null,null,"Low Hcap",null,null,null,null,null,null,null,null,null,null,null,null,null,null,null,null,null,null,null,{"$f":"MIN($J295:AC295)","v":13.786194108905461},{"$f":"MIN($J295:AD295)","v":13.786194108905461},{"$f":"MIN($J295:AE295)","v":13.786194108905461},{"$f":"MIN($J295:AF295)","v":13.786194108905461},{"$f":"MIN($J295:AG295)","v":13.786194108905461},{"$f":"MIN($J295:AH295)","v":13.786194108905461},{"$f":"MIN($J295:AI295)","v":13.786194108905461},{"$f":"MIN($J295:AJ295)","v":13.786194108905461},{"$f":"MIN($J295:AK295)","v":13.786194108905461},{"$f":"MIN($J295:AL295)","v":13.786194108905461},{"$f":"MIN($J295:AM295)","v":13.786194108905461},{"$f":"MIN($J295:AN295)","v":13.786194108905461},{"$f":"MIN($J295:AO295)","v":13.786194108905461},{"$f":"MIN($J295:AP295)","v":13.786194108905461},{"$f":"MIN($J295:AQ295)","v":13.786194108905461},{"$f":"MIN($J295:AR295)","v":13.786194108905461},{"$f":"MIN($J295:AS295)","v":13.786194108905461},{"$f":"MIN($J295:AT295)","v":13.786194108905461},{"$f":"MIN($J295:AU295)","v":13.786194108905461},{"$f":"MIN($J295:AV295)","v":13.786194108905461},{"$f":"MIN($J295:AW295)","v":13.786194108905461},{"$f":"MIN($J295:AX295)","v":13.786194108905461},{"$f":"MIN($J295:AY295)","v":13.786194108905461},{"$f":"MIN($J295:AZ295)","v":13.786194108905461},{"$f":"MIN($J295:BA295)","v":13.786194108905461},{"$f":"MIN($J295:BB295)","v":13.786194108905461},{"$f":"MIN($J295:BC295)","v":13.786194108905461},{"$f":"MIN($J295:BD295)","v":13.786194108905461},{"$f":"MIN($J295:BE295)","v":13.786194108905461},{"$f":"MIN($J295:BF295)","v":13.786194108905461},{"$f":"MIN($J295:BG295)","v":13.786194108905461},{"$f":"MIN($J295:BH295)","v":13.786194108905461},{"$f":"MIN($J295:BI295)","v":13.786194108905461},{"$f":"MIN($J295:BJ295)","v":13.786194108905461},{"$f":"MIN($J295:BK295)","v":13.786194108905461},{"$f":"MIN($J295:BL295)","v":13.786194108905461},{"$f":"MIN($J295:BM295)","v":13.786194108905461},{"$f":"MIN($J295:BN295)","v":13.786194108905461},{"$f":"MIN($J295:BO295)","v":13.786194108905461},{"$f":"MIN($J295:BP295)","v":13.786194108905461},{"$f":"MIN($J295:BQ295)","v":13.786194108905461},{"$f":"MIN($J295:BR295)","v":13.786194108905461},{"$f":"MIN($J295:BS295)","v":13.786194108905461},{"$f":"MIN($J295:BT295)","v":13.786194108905461},{"$f":"MIN($J295:BU295)","v":13.786194108905461},{"$f":"MIN($J295:BV295)","v":13.786194108905461},{"$f":"MIN($J295:BW295)","v":13.786194108905461},{"$f":"MIN($J295:BX295)","v":13.786194108905461},{"$f":"MIN($J295:BY295)","v":13.786194108905461},{"$f":"MIN($J295:BZ295)","v":13.786194108905461},{"$f":"MIN($J295:CA295)","v":13.786194108905461},{"$f":"MIN($J295:CB295)","v":13.786194108905461},{"$f":"MIN($J295:CC295)","v":13.786194108905461},{"$f":"MIN($J295:CD295)","v":13.786194108905461},{"$f":"MIN($J295:CE295)","v":13.786194108905461},{"$f":"MIN($J295:CF295)","v":13.786194108905461},{"$f":"MIN($J295:CG295)","v":13.786194108905461},{"$f":"MIN($J295:CH295)","v":13.786194108905461},{"$f":"MIN($J295:CI295)","v":13.786194108905461},{"$f":"MIN($J295:CJ295)","v":13.786194108905461},{"$f":"MIN($J295:CK295)","v":13.786194108905461},{"$f":"MIN($J295:CL295)","v":13.786194108905461},{"$f":"MIN($J295:CM295)","v":13.786194108905461},{"$f":"MIN($J295:CN295)","v":13.786194108905461},{"$f":"MIN($J295:CO295)","v":13.786194108905461},{"$f":"MIN($J295:CP295)","v":13.786194108905461},{"$f":"MIN($J295:CQ295)","v":13.786194108905461},{"$f":"MIN($J295:CR295)","v":13.786194108905461},{"$f":"MIN($J295:CS295)","v":13.786194108905461},{"$f":"MIN($J295:CT295)","v":13.786194108905461},{"$f":"MIN($J295:CU295)","v":13.786194108905461},{"$f":"MIN($J295:CV295)","v":13.786194108905461},{"$f":"MIN($J295:CW295)","v":13.786194108905461}]
[null,"Johnson","Adam",12.2,null,{"$f":"IF(H297<4,\"Y\",)","v":0},2019,{"$f":"COUNT(J297:CX297)","v":34},"Date",null,"2019-08-04","2019-08-09","2020-05-20","2020-05-24","2020-05-31","2020-06-05","2020-06-19","2020-07-12","2020-07-31","2020-08-09","2020-08-14","2020-08-23","2020-10-09","2020-11-01","2020-11-15","2021-03-28","2021-04-11","2021-04-30","2021-05-09","2021-05-23","2021-06-13","2021-06-19","2021-08-08","2021-08-15","2021-09-19","2022-05-15","2022-06-25","2022-06-26","2022-07-31","2022-08-21","2022-09-23","2022-10-07","2023-05-28","2023-06-04",null,null,null,null,null,null,null,null,null,null,null,null,null,null,null,null,null,null,null,null,null,null,null,null,null,null,null,null,null,null,null,null,null,null,null,null,null,null,null,null,null,null,null,null,null,null,null,null,null,null,null,null,null,null,null,null,null,null,{"$f":"IF(CW301>$DD$1,36,CW301)","v":19.562995768219174},18.434967522609824,{"$f":"CZ297-CY297","v":-1.1280282456093502}]
[null,null,null,null,null,null,null,null,"Course",null,"TegernbachHG","ErdingHG","GutThailingHG","PfaffingHG","ErdingHG","ErdingHG","StEurachHG","PfaffingHG","StEurachHG","ErdingHG","EgmatingHG","PfaffingHG","TegernbachHG","ErdingHG","OdelzhausenHG","OdelzhausenHG","ErdingHR","TegernbachHG","ErdingHG","OdelzhausenHG","PfaffingHG","TegernbachHG","IffeldorfHG","ErdingHG","ErdingHG","OdelzhausenHG","AlgaeuerHG","AlgaeuerHG","HohenpaehlHG","Pfaffing2022HG","ReichertshausenHG","EgmatingHG","ErdingHG","IffeldorfHG"]
[null,null,null,null,null,null,null,null,"Ad Gr",null,97,93,93,97,93,96,95,104,96,98,92,98,90,94,99,99,98,101,100,103,98,92,102,98,92,96,94,98,91,94,102,99,97,97]
[null,null,null,null,null,null,null,null,"SD",12.2,{"$f":"IF(K299=\"\",0,(K299-INDIRECT(CONCATENATE(K298,\"CR\")))*113/INDIRECT(CONCATENATE(K298,\"SR\")))","v":21.658333333333331},{"$f":"IF(L299=\"\",0,(L299-INDIRECT(CONCATENATE(L298,\"CR\")))*113/INDIRECT(CONCATENATE(L298,\"SR\")))","v":19.123076923076923},19.408396946564885,21.73076923076923,19.123076923076923,21.73076923076923,19.925954198473278,27.815384615384616,20.788549618320605,23.469230769230769,16.993129770992368,22.6,15.665909090909087,19.992307692307691,24.201574803149608,24.201574803149608,29.531932773109236,25.082575757575754,25.207692307692309,27.760629921259845,22.6,17.3780303030303,26.979844961240307,23.469230769230769,18.253846153846155,21.53228346456693,18.632061068702285,22.082442748091598,17.510687022900761,18.514615384615382,28.070634920634919,23.031297709923667,22.6,96,0,0,0,0,0,0,0,0,0,0,0,0,0,0,0,0,0,0,0,0,0,0,0,0,0,0,0,0,0,0,0,{"$f":"IF(BX299=\"\",0,(BX299-INDIRECT(CONCATENATE(BX298,\"CR\")))*113/INDIRECT(CONCATENATE(BX298,\"SR\")))","v":0},0,0,0,0,0,0,0,0,0,0,0,0,0,0,{"$f":"IF(CM299=\"\",0,(CM299-INDIRECT(CONCATENATE(CM298,\"CR\")))*113/INDIRECT(CONCATENATE(CM298,\"SR\")))","v":0},0,{"$f":"IF(CO299=\"\",0,(CO299-INDIRECT(CONCATENATE(CO298,\"CR\")))*113/INDIRECT(CONCATENATE(CO298,\"SR\")))","v":0},0,{"$f":"IF(CQ299=\"\",0,(CQ299-INDIRECT(CONCATENATE(CQ298,\"CR\")))*113/INDIRECT(CONCATENATE(CQ298,\"SR\")))","v":0},0,{"$f":"IF(CS299=\"\",0,(CS299-INDIRECT(CONCATENATE(CS298,\"CR\")))*113/INDIRECT(CONCATENATE(CS298,\"SR\")))","v":0},0,{"$f":"IF(CU299=\"\",0,(CU299-INDIRECT(CONCATENATE(CU298,\"CR\")))*113/INDIRECT(CONCATENATE(CU298,\"SR\")))","v":0},0,{"$f":"IF(CW299=\"\",0,(CW299-INDIRECT(CONCATENATE(CW298,\"CR\")))*113/INDIRECT(CONCATENATE(CW298,\"SR\")))","v":0}]
[null,null,null,null,null,null,null,null,"New Hcap",{"$f":"J300-2","v":10.199999999999999},{"$f":"IF(K300>0,MIN(J300:K300)-2,J301)","v":10.199999999999999},{"$f":"IF(L300>0,MIN(J300:L300)-2,K301)","v":10.199999999999999},{"$f":"IF(M300>0,MIN(J300:M300)-1,L301)","v":11.2},{"$f":"IF(N300>0,MIN(J300:N300),M301)","v":12.2},{"$f":"IF(O300>0,AVERAGE(SMALL(IF(J300:O300>0,J300:O300),{1,2}))-1,N301)","v":14.661538461538461},{"$f":"IF(P300>0,AVERAGE(SMALL(IF(J300:P300>0,J300:P300),{1,2})),O301)","v":15.661538461538461},{"$f":"IF(Q300>0,AVERAGE(SMALL(IF(J300:Q300>0,J300:Q300),{1,2})),P301)","v":15.661538461538461},{"$f":"IF(R300>0,AVERAGE(SMALL(IF(J300:R300>0,J300:R300),{1,2,3})),Q301)","v":16.815384615384616},{"$f":"IF(S300>0,AVERAGE(SMALL(IF(J300:S300>0,J300:S300),{1,2,3})),R301)","v":16.815384615384616},{"$f":"IF(T300>0,AVERAGE(SMALL(IF(J300:T300>0,J300:T300),{1,2,3})),S301)","v":16.815384615384616},{"$f":"IF(U300>0,AVERAGE(SMALL(IF(J300:U300>0,J300:U300),{1,2,3,4})),T301)","v":16.859820904286554},{"$f":"IF(V300>0,AVERAGE(SMALL(IF(J300:V300>0,J300:V300),{1,2,3,4})),U301)","v":16.859820904286554},{"$f":"IF(W300>0,AVERAGE(SMALL(IF(J300:W300>0,J300:W300),{1,2,3,4})),V301)","v":15.995528946244594},{"$f":"IF(X300>0,AVERAGE(SMALL(IF(J300:X300>0,J300:X300),{1,2,3,4,5})),W301)","v":16.62103854161106},{"$f":"IF(Y300>0,AVERAGE(SMALL(IF(J300:Y300>0,J300:Y300),{1,2,3,4,5})),X301)","v":16.62103854161106},{"$f":"IF(Z300>0,AVERAGE(SMALL(IF(J300:Z300>0,J300:Z300),{1,2,3,4,5,6})),Y301)","v":17.085598275770028},{"$f":"IF(AA300>0,AVERAGE(SMALL(IF(J300:AA300>0,J300:AA300),{1,2,3,4,5,6})),Z301)","v":17.085598275770028},{"$f":"IF(AB300>0,AVERAGE(SMALL(IF(J300:AB300>0,J300:AB300),{1,2,3,4,5,6,7})),AA301)","v":17.491363407584778},{"$f":"IF(AC300>0,AVERAGE(SMALL(IF(J300:AC300>0,J300:AC300),{1,2,3,4,5,6,7,8})),AB301)","v":17.803981443175143},{"$f":"IF(AD300>0,AVERAGE(SMALL(IF(K300:AD300>0,K300:AD300),{1,2,3,4,5,6,7,8})),AC301)","v":18.877550145465221},{"$f":"IF(AE300>0,AVERAGE(SMALL(IF(L300:AE300>0,L300:AE300),{1,2,3,4,5,6,7,8})),AD301)","v":18.877550145465221},{"$f":"IF(AF300>0,AVERAGE(SMALL(IF(M300:AF300>0,M300:AF300),{1,2,3,4,5,6,7,8})),AE301)","v":18.659419317959394},{"$f":"IF(AG300>0,AVERAGE(SMALL(IF(N300:AG300>0,N300:AG300),{1,2,3,4,5,6,7,8})),AF301)","v":18.949715853484935},{"$f":"IF(AH300>0,AVERAGE(SMALL(IF(O300:AH300>0,O300:AH300),{1,2,3,4,5,6,7,8})),AG301)","v":18.949715853484935},{"$f":"IF(AI300>0,AVERAGE(SMALL(IF(P300:AI300>0,P300:AI300),{1,2,3,4,5,6,7,8})),AH301)","v":18.841062007331089},{"$f":"IF(AJ300>0,AVERAGE(SMALL(IF(Q300:AJ300>0,Q300:AJ300),{1,2,3,4,5,6,7,8})),AI301)","v":18.816251286555804},{"$f":"IF(AK300>0,AVERAGE(SMALL(IF(R300:AK300>0,R300:AK300),{1,2,3,4,5,6,7,8})),AJ301)","v":18.654514645334427},{"$f":"IF(AL300>0,AVERAGE(SMALL(IF(S300:AL300>0,S300:AL300),{1,2,3,4,5,6,7,8})),AK301)","v":18.654514645334427},{"$f":"IF(AM300>0,AVERAGE(SMALL(IF(T300:AM300>0,T300:AM300),{1,2,3,4,5,6,7,8})),AL301)","v":18.244781820906947},{"$f":"IF(AN300>0,AVERAGE(SMALL(IF(U300:AN300>0,U300:AN300),{1,2,3,4,5,6,7,8})),AM301)","v":17.867573310913002},{"$f":"IF(AO300>0,AVERAGE(SMALL(IF(V300:AO300>0,V300:AO300),{1,2,3,4,5,6,7,8})),AN301)","v":18.434967522609824},{"$f":"IF(AP300>0,AVERAGE(SMALL(IF(W300:AP300>0,W300:AP300),{1,2,3,4,5,6,7,8})),AO301)","v":18.434967522609824},{"$f":"IF(AQ300>0,AVERAGE(SMALL(IF(X300:AQ300>0,X300:AQ300),{1,2,3,4,5,6,7,8})),AP301)","v":19.237034229757636},{"$f":"IF(AR300>0,AVERAGE(SMALL(IF(Y300:AR300>0,Y300:AR300),{1,2,3,4,5,6,7,8})),AQ301)","v":19.562995768219174},{"$f":"IF(AS300>0,AVERAGE(SMALL(IF(Z300:AS300>0,Z300:AS300),{1,2,3,4,5,6,7,8})),AR301)","v":19.562995768219174},{"$f":"IF(AT300>0,AVERAGE(SMALL(IF(AA300:AT300>0,AA300:AT300),{1,2,3,4,5,6,7,8})),AS301)","v":19.562995768219174},{"$f":"IF(AU300>0,AVERAGE(SMALL(IF(AB300:AU300>0,AB300:AU300),{1,2,3,4,5,6,7,8})),AT301)","v":19.562995768219174},{"$f":"IF(AV300>0,AVERAGE(SMALL(IF(AC300:AV300>0,AC300:AV300),{1,2,3,4,5,6,7,8})),AU301)","v":19.562995768219174},{"$f":"IF(AW300>0,AVERAGE(SMALL(IF(AD300:AW300>0,AD300:AW300),{1,2,3,4,5,6,7,8})),AV301)","v":19.562995768219174},{"$f":"IF(AX300>0,AVERAGE(SMALL(IF(AE300:AX300>0,AE300:AX300),{1,2,3,4,5,6,7,8})),AW301)","v":19.562995768219174},{"$f":"IF(AY300>0,AVERAGE(SMALL(IF(AF300:AY300>0,AF300:AY300),{1,2,3,4,5,6,7,8})),AX301)","v":19.562995768219174},{"$f":"IF(AZ300>0,AVERAGE(SMALL(IF(AG300:AZ300>0,AG300:AZ300),{1,2,3,4,5,6,7,8})),AY301)","v":19.562995768219174},{"$f":"IF(BA300>0,AVERAGE(SMALL(IF(AH300:BA300>0,AH300:BA300),{1,2,3,4,5,6,7,8})),AZ301)","v":19.562995768219174},{"$f":"IF(BB300>0,AVERAGE(SMALL(IF(AI300:BB300>0,AI300:BB300),{1,2,3,4,5,6,7,8})),BA301)","v":19.562995768219174},{"$f":"IF(BC300>0,AVERAGE(SMALL(IF(AJ300:BC300>0,AJ300:BC300),{1,2,3,4,5,6,7,8})),BB301)","v":19.562995768219174},{"$f":"IF(BD300>0,AVERAGE(SMALL(IF(AK300:BD300>0,AK300:BD300),{1,2,3,4,5,6,7,8})),BC301)","v":19.562995768219174},{"$f":"IF(BE300>0,AVERAGE(SMALL(IF(AL300:BE300>0,AL300:BE300),{1,2,3,4,5,6,7,8})),BD301)","v":19.562995768219174},{"$f":"IF(BF300>0,AVERAGE(SMALL(IF(AM300:BF300>0,AM300:BF300),{1,2,3,4,5,6,7,8})),BE301)","v":19.562995768219174},{"$f":"IF(BG300>0,AVERAGE(SMALL(IF(AN300:BG300>0,AN300:BG300),{1,2,3,4,5,6,7,8})),BF301)","v":19.562995768219174},{"$f":"IF(BH300>0,AVERAGE(SMALL(IF(AO300:BH300>0,AO300:BH300),{1,2,3,4,5,6,7,8})),BG301)","v":19.562995768219174},{"$f":"IF(BI300>0,AVERAGE(SMALL(IF(AP300:BI300>0,AP300:BI300),{1,2,3,4,5,6,7,8})),BH301)","v":19.562995768219174},{"$f":"IF(BJ300>0,AVERAGE(SMALL(IF(AQ300:BJ300>0,AQ300:BJ300),{1,2,3,4,5,6,7,8})),BI301)","v":19.562995768219174},{"$f":"IF(BK300>0,AVERAGE(SMALL(IF(AR300:BK300>0,AR300:BK300),{1,2,3,4,5,6,7,8})),BJ301)","v":19.562995768219174},{"$f":"IF(BL300>0,AVERAGE(SMALL(IF(AS300:BL300>0,AS300:BL300),{1,2,3,4,5,6,7,8})),BK301)","v":19.562995768219174},{"$f":"IF(BM300>0,AVERAGE(SMALL(IF(AT300:BM300>0,AT300:BM300),{1,2,3,4,5,6,7,8})),BL301)","v":19.562995768219174},{"$f":"IF(BN300>0,AVERAGE(SMALL(IF(AU300:BN300>0,AU300:BN300),{1,2,3,4,5,6,7,8})),BM301)","v":19.562995768219174},{"$f":"IF(BO300>0,AVERAGE(SMALL(IF(AV300:BO300>0,AV300:BO300),{1,2,3,4,5,6,7,8})),BN301)","v":19.562995768219174},{"$f":"IF(BP300>0,AVERAGE(SMALL(IF(AW300:BP300>0,AW300:BP300),{1,2,3,4,5,6,7,8})),BO301)","v":19.562995768219174},{"$f":"IF(BQ300>0,AVERAGE(SMALL(IF(AX300:BQ300>0,AX300:BQ300),{1,2,3,4,5,6,7,8})),BP301)","v":19.562995768219174},{"$f":"IF(BR300>0,AVERAGE(SMALL(IF(AY300:BR300>0,AY300:BR300),{1,2,3,4,5,6,7,8})),BQ301)","v":19.562995768219174},{"$f":"IF(BS300>0,AVERAGE(SMALL(IF(AZ300:BS300>0,AZ300:BS300),{1,2,3,4,5,6,7,8})),BR301)","v":19.562995768219174},{"$f":"IF(BT300>0,AVERAGE(SMALL(IF(BA300:BT300>0,BA300:BT300),{1,2,3,4,5,6,7,8})),BS301)","v":19.562995768219174},{"$f":"IF(BU300>0,AVERAGE(SMALL(IF(BB300:BU300>0,BB300:BU300),{1,2,3,4,5,6,7,8})),BT301)","v":19.562995768219174},{"$f":"IF(BV300>0,AVERAGE(SMALL(IF(BC300:BV300>0,BC300:BV300),{1,2,3,4,5,6,7,8})),BU301)","v":19.562995768219174},{"$f":"IF(BW300>0,AVERAGE(SMALL(IF(BD300:BW300>0,BD300:BW300),{1,2,3,4,5,6,7,8})),BV301)","v":19.562995768219174},{"$f":"IF(BX300>0,AVERAGE(SMALL(IF(BE300:BX300>0,BE300:BX300),{1,2,3,4,5,6,7,8})),BW301)","v":19.562995768219174},{"$f":"IF(BY300>0,AVERAGE(SMALL(IF(BF300:BY300>0,BF300:BY300),{1,2,3,4,5,6,7,8})),BX301)","v":19.562995768219174},{"$f":"IF(BZ300>0,AVERAGE(SMALL(IF(BG300:BZ300>0,BG300:BZ300),{1,2,3,4,5,6,7,8})),BY301)","v":19.562995768219174},{"$f":"IF(CA300>0,AVERAGE(SMALL(IF(BH300:CA300>0,BH300:CA300),{1,2,3,4,5,6,7,8})),BZ301)","v":19.562995768219174},{"$f":"IF(CB300>0,AVERAGE(SMALL(IF(BI300:CB300>0,BI300:CB300),{1,2,3,4,5,6,7,8})),CA301)","v":19.562995768219174},{"$f":"IF(CC300>0,AVERAGE(SMALL(IF(BJ300:CC300>0,BJ300:CC300),{1,2,3,4,5,6,7,8})),CB301)","v":19.562995768219174},{"$f":"IF(CD300>0,AVERAGE(SMALL(IF(BK300:CD300>0,BK300:CD300),{1,2,3,4,5,6,7,8})),CC301)","v":19.562995768219174},{"$f":"IF(CE300>0,AVERAGE(SMALL(IF(BL300:CE300>0,BL300:CE300),{1,2,3,4,5,6,7,8})),CD301)","v":19.562995768219174},{"$f":"IF(CF300>0,AVERAGE(SMALL(IF(BM300:CF300>0,BM300:CF300),{1,2,3,4,5,6,7,8})),CE301)","v":19.562995768219174},{"$f":"IF(CG300>0,AVERAGE(SMALL(IF(BN300:CG300>0,BN300:CG300),{1,2,3,4,5,6,7,8})),CF301)","v":19.562995768219174},{"$f":"IF(CH300>0,AVERAGE(SMALL(IF(BO300:CH300>0,BO300:CH300),{1,2,3,4,5,6,7,8})),CG301)","v":19.562995768219174},{"$f":"IF(CI300>0,AVERAGE(SMALL(IF(BP300:CI300>0,BP300:CI300),{1,2,3,4,5,6,7,8})),CH301)","v":19.562995768219174},{"$f":"IF(CJ300>0,AVERAGE(SMALL(IF(BQ300:CJ300>0,BQ300:CJ300),{1,2,3,4,5,6,7,8})),CI301)","v":19.562995768219174},{"$f":"IF(CK300>0,AVERAGE(SMALL(IF(BR300:CK300>0,BR300:CK300),{1,2,3,4,5,6,7,8})),CJ301)","v":19.562995768219174},{"$f":"IF(CL300>0,AVERAGE(SMALL(IF(BS300:CL300>0,BS300:CL300),{1,2,3,4,5,6,7,8})),CK301)","v":19.562995768219174},{"$f":"IF(CM300>0,AVERAGE(SMALL(IF(BT300:CM300>0,BT300:CM300),{1,2,3,4,5,6,7,8})),CL301)","v":19.562995768219174},{"$f":"IF(CN300>0,AVERAGE(SMALL(IF(BU300:CN300>0,BU300:CN300),{1,2,3,4,5,6,7,8})),CM301)","v":19.562995768219174},{"$f":"IF(CO300>0,AVERAGE(SMALL(IF(BV300:CO300>0,BV300:CO300),{1,2,3,4,5,6,7,8})),CN301)","v":19.562995768219174},{"$f":"IF(CP300>0,AVERAGE(SMALL(IF(BW300:CP300>0,BW300:CP300),{1,2,3,4,5,6,7,8})),CO301)","v":19.562995768219174},{"$f":"IF(CQ300>0,AVERAGE(SMALL(IF(BX300:CQ300>0,BX300:CQ300),{1,2,3,4,5,6,7,8})),CP301)","v":19.562995768219174},{"$f":"IF(CR300>0,AVERAGE(SMALL(IF(BY300:CR300>0,BY300:CR300),{1,2,3,4,5,6,7,8})),CQ301)","v":19.562995768219174},{"$f":"IF(CS300>0,AVERAGE(SMALL(IF(BZ300:CS300>0,BZ300:CS300),{1,2,3,4,5,6,7,8})),CR301)","v":19.562995768219174},{"$f":"IF(CT300>0,AVERAGE(SMALL(IF(CA300:CT300>0,CA300:CT300),{1,2,3,4,5,6,7,8})),CS301)","v":19.562995768219174},{"$f":"IF(CU300>0,AVERAGE(SMALL(IF(CB300:CU300>0,CB300:CU300),{1,2,3,4,5,6,7,8})),CT301)","v":19.562995768219174},{"$f":"IF(CV300>0,AVERAGE(SMALL(IF(CC300:CV300>0,CC300:CV300),{1,2,3,4,5,6,7,8})),CU301)","v":19.562995768219174},{"$f":"IF(CW300>0,AVERAGE(SMALL(IF(CD300:CW300>0,CD300:CW300),{1,2,3,4,5,6,7,8})),CV301)","v":19.562995768219174}]
[null,null,null,null,null,null,null,null,"Low Hcap",null,null,null,null,null,null,null,null,null,null,null,null,null,null,null,null,null,null,null,{"$f":"MIN($M301:AC301)","v":11.2},{"$f":"MIN($N301:AD301)","v":12.2},{"$f":"MIN($Q301:AE301)","v":15.661538461538461},{"$f":"MIN($Q301:AF301)","v":15.661538461538461},{"$f":"MIN($T301:AG301)","v":15.995528946244594},{"$f":"MIN($V301:AH301)","v":15.995528946244594},{"$f":"MIN($W301:AI301)","v":15.995528946244594},{"$f":"MIN($AD301:AJ301)","v":18.659419317959394},{"$f":"MIN($AD301:AK301)","v":18.654514645334427},{"$f":"MIN($AG301:AL301)","v":18.654514645334427},{"$f":"MIN($AG301:AM301)","v":18.244781820906947},{"$f":"MIN($AG301:AN301)","v":17.867573310913002},{"$f":"MIN($AJ301:AO301)","v":17.867573310913002},{"$f":"MIN($AJ301:AP301)","v":17.867573310913002},{"$f":"MIN($AK301:AQ301)","v":17.867573310913002},{"$f":"MIN($AK301:AR301)","v":17.867573310913002},{"$f":"MIN($AK301:AS301)","v":17.867573310913002},{"$f":"MIN($AK301:AT301)","v":17.867573310913002},{"$f":"MIN($AK301:AU301)","v":17.867573310913002},{"$f":"MIN($AK301:AV301)","v":17.867573310913002},{"$f":"MIN($AK301:AW301)","v":17.867573310913002},{"$f":"MIN($AK301:AX301)","v":17.867573310913002},{"$f":"MIN($AK301:AY301)","v":17.867573310913002},{"$f":"MIN($AK301:AZ301)","v":17.867573310913002},{"$f":"MIN($AK301:BA301)","v":17.867573310913002},{"$f":"MIN($AK301:BB301)","v":17.867573310913002},{"$f":"MIN($AK301:BC301)","v":17.867573310913002},{"$f":"MIN($AK301:BD301)","v":17.867573310913002},{"$f":"MIN($AK301:BE301)","v":17.867573310913002},{"$f":"MIN($AK301:BF301)","v":17.867573310913002},{"$f":"MIN($AK301:BG301)","v":17.867573310913002},{"$f":"MIN($AK301:BH301)","v":17.867573310913002},{"$f":"MIN($AK301:BI301)","v":17.867573310913002},{"$f":"MIN($AK301:BJ301)","v":17.867573310913002},{"$f":"MIN($AK301:BK301)","v":17.867573310913002},{"$f":"MIN($AK301:BL301)","v":17.867573310913002},{"$f":"MIN($AK301:BM301)","v":17.867573310913002},{"$f":"MIN($AK301:BN301)","v":17.867573310913002},{"$f":"MIN($AK301:BO301)","v":17.867573310913002},{"$f":"MIN($AK301:BP301)","v":17.867573310913002},{"$f":"MIN($AK301:BQ301)","v":17.867573310913002},{"$f":"MIN($AK301:BR301)","v":17.867573310913002},{"$f":"MIN($AK301:BS301)","v":17.867573310913002},{"$f":"MIN($AK301:BT301)","v":17.867573310913002},{"$f":"MIN($AK301:BU301)","v":17.867573310913002},{"$f":"MIN($AK301:BV301)","v":17.867573310913002},{"$f":"MIN($AK301:BW301)","v":17.867573310913002},{"$f":"MIN($AK301:BX301)","v":17.867573310913002},{"$f":"MIN($AK301:BY301)","v":17.867573310913002},{"$f":"MIN($AK301:BZ301)","v":17.867573310913002},{"$f":"MIN($AK301:CA301)","v":17.867573310913002},{"$f":"MIN($AK301:CB301)","v":17.867573310913002},{"$f":"MIN($AK301:CC301)","v":17.867573310913002},{"$f":"MIN($AK301:CD301)","v":17.867573310913002},{"$f":"MIN($AK301:CE301)","v":17.867573310913002},{"$f":"MIN($AK301:CF301)","v":17.867573310913002},{"$f":"MIN($AK301:CG301)","v":17.867573310913002},{"$f":"MIN($AK301:CH301)","v":17.867573310913002},{"$f":"MIN($AK301:CI301)","v":17.867573310913002},{"$f":"MIN($AK301:CJ301)","v":17.867573310913002},{"$f":"MIN($AK301:CK301)","v":17.867573310913002},{"$f":"MIN($AK301:CL301)","v":17.867573310913002},{"$f":"MIN($AK301:CM301)","v":17.867573310913002},{"$f":"MIN($AK301:CN301)","v":17.867573310913002},{"$f":"MIN($AK301:CO301)","v":17.867573310913002},{"$f":"MIN($AK301:CP301)","v":17.867573310913002},{"$f":"MIN($AK301:CQ301)","v":17.867573310913002},{"$f":"MIN($AK301:CR301)","v":17.867573310913002},{"$f":"MIN($AK301:CS301)","v":17.867573310913002},{"$f":"MIN($AK301:CT301)","v":17.867573310913002},{"$f":"MIN($AK301:CU301)","v":17.867573310913002},{"$f":"MIN($AK301:CV301)","v":17.867573310913002},{"$f":"MIN($AK301:CW301)","v":17.867573310913002}]
[null,"Jones","Anthony",15.3,null,{"$f":"IF(H303<4,\"Y\",)","v":"Y"},2019,{"$f":"COUNT(J303:CX303)","v":0},"Date",null,null,null,null,null,null,null,null,null,null,null,null,null,null,null,null,null,null,null,null,null,null,null,null,null,null,null,null,null,null,null,null,null,null,null,null,null,null,null,null,null,null,null,null,null,null,null,null,null,null,null,null,null,null,null,null,null,null,null,null,null,null,null,null,null,null,null,null,null,null,null,null,null,null,null,null,null,null,null,null,null,null,null,null,null,null,null,null,null,null,null,null,null,{"$f":"IF(CW307>$DD$1,36,CW307)","v":13.3},13.3,{"$f":"CZ303-CY303","v":0}]
[null,null,null,null,null,null,null,null,"Course"]
[null,null,null,null,null,null,null,null,"Ad Gr"]
[null,null,null,null,null,null,null,null,"SD",{"$f":"D303","v":15.3},{"$f":"IF(K305=\"\",0,(K305-INDIRECT(CONCATENATE(K304,\"CR\")))*113/INDIRECT(CONCATENATE(K304,\"SR\")))","v":0},{"$f":"IF(L305=\"\",0,(L305-INDIRECT(CONCATENATE(L304,\"CR\")))*113/INDIRECT(CONCATENATE(L304,\"SR\")))","v":0},0,0,0,0,0,0,0,0,0,0,0,0,0,0,0,0,0,0,0,0,0,0,0,0,0,0,0,0,0,0,0,0,0,0,0,0,0,0,0,0,0,0,0,0,0,0,0,0,0,0,0,0,0,0,0,0,0,0,0,0,0,0,0,{"$f":"IF(BX305=\"\",0,(BX305-INDIRECT(CONCATENATE(BX304,\"CR\")))*113/INDIRECT(CONCATENATE(BX304,\"SR\")))","v":0},0,0,0,0,0,0,0,0,0,0,0,0,0,0,{"$f":"IF(CM305=\"\",0,(CM305-INDIRECT(CONCATENATE(CM304,\"CR\")))*113/INDIRECT(CONCATENATE(CM304,\"SR\")))","v":0},0,{"$f":"IF(CO305=\"\",0,(CO305-INDIRECT(CONCATENATE(CO304,\"CR\")))*113/INDIRECT(CONCATENATE(CO304,\"SR\")))","v":0},0,{"$f":"IF(CQ305=\"\",0,(CQ305-INDIRECT(CONCATENATE(CQ304,\"CR\")))*113/INDIRECT(CONCATENATE(CQ304,\"SR\")))","v":0},0,{"$f":"IF(CS305=\"\",0,(CS305-INDIRECT(CONCATENATE(CS304,\"CR\")))*113/INDIRECT(CONCATENATE(CS304,\"SR\")))","v":0},0,{"$f":"IF(CU305=\"\",0,(CU305-INDIRECT(CONCATENATE(CU304,\"CR\")))*113/INDIRECT(CONCATENATE(CU304,\"SR\")))","v":0},0,{"$f":"IF(CW305=\"\",0,(CW305-INDIRECT(CONCATENATE(CW304,\"CR\")))*113/INDIRECT(CONCATENATE(CW304,\"SR\")))","v":0}]
[null,null,null,null,null,null,null,null,"New Hcap",{"$f":"J306-2","v":13.3},{"$f":"IF(K306>0,MIN(J306:K306)-2,J307)","v":13.3},{"$f":"IF(L306>0,MIN(J306:L306)-2,K307)","v":13.3},{"$f":"IF(M306>0,MIN(J306:M306)-1,L307)","v":13.3},{"$f":"IF(N306>0,MIN(J306:N306),M307)","v":13.3},{"$f":"IF(O306>0,AVERAGE(SMALL(IF(J306:O306>0,J306:O306),{1,2}))-1,N307)","v":13.3},{"$f":"IF(P306>0,AVERAGE(SMALL(IF(J306:P306>0,J306:P306),{1,2})),O307)","v":13.3},{"$f":"IF(Q306>0,AVERAGE(SMALL(IF(J306:Q306>0,J306:Q306),{1,2})),P307)","v":13.3},{"$f":"IF(R306>0,AVERAGE(SMALL(IF(J306:R306>0,J306:R306),{1,2,3})),Q307)","v":13.3},{"$f":"IF(S306>0,AVERAGE(SMALL(IF(J306:S306>0,J306:S306),{1,2,3})),R307)","v":13.3},{"$f":"IF(T306>0,AVERAGE(SMALL(IF(J306:T306>0,J306:T306),{1,2,3})),S307)","v":13.3},{"$f":"IF(U306>0,AVERAGE(SMALL(IF(J306:U306>0,J306:U306),{1,2,3,4})),T307)","v":13.3},{"$f":"IF(V306>0,AVERAGE(SMALL(IF(J306:V306>0,J306:V306),{1,2,3,4})),U307)","v":13.3},{"$f":"IF(W306>0,AVERAGE(SMALL(IF(J306:W306>0,J306:W306),{1,2,3,4})),V307)","v":13.3},{"$f":"IF(X306>0,AVERAGE(SMALL(IF(J306:X306>0,J306:X306),{1,2,3,4,5})),W307)","v":13.3},{"$f":"IF(Y306>0,AVERAGE(SMALL(IF(J306:Y306>0,J306:Y306),{1,2,3,4,5})),X307)","v":13.3},{"$f":"IF(Z306>0,AVERAGE(SMALL(IF(J306:Z306>0,J306:Z306),{1,2,3,4,5,6})),Y307)","v":13.3},{"$f":"IF(AA306>0,AVERAGE(SMALL(IF(J306:AA306>0,J306:AA306),{1,2,3,4,5,6})),Z307)","v":13.3},{"$f":"IF(AB306>0,AVERAGE(SMALL(IF(J306:AB306>0,J306:AB306),{1,2,3,4,5,6,7})),AA307)","v":13.3},{"$f":"IF(AC306>0,AVERAGE(SMALL(IF(J306:AC306>0,J306:AC306),{1,2,3,4,5,6,7,8})),AB307)","v":13.3},{"$f":"IF(AD306>0,AVERAGE(SMALL(IF(K306:AD306>0,K306:AD306),{1,2,3,4,5,6,7,8})),AC307)","v":13.3},{"$f":"IF(AE306>0,AVERAGE(SMALL(IF(L306:AE306>0,L306:AE306),{1,2,3,4,5,6,7,8})),AD307)","v":13.3},{"$f":"IF(AF306>0,AVERAGE(SMALL(IF(M306:AF306>0,M306:AF306),{1,2,3,4,5,6,7,8})),AE307)","v":13.3},{"$f":"IF(AG306>0,AVERAGE(SMALL(IF(N306:AG306>0,N306:AG306),{1,2,3,4,5,6,7,8})),AF307)","v":13.3},{"$f":"IF(AH306>0,AVERAGE(SMALL(IF(O306:AH306>0,O306:AH306),{1,2,3,4,5,6,7,8})),AG307)","v":13.3},{"$f":"IF(AI306>0,AVERAGE(SMALL(IF(P306:AI306>0,P306:AI306),{1,2,3,4,5,6,7,8})),AH307)","v":13.3},{"$f":"IF(AJ306>0,AVERAGE(SMALL(IF(Q306:AJ306>0,Q306:AJ306),{1,2,3,4,5,6,7,8})),AI307)","v":13.3},{"$f":"IF(AK306>0,AVERAGE(SMALL(IF(R306:AK306>0,R306:AK306),{1,2,3,4,5,6,7,8})),AJ307)","v":13.3},{"$f":"IF(AL306>0,AVERAGE(SMALL(IF(S306:AL306>0,S306:AL306),{1,2,3,4,5,6,7,8})),AK307)","v":13.3},{"$f":"IF(AM306>0,AVERAGE(SMALL(IF(T306:AM306>0,T306:AM306),{1,2,3,4,5,6,7,8})),AL307)","v":13.3},{"$f":"IF(AN306>0,AVERAGE(SMALL(IF(U306:AN306>0,U306:AN306),{1,2,3,4,5,6,7,8})),AM307)","v":13.3},{"$f":"IF(AO306>0,AVERAGE(SMALL(IF(V306:AO306>0,V306:AO306),{1,2,3,4,5,6,7,8})),AN307)","v":13.3},{"$f":"IF(AP306>0,AVERAGE(SMALL(IF(W306:AP306>0,W306:AP306),{1,2,3,4,5,6,7,8})),AO307)","v":13.3},{"$f":"IF(AQ306>0,AVERAGE(SMALL(IF(X306:AQ306>0,X306:AQ306),{1,2,3,4,5,6,7,8})),AP307)","v":13.3},{"$f":"IF(AR306>0,AVERAGE(SMALL(IF(Y306:AR306>0,Y306:AR306),{1,2,3,4,5,6,7,8})),AQ307)","v":13.3},{"$f":"IF(AS306>0,AVERAGE(SMALL(IF(Z306:AS306>0,Z306:AS306),{1,2,3,4,5,6,7,8})),AR307)","v":13.3},{"$f":"IF(AT306>0,AVERAGE(SMALL(IF(AA306:AT306>0,AA306:AT306),{1,2,3,4,5,6,7,8})),AS307)","v":13.3},{"$f":"IF(AU306>0,AVERAGE(SMALL(IF(AB306:AU306>0,AB306:AU306),{1,2,3,4,5,6,7,8})),AT307)","v":13.3},{"$f":"IF(AV306>0,AVERAGE(SMALL(IF(AC306:AV306>0,AC306:AV306),{1,2,3,4,5,6,7,8})),AU307)","v":13.3},{"$f":"IF(AW306>0,AVERAGE(SMALL(IF(AD306:AW306>0,AD306:AW306),{1,2,3,4,5,6,7,8})),AV307)","v":13.3},{"$f":"IF(AX306>0,AVERAGE(SMALL(IF(AE306:AX306>0,AE306:AX306),{1,2,3,4,5,6,7,8})),AW307)","v":13.3},{"$f":"IF(AY306>0,AVERAGE(SMALL(IF(AF306:AY306>0,AF306:AY306),{1,2,3,4,5,6,7,8})),AX307)","v":13.3},{"$f":"IF(AZ306>0,AVERAGE(SMALL(IF(AG306:AZ306>0,AG306:AZ306),{1,2,3,4,5,6,7,8})),AY307)","v":13.3},{"$f":"IF(BA306>0,AVERAGE(SMALL(IF(AH306:BA306>0,AH306:BA306),{1,2,3,4,5,6,7,8})),AZ307)","v":13.3},{"$f":"IF(BB306>0,AVERAGE(SMALL(IF(AI306:BB306>0,AI306:BB306),{1,2,3,4,5,6,7,8})),BA307)","v":13.3},{"$f":"IF(BC306>0,AVERAGE(SMALL(IF(AJ306:BC306>0,AJ306:BC306),{1,2,3,4,5,6,7,8})),BB307)","v":13.3},{"$f":"IF(BD306>0,AVERAGE(SMALL(IF(AK306:BD306>0,AK306:BD306),{1,2,3,4,5,6,7,8})),BC307)","v":13.3},{"$f":"IF(BE306>0,AVERAGE(SMALL(IF(AL306:BE306>0,AL306:BE306),{1,2,3,4,5,6,7,8})),BD307)","v":13.3},{"$f":"IF(BF306>0,AVERAGE(SMALL(IF(AM306:BF306>0,AM306:BF306),{1,2,3,4,5,6,7,8})),BE307)","v":13.3},{"$f":"IF(BG306>0,AVERAGE(SMALL(IF(AN306:BG306>0,AN306:BG306),{1,2,3,4,5,6,7,8})),BF307)","v":13.3},{"$f":"IF(BH306>0,AVERAGE(SMALL(IF(AO306:BH306>0,AO306:BH306),{1,2,3,4,5,6,7,8})),BG307)","v":13.3},{"$f":"IF(BI306>0,AVERAGE(SMALL(IF(AP306:BI306>0,AP306:BI306),{1,2,3,4,5,6,7,8})),BH307)","v":13.3},{"$f":"IF(BJ306>0,AVERAGE(SMALL(IF(AQ306:BJ306>0,AQ306:BJ306),{1,2,3,4,5,6,7,8})),BI307)","v":13.3},{"$f":"IF(BK306>0,AVERAGE(SMALL(IF(AR306:BK306>0,AR306:BK306),{1,2,3,4,5,6,7,8})),BJ307)","v":13.3},{"$f":"IF(BL306>0,AVERAGE(SMALL(IF(AS306:BL306>0,AS306:BL306),{1,2,3,4,5,6,7,8})),BK307)","v":13.3},{"$f":"IF(BM306>0,AVERAGE(SMALL(IF(AT306:BM306>0,AT306:BM306),{1,2,3,4,5,6,7,8})),BL307)","v":13.3},{"$f":"IF(BN306>0,AVERAGE(SMALL(IF(AU306:BN306>0,AU306:BN306),{1,2,3,4,5,6,7,8})),BM307)","v":13.3},{"$f":"IF(BO306>0,AVERAGE(SMALL(IF(AV306:BO306>0,AV306:BO306),{1,2,3,4,5,6,7,8})),BN307)","v":13.3},{"$f":"IF(BP306>0,AVERAGE(SMALL(IF(AW306:BP306>0,AW306:BP306),{1,2,3,4,5,6,7,8})),BO307)","v":13.3},{"$f":"IF(BQ306>0,AVERAGE(SMALL(IF(AX306:BQ306>0,AX306:BQ306),{1,2,3,4,5,6,7,8})),BP307)","v":13.3},{"$f":"IF(BR306>0,AVERAGE(SMALL(IF(AY306:BR306>0,AY306:BR306),{1,2,3,4,5,6,7,8})),BQ307)","v":13.3},{"$f":"IF(BS306>0,AVERAGE(SMALL(IF(AZ306:BS306>0,AZ306:BS306),{1,2,3,4,5,6,7,8})),BR307)","v":13.3},{"$f":"IF(BT306>0,AVERAGE(SMALL(IF(BA306:BT306>0,BA306:BT306),{1,2,3,4,5,6,7,8})),BS307)","v":13.3},{"$f":"IF(BU306>0,AVERAGE(SMALL(IF(BB306:BU306>0,BB306:BU306),{1,2,3,4,5,6,7,8})),BT307)","v":13.3},{"$f":"IF(BV306>0,AVERAGE(SMALL(IF(BC306:BV306>0,BC306:BV306),{1,2,3,4,5,6,7,8})),BU307)","v":13.3},{"$f":"IF(BW306>0,AVERAGE(SMALL(IF(BD306:BW306>0,BD306:BW306),{1,2,3,4,5,6,7,8})),BV307)","v":13.3},{"$f":"IF(BX306>0,AVERAGE(SMALL(IF(BE306:BX306>0,BE306:BX306),{1,2,3,4,5,6,7,8})),BW307)","v":13.3},{"$f":"IF(BY306>0,AVERAGE(SMALL(IF(BF306:BY306>0,BF306:BY306),{1,2,3,4,5,6,7,8})),BX307)","v":13.3},{"$f":"IF(BZ306>0,AVERAGE(SMALL(IF(BG306:BZ306>0,BG306:BZ306),{1,2,3,4,5,6,7,8})),BY307)","v":13.3},{"$f":"IF(CA306>0,AVERAGE(SMALL(IF(BH306:CA306>0,BH306:CA306),{1,2,3,4,5,6,7,8})),BZ307)","v":13.3},{"$f":"IF(CB306>0,AVERAGE(SMALL(IF(BI306:CB306>0,BI306:CB306),{1,2,3,4,5,6,7,8})),CA307)","v":13.3},{"$f":"IF(CC306>0,AVERAGE(SMALL(IF(BJ306:CC306>0,BJ306:CC306),{1,2,3,4,5,6,7,8})),CB307)","v":13.3},{"$f":"IF(CD306>0,AVERAGE(SMALL(IF(BK306:CD306>0,BK306:CD306),{1,2,3,4,5,6,7,8})),CC307)","v":13.3},{"$f":"IF(CE306>0,AVERAGE(SMALL(IF(BL306:CE306>0,BL306:CE306),{1,2,3,4,5,6,7,8})),CD307)","v":13.3},{"$f":"IF(CF306>0,AVERAGE(SMALL(IF(BM306:CF306>0,BM306:CF306),{1,2,3,4,5,6,7,8})),CE307)","v":13.3},{"$f":"IF(CG306>0,AVERAGE(SMALL(IF(BN306:CG306>0,BN306:CG306),{1,2,3,4,5,6,7,8})),CF307)","v":13.3},{"$f":"IF(CH306>0,AVERAGE(SMALL(IF(BO306:CH306>0,BO306:CH306),{1,2,3,4,5,6,7,8})),CG307)","v":13.3},{"$f":"IF(CI306>0,AVERAGE(SMALL(IF(BP306:CI306>0,BP306:CI306),{1,2,3,4,5,6,7,8})),CH307)","v":13.3},{"$f":"IF(CJ306>0,AVERAGE(SMALL(IF(BQ306:CJ306>0,BQ306:CJ306),{1,2,3,4,5,6,7,8})),CI307)","v":13.3},{"$f":"IF(CK306>0,AVERAGE(SMALL(IF(BR306:CK306>0,BR306:CK306),{1,2,3,4,5,6,7,8})),CJ307)","v":13.3},{"$f":"IF(CL306>0,AVERAGE(SMALL(IF(BS306:CL306>0,BS306:CL306),{1,2,3,4,5,6,7,8})),CK307)","v":13.3},{"$f":"IF(CM306>0,AVERAGE(SMALL(IF(BT306:CM306>0,BT306:CM306),{1,2,3,4,5,6,7,8})),CL307)","v":13.3},{"$f":"IF(CN306>0,AVERAGE(SMALL(IF(BU306:CN306>0,BU306:CN306),{1,2,3,4,5,6,7,8})),CM307)","v":13.3},{"$f":"IF(CO306>0,AVERAGE(SMALL(IF(BV306:CO306>0,BV306:CO306),{1,2,3,4,5,6,7,8})),CN307)","v":13.3},{"$f":"IF(CP306>0,AVERAGE(SMALL(IF(BW306:CP306>0,BW306:CP306),{1,2,3,4,5,6,7,8})),CO307)","v":13.3},{"$f":"IF(CQ306>0,AVERAGE(SMALL(IF(BX306:CQ306>0,BX306:CQ306),{1,2,3,4,5,6,7,8})),CP307)","v":13.3},{"$f":"IF(CR306>0,AVERAGE(SMALL(IF(BY306:CR306>0,BY306:CR306),{1,2,3,4,5,6,7,8})),CQ307)","v":13.3},{"$f":"IF(CS306>0,AVERAGE(SMALL(IF(BZ306:CS306>0,BZ306:CS306),{1,2,3,4,5,6,7,8})),CR307)","v":13.3},{"$f":"IF(CT306>0,AVERAGE(SMALL(IF(CA306:CT306>0,CA306:CT306),{1,2,3,4,5,6,7,8})),CS307)","v":13.3},{"$f":"IF(CU306>0,AVERAGE(SMALL(IF(CB306:CU306>0,CB306:CU306),{1,2,3,4,5,6,7,8})),CT307)","v":13.3},{"$f":"IF(CV306>0,AVERAGE(SMALL(IF(CC306:CV306>0,CC306:CV306),{1,2,3,4,5,6,7,8})),CU307)","v":13.3},{"$f":"IF(CW306>0,AVERAGE(SMALL(IF(CD306:CW306>0,CD306:CW306),{1,2,3,4,5,6,7,8})),CV307)","v":13.3}]
[null,null,null,null,null,null,null,null,"Low Hcap"]
[null,"Jones","Jon-Paul",7.1,null,{"$f":"IF(H309<4,\"Y\",)","v":"Y"},2023,{"$f":"COUNT(J309:CX309)","v":1},"Date",null,"2023-05-28",null,null,null,null,null,null,null,null,null,null,null,null,null,null,null,null,null,null,null,null,null,null,null,null,null,null,null,null,null,null,null,null,null,null,null,null,null,null,null,null,null,null,null,null,null,null,null,null,null,null,null,null,null,null,null,null,null,null,null,null,null,null,null,null,null,null,null,null,null,null,null,null,null,null,null,null,null,null,null,null,null,null,null,null,null,null,null,null,null,null,null,{"$f":"IF(CW313>$DD$1,36,CW313)","v":7.1},7.1,{"$f":"CZ309-CY309","v":0}]
[null,null,null,null,null,null,null,null,"Course",null,"ErdingHG"]
[null,null,null,null,null,null,null,null,"Ad Gr",null,91]
[null,null,null,null,null,null,null,null,"SD",9.1,{"$f":"IF(K311=\"\",0,(K311-INDIRECT(CONCATENATE(K310,\"CR\")))*113/INDIRECT(CONCATENATE(K310,\"SR\")))","v":17.384615384615383},{"$f":"IF(L311=\"\",0,(L311-INDIRECT(CONCATENATE(L310,\"CR\")))*113/INDIRECT(CONCATENATE(L310,\"SR\")))","v":0},0,0,0,0,0,0,0,0,0,0,0,0,0,0,0,0,0,0,0,0,0,0,0,0,0,0,0,0,0,0,0,0,0,0,0,0,0,0,0,0,0,0,0,0,0,0,0,0,0,0,0,0,0,0,0,0,0,0,0,0,0,0,0,{"$f":"IF(BX311=\"\",0,(BX311-INDIRECT(CONCATENATE(BX310,\"CR\")))*113/INDIRECT(CONCATENATE(BX310,\"SR\")))","v":0},0,0,0,0,0,0,0,0,0,0,0,0,0,0,0,0,0,0,0,0,0,0,0,0,0]
[null,null,null,null,null,null,null,null,"New Hcap",{"$f":"J312-2","v":7.1},{"$f":"IF(K312>0,MIN(J312:K312)-2,J313)","v":7.1},{"$f":"IF(L312>0,MIN(J312:L312)-2,K313)","v":7.1},{"$f":"IF(M312>0,MIN(J312:M312)-1,L313)","v":7.1},{"$f":"IF(N312>0,MIN(J312:N312),M313)","v":7.1},{"$f":"IF(O312>0,AVERAGE(SMALL(IF(J312:O312>0,J312:O312),{1,2}))-1,N313)","v":7.1},{"$f":"IF(P312>0,AVERAGE(SMALL(IF(J312:P312>0,J312:P312),{1,2})),O313)","v":7.1},{"$f":"IF(Q312>0,AVERAGE(SMALL(IF(J312:Q312>0,J312:Q312),{1,2})),P313)","v":7.1},{"$f":"IF(R312>0,AVERAGE(SMALL(IF(J312:R312>0,J312:R312),{1,2,3})),Q313)","v":7.1},{"$f":"IF(S312>0,AVERAGE(SMALL(IF(J312:S312>0,J312:S312),{1,2,3})),R313)","v":7.1},{"$f":"IF(T312>0,AVERAGE(SMALL(IF(J312:T312>0,J312:T312),{1,2,3})),S313)","v":7.1},{"$f":"IF(U312>0,AVERAGE(SMALL(IF(J312:U312>0,J312:U312),{1,2,3,4})),T313)","v":7.1},{"$f":"IF(V312>0,AVERAGE(SMALL(IF(J312:V312>0,J312:V312),{1,2,3,4})),U313)","v":7.1},{"$f":"IF(W312>0,AVERAGE(SMALL(IF(J312:W312>0,J312:W312),{1,2,3,4})),V313)","v":7.1},{"$f":"IF(X312>0,AVERAGE(SMALL(IF(J312:X312>0,J312:X312),{1,2,3,4,5})),W313)","v":7.1},{"$f":"IF(Y312>0,AVERAGE(SMALL(IF(J312:Y312>0,J312:Y312),{1,2,3,4,5})),X313)","v":7.1},{"$f":"IF(Z312>0,AVERAGE(SMALL(IF(J312:Z312>0,J312:Z312),{1,2,3,4,5,6})),Y313)","v":7.1},{"$f":"IF(AA312>0,AVERAGE(SMALL(IF(J312:AA312>0,J312:AA312),{1,2,3,4,5,6})),Z313)","v":7.1},{"$f":"IF(AB312>0,AVERAGE(SMALL(IF(J312:AB312>0,J312:AB312),{1,2,3,4,5,6,7})),AA313)","v":7.1},{"$f":"IF(AC312>0,AVERAGE(SMALL(IF(J312:AC312>0,J312:AC312),{1,2,3,4,5,6,7,8})),AB313)","v":7.1},{"$f":"IF(AD312>0,AVERAGE(SMALL(IF(K312:AD312>0,K312:AD312),{1,2,3,4,5,6,7,8})),AC313)","v":7.1},{"$f":"IF(AE312>0,AVERAGE(SMALL(IF(L312:AE312>0,L312:AE312),{1,2,3,4,5,6,7,8})),AD313)","v":7.1},{"$f":"IF(AF312>0,AVERAGE(SMALL(IF(M312:AF312>0,M312:AF312),{1,2,3,4,5,6,7,8})),AE313)","v":7.1},{"$f":"IF(AG312>0,AVERAGE(SMALL(IF(N312:AG312>0,N312:AG312),{1,2,3,4,5,6,7,8})),AF313)","v":7.1},{"$f":"IF(AH312>0,AVERAGE(SMALL(IF(O312:AH312>0,O312:AH312),{1,2,3,4,5,6,7,8})),AG313)","v":7.1},{"$f":"IF(AI312>0,AVERAGE(SMALL(IF(P312:AI312>0,P312:AI312),{1,2,3,4,5,6,7,8})),AH313)","v":7.1},{"$f":"IF(AJ312>0,AVERAGE(SMALL(IF(Q312:AJ312>0,Q312:AJ312),{1,2,3,4,5,6,7,8})),AI313)","v":7.1},{"$f":"IF(AK312>0,AVERAGE(SMALL(IF(R312:AK312>0,R312:AK312),{1,2,3,4,5,6,7,8})),AJ313)","v":7.1},{"$f":"IF(AL312>0,AVERAGE(SMALL(IF(S312:AL312>0,S312:AL312),{1,2,3,4,5,6,7,8})),AK313)","v":7.1},{"$f":"IF(AM312>0,AVERAGE(SMALL(IF(T312:AM312>0,T312:AM312),{1,2,3,4,5,6,7,8})),AL313)","v":7.1},{"$f":"IF(AN312>0,AVERAGE(SMALL(IF(U312:AN312>0,U312:AN312),{1,2,3,4,5,6,7,8})),AM313)","v":7.1},{"$f":"IF(AO312>0,AVERAGE(SMALL(IF(V312:AO312>0,V312:AO312),{1,2,3,4,5,6,7,8})),AN313)","v":7.1},{"$f":"IF(AP312>0,AVERAGE(SMALL(IF(W312:AP312>0,W312:AP312),{1,2,3,4,5,6,7,8})),AO313)","v":7.1},{"$f":"IF(AQ312>0,AVERAGE(SMALL(IF(X312:AQ312>0,X312:AQ312),{1,2,3,4,5,6,7,8})),AP313)","v":7.1},{"$f":"IF(AR312>0,AVERAGE(SMALL(IF(Y312:AR312>0,Y312:AR312),{1,2,3,4,5,6,7,8})),AQ313)","v":7.1},{"$f":"IF(AS312>0,AVERAGE(SMALL(IF(Z312:AS312>0,Z312:AS312),{1,2,3,4,5,6,7,8})),AR313)","v":7.1},{"$f":"IF(AT312>0,AVERAGE(SMALL(IF(AA312:AT312>0,AA312:AT312),{1,2,3,4,5,6,7,8})),AS313)","v":7.1},{"$f":"IF(AU312>0,AVERAGE(SMALL(IF(AB312:AU312>0,AB312:AU312),{1,2,3,4,5,6,7,8})),AT313)","v":7.1},{"$f":"IF(AV312>0,AVERAGE(SMALL(IF(AC312:AV312>0,AC312:AV312),{1,2,3,4,5,6,7,8})),AU313)","v":7.1},{"$f":"IF(AW312>0,AVERAGE(SMALL(IF(AD312:AW312>0,AD312:AW312),{1,2,3,4,5,6,7,8})),AV313)","v":7.1},{"$f":"IF(AX312>0,AVERAGE(SMALL(IF(AE312:AX312>0,AE312:AX312),{1,2,3,4,5,6,7,8})),AW313)","v":7.1},{"$f":"IF(AY312>0,AVERAGE(SMALL(IF(AF312:AY312>0,AF312:AY312),{1,2,3,4,5,6,7,8})),AX313)","v":7.1},{"$f":"IF(AZ312>0,AVERAGE(SMALL(IF(AG312:AZ312>0,AG312:AZ312),{1,2,3,4,5,6,7,8})),AY313)","v":7.1},{"$f":"IF(BA312>0,AVERAGE(SMALL(IF(AH312:BA312>0,AH312:BA312),{1,2,3,4,5,6,7,8})),AZ313)","v":7.1},{"$f":"IF(BB312>0,AVERAGE(SMALL(IF(AI312:BB312>0,AI312:BB312),{1,2,3,4,5,6,7,8})),BA313)","v":7.1},{"$f":"IF(BC312>0,AVERAGE(SMALL(IF(AJ312:BC312>0,AJ312:BC312),{1,2,3,4,5,6,7,8})),BB313)","v":7.1},{"$f":"IF(BD312>0,AVERAGE(SMALL(IF(AK312:BD312>0,AK312:BD312),{1,2,3,4,5,6,7,8})),BC313)","v":7.1},{"$f":"IF(BE312>0,AVERAGE(SMALL(IF(AL312:BE312>0,AL312:BE312),{1,2,3,4,5,6,7,8})),BD313)","v":7.1},{"$f":"IF(BF312>0,AVERAGE(SMALL(IF(AM312:BF312>0,AM312:BF312),{1,2,3,4,5,6,7,8})),BE313)","v":7.1},{"$f":"IF(BG312>0,AVERAGE(SMALL(IF(AN312:BG312>0,AN312:BG312),{1,2,3,4,5,6,7,8})),BF313)","v":7.1},{"$f":"IF(BH312>0,AVERAGE(SMALL(IF(AO312:BH312>0,AO312:BH312),{1,2,3,4,5,6,7,8})),BG313)","v":7.1},{"$f":"IF(BI312>0,AVERAGE(SMALL(IF(AP312:BI312>0,AP312:BI312),{1,2,3,4,5,6,7,8})),BH313)","v":7.1},{"$f":"IF(BJ312>0,AVERAGE(SMALL(IF(AQ312:BJ312>0,AQ312:BJ312),{1,2,3,4,5,6,7,8})),BI313)","v":7.1},{"$f":"IF(BK312>0,AVERAGE(SMALL(IF(AR312:BK312>0,AR312:BK312),{1,2,3,4,5,6,7,8})),BJ313)","v":7.1},{"$f":"IF(BL312>0,AVERAGE(SMALL(IF(AS312:BL312>0,AS312:BL312),{1,2,3,4,5,6,7,8})),BK313)","v":7.1},{"$f":"IF(BM312>0,AVERAGE(SMALL(IF(AT312:BM312>0,AT312:BM312),{1,2,3,4,5,6,7,8})),BL313)","v":7.1},{"$f":"IF(BN312>0,AVERAGE(SMALL(IF(AU312:BN312>0,AU312:BN312),{1,2,3,4,5,6,7,8})),BM313)","v":7.1},{"$f":"IF(BO312>0,AVERAGE(SMALL(IF(AV312:BO312>0,AV312:BO312),{1,2,3,4,5,6,7,8})),BN313)","v":7.1},{"$f":"IF(BP312>0,AVERAGE(SMALL(IF(AW312:BP312>0,AW312:BP312),{1,2,3,4,5,6,7,8})),BO313)","v":7.1},{"$f":"IF(BQ312>0,AVERAGE(SMALL(IF(AX312:BQ312>0,AX312:BQ312),{1,2,3,4,5,6,7,8})),BP313)","v":7.1},{"$f":"IF(BR312>0,AVERAGE(SMALL(IF(AY312:BR312>0,AY312:BR312),{1,2,3,4,5,6,7,8})),BQ313)","v":7.1},{"$f":"IF(BS312>0,AVERAGE(SMALL(IF(AZ312:BS312>0,AZ312:BS312),{1,2,3,4,5,6,7,8})),BR313)","v":7.1},{"$f":"IF(BT312>0,AVERAGE(SMALL(IF(BA312:BT312>0,BA312:BT312),{1,2,3,4,5,6,7,8})),BS313)","v":7.1},{"$f":"IF(BU312>0,AVERAGE(SMALL(IF(BB312:BU312>0,BB312:BU312),{1,2,3,4,5,6,7,8})),BT313)","v":7.1},{"$f":"IF(BV312>0,AVERAGE(SMALL(IF(BC312:BV312>0,BC312:BV312),{1,2,3,4,5,6,7,8})),BU313)","v":7.1},{"$f":"IF(BW312>0,AVERAGE(SMALL(IF(BD312:BW312>0,BD312:BW312),{1,2,3,4,5,6,7,8})),BV313)","v":7.1},{"$f":"IF(BX312>0,AVERAGE(SMALL(IF(BE312:BX312>0,BE312:BX312),{1,2,3,4,5,6,7,8})),BW313)","v":7.1},{"$f":"IF(BY312>0,AVERAGE(SMALL(IF(BF312:BY312>0,BF312:BY312),{1,2,3,4,5,6,7,8})),BX313)","v":7.1},{"$f":"IF(BZ312>0,AVERAGE(SMALL(IF(BG312:BZ312>0,BG312:BZ312),{1,2,3,4,5,6,7,8})),BY313)","v":7.1},{"$f":"IF(CA312>0,AVERAGE(SMALL(IF(BH312:CA312>0,BH312:CA312),{1,2,3,4,5,6,7,8})),BZ313)","v":7.1},{"$f":"IF(CB312>0,AVERAGE(SMALL(IF(BI312:CB312>0,BI312:CB312),{1,2,3,4,5,6,7,8})),CA313)","v":7.1},{"$f":"IF(CC312>0,AVERAGE(SMALL(IF(BJ312:CC312>0,BJ312:CC312),{1,2,3,4,5,6,7,8})),CB313)","v":7.1},{"$f":"IF(CD312>0,AVERAGE(SMALL(IF(BK312:CD312>0,BK312:CD312),{1,2,3,4,5,6,7,8})),CC313)","v":7.1},{"$f":"IF(CE312>0,AVERAGE(SMALL(IF(BL312:CE312>0,BL312:CE312),{1,2,3,4,5,6,7,8})),CD313)","v":7.1},{"$f":"IF(CF312>0,AVERAGE(SMALL(IF(BM312:CF312>0,BM312:CF312),{1,2,3,4,5,6,7,8})),CE313)","v":7.1},{"$f":"IF(CG312>0,AVERAGE(SMALL(IF(BN312:CG312>0,BN312:CG312),{1,2,3,4,5,6,7,8})),CF313)","v":7.1},{"$f":"IF(CH312>0,AVERAGE(SMALL(IF(BO312:CH312>0,BO312:CH312),{1,2,3,4,5,6,7,8})),CG313)","v":7.1},{"$f":"IF(CI312>0,AVERAGE(SMALL(IF(BP312:CI312>0,BP312:CI312),{1,2,3,4,5,6,7,8})),CH313)","v":7.1},{"$f":"IF(CJ312>0,AVERAGE(SMALL(IF(BQ312:CJ312>0,BQ312:CJ312),{1,2,3,4,5,6,7,8})),CI313)","v":7.1},{"$f":"IF(CK312>0,AVERAGE(SMALL(IF(BR312:CK312>0,BR312:CK312),{1,2,3,4,5,6,7,8})),CJ313)","v":7.1},{"$f":"IF(CL312>0,AVERAGE(SMALL(IF(BS312:CL312>0,BS312:CL312),{1,2,3,4,5,6,7,8})),CK313)","v":7.1},{"$f":"IF(CM312>0,AVERAGE(SMALL(IF(BT312:CM312>0,BT312:CM312),{1,2,3,4,5,6,7,8})),CL313)","v":7.1},{"$f":"IF(CN312>0,AVERAGE(SMALL(IF(BU312:CN312>0,BU312:CN312),{1,2,3,4,5,6,7,8})),CM313)","v":7.1},{"$f":"IF(CO312>0,AVERAGE(SMALL(IF(BV312:CO312>0,BV312:CO312),{1,2,3,4,5,6,7,8})),CN313)","v":7.1},{"$f":"IF(CP312>0,AVERAGE(SMALL(IF(BW312:CP312>0,BW312:CP312),{1,2,3,4,5,6,7,8})),CO313)","v":7.1},{"$f":"IF(CQ312>0,AVERAGE(SMALL(IF(BX312:CQ312>0,BX312:CQ312),{1,2,3,4,5,6,7,8})),CP313)","v":7.1},{"$f":"IF(CR312>0,AVERAGE(SMALL(IF(BY312:CR312>0,BY312:CR312),{1,2,3,4,5,6,7,8})),CQ313)","v":7.1},{"$f":"IF(CS312>0,AVERAGE(SMALL(IF(BZ312:CS312>0,BZ312:CS312),{1,2,3,4,5,6,7,8})),CR313)","v":7.1},{"$f":"IF(CT312>0,AVERAGE(SMALL(IF(CA312:CT312>0,CA312:CT312),{1,2,3,4,5,6,7,8})),CS313)","v":7.1},{"$f":"IF(CU312>0,AVERAGE(SMALL(IF(CB312:CU312>0,CB312:CU312),{1,2,3,4,5,6,7,8})),CT313)","v":7.1},{"$f":"IF(CV312>0,AVERAGE(SMALL(IF(CC312:CV312>0,CC312:CV312),{1,2,3,4,5,6,7,8})),CU313)","v":7.1},{"$f":"IF(CW312>0,AVERAGE(SMALL(IF(CD312:CW312>0,CD312:CW312),{1,2,3,4,5,6,7,8})),CV313)","v":7.1}]
[null,null,null,null,null,null,null,null,"Low Hcap"]
[null,"Keller","Louis",18,null,{"$f":"IF(H315<4,\"Y\",)","v":0},2021,{"$f":"COUNT(J315:CX315)","v":5},"Date",null,"2021-04-25","2021-05-09","2021-05-23","2021-05-30","2021-06-13",null,null,null,null,null,null,null,null,null,null,null,null,null,null,null,null,null,null,null,null,null,null,null,null,null,null,null,null,null,null,null,null,null,null,null,null,null,null,null,null,null,null,null,null,null,null,null,null,null,null,null,null,null,null,null,null,null,null,null,null,null,null,null,null,null,null,null,null,null,null,null,null,null,null,null,null,null,null,null,null,null,null,null,null,null,null,null,{"$f":"IF(CW319>$DD$1,36,CW319)","v":21.61395348837209},21.61395348837209,{"$f":"CZ315-CY315","v":0}]
[null,null,null,null,null,null,null,null,"Course",null,"PfaffingHG","ErdingHG","OdelzhausenHG","IffeldorfHG","PfaffingHG"]
[null,null,null,null,null,null,null,null,"Ad Gr",null,102,104,111,100,103]
[null,null,null,null,null,null,null,null,"SD",20,{"$f":"IF(K317=\"\",0,(K317-INDIRECT(CONCATENATE(K316,\"CR\")))*113/INDIRECT(CONCATENATE(K316,\"SR\")))","v":26.076923076923077},{"$f":"IF(L317=\"\",0,(L317-INDIRECT(CONCATENATE(L316,\"CR\")))*113/INDIRECT(CONCATENATE(L316,\"SR\")))","v":28.684615384615384},34.878740157480316,25.227906976744183,26.946153846153845,0,0,0,0,0,0,0,0,0,0,0,0,0,0,0,0,0,0,0,0,0,0,0,0,0,0,0,0,0,0,0,0,0,0,0,0,0,0,0,0,0,0,0,0,0,0,0,0,0,0,0,0,0,0,0,0,0,0,0,0,{"$f":"IF(BX317=\"\",0,(BX317-INDIRECT(CONCATENATE(BX316,\"CR\")))*113/INDIRECT(CONCATENATE(BX316,\"SR\")))","v":0},0,0,0,0,0,0,0,0,0,0,0,0,0,0,{"$f":"IF(CM317=\"\",0,(CM317-INDIRECT(CONCATENATE(CM316,\"CR\")))*113/INDIRECT(CONCATENATE(CM316,\"SR\")))","v":0},0,{"$f":"IF(CO317=\"\",0,(CO317-INDIRECT(CONCATENATE(CO316,\"CR\")))*113/INDIRECT(CONCATENATE(CO316,\"SR\")))","v":0},0,{"$f":"IF(CQ317=\"\",0,(CQ317-INDIRECT(CONCATENATE(CQ316,\"CR\")))*113/INDIRECT(CONCATENATE(CQ316,\"SR\")))","v":0},0,{"$f":"IF(CS317=\"\",0,(CS317-INDIRECT(CONCATENATE(CS316,\"CR\")))*113/INDIRECT(CONCATENATE(CS316,\"SR\")))","v":0},0,{"$f":"IF(CU317=\"\",0,(CU317-INDIRECT(CONCATENATE(CU316,\"CR\")))*113/INDIRECT(CONCATENATE(CU316,\"SR\")))","v":0},0,{"$f":"IF(CW317=\"\",0,(CW317-INDIRECT(CONCATENATE(CW316,\"CR\")))*113/INDIRECT(CONCATENATE(CW316,\"SR\")))","v":0}]
[null,null,null,null,null,null,null,null,"New Hcap",{"$f":"J318-2","v":18},{"$f":"IF(K318>0,MIN(J318:K318)-2,J319)","v":18},{"$f":"IF(L318>0,MIN(J318:L318)-2,K319)","v":18},{"$f":"IF(M318>0,MIN(J318:M318)-1,L319)","v":19},{"$f":"IF(N318>0,MIN(J318:N318),M319)","v":20},{"$f":"IF(O318>0,AVERAGE(SMALL(IF(J318:O318>0,J318:O318),{1,2}))-1,N319)","v":21.61395348837209},{"$f":"IF(P318>0,AVERAGE(SMALL(IF(J318:P318>0,J318:P318),{1,2})),O319)","v":21.61395348837209},{"$f":"IF(Q318>0,AVERAGE(SMALL(IF(J318:Q318>0,J318:Q318),{1,2})),P319)","v":21.61395348837209},{"$f":"IF(R318>0,AVERAGE(SMALL(IF(J318:R318>0,J318:R318),{1,2,3})),Q319)","v":21.61395348837209},{"$f":"IF(S318>0,AVERAGE(SMALL(IF(J318:S318>0,J318:S318),{1,2,3})),R319)","v":21.61395348837209},{"$f":"IF(T318>0,AVERAGE(SMALL(IF(J318:T318>0,J318:T318),{1,2,3})),S319)","v":21.61395348837209},{"$f":"IF(U318>0,AVERAGE(SMALL(IF(J318:U318>0,J318:U318),{1,2,3,4})),T319)","v":21.61395348837209},{"$f":"IF(V318>0,AVERAGE(SMALL(IF(J318:V318>0,J318:V318),{1,2,3,4})),U319)","v":21.61395348837209},{"$f":"IF(W318>0,AVERAGE(SMALL(IF(J318:W318>0,J318:W318),{1,2,3,4})),V319)","v":21.61395348837209},{"$f":"IF(X318>0,AVERAGE(SMALL(IF(J318:X318>0,J318:X318),{1,2,3,4,5})),W319)","v":21.61395348837209},{"$f":"IF(Y318>0,AVERAGE(SMALL(IF(J318:Y318>0,J318:Y318),{1,2,3,4,5})),X319)","v":21.61395348837209},{"$f":"IF(Z318>0,AVERAGE(SMALL(IF(J318:Z318>0,J318:Z318),{1,2,3,4,5,6})),Y319)","v":21.61395348837209},{"$f":"IF(AA318>0,AVERAGE(SMALL(IF(J318:AA318>0,J318:AA318),{1,2,3,4,5,6})),Z319)","v":21.61395348837209},{"$f":"IF(AB318>0,AVERAGE(SMALL(IF(J318:AB318>0,J318:AB318),{1,2,3,4,5,6,7})),AA319)","v":21.61395348837209},{"$f":"IF(AC318>0,AVERAGE(SMALL(IF(J318:AC318>0,J318:AC318),{1,2,3,4,5,6,7,8})),AB319)","v":21.61395348837209},{"$f":"IF(AD318>0,AVERAGE(SMALL(IF(K318:AD318>0,K318:AD318),{1,2,3,4,5,6,7,8})),AC319)","v":21.61395348837209},{"$f":"IF(AE318>0,AVERAGE(SMALL(IF(L318:AE318>0,L318:AE318),{1,2,3,4,5,6,7,8})),AD319)","v":21.61395348837209},{"$f":"IF(AF318>0,AVERAGE(SMALL(IF(M318:AF318>0,M318:AF318),{1,2,3,4,5,6,7,8})),AE319)","v":21.61395348837209},{"$f":"IF(AG318>0,AVERAGE(SMALL(IF(N318:AG318>0,N318:AG318),{1,2,3,4,5,6,7,8})),AF319)","v":21.61395348837209},{"$f":"IF(AH318>0,AVERAGE(SMALL(IF(O318:AH318>0,O318:AH318),{1,2,3,4,5,6,7,8})),AG319)","v":21.61395348837209},{"$f":"IF(AI318>0,AVERAGE(SMALL(IF(P318:AI318>0,P318:AI318),{1,2,3,4,5,6,7,8})),AH319)","v":21.61395348837209},{"$f":"IF(AJ318>0,AVERAGE(SMALL(IF(Q318:AJ318>0,Q318:AJ318),{1,2,3,4,5,6,7,8})),AI319)","v":21.61395348837209},{"$f":"IF(AK318>0,AVERAGE(SMALL(IF(R318:AK318>0,R318:AK318),{1,2,3,4,5,6,7,8})),AJ319)","v":21.61395348837209},{"$f":"IF(AL318>0,AVERAGE(SMALL(IF(S318:AL318>0,S318:AL318),{1,2,3,4,5,6,7,8})),AK319)","v":21.61395348837209},{"$f":"IF(AM318>0,AVERAGE(SMALL(IF(T318:AM318>0,T318:AM318),{1,2,3,4,5,6,7,8})),AL319)","v":21.61395348837209},{"$f":"IF(AN318>0,AVERAGE(SMALL(IF(U318:AN318>0,U318:AN318),{1,2,3,4,5,6,7,8})),AM319)","v":21.61395348837209},{"$f":"IF(AO318>0,AVERAGE(SMALL(IF(V318:AO318>0,V318:AO318),{1,2,3,4,5,6,7,8})),AN319)","v":21.61395348837209},{"$f":"IF(AP318>0,AVERAGE(SMALL(IF(W318:AP318>0,W318:AP318),{1,2,3,4,5,6,7,8})),AO319)","v":21.61395348837209},{"$f":"IF(AQ318>0,AVERAGE(SMALL(IF(X318:AQ318>0,X318:AQ318),{1,2,3,4,5,6,7,8})),AP319)","v":21.61395348837209},{"$f":"IF(AR318>0,AVERAGE(SMALL(IF(Y318:AR318>0,Y318:AR318),{1,2,3,4,5,6,7,8})),AQ319)","v":21.61395348837209},{"$f":"IF(AS318>0,AVERAGE(SMALL(IF(Z318:AS318>0,Z318:AS318),{1,2,3,4,5,6,7,8})),AR319)","v":21.61395348837209},{"$f":"IF(AT318>0,AVERAGE(SMALL(IF(AA318:AT318>0,AA318:AT318),{1,2,3,4,5,6,7,8})),AS319)","v":21.61395348837209},{"$f":"IF(AU318>0,AVERAGE(SMALL(IF(AB318:AU318>0,AB318:AU318),{1,2,3,4,5,6,7,8})),AT319)","v":21.61395348837209},{"$f":"IF(AV318>0,AVERAGE(SMALL(IF(AC318:AV318>0,AC318:AV318),{1,2,3,4,5,6,7,8})),AU319)","v":21.61395348837209},{"$f":"IF(AW318>0,AVERAGE(SMALL(IF(AD318:AW318>0,AD318:AW318),{1,2,3,4,5,6,7,8})),AV319)","v":21.61395348837209},{"$f":"IF(AX318>0,AVERAGE(SMALL(IF(AE318:AX318>0,AE318:AX318),{1,2,3,4,5,6,7,8})),AW319)","v":21.61395348837209},{"$f":"IF(AY318>0,AVERAGE(SMALL(IF(AF318:AY318>0,AF318:AY318),{1,2,3,4,5,6,7,8})),AX319)","v":21.61395348837209},{"$f":"IF(AZ318>0,AVERAGE(SMALL(IF(AG318:AZ318>0,AG318:AZ318),{1,2,3,4,5,6,7,8})),AY319)","v":21.61395348837209},{"$f":"IF(BA318>0,AVERAGE(SMALL(IF(AH318:BA318>0,AH318:BA318),{1,2,3,4,5,6,7,8})),AZ319)","v":21.61395348837209},{"$f":"IF(BB318>0,AVERAGE(SMALL(IF(AI318:BB318>0,AI318:BB318),{1,2,3,4,5,6,7,8})),BA319)","v":21.61395348837209},{"$f":"IF(BC318>0,AVERAGE(SMALL(IF(AJ318:BC318>0,AJ318:BC318),{1,2,3,4,5,6,7,8})),BB319)","v":21.61395348837209},{"$f":"IF(BD318>0,AVERAGE(SMALL(IF(AK318:BD318>0,AK318:BD318),{1,2,3,4,5,6,7,8})),BC319)","v":21.61395348837209},{"$f":"IF(BE318>0,AVERAGE(SMALL(IF(AL318:BE318>0,AL318:BE318),{1,2,3,4,5,6,7,8})),BD319)","v":21.61395348837209},{"$f":"IF(BF318>0,AVERAGE(SMALL(IF(AM318:BF318>0,AM318:BF318),{1,2,3,4,5,6,7,8})),BE319)","v":21.61395348837209},{"$f":"IF(BG318>0,AVERAGE(SMALL(IF(AN318:BG318>0,AN318:BG318),{1,2,3,4,5,6,7,8})),BF319)","v":21.61395348837209},{"$f":"IF(BH318>0,AVERAGE(SMALL(IF(AO318:BH318>0,AO318:BH318),{1,2,3,4,5,6,7,8})),BG319)","v":21.61395348837209},{"$f":"IF(BI318>0,AVERAGE(SMALL(IF(AP318:BI318>0,AP318:BI318),{1,2,3,4,5,6,7,8})),BH319)","v":21.61395348837209},{"$f":"IF(BJ318>0,AVERAGE(SMALL(IF(AQ318:BJ318>0,AQ318:BJ318),{1,2,3,4,5,6,7,8})),BI319)","v":21.61395348837209},{"$f":"IF(BK318>0,AVERAGE(SMALL(IF(AR318:BK318>0,AR318:BK318),{1,2,3,4,5,6,7,8})),BJ319)","v":21.61395348837209},{"$f":"IF(BL318>0,AVERAGE(SMALL(IF(AS318:BL318>0,AS318:BL318),{1,2,3,4,5,6,7,8})),BK319)","v":21.61395348837209},{"$f":"IF(BM318>0,AVERAGE(SMALL(IF(AT318:BM318>0,AT318:BM318),{1,2,3,4,5,6,7,8})),BL319)","v":21.61395348837209},{"$f":"IF(BN318>0,AVERAGE(SMALL(IF(AU318:BN318>0,AU318:BN318),{1,2,3,4,5,6,7,8})),BM319)","v":21.61395348837209},{"$f":"IF(BO318>0,AVERAGE(SMALL(IF(AV318:BO318>0,AV318:BO318),{1,2,3,4,5,6,7,8})),BN319)","v":21.61395348837209},{"$f":"IF(BP318>0,AVERAGE(SMALL(IF(AW318:BP318>0,AW318:BP318),{1,2,3,4,5,6,7,8})),BO319)","v":21.61395348837209},{"$f":"IF(BQ318>0,AVERAGE(SMALL(IF(AX318:BQ318>0,AX318:BQ318),{1,2,3,4,5,6,7,8})),BP319)","v":21.61395348837209},{"$f":"IF(BR318>0,AVERAGE(SMALL(IF(AY318:BR318>0,AY318:BR318),{1,2,3,4,5,6,7,8})),BQ319)","v":21.61395348837209},{"$f":"IF(BS318>0,AVERAGE(SMALL(IF(AZ318:BS318>0,AZ318:BS318),{1,2,3,4,5,6,7,8})),BR319)","v":21.61395348837209},{"$f":"IF(BT318>0,AVERAGE(SMALL(IF(BA318:BT318>0,BA318:BT318),{1,2,3,4,5,6,7,8})),BS319)","v":21.61395348837209},{"$f":"IF(BU318>0,AVERAGE(SMALL(IF(BB318:BU318>0,BB318:BU318),{1,2,3,4,5,6,7,8})),BT319)","v":21.61395348837209},{"$f":"IF(BV318>0,AVERAGE(SMALL(IF(BC318:BV318>0,BC318:BV318),{1,2,3,4,5,6,7,8})),BU319)","v":21.61395348837209},{"$f":"IF(BW318>0,AVERAGE(SMALL(IF(BD318:BW318>0,BD318:BW318),{1,2,3,4,5,6,7,8})),BV319)","v":21.61395348837209},{"$f":"IF(BX318>0,AVERAGE(SMALL(IF(BE318:BX318>0,BE318:BX318),{1,2,3,4,5,6,7,8})),BW319)","v":21.61395348837209},{"$f":"IF(BY318>0,AVERAGE(SMALL(IF(BF318:BY318>0,BF318:BY318),{1,2,3,4,5,6,7,8})),BX319)","v":21.61395348837209},{"$f":"IF(BZ318>0,AVERAGE(SMALL(IF(BG318:BZ318>0,BG318:BZ318),{1,2,3,4,5,6,7,8})),BY319)","v":21.61395348837209},{"$f":"IF(CA318>0,AVERAGE(SMALL(IF(BH318:CA318>0,BH318:CA318),{1,2,3,4,5,6,7,8})),BZ319)","v":21.61395348837209},{"$f":"IF(CB318>0,AVERAGE(SMALL(IF(BI318:CB318>0,BI318:CB318),{1,2,3,4,5,6,7,8})),CA319)","v":21.61395348837209},{"$f":"IF(CC318>0,AVERAGE(SMALL(IF(BJ318:CC318>0,BJ318:CC318),{1,2,3,4,5,6,7,8})),CB319)","v":21.61395348837209},{"$f":"IF(CD318>0,AVERAGE(SMALL(IF(BK318:CD318>0,BK318:CD318),{1,2,3,4,5,6,7,8})),CC319)","v":21.61395348837209},{"$f":"IF(CE318>0,AVERAGE(SMALL(IF(BL318:CE318>0,BL318:CE318),{1,2,3,4,5,6,7,8})),CD319)","v":21.61395348837209},{"$f":"IF(CF318>0,AVERAGE(SMALL(IF(BM318:CF318>0,BM318:CF318),{1,2,3,4,5,6,7,8})),CE319)","v":21.61395348837209},{"$f":"IF(CG318>0,AVERAGE(SMALL(IF(BN318:CG318>0,BN318:CG318),{1,2,3,4,5,6,7,8})),CF319)","v":21.61395348837209},{"$f":"IF(CH318>0,AVERAGE(SMALL(IF(BO318:CH318>0,BO318:CH318),{1,2,3,4,5,6,7,8})),CG319)","v":21.61395348837209},{"$f":"IF(CI318>0,AVERAGE(SMALL(IF(BP318:CI318>0,BP318:CI318),{1,2,3,4,5,6,7,8})),CH319)","v":21.61395348837209},{"$f":"IF(CJ318>0,AVERAGE(SMALL(IF(BQ318:CJ318>0,BQ318:CJ318),{1,2,3,4,5,6,7,8})),CI319)","v":21.61395348837209},{"$f":"IF(CK318>0,AVERAGE(SMALL(IF(BR318:CK318>0,BR318:CK318),{1,2,3,4,5,6,7,8})),CJ319)","v":21.61395348837209},{"$f":"IF(CL318>0,AVERAGE(SMALL(IF(BS318:CL318>0,BS318:CL318),{1,2,3,4,5,6,7,8})),CK319)","v":21.61395348837209},{"$f":"IF(CM318>0,AVERAGE(SMALL(IF(BT318:CM318>0,BT318:CM318),{1,2,3,4,5,6,7,8})),CL319)","v":21.61395348837209},{"$f":"IF(CN318>0,AVERAGE(SMALL(IF(BU318:CN318>0,BU318:CN318),{1,2,3,4,5,6,7,8})),CM319)","v":21.61395348837209},{"$f":"IF(CO318>0,AVERAGE(SMALL(IF(BV318:CO318>0,BV318:CO318),{1,2,3,4,5,6,7,8})),CN319)","v":21.61395348837209},{"$f":"IF(CP318>0,AVERAGE(SMALL(IF(BW318:CP318>0,BW318:CP318),{1,2,3,4,5,6,7,8})),CO319)","v":21.61395348837209},{"$f":"IF(CQ318>0,AVERAGE(SMALL(IF(BX318:CQ318>0,BX318:CQ318),{1,2,3,4,5,6,7,8})),CP319)","v":21.61395348837209},{"$f":"IF(CR318>0,AVERAGE(SMALL(IF(BY318:CR318>0,BY318:CR318),{1,2,3,4,5,6,7,8})),CQ319)","v":21.61395348837209},{"$f":"IF(CS318>0,AVERAGE(SMALL(IF(BZ318:CS318>0,BZ318:CS318),{1,2,3,4,5,6,7,8})),CR319)","v":21.61395348837209},{"$f":"IF(CT318>0,AVERAGE(SMALL(IF(CA318:CT318>0,CA318:CT318),{1,2,3,4,5,6,7,8})),CS319)","v":21.61395348837209},{"$f":"IF(CU318>0,AVERAGE(SMALL(IF(CB318:CU318>0,CB318:CU318),{1,2,3,4,5,6,7,8})),CT319)","v":21.61395348837209},{"$f":"IF(CV318>0,AVERAGE(SMALL(IF(CC318:CV318>0,CC318:CV318),{1,2,3,4,5,6,7,8})),CU319)","v":21.61395348837209},{"$f":"IF(CW318>0,AVERAGE(SMALL(IF(CD318:CW318>0,CD318:CW318),{1,2,3,4,5,6,7,8})),CV319)","v":21.61395348837209}]
[null,null,null,null,null,null,null,null,"Low Hcap",null,null,null,null,null,null,null,null,null,null,null,null,null,null,null,null,null,null,null,{"$f":"MIN($J319:AC319)","v":18},{"$f":"MIN($J319:AD319)","v":18},{"$f":"MIN($J319:AE319)","v":18},{"$f":"MIN($J319:AF319)","v":18},{"$f":"MIN($J319:AG319)","v":18},{"$f":"MIN($J319:AH319)","v":18},{"$f":"MIN($J319:AI319)","v":18},{"$f":"MIN($J319:AJ319)","v":18},{"$f":"MIN($J319:AK319)","v":18},{"$f":"MIN($J319:AL319)","v":18},{"$f":"MIN($J319:AM319)","v":18},{"$f":"MIN($J319:AN319)","v":18},{"$f":"MIN($J319:AO319)","v":18},{"$f":"MIN($J319:AP319)","v":18},{"$f":"MIN($J319:AQ319)","v":18},{"$f":"MIN($J319:AR319)","v":18},{"$f":"MIN($J319:AS319)","v":18},{"$f":"MIN($J319:AT319)","v":18},{"$f":"MIN($J319:AU319)","v":18},{"$f":"MIN($J319:AV319)","v":18},{"$f":"MIN($J319:AW319)","v":18},{"$f":"MIN($J319:AX319)","v":18},{"$f":"MIN($J319:AY319)","v":18},{"$f":"MIN($J319:AZ319)","v":18},{"$f":"MIN($J319:BA319)","v":18},{"$f":"MIN($J319:BB319)","v":18},{"$f":"MIN($J319:BC319)","v":18},{"$f":"MIN($J319:BD319)","v":18},{"$f":"MIN($J319:BE319)","v":18},{"$f":"MIN($J319:BF319)","v":18},{"$f":"MIN($J319:BG319)","v":18},{"$f":"MIN($J319:BH319)","v":18},{"$f":"MIN($J319:BI319)","v":18},{"$f":"MIN($J319:BJ319)","v":18},{"$f":"MIN($J319:BK319)","v":18},{"$f":"MIN($J319:BL319)","v":18},{"$f":"MIN($J319:BM319)","v":18},{"$f":"MIN($J319:BN319)","v":18},{"$f":"MIN($J319:BO319)","v":18},{"$f":"MIN($J319:BP319)","v":18},{"$f":"MIN($J319:BQ319)","v":18},{"$f":"MIN($J319:BR319)","v":18},{"$f":"MIN($J319:BS319)","v":18},{"$f":"MIN($J319:BT319)","v":18},{"$f":"MIN($J319:BU319)","v":18},{"$f":"MIN($J319:BV319)","v":18},{"$f":"MIN($J319:BW319)","v":18},{"$f":"MIN($J319:BX319)","v":18},{"$f":"MIN($J319:BY319)","v":18},{"$f":"MIN($J319:BZ319)","v":18},{"$f":"MIN($J319:CA319)","v":18},{"$f":"MIN($J319:CB319)","v":18},{"$f":"MIN($J319:CC319)","v":18},{"$f":"MIN($J319:CD319)","v":18},{"$f":"MIN($J319:CE319)","v":18},{"$f":"MIN($J319:CF319)","v":18},{"$f":"MIN($J319:CG319)","v":18},{"$f":"MIN($J319:CH319)","v":18},{"$f":"MIN($J319:CI319)","v":18},{"$f":"MIN($J319:CJ319)","v":18},{"$f":"MIN($J319:CK319)","v":18},{"$f":"MIN($J319:CL319)","v":18},{"$f":"MIN($J319:CM319)","v":18},{"$f":"MIN($J319:CN319)","v":18},{"$f":"MIN($J319:CO319)","v":18},{"$f":"MIN($J319:CP319)","v":18},{"$f":"MIN($J319:CQ319)","v":18},{"$f":"MIN($J319:CR319)","v":18},{"$f":"MIN($J319:CS319)","v":18},{"$f":"MIN($J319:CT319)","v":18},{"$f":"MIN($J319:CU319)","v":18},{"$f":"MIN($J319:CV319)","v":18},{"$f":"MIN($J319:CW319)","v":18}]
[null,"Klapdor","Stephan",13.8,"Y",{"$f":"IF(H321<4,\"Y\",)","v":0},null,{"$f":"COUNT(J321:CX321)","v":38},"Date",null,"2018-07-08","2018-08-05","2018-10-07","2018-10-12","2018-11-18","2019-08-04","2019-08-18","2020-06-19","2020-07-12","2020-07-31","2020-09-06","2020-10-09","2020-10-21","2020-11-01","2020-11-15","2021-03-28","2021-04-11","2021-04-16","2021-04-30","2021-05-14","2021-05-30","2021-06-13","2021-06-23","2021-07-11","2021-07-16","2021-08-08","2021-10-31","2022-04-15","2022-05-06","2022-05-11","2022-06-05","2022-06-25","2022-06-26","2022-07-03","2022-11-27","2023-04-07","2023-05-19","2023-06-04",null,null,null,null,null,null,null,null,null,null,null,null,null,null,null,null,null,null,null,null,null,null,null,null,null,null,null,null,null,null,null,null,null,null,null,null,null,null,null,null,null,null,null,null,null,null,null,null,null,null,null,null,null,null,{"$f":"IF(CW325>$DD$1,36,CW325)","v":18.061272749772225},18.689108005830334,{"$f":"CZ321-CY321","v":0.62783525605810908}]
[null,null,null,null,null,null,null,null,"Course",null,"PfaffingHG","ErdingHG","TegernbachHG","ErdingHG","OdelzhausenHG","TegernbachHG","PfaffingHG","StEurachHG","PfaffingHG","StEurachHG","OdelzhausenHG","TegernbachHG","GutThailingHG","ErdingHG","OdelzhausenHG","OdelzhausenHG","ErdingHR","TegernbachHG","TegernbachHG","StEurachHG","IffeldorfHG","PfaffingHG","GutThailingHG","PfaffingHG","MaxlrainHG","IffeldorfHG","ErdingHG","ReichertshausenHG","TegernbachHG","AschheimHG","IffeldorfHG","AlgaeuerHG","AlgaeuerHG","Pfaffing2022HG","OdelzhausenHB","Reichertshausen2023HG","GarmischHG","IffeldorfHG"]
[null,null,null,null,null,null,null,null,"Ad Gr",null,92,88,94,95,93,91,96,96,100,90,88,97,98,98,96,93,89,101,102,97,95,95,95,97,92,100,101,95,93,98,93,100,92,100,88,101,111,87]
[null,null,null,null,null,null,null,null,"SD",13.8,{"$f":"IF(K323=\"\",0,(K323-INDIRECT(CONCATENATE(K322,\"CR\")))*113/INDIRECT(CONCATENATE(K322,\"SR\")))","v":17.384615384615383},14.776923076923078,19.090151515151511,20.861538461538462,18.862992125984256,16.521969696969695,20.861538461538462,20.788549618320605,24.338461538461537,15.612977099236636,14.41417322834646,21.658333333333331,23.721374045801525,23.469230769230769,21.53228346456693,18.862992125984256,20.98571428571428,25.082575757575754,25.938636363636363,21.651145038167932,20.848062015503874,19.992307692307691,21.133587786259543,21.73076923076923,15.869852941176465,25.227906976744183,26.076923076923077,21.792857142857141,18.234090909090906,22.856818181818184,19.096124031007751,23.807633587786253,16.906870229007627,23.729999999999997,19.702564102564107,25.510606060606058,35.234645669291332,13.840310077519376,0,0,0,0,0,0,0,0,0,0,0,0,0,0,0,0,0,0,0,0,0,0,0,0,0,0,{"$f":"IF(BW323=\"\",0,(BW323-INDIRECT(CONCATENATE(BW322,\"CR\")))*113/INDIRECT(CONCATENATE(BW322,\"SR\")))","v":0},0,0,0,0,0,0,0,0,0,0,0,0,0,0,0,{"$f":"IF(CM323=\"\",0,(CM323-INDIRECT(CONCATENATE(CM322,\"CR\")))*113/INDIRECT(CONCATENATE(CM322,\"SR\")))","v":0},0,{"$f":"IF(CO323=\"\",0,(CO323-INDIRECT(CONCATENATE(CO322,\"CR\")))*113/INDIRECT(CONCATENATE(CO322,\"SR\")))","v":0},0,{"$f":"IF(CQ323=\"\",0,(CQ323-INDIRECT(CONCATENATE(CQ322,\"CR\")))*113/INDIRECT(CONCATENATE(CQ322,\"SR\")))","v":0},0,{"$f":"IF(CS323=\"\",0,(CS323-INDIRECT(CONCATENATE(CS322,\"CR\")))*113/INDIRECT(CONCATENATE(CS322,\"SR\")))","v":0},0,{"$f":"IF(CU323=\"\",0,(CU323-INDIRECT(CONCATENATE(CU322,\"CR\")))*113/INDIRECT(CONCATENATE(CU322,\"SR\")))","v":0},0,{"$f":"IF(CW323=\"\",0,(CW323-INDIRECT(CONCATENATE(CW322,\"CR\")))*113/INDIRECT(CONCATENATE(CW322,\"SR\")))","v":0}]
[null,null,null,null,null,null,null,null,"New Hcap",{"$f":"J324-2","v":11.8},{"$f":"IF(K324>0,MIN(J324:K324)-2,J325)","v":11.8},{"$f":"IF(L324>0,MIN(J324:L324)-2,K325)","v":11.8},{"$f":"IF(M324>0,MIN(J324:M324)-1,L325)","v":12.8},{"$f":"IF(N324>0,MIN(J324:N324),M325)","v":13.8},{"$f":"IF(O324>0,AVERAGE(SMALL(IF(J324:O324>0,J324:O324),{1,2}))-1,N325)","v":13.28846153846154},{"$f":"IF(P324>0,AVERAGE(SMALL(IF(J324:P324>0,J324:P324),{1,2})),O325)","v":14.28846153846154},{"$f":"IF(Q324>0,AVERAGE(SMALL(IF(J324:Q324>0,J324:Q324),{1,2})),P325)","v":14.28846153846154},{"$f":"IF(R324>0,AVERAGE(SMALL(IF(J324:R324>0,J324:R324),{1,2,3})),Q325)","v":15.032964257964258},{"$f":"IF(S324>0,AVERAGE(SMALL(IF(J324:S324>0,J324:S324),{1,2,3})),R325)","v":15.032964257964258},{"$f":"IF(T324>0,AVERAGE(SMALL(IF(J324:T324>0,J324:T324),{1,2,3})),S325)","v":14.729966725386573},{"$f":"IF(U324>0,AVERAGE(SMALL(IF(J324:U324>0,J324:U324),{1,2,3,4})),T325)","v":14.651018351126543},{"$f":"IF(V324>0,AVERAGE(SMALL(IF(J324:V324>0,J324:V324),{1,2,3,4})),U325)","v":14.651018351126543},{"$f":"IF(W324>0,AVERAGE(SMALL(IF(J324:W324>0,J324:W324),{1,2,3,4})),V325)","v":14.651018351126543},{"$f":"IF(X324>0,AVERAGE(SMALL(IF(J324:X324>0,J324:X324),{1,2,3,4,5})),W325)","v":15.025208620295174},{"$f":"IF(Y324>0,AVERAGE(SMALL(IF(J324:Y324>0,J324:Y324),{1,2,3,4,5})),X325)","v":15.025208620295174},{"$f":"IF(Z324>0,AVERAGE(SMALL(IF(J324:Z324>0,J324:Z324),{1,2,3,4,5,6})),Y325)","v":15.41844308101521},{"$f":"IF(AA324>0,AVERAGE(SMALL(IF(J324:AA324>0,J324:AA324),{1,2,3,4,5,6})),Z325)","v":15.41844308101521},{"$f":"IF(AB324>0,AVERAGE(SMALL(IF(J324:AB324>0,J324:AB324),{1,2,3,4,5,6,7})),AA325)","v":15.910521516010789},{"$f":"IF(AC324>0,AVERAGE(SMALL(IF(J324:AC324>0,J324:AC324),{1,2,3,4,5,6,7,8})),AB325)","v":16.279580342257471},{"$f":"IF(AD324>0,AVERAGE(SMALL(IF(K324:AD324>0,K324:AD324),{1,2,3,4,5,6,7,8})),AC325)","v":16.94084928165141},{"$f":"IF(AE324>0,AVERAGE(SMALL(IF(L324:AE324>0,L324:AE324),{1,2,3,4,5,6,7,8})),AD325)","v":17.366341060864563},{"$f":"IF(AF324>0,AVERAGE(SMALL(IF(M324:AF324>0,M324:AF324),{1,2,3,4,5,6,7,8})),AE325)","v":18.018264137787639},{"$f":"IF(AG324>0,AVERAGE(SMALL(IF(N324:AG324>0,N324:AG324),{1,2,3,4,5,6,7,8})),AF325)","v":18.238002950331683},{"$f":"IF(AH324>0,AVERAGE(SMALL(IF(O324:AH324>0,O324:AH324),{1,2,3,4,5,6,7,8})),AG325)","v":18.238002950331683},{"$f":"IF(AI324>0,AVERAGE(SMALL(IF(P324:AI324>0,P324:AI324),{1,2,3,4,5,6,7,8})),AH325)","v":17.863860552230712},{"$f":"IF(AJ324>0,AVERAGE(SMALL(IF(Q324:AJ324>0,Q324:AJ324),{1,2,3,4,5,6,7,8})),AI325)","v":18.406306647801806},{"$f":"IF(AK324>0,AVERAGE(SMALL(IF(R324:AK324>0,R324:AK324),{1,2,3,4,5,6,7,8})),AJ325)","v":18.421828625823782},{"$f":"IF(AL324>0,AVERAGE(SMALL(IF(S324:AL324>0,S324:AL324),{1,2,3,4,5,6,7,8})),AK325)","v":18.464958396816151},{"$f":"IF(AM324>0,AVERAGE(SMALL(IF(T324:AM324>0,T324:AM324),{1,2,3,4,5,6,7,8})),AL325)","v":18.10252128717007},{"$f":"IF(AN324>0,AVERAGE(SMALL(IF(U324:AN324>0,U324:AN324),{1,2,3,4,5,6,7,8})),AM325)","v":18.792597623047936},{"$f":"IF(AO324>0,AVERAGE(SMALL(IF(V324:AO324>0,V324:AO324),{1,2,3,4,5,6,7,8})),AN325)","v":19.377841473380595},{"$f":"IF(AP324>0,AVERAGE(SMALL(IF(W324:AP324>0,W324:AP324),{1,2,3,4,5,6,7,8})),AO325)","v":19.377841473380595},{"$f":"IF(AQ324>0,AVERAGE(SMALL(IF(X324:AQ324>0,X324:AQ324),{1,2,3,4,5,6,7,8})),AP325)","v":18.849501778724104},{"$f":"IF(AR324>0,AVERAGE(SMALL(IF(Y324:AR324>0,Y324:AR324),{1,2,3,4,5,6,7,8})),AQ325)","v":18.849501778724104},{"$f":"IF(AS324>0,AVERAGE(SMALL(IF(Z324:AS324>0,Z324:AS324),{1,2,3,4,5,6,7,8})),AR325)","v":18.689108005830334},{"$f":"IF(AT324>0,AVERAGE(SMALL(IF(AA324:AT324>0,AA324:AT324),{1,2,3,4,5,6,7,8})),AS325)","v":18.954448275796587},{"$f":"IF(AU324>0,AVERAGE(SMALL(IF(AB324:AU324>0,AB324:AU324),{1,2,3,4,5,6,7,8})),AT325)","v":18.972932463364746},{"$f":"IF(AV324>0,AVERAGE(SMALL(IF(AC324:AV324>0,AC324:AV324),{1,2,3,4,5,6,7,8})),AU325)","v":18.061272749772225},{"$f":"IF(AW324>0,AVERAGE(SMALL(IF(AD324:AW324>0,AD324:AW324),{1,2,3,4,5,6,7,8})),AV325)","v":18.061272749772225},{"$f":"IF(AX324>0,AVERAGE(SMALL(IF(AE324:AX324>0,AE324:AX324),{1,2,3,4,5,6,7,8})),AW325)","v":18.061272749772225},{"$f":"IF(AY324>0,AVERAGE(SMALL(IF(AF324:AY324>0,AF324:AY324),{1,2,3,4,5,6,7,8})),AX325)","v":18.061272749772225},{"$f":"IF(AZ324>0,AVERAGE(SMALL(IF(AG324:AZ324>0,AG324:AZ324),{1,2,3,4,5,6,7,8})),AY325)","v":18.061272749772225},{"$f":"IF(BA324>0,AVERAGE(SMALL(IF(AH324:BA324>0,AH324:BA324),{1,2,3,4,5,6,7,8})),AZ325)","v":18.061272749772225},{"$f":"IF(BB324>0,AVERAGE(SMALL(IF(AI324:BB324>0,AI324:BB324),{1,2,3,4,5,6,7,8})),BA325)","v":18.061272749772225},{"$f":"IF(BC324>0,AVERAGE(SMALL(IF(AJ324:BC324>0,AJ324:BC324),{1,2,3,4,5,6,7,8})),BB325)","v":18.061272749772225},{"$f":"IF(BD324>0,AVERAGE(SMALL(IF(AK324:BD324>0,AK324:BD324),{1,2,3,4,5,6,7,8})),BC325)","v":18.061272749772225},{"$f":"IF(BE324>0,AVERAGE(SMALL(IF(AL324:BE324>0,AL324:BE324),{1,2,3,4,5,6,7,8})),BD325)","v":18.061272749772225},{"$f":"IF(BF324>0,AVERAGE(SMALL(IF(AM324:BF324>0,AM324:BF324),{1,2,3,4,5,6,7,8})),BE325)","v":18.061272749772225},{"$f":"IF(BG324>0,AVERAGE(SMALL(IF(AN324:BG324>0,AN324:BG324),{1,2,3,4,5,6,7,8})),BF325)","v":18.061272749772225},{"$f":"IF(BH324>0,AVERAGE(SMALL(IF(AO324:BH324>0,AO324:BH324),{1,2,3,4,5,6,7,8})),BG325)","v":18.061272749772225},{"$f":"IF(BI324>0,AVERAGE(SMALL(IF(AP324:BI324>0,AP324:BI324),{1,2,3,4,5,6,7,8})),BH325)","v":18.061272749772225},{"$f":"IF(BJ324>0,AVERAGE(SMALL(IF(AQ324:BJ324>0,AQ324:BJ324),{1,2,3,4,5,6,7,8})),BI325)","v":18.061272749772225},{"$f":"IF(BK324>0,AVERAGE(SMALL(IF(AR324:BK324>0,AR324:BK324),{1,2,3,4,5,6,7,8})),BJ325)","v":18.061272749772225},{"$f":"IF(BL324>0,AVERAGE(SMALL(IF(AS324:BL324>0,AS324:BL324),{1,2,3,4,5,6,7,8})),BK325)","v":18.061272749772225},{"$f":"IF(BM324>0,AVERAGE(SMALL(IF(AT324:BM324>0,AT324:BM324),{1,2,3,4,5,6,7,8})),BL325)","v":18.061272749772225},{"$f":"IF(BN324>0,AVERAGE(SMALL(IF(AU324:BN324>0,AU324:BN324),{1,2,3,4,5,6,7,8})),BM325)","v":18.061272749772225},{"$f":"IF(BO324>0,AVERAGE(SMALL(IF(AV324:BO324>0,AV324:BO324),{1,2,3,4,5,6,7,8})),BN325)","v":18.061272749772225},{"$f":"IF(BP324>0,AVERAGE(SMALL(IF(AW324:BP324>0,AW324:BP324),{1,2,3,4,5,6,7,8})),BO325)","v":18.061272749772225},{"$f":"IF(BQ324>0,AVERAGE(SMALL(IF(AX324:BQ324>0,AX324:BQ324),{1,2,3,4,5,6,7,8})),BP325)","v":18.061272749772225},{"$f":"IF(BR324>0,AVERAGE(SMALL(IF(AY324:BR324>0,AY324:BR324),{1,2,3,4,5,6,7,8})),BQ325)","v":18.061272749772225},{"$f":"IF(BS324>0,AVERAGE(SMALL(IF(AZ324:BS324>0,AZ324:BS324),{1,2,3,4,5,6,7,8})),BR325)","v":18.061272749772225},{"$f":"IF(BT324>0,AVERAGE(SMALL(IF(BA324:BT324>0,BA324:BT324),{1,2,3,4,5,6,7,8})),BS325)","v":18.061272749772225},{"$f":"IF(BU324>0,AVERAGE(SMALL(IF(BB324:BU324>0,BB324:BU324),{1,2,3,4,5,6,7,8})),BT325)","v":18.061272749772225},{"$f":"IF(BV324>0,AVERAGE(SMALL(IF(BC324:BV324>0,BC324:BV324),{1,2,3,4,5,6,7,8})),BU325)","v":18.061272749772225},{"$f":"IF(BW324>0,AVERAGE(SMALL(IF(BD324:BW324>0,BD324:BW324),{1,2,3,4,5,6,7,8})),BV325)","v":18.061272749772225},{"$f":"IF(BX324>0,AVERAGE(SMALL(IF(BE324:BX324>0,BE324:BX324),{1,2,3,4,5,6,7,8})),BW325)","v":18.061272749772225},{"$f":"IF(BY324>0,AVERAGE(SMALL(IF(BF324:BY324>0,BF324:BY324),{1,2,3,4,5,6,7,8})),BX325)","v":18.061272749772225},{"$f":"IF(BZ324>0,AVERAGE(SMALL(IF(BG324:BZ324>0,BG324:BZ324),{1,2,3,4,5,6,7,8})),BY325)","v":18.061272749772225},{"$f":"IF(CA324>0,AVERAGE(SMALL(IF(BH324:CA324>0,BH324:CA324),{1,2,3,4,5,6,7,8})),BZ325)","v":18.061272749772225},{"$f":"IF(CB324>0,AVERAGE(SMALL(IF(BI324:CB324>0,BI324:CB324),{1,2,3,4,5,6,7,8})),CA325)","v":18.061272749772225},{"$f":"IF(CC324>0,AVERAGE(SMALL(IF(BJ324:CC324>0,BJ324:CC324),{1,2,3,4,5,6,7,8})),CB325)","v":18.061272749772225},{"$f":"IF(CD324>0,AVERAGE(SMALL(IF(BK324:CD324>0,BK324:CD324),{1,2,3,4,5,6,7,8})),CC325)","v":18.061272749772225},{"$f":"IF(CE324>0,AVERAGE(SMALL(IF(BL324:CE324>0,BL324:CE324),{1,2,3,4,5,6,7,8})),CD325)","v":18.061272749772225},{"$f":"IF(CF324>0,AVERAGE(SMALL(IF(BM324:CF324>0,BM324:CF324),{1,2,3,4,5,6,7,8})),CE325)","v":18.061272749772225},{"$f":"IF(CG324>0,AVERAGE(SMALL(IF(BN324:CG324>0,BN324:CG324),{1,2,3,4,5,6,7,8})),CF325)","v":18.061272749772225},{"$f":"IF(CH324>0,AVERAGE(SMALL(IF(BO324:CH324>0,BO324:CH324),{1,2,3,4,5,6,7,8})),CG325)","v":18.061272749772225},{"$f":"IF(CI324>0,AVERAGE(SMALL(IF(BP324:CI324>0,BP324:CI324),{1,2,3,4,5,6,7,8})),CH325)","v":18.061272749772225},{"$f":"IF(CJ324>0,AVERAGE(SMALL(IF(BQ324:CJ324>0,BQ324:CJ324),{1,2,3,4,5,6,7,8})),CI325)","v":18.061272749772225},{"$f":"IF(CK324>0,AVERAGE(SMALL(IF(BR324:CK324>0,BR324:CK324),{1,2,3,4,5,6,7,8})),CJ325)","v":18.061272749772225},{"$f":"IF(CL324>0,AVERAGE(SMALL(IF(BS324:CL324>0,BS324:CL324),{1,2,3,4,5,6,7,8})),CK325)","v":18.061272749772225},{"$f":"IF(CM324>0,AVERAGE(SMALL(IF(BT324:CM324>0,BT324:CM324),{1,2,3,4,5,6,7,8})),CL325)","v":18.061272749772225},{"$f":"IF(CN324>0,AVERAGE(SMALL(IF(BU324:CN324>0,BU324:CN324),{1,2,3,4,5,6,7,8})),CM325)","v":18.061272749772225},{"$f":"IF(CO324>0,AVERAGE(SMALL(IF(BV324:CO324>0,BV324:CO324),{1,2,3,4,5,6,7,8})),CN325)","v":18.061272749772225},{"$f":"IF(CP324>0,AVERAGE(SMALL(IF(BW324:CP324>0,BW324:CP324),{1,2,3,4,5,6,7,8})),CO325)","v":18.061272749772225},{"$f":"IF(CQ324>0,AVERAGE(SMALL(IF(BX324:CQ324>0,BX324:CQ324),{1,2,3,4,5,6,7,8})),CP325)","v":18.061272749772225},{"$f":"IF(CR324>0,AVERAGE(SMALL(IF(BY324:CR324>0,BY324:CR324),{1,2,3,4,5,6,7,8})),CQ325)","v":18.061272749772225},{"$f":"IF(CS324>0,AVERAGE(SMALL(IF(BZ324:CS324>0,BZ324:CS324),{1,2,3,4,5,6,7,8})),CR325)","v":18.061272749772225},{"$f":"IF(CT324>0,AVERAGE(SMALL(IF(CA324:CT324>0,CA324:CT324),{1,2,3,4,5,6,7,8})),CS325)","v":18.061272749772225},{"$f":"IF(CU324>0,AVERAGE(SMALL(IF(CB324:CU324>0,CB324:CU324),{1,2,3,4,5,6,7,8})),CT325)","v":18.061272749772225},{"$f":"IF(CV324>0,AVERAGE(SMALL(IF(CC324:CV324>0,CC324:CV324),{1,2,3,4,5,6,7,8})),CU325)","v":18.061272749772225},{"$f":"IF(CW324>0,AVERAGE(SMALL(IF(CD324:CW324>0,CD324:CW324),{1,2,3,4,5,6,7,8})),CV325)","v":18.061272749772225}]
[null,null,null,null,null,null,null,null,"Low Hcap",null,null,null,null,null,null,null,null,null,null,null,null,null,null,null,null,null,null,null,{"$f":"MIN($R325:AC325)","v":14.651018351126543},{"$f":"MIN($R325:AD325)","v":14.651018351126543},{"$f":"MIN($R325:AE325)","v":14.651018351126543},{"$f":"MIN($R325:AF325)","v":14.651018351126543},{"$f":"MIN($S325:AG325)","v":14.651018351126543},{"$f":"MIN($S325:AH325)","v":14.651018351126543},{"$f":"MIN($T325:AI325)","v":14.651018351126543},{"$f":"MIN($U325:AJ325)","v":14.651018351126543},{"$f":"MIN($X325:AK325)","v":15.025208620295174},{"$f":"MIN($AB325:AL325)","v":15.910521516010789},{"$f":"MIN($AD325:AM325)","v":16.94084928165141},{"$f":"MIN($AD325:AN325)","v":16.94084928165141},{"$f":"MIN($AF325:AO325)","v":17.863860552230712},{"$f":"MIN($AF325:AP325)","v":17.863860552230712},{"$f":"MIN($AH325:AQ325)","v":17.863860552230712},{"$f":"MIN($AH325:AR325)","v":17.863860552230712},{"$f":"MIN($AL325:AS325)","v":18.10252128717007},{"$f":"MIN($AL325:AT325)","v":18.10252128717007},{"$f":"MIN($AO325:AU325)","v":18.689108005830334},{"$f":"MIN($AO325:AV325)","v":18.061272749772225},{"$f":"MIN($AO325:AW325)","v":18.061272749772225},{"$f":"MIN($AO325:AX325)","v":18.061272749772225},{"$f":"MIN($AO325:AY325)","v":18.061272749772225},{"$f":"MIN($AO325:AZ325)","v":18.061272749772225},{"$f":"MIN($AO325:BA325)","v":18.061272749772225},{"$f":"MIN($AO325:BB325)","v":18.061272749772225},{"$f":"MIN($AO325:BC325)","v":18.061272749772225},{"$f":"MIN($AO325:BD325)","v":18.061272749772225},{"$f":"MIN($AO325:BE325)","v":18.061272749772225},{"$f":"MIN($AO325:BF325)","v":18.061272749772225},{"$f":"MIN($AO325:BG325)","v":18.061272749772225},{"$f":"MIN($AO325:BH325)","v":18.061272749772225},{"$f":"MIN($AO325:BI325)","v":18.061272749772225},{"$f":"MIN($AO325:BJ325)","v":18.061272749772225},{"$f":"MIN($AO325:BK325)","v":18.061272749772225},{"$f":"MIN($AO325:BL325)","v":18.061272749772225},{"$f":"MIN($AO325:BM325)","v":18.061272749772225},{"$f":"MIN($AO325:BN325)","v":18.061272749772225},{"$f":"MIN($AO325:BO325)","v":18.061272749772225},{"$f":"MIN($AO325:BP325)","v":18.061272749772225},{"$f":"MIN($AO325:BQ325)","v":18.061272749772225},{"$f":"MIN($AO325:BR325)","v":18.061272749772225},{"$f":"MIN($AO325:BS325)","v":18.061272749772225},{"$f":"MIN($AO325:BT325)","v":18.061272749772225},{"$f":"MIN($AO325:BU325)","v":18.061272749772225},{"$f":"MIN($AO325:BV325)","v":18.061272749772225},{"$f":"MIN($AO325:BW325)","v":18.061272749772225},{"$f":"MIN($AO325:BX325)","v":18.061272749772225},{"$f":"MIN($AO325:BY325)","v":18.061272749772225},{"$f":"MIN($AO325:BZ325)","v":18.061272749772225},{"$f":"MIN($AO325:CA325)","v":18.061272749772225},{"$f":"MIN($AO325:CB325)","v":18.061272749772225},{"$f":"MIN($AO325:CC325)","v":18.061272749772225},{"$f":"MIN($AO325:CD325)","v":18.061272749772225},{"$f":"MIN($AO325:CE325)","v":18.061272749772225},{"$f":"MIN($AO325:CF325)","v":18.061272749772225},{"$f":"MIN($AO325:CG325)","v":18.061272749772225},{"$f":"MIN($AO325:CH325)","v":18.061272749772225},{"$f":"MIN($AO325:CI325)","v":18.061272749772225},{"$f":"MIN($AO325:CJ325)","v":18.061272749772225},{"$f":"MIN($AO325:CK325)","v":18.061272749772225},{"$f":"MIN($AO325:CL325)","v":18.061272749772225},{"$f":"MIN($AO325:CM325)","v":18.061272749772225},{"$f":"MIN($AO325:CN325)","v":18.061272749772225},{"$f":"MIN($AO325:CO325)","v":18.061272749772225},{"$f":"MIN($AO325:CP325)","v":18.061272749772225},{"$f":"MIN($AO325:CQ325)","v":18.061272749772225},{"$f":"MIN($AO325:CR325)","v":18.061272749772225},{"$f":"MIN($AO325:CS325)","v":18.061272749772225},{"$f":"MIN($AO325:CT325)","v":18.061272749772225},{"$f":"MIN($AO325:CU325)","v":18.061272749772225},{"$f":"MIN($AO325:CV325)","v":18.061272749772225},{"$f":"MIN($AO325:CW325)","v":18.061272749772225}]
[null,"Krieg","Edith",27,null,{"$f":"IF(H327<4,\"Y\",)","v":"Y"},2023,{"$f":"COUNT(J327:CX327)","v":1},"Date",null,"2023-05-19",null,null,null,null,null,null,null,null,null,null,null,null,null,null,null,null,null,null,null,null,null,null,null,null,null,null,null,null,null,null,null,null,null,null,null,null,null,null,null,null,null,null,null,null,null,null,null,null,null,null,null,null,null,null,null,null,null,null,null,null,null,null,null,null,null,null,null,null,null,null,null,null,null,null,null,null,null,null,null,null,null,null,null,null,null,null,null,null,null,null,null,{"$f":"IF(CW331>$DD$1,36,CW331)","v":27},27,{"$f":"CZ327-CY327","v":0}]
[null,null,null,null,null,null,null,null,"Course",null,"GarmischDR"]
[null,null,null,null,null,null,null,null,"Ad Gr",null,112]
[null,null,null,null,null,null,null,null,"SD",29,{"$f":"IF(K329=\"\",0,(K329-INDIRECT(CONCATENATE(K328,\"CR\")))*113/INDIRECT(CONCATENATE(K328,\"SR\")))","v":34.894399999999997},{"$f":"IF(L329=\"\",0,(L329-INDIRECT(CONCATENATE(L328,\"CR\")))*113/INDIRECT(CONCATENATE(L328,\"SR\")))","v":0},0,0,0,0,0,0,0,0,0,0,0,0,0,0,0,0,0,0,0,0,0,0,0,0,0,0,0,0,0,0,0,0,0,0,0,0,0,0,0,0,0,0,0,0,0,0,0,0,0,0,0,0,0,0,0,0,0,0,0,0,0,0,0,{"$f":"IF(BX329=\"\",0,(BX329-INDIRECT(CONCATENATE(BX328,\"CR\")))*113/INDIRECT(CONCATENATE(BX328,\"SR\")))","v":0},0,0,0,0,0,0,0,0,0,0,0,0,0,0,{"$f":"IF(CM329=\"\",0,(CM329-INDIRECT(CONCATENATE(CM328,\"CR\")))*113/INDIRECT(CONCATENATE(CM328,\"SR\")))","v":0},0,{"$f":"IF(CO329=\"\",0,(CO329-INDIRECT(CONCATENATE(CO328,\"CR\")))*113/INDIRECT(CONCATENATE(CO328,\"SR\")))","v":0},0,{"$f":"IF(CQ329=\"\",0,(CQ329-INDIRECT(CONCATENATE(CQ328,\"CR\")))*113/INDIRECT(CONCATENATE(CQ328,\"SR\")))","v":0},0,{"$f":"IF(CS329=\"\",0,(CS329-INDIRECT(CONCATENATE(CS328,\"CR\")))*113/INDIRECT(CONCATENATE(CS328,\"SR\")))","v":0},0,{"$f":"IF(CU329=\"\",0,(CU329-INDIRECT(CONCATENATE(CU328,\"CR\")))*113/INDIRECT(CONCATENATE(CU328,\"SR\")))","v":0},0,{"$f":"IF(CW329=\"\",0,(CW329-INDIRECT(CONCATENATE(CW328,\"CR\")))*113/INDIRECT(CONCATENATE(CW328,\"SR\")))","v":0}]
[null,null,null,null,null,null,null,null,"New Hcap",{"$f":"J330-2","v":27},{"$f":"IF(K330>0,MIN(J330:K330)-2,J331)","v":27},{"$f":"IF(L330>0,MIN(J330:L330)-2,K331)","v":27},{"$f":"IF(M330>0,MIN(J330:M330)-1,L331)","v":27},{"$f":"IF(N330>0,MIN(J330:N330),M331)","v":27},{"$f":"IF(O330>0,AVERAGE(SMALL(IF(J330:O330>0,J330:O330),{1,2}))-1,N331)","v":27},{"$f":"IF(P330>0,AVERAGE(SMALL(IF(J330:P330>0,J330:P330),{1,2})),O331)","v":27},{"$f":"IF(Q330>0,AVERAGE(SMALL(IF(J330:Q330>0,J330:Q330),{1,2})),P331)","v":27},{"$f":"IF(R330>0,AVERAGE(SMALL(IF(J330:R330>0,J330:R330),{1,2,3})),Q331)","v":27},{"$f":"IF(S330>0,AVERAGE(SMALL(IF(J330:S330>0,J330:S330),{1,2,3})),R331)","v":27},{"$f":"IF(T330>0,AVERAGE(SMALL(IF(J330:T330>0,J330:T330),{1,2,3})),S331)","v":27},{"$f":"IF(U330>0,AVERAGE(SMALL(IF(J330:U330>0,J330:U330),{1,2,3,4})),T331)","v":27},{"$f":"IF(V330>0,AVERAGE(SMALL(IF(J330:V330>0,J330:V330),{1,2,3,4})),U331)","v":27},{"$f":"IF(W330>0,AVERAGE(SMALL(IF(J330:W330>0,J330:W330),{1,2,3,4})),V331)","v":27},{"$f":"IF(X330>0,AVERAGE(SMALL(IF(J330:X330>0,J330:X330),{1,2,3,4,5})),W331)","v":27},{"$f":"IF(Y330>0,AVERAGE(SMALL(IF(J330:Y330>0,J330:Y330),{1,2,3,4,5})),X331)","v":27},{"$f":"IF(Z330>0,AVERAGE(SMALL(IF(J330:Z330>0,J330:Z330),{1,2,3,4,5,6})),Y331)","v":27},{"$f":"IF(AA330>0,AVERAGE(SMALL(IF(J330:AA330>0,J330:AA330),{1,2,3,4,5,6})),Z331)","v":27},{"$f":"IF(AB330>0,AVERAGE(SMALL(IF(J330:AB330>0,J330:AB330),{1,2,3,4,5,6,7})),AA331)","v":27},{"$f":"IF(AC330>0,AVERAGE(SMALL(IF(J330:AC330>0,J330:AC330),{1,2,3,4,5,6,7,8})),AB331)","v":27},{"$f":"IF(AD330>0,AVERAGE(SMALL(IF(K330:AD330>0,K330:AD330),{1,2,3,4,5,6,7,8})),AC331)","v":27},{"$f":"IF(AE330>0,AVERAGE(SMALL(IF(L330:AE330>0,L330:AE330),{1,2,3,4,5,6,7,8})),AD331)","v":27},{"$f":"IF(AF330>0,AVERAGE(SMALL(IF(M330:AF330>0,M330:AF330),{1,2,3,4,5,6,7,8})),AE331)","v":27},{"$f":"IF(AG330>0,AVERAGE(SMALL(IF(N330:AG330>0,N330:AG330),{1,2,3,4,5,6,7,8})),AF331)","v":27},{"$f":"IF(AH330>0,AVERAGE(SMALL(IF(O330:AH330>0,O330:AH330),{1,2,3,4,5,6,7,8})),AG331)","v":27},{"$f":"IF(AI330>0,AVERAGE(SMALL(IF(P330:AI330>0,P330:AI330),{1,2,3,4,5,6,7,8})),AH331)","v":27},{"$f":"IF(AJ330>0,AVERAGE(SMALL(IF(Q330:AJ330>0,Q330:AJ330),{1,2,3,4,5,6,7,8})),AI331)","v":27},{"$f":"IF(AK330>0,AVERAGE(SMALL(IF(R330:AK330>0,R330:AK330),{1,2,3,4,5,6,7,8})),AJ331)","v":27},{"$f":"IF(AL330>0,AVERAGE(SMALL(IF(S330:AL330>0,S330:AL330),{1,2,3,4,5,6,7,8})),AK331)","v":27},{"$f":"IF(AM330>0,AVERAGE(SMALL(IF(T330:AM330>0,T330:AM330),{1,2,3,4,5,6,7,8})),AL331)","v":27},{"$f":"IF(AN330>0,AVERAGE(SMALL(IF(U330:AN330>0,U330:AN330),{1,2,3,4,5,6,7,8})),AM331)","v":27},{"$f":"IF(AO330>0,AVERAGE(SMALL(IF(V330:AO330>0,V330:AO330),{1,2,3,4,5,6,7,8})),AN331)","v":27},{"$f":"IF(AP330>0,AVERAGE(SMALL(IF(W330:AP330>0,W330:AP330),{1,2,3,4,5,6,7,8})),AO331)","v":27},{"$f":"IF(AQ330>0,AVERAGE(SMALL(IF(X330:AQ330>0,X330:AQ330),{1,2,3,4,5,6,7,8})),AP331)","v":27},{"$f":"IF(AR330>0,AVERAGE(SMALL(IF(Y330:AR330>0,Y330:AR330),{1,2,3,4,5,6,7,8})),AQ331)","v":27},{"$f":"IF(AS330>0,AVERAGE(SMALL(IF(Z330:AS330>0,Z330:AS330),{1,2,3,4,5,6,7,8})),AR331)","v":27},{"$f":"IF(AT330>0,AVERAGE(SMALL(IF(AA330:AT330>0,AA330:AT330),{1,2,3,4,5,6,7,8})),AS331)","v":27},{"$f":"IF(AU330>0,AVERAGE(SMALL(IF(AB330:AU330>0,AB330:AU330),{1,2,3,4,5,6,7,8})),AT331)","v":27},{"$f":"IF(AV330>0,AVERAGE(SMALL(IF(AC330:AV330>0,AC330:AV330),{1,2,3,4,5,6,7,8})),AU331)","v":27},{"$f":"IF(AW330>0,AVERAGE(SMALL(IF(AD330:AW330>0,AD330:AW330),{1,2,3,4,5,6,7,8})),AV331)","v":27},{"$f":"IF(AX330>0,AVERAGE(SMALL(IF(AE330:AX330>0,AE330:AX330),{1,2,3,4,5,6,7,8})),AW331)","v":27},{"$f":"IF(AY330>0,AVERAGE(SMALL(IF(AF330:AY330>0,AF330:AY330),{1,2,3,4,5,6,7,8})),AX331)","v":27},{"$f":"IF(AZ330>0,AVERAGE(SMALL(IF(AG330:AZ330>0,AG330:AZ330),{1,2,3,4,5,6,7,8})),AY331)","v":27},{"$f":"IF(BA330>0,AVERAGE(SMALL(IF(AH330:BA330>0,AH330:BA330),{1,2,3,4,5,6,7,8})),AZ331)","v":27},{"$f":"IF(BB330>0,AVERAGE(SMALL(IF(AI330:BB330>0,AI330:BB330),{1,2,3,4,5,6,7,8})),BA331)","v":27},{"$f":"IF(BC330>0,AVERAGE(SMALL(IF(AJ330:BC330>0,AJ330:BC330),{1,2,3,4,5,6,7,8})),BB331)","v":27},{"$f":"IF(BD330>0,AVERAGE(SMALL(IF(AK330:BD330>0,AK330:BD330),{1,2,3,4,5,6,7,8})),BC331)","v":27},{"$f":"IF(BE330>0,AVERAGE(SMALL(IF(AL330:BE330>0,AL330:BE330),{1,2,3,4,5,6,7,8})),BD331)","v":27},{"$f":"IF(BF330>0,AVERAGE(SMALL(IF(AM330:BF330>0,AM330:BF330),{1,2,3,4,5,6,7,8})),BE331)","v":27},{"$f":"IF(BG330>0,AVERAGE(SMALL(IF(AN330:BG330>0,AN330:BG330),{1,2,3,4,5,6,7,8})),BF331)","v":27},{"$f":"IF(BH330>0,AVERAGE(SMALL(IF(AO330:BH330>0,AO330:BH330),{1,2,3,4,5,6,7,8})),BG331)","v":27},{"$f":"IF(BI330>0,AVERAGE(SMALL(IF(AP330:BI330>0,AP330:BI330),{1,2,3,4,5,6,7,8})),BH331)","v":27},{"$f":"IF(BJ330>0,AVERAGE(SMALL(IF(AQ330:BJ330>0,AQ330:BJ330),{1,2,3,4,5,6,7,8})),BI331)","v":27},{"$f":"IF(BK330>0,AVERAGE(SMALL(IF(AR330:BK330>0,AR330:BK330),{1,2,3,4,5,6,7,8})),BJ331)","v":27},{"$f":"IF(BL330>0,AVERAGE(SMALL(IF(AS330:BL330>0,AS330:BL330),{1,2,3,4,5,6,7,8})),BK331)","v":27},{"$f":"IF(BM330>0,AVERAGE(SMALL(IF(AT330:BM330>0,AT330:BM330),{1,2,3,4,5,6,7,8})),BL331)","v":27},{"$f":"IF(BN330>0,AVERAGE(SMALL(IF(AU330:BN330>0,AU330:BN330),{1,2,3,4,5,6,7,8})),BM331)","v":27},{"$f":"IF(BO330>0,AVERAGE(SMALL(IF(AV330:BO330>0,AV330:BO330),{1,2,3,4,5,6,7,8})),BN331)","v":27},{"$f":"IF(BP330>0,AVERAGE(SMALL(IF(AW330:BP330>0,AW330:BP330),{1,2,3,4,5,6,7,8})),BO331)","v":27},{"$f":"IF(BQ330>0,AVERAGE(SMALL(IF(AX330:BQ330>0,AX330:BQ330),{1,2,3,4,5,6,7,8})),BP331)","v":27},{"$f":"IF(BR330>0,AVERAGE(SMALL(IF(AY330:BR330>0,AY330:BR330),{1,2,3,4,5,6,7,8})),BQ331)","v":27},{"$f":"IF(BS330>0,AVERAGE(SMALL(IF(AZ330:BS330>0,AZ330:BS330),{1,2,3,4,5,6,7,8})),BR331)","v":27},{"$f":"IF(BT330>0,AVERAGE(SMALL(IF(BA330:BT330>0,BA330:BT330),{1,2,3,4,5,6,7,8})),BS331)","v":27},{"$f":"IF(BU330>0,AVERAGE(SMALL(IF(BB330:BU330>0,BB330:BU330),{1,2,3,4,5,6,7,8})),BT331)","v":27},{"$f":"IF(BV330>0,AVERAGE(SMALL(IF(BC330:BV330>0,BC330:BV330),{1,2,3,4,5,6,7,8})),BU331)","v":27},{"$f":"IF(BW330>0,AVERAGE(SMALL(IF(BD330:BW330>0,BD330:BW330),{1,2,3,4,5,6,7,8})),BV331)","v":27},{"$f":"IF(BX330>0,AVERAGE(SMALL(IF(BE330:BX330>0,BE330:BX330),{1,2,3,4,5,6,7,8})),BW331)","v":27},{"$f":"IF(BY330>0,AVERAGE(SMALL(IF(BF330:BY330>0,BF330:BY330),{1,2,3,4,5,6,7,8})),BX331)","v":27},{"$f":"IF(BZ330>0,AVERAGE(SMALL(IF(BG330:BZ330>0,BG330:BZ330),{1,2,3,4,5,6,7,8})),BY331)","v":27},{"$f":"IF(CA330>0,AVERAGE(SMALL(IF(BH330:CA330>0,BH330:CA330),{1,2,3,4,5,6,7,8})),BZ331)","v":27},{"$f":"IF(CB330>0,AVERAGE(SMALL(IF(BI330:CB330>0,BI330:CB330),{1,2,3,4,5,6,7,8})),CA331)","v":27},{"$f":"IF(CC330>0,AVERAGE(SMALL(IF(BJ330:CC330>0,BJ330:CC330),{1,2,3,4,5,6,7,8})),CB331)","v":27},{"$f":"IF(CD330>0,AVERAGE(SMALL(IF(BK330:CD330>0,BK330:CD330),{1,2,3,4,5,6,7,8})),CC331)","v":27},{"$f":"IF(CE330>0,AVERAGE(SMALL(IF(BL330:CE330>0,BL330:CE330),{1,2,3,4,5,6,7,8})),CD331)","v":27},{"$f":"IF(CF330>0,AVERAGE(SMALL(IF(BM330:CF330>0,BM330:CF330),{1,2,3,4,5,6,7,8})),CE331)","v":27},{"$f":"IF(CG330>0,AVERAGE(SMALL(IF(BN330:CG330>0,BN330:CG330),{1,2,3,4,5,6,7,8})),CF331)","v":27},{"$f":"IF(CH330>0,AVERAGE(SMALL(IF(BO330:CH330>0,BO330:CH330),{1,2,3,4,5,6,7,8})),CG331)","v":27},{"$f":"IF(CI330>0,AVERAGE(SMALL(IF(BP330:CI330>0,BP330:CI330),{1,2,3,4,5,6,7,8})),CH331)","v":27},{"$f":"IF(CJ330>0,AVERAGE(SMALL(IF(BQ330:CJ330>0,BQ330:CJ330),{1,2,3,4,5,6,7,8})),CI331)","v":27},{"$f":"IF(CK330>0,AVERAGE(SMALL(IF(BR330:CK330>0,BR330:CK330),{1,2,3,4,5,6,7,8})),CJ331)","v":27},{"$f":"IF(CL330>0,AVERAGE(SMALL(IF(BS330:CL330>0,BS330:CL330),{1,2,3,4,5,6,7,8})),CK331)","v":27},{"$f":"IF(CM330>0,AVERAGE(SMALL(IF(BT330:CM330>0,BT330:CM330),{1,2,3,4,5,6,7,8})),CL331)","v":27},{"$f":"IF(CN330>0,AVERAGE(SMALL(IF(BU330:CN330>0,BU330:CN330),{1,2,3,4,5,6,7,8})),CM331)","v":27},{"$f":"IF(CO330>0,AVERAGE(SMALL(IF(BV330:CO330>0,BV330:CO330),{1,2,3,4,5,6,7,8})),CN331)","v":27},{"$f":"IF(CP330>0,AVERAGE(SMALL(IF(BW330:CP330>0,BW330:CP330),{1,2,3,4,5,6,7,8})),CO331)","v":27},{"$f":"IF(CQ330>0,AVERAGE(SMALL(IF(BX330:CQ330>0,BX330:CQ330),{1,2,3,4,5,6,7,8})),CP331)","v":27},{"$f":"IF(CR330>0,AVERAGE(SMALL(IF(BY330:CR330>0,BY330:CR330),{1,2,3,4,5,6,7,8})),CQ331)","v":27},{"$f":"IF(CS330>0,AVERAGE(SMALL(IF(BZ330:CS330>0,BZ330:CS330),{1,2,3,4,5,6,7,8})),CR331)","v":27},{"$f":"IF(CT330>0,AVERAGE(SMALL(IF(CA330:CT330>0,CA330:CT330),{1,2,3,4,5,6,7,8})),CS331)","v":27},{"$f":"IF(CU330>0,AVERAGE(SMALL(IF(CB330:CU330>0,CB330:CU330),{1,2,3,4,5,6,7,8})),CT331)","v":27},{"$f":"IF(CV330>0,AVERAGE(SMALL(IF(CC330:CV330>0,CC330:CV330),{1,2,3,4,5,6,7,8})),CU331)","v":27},{"$f":"IF(CW330>0,AVERAGE(SMALL(IF(CD330:CW330>0,CD330:CW330),{1,2,3,4,5,6,7,8})),CV331)","v":27}]
[null,null,null,null,null,null,null,null,"Low Hcap",null,null,null,null,null,null,null,null,null,null,null,null,null,null,null,null,null,null,null,{"$f":"MIN($J331:AC331)","v":27},{"$f":"MIN($J331:AD331)","v":27},{"$f":"MIN($J331:AE331)","v":27},{"$f":"MIN($J331:AF331)","v":27},{"$f":"MIN($J331:AG331)","v":27},{"$f":"MIN($J331:AH331)","v":27},{"$f":"MIN($J331:AI331)","v":27},{"$f":"MIN($J331:AJ331)","v":27},{"$f":"MIN($J331:AK331)","v":27},{"$f":"MIN($J331:AL331)","v":27},{"$f":"MIN($J331:AM331)","v":27},{"$f":"MIN($J331:AN331)","v":27},{"$f":"MIN($J331:AO331)","v":27},{"$f":"MIN($J331:AP331)","v":27},{"$f":"MIN($J331:AQ331)","v":27},{"$f":"MIN($J331:AR331)","v":27},{"$f":"MIN($J331:AS331)","v":27},{"$f":"MIN($J331:AT331)","v":27},{"$f":"MIN($J331:AU331)","v":27},{"$f":"MIN($J331:AV331)","v":27},{"$f":"MIN($J331:AW331)","v":27},{"$f":"MIN($J331:AX331)","v":27},{"$f":"MIN($J331:AY331)","v":27},{"$f":"MIN($J331:AZ331)","v":27},{"$f":"MIN($J331:BA331)","v":27},{"$f":"MIN($J331:BB331)","v":27},{"$f":"MIN($J331:BC331)","v":27},{"$f":"MIN($J331:BD331)","v":27},{"$f":"MIN($J331:BE331)","v":27},{"$f":"MIN($J331:BF331)","v":27},{"$f":"MIN($J331:BG331)","v":27},{"$f":"MIN($J331:BH331)","v":27},{"$f":"MIN($J331:BI331)","v":27},{"$f":"MIN($J331:BJ331)","v":27},{"$f":"MIN($J331:BK331)","v":27},{"$f":"MIN($J331:BL331)","v":27},{"$f":"MIN($J331:BM331)","v":27},{"$f":"MIN($J331:BN331)","v":27},{"$f":"MIN($J331:BO331)","v":27},{"$f":"MIN($J331:BP331)","v":27},{"$f":"MIN($J331:BQ331)","v":27},{"$f":"MIN($J331:BR331)","v":27},{"$f":"MIN($J331:BS331)","v":27},{"$f":"MIN($J331:BT331)","v":27},{"$f":"MIN($J331:BU331)","v":27},{"$f":"MIN($J331:BV331)","v":27},{"$f":"MIN($J331:BW331)","v":27},{"$f":"MIN($J331:BX331)","v":27},{"$f":"MIN($J331:BY331)","v":27},{"$f":"MIN($J331:BZ331)","v":27},{"$f":"MIN($J331:CA331)","v":27},{"$f":"MIN($J331:CB331)","v":27},{"$f":"MIN($J331:CC331)","v":27},{"$f":"MIN($J331:CD331)","v":27},{"$f":"MIN($J331:CE331)","v":27},{"$f":"MIN($J331:CF331)","v":27},{"$f":"MIN($J331:CG331)","v":27},{"$f":"MIN($J331:CH331)","v":27},{"$f":"MIN($J331:CI331)","v":27},{"$f":"MIN($J331:CJ331)","v":27},{"$f":"MIN($J331:CK331)","v":27},{"$f":"MIN($J331:CL331)","v":27},{"$f":"MIN($J331:CM331)","v":27},{"$f":"MIN($J331:CN331)","v":27},{"$f":"MIN($J331:CO331)","v":27},{"$f":"MIN($J331:CP331)","v":27},{"$f":"MIN($J331:CQ331)","v":27},{"$f":"MIN($J331:CR331)","v":27},{"$f":"MIN($J331:CS331)","v":27},{"$f":"MIN($J331:CT331)","v":27},{"$f":"MIN($J331:CU331)","v":27},{"$f":"MIN($J331:CV331)","v":27},{"$f":"MIN($J331:CW331)","v":27}]
[null,"Lawrence","Mike",18,null,{"$f":"IF(H333<4,\"Y\",)","v":0},2022,{"$f":"COUNT(J333:CX333)","v":17},"Date",null,"2022-05-15","2022-05-23","2022-06-05","2022-06-12","2022-06-17","2022-07-03","2022-07-10","2022-07-24","2022-08-07","2022-09-02","2022-09-11","2022-10-30","2022-11-27","2023-04-07","2023-05-19","2023-05-28","2023-06-04",null,null,null,null,null,null,null,null,null,null,null,null,null,null,null,null,null,null,null,null,null,null,null,null,null,null,null,null,null,null,null,null,null,null,null,null,null,null,null,null,null,null,null,null,null,null,null,null,null,null,null,null,null,null,null,null,null,null,null,null,null,null,null,null,null,null,null,null,null,null,null,null,null,null,null,{"$f":"IF(CW337>$DD$1,36,CW337)","v":27.405652748236523},26.535387291704815,{"$f":"CZ333-CY333","v":-0.87026545653170828}]
[null,null,null,null,null,null,null,null,"Course",null,"OdelzhausenHG","OdelzhausenHG","IffeldorfHG","ErdingHG","StEurachHG","Pfaffing2022HG","IffeldorfHG","Pfaffing2022HG","IffeldorfHG","StEurachHG","Pfaffing2022HG","OdelzhausenHB","OdelzhausenHB","Reichertshausen2023HG","GarmischHG","ErdingHG","IffeldorfHG"]
[null,null,null,null,null,null,null,null,"Ad Gr",null,106,114,105,119,116,111,106,110,101,119,111,102,109,112,117,104,105]
[null,null,null,null,null,null,null,null,"SD",20,{"$f":"IF(K335=\"\",0,(K335-INDIRECT(CONCATENATE(K334,\"CR\")))*113/INDIRECT(CONCATENATE(K334,\"SR\")))","v":30.429921259842523},{"$f":"IF(L335=\"\",0,(L335-INDIRECT(CONCATENATE(L334,\"CR\")))*113/INDIRECT(CONCATENATE(L334,\"SR\")))","v":37.548031496062997},29.607751937984492,41.723076923076924,38.04045801526717,33.291538461538458,30.483720930232554,32.42230769230769,26.103875968992245,40.628244274809155,33.291538461538458,33.223931623931627,39.984615384615388,34.927272727272722,40.573228346456688,28.684615384615384,29.607751937984492,0,0,0,0,0,0,0,0,0,0,0,0,0,0,0,0,0,0,0,0,0,0,0,0,0,0,0,0,0,0,0,0,0,0,0,0,0,0,0,0,0,0,0,0,0,0,0,0,{"$f":"IF(BX335=\"\",0,(BX335-INDIRECT(CONCATENATE(BX334,\"CR\")))*113/INDIRECT(CONCATENATE(BX334,\"SR\")))","v":0},0,0,0,0,0,0,0,0,0,0,0,0,0,0,{"$f":"IF(CM335=\"\",0,(CM335-INDIRECT(CONCATENATE(CM334,\"CR\")))*113/INDIRECT(CONCATENATE(CM334,\"SR\")))","v":0},0,{"$f":"IF(CO335=\"\",0,(CO335-INDIRECT(CONCATENATE(CO334,\"CR\")))*113/INDIRECT(CONCATENATE(CO334,\"SR\")))","v":0},0,{"$f":"IF(CQ335=\"\",0,(CQ335-INDIRECT(CONCATENATE(CQ334,\"CR\")))*113/INDIRECT(CONCATENATE(CQ334,\"SR\")))","v":0},0,{"$f":"IF(CS335=\"\",0,(CS335-INDIRECT(CONCATENATE(CS334,\"CR\")))*113/INDIRECT(CONCATENATE(CS334,\"SR\")))","v":0},0,{"$f":"IF(CU335=\"\",0,(CU335-INDIRECT(CONCATENATE(CU334,\"CR\")))*113/INDIRECT(CONCATENATE(CU334,\"SR\")))","v":0},0,{"$f":"IF(CW335=\"\",0,(CW335-INDIRECT(CONCATENATE(CW334,\"CR\")))*113/INDIRECT(CONCATENATE(CW334,\"SR\")))","v":0}]
[null,null,null,null,null,null,null,null,"New Hcap",{"$f":"J336-2","v":18},{"$f":"IF(K336>0,MIN(J336:K336)-2,J337)","v":18},{"$f":"IF(L336>0,MIN(J336:L336)-2,K337)","v":18},{"$f":"IF(M336>0,MIN(J336:M336)-1,L337)","v":19},{"$f":"IF(N336>0,MIN(J336:N336),M337)","v":20},{"$f":"IF(O336>0,AVERAGE(SMALL(IF(J336:O336>0,J336:O336),{1,2}))-1,N337)","v":23.803875968992244},{"$f":"IF(P336>0,AVERAGE(SMALL(IF(J336:P336>0,J336:P336),{1,2})),O337)","v":24.803875968992244},{"$f":"IF(Q336>0,AVERAGE(SMALL(IF(J336:Q336>0,J336:Q336),{1,2})),P337)","v":24.803875968992244},{"$f":"IF(R336>0,AVERAGE(SMALL(IF(J336:R336>0,J336:R336),{1,2,3})),Q337)","v":26.679224399275672},{"$f":"IF(S336>0,AVERAGE(SMALL(IF(J336:S336>0,J336:S336),{1,2,3})),R337)","v":25.237209302325578},{"$f":"IF(T336>0,AVERAGE(SMALL(IF(J336:T336>0,J336:T336),{1,2,3})),S337)","v":25.237209302325578},{"$f":"IF(U336>0,AVERAGE(SMALL(IF(J336:U336>0,J336:U336),{1,2,3,4})),T337)","v":26.535387291704815},{"$f":"IF(V336>0,AVERAGE(SMALL(IF(J336:V336>0,J336:V336),{1,2,3,4})),U337)","v":26.535387291704815},{"$f":"IF(W336>0,AVERAGE(SMALL(IF(J336:W336>0,J336:W336),{1,2,3,4})),V337)","v":26.535387291704815},{"$f":"IF(X336>0,AVERAGE(SMALL(IF(J336:X336>0,J336:X336),{1,2,3,4,5})),W337)","v":27.325054019410363},{"$f":"IF(Y336>0,AVERAGE(SMALL(IF(J336:Y336>0,J336:Y336),{1,2,3,4,5})),X337)","v":27.325054019410363},{"$f":"IF(Z336>0,AVERAGE(SMALL(IF(J336:Z336>0,J336:Z336),{1,2,3,4,5,6})),Y337)","v":27.551647580277862},{"$f":"IF(AA336>0,AVERAGE(SMALL(IF(J336:AA336>0,J336:AA336),{1,2,3,4,5,6})),Z337)","v":27.405652748236523},{"$f":"IF(AB336>0,AVERAGE(SMALL(IF(J336:AB336>0,J336:AB336),{1,2,3,4,5,6,7})),AA337)","v":27.405652748236523},{"$f":"IF(AC336>0,AVERAGE(SMALL(IF(J336:AC336>0,J336:AC336),{1,2,3,4,5,6,7,8})),AB337)","v":27.405652748236523},{"$f":"IF(AD336>0,AVERAGE(SMALL(IF(K336:AD336>0,K336:AD336),{1,2,3,4,5,6,7,8})),AC337)","v":27.405652748236523},{"$f":"IF(AE336>0,AVERAGE(SMALL(IF(L336:AE336>0,L336:AE336),{1,2,3,4,5,6,7,8})),AD337)","v":27.405652748236523},{"$f":"IF(AF336>0,AVERAGE(SMALL(IF(M336:AF336>0,M336:AF336),{1,2,3,4,5,6,7,8})),AE337)","v":27.405652748236523},{"$f":"IF(AG336>0,AVERAGE(SMALL(IF(N336:AG336>0,N336:AG336),{1,2,3,4,5,6,7,8})),AF337)","v":27.405652748236523},{"$f":"IF(AH336>0,AVERAGE(SMALL(IF(O336:AH336>0,O336:AH336),{1,2,3,4,5,6,7,8})),AG337)","v":27.405652748236523},{"$f":"IF(AI336>0,AVERAGE(SMALL(IF(P336:AI336>0,P336:AI336),{1,2,3,4,5,6,7,8})),AH337)","v":27.405652748236523},{"$f":"IF(AJ336>0,AVERAGE(SMALL(IF(Q336:AJ336>0,Q336:AJ336),{1,2,3,4,5,6,7,8})),AI337)","v":27.405652748236523},{"$f":"IF(AK336>0,AVERAGE(SMALL(IF(R336:AK336>0,R336:AK336),{1,2,3,4,5,6,7,8})),AJ337)","v":27.405652748236523},{"$f":"IF(AL336>0,AVERAGE(SMALL(IF(S336:AL336>0,S336:AL336),{1,2,3,4,5,6,7,8})),AK337)","v":27.405652748236523},{"$f":"IF(AM336>0,AVERAGE(SMALL(IF(T336:AM336>0,T336:AM336),{1,2,3,4,5,6,7,8})),AL337)","v":27.405652748236523},{"$f":"IF(AN336>0,AVERAGE(SMALL(IF(U336:AN336>0,U336:AN336),{1,2,3,4,5,6,7,8})),AM337)","v":27.405652748236523},{"$f":"IF(AO336>0,AVERAGE(SMALL(IF(V336:AO336>0,V336:AO336),{1,2,3,4,5,6,7,8})),AN337)","v":27.405652748236523},{"$f":"IF(AP336>0,AVERAGE(SMALL(IF(W336:AP336>0,W336:AP336),{1,2,3,4,5,6,7,8})),AO337)","v":27.405652748236523},{"$f":"IF(AQ336>0,AVERAGE(SMALL(IF(X336:AQ336>0,X336:AQ336),{1,2,3,4,5,6,7,8})),AP337)","v":27.405652748236523},{"$f":"IF(AR336>0,AVERAGE(SMALL(IF(Y336:AR336>0,Y336:AR336),{1,2,3,4,5,6,7,8})),AQ337)","v":27.405652748236523},{"$f":"IF(AS336>0,AVERAGE(SMALL(IF(Z336:AS336>0,Z336:AS336),{1,2,3,4,5,6,7,8})),AR337)","v":27.405652748236523},{"$f":"IF(AT336>0,AVERAGE(SMALL(IF(AA336:AT336>0,AA336:AT336),{1,2,3,4,5,6,7,8})),AS337)","v":27.405652748236523},{"$f":"IF(AU336>0,AVERAGE(SMALL(IF(AB336:AU336>0,AB336:AU336),{1,2,3,4,5,6,7,8})),AT337)","v":27.405652748236523},{"$f":"IF(AV336>0,AVERAGE(SMALL(IF(AC336:AV336>0,AC336:AV336),{1,2,3,4,5,6,7,8})),AU337)","v":27.405652748236523},{"$f":"IF(AW336>0,AVERAGE(SMALL(IF(AD336:AW336>0,AD336:AW336),{1,2,3,4,5,6,7,8})),AV337)","v":27.405652748236523},{"$f":"IF(AX336>0,AVERAGE(SMALL(IF(AE336:AX336>0,AE336:AX336),{1,2,3,4,5,6,7,8})),AW337)","v":27.405652748236523},{"$f":"IF(AY336>0,AVERAGE(SMALL(IF(AF336:AY336>0,AF336:AY336),{1,2,3,4,5,6,7,8})),AX337)","v":27.405652748236523},{"$f":"IF(AZ336>0,AVERAGE(SMALL(IF(AG336:AZ336>0,AG336:AZ336),{1,2,3,4,5,6,7,8})),AY337)","v":27.405652748236523},{"$f":"IF(BA336>0,AVERAGE(SMALL(IF(AH336:BA336>0,AH336:BA336),{1,2,3,4,5,6,7,8})),AZ337)","v":27.405652748236523},{"$f":"IF(BB336>0,AVERAGE(SMALL(IF(AI336:BB336>0,AI336:BB336),{1,2,3,4,5,6,7,8})),BA337)","v":27.405652748236523},{"$f":"IF(BC336>0,AVERAGE(SMALL(IF(AJ336:BC336>0,AJ336:BC336),{1,2,3,4,5,6,7,8})),BB337)","v":27.405652748236523},{"$f":"IF(BD336>0,AVERAGE(SMALL(IF(AK336:BD336>0,AK336:BD336),{1,2,3,4,5,6,7,8})),BC337)","v":27.405652748236523},{"$f":"IF(BE336>0,AVERAGE(SMALL(IF(AL336:BE336>0,AL336:BE336),{1,2,3,4,5,6,7,8})),BD337)","v":27.405652748236523},{"$f":"IF(BF336>0,AVERAGE(SMALL(IF(AM336:BF336>0,AM336:BF336),{1,2,3,4,5,6,7,8})),BE337)","v":27.405652748236523},{"$f":"IF(BG336>0,AVERAGE(SMALL(IF(AN336:BG336>0,AN336:BG336),{1,2,3,4,5,6,7,8})),BF337)","v":27.405652748236523},{"$f":"IF(BH336>0,AVERAGE(SMALL(IF(AO336:BH336>0,AO336:BH336),{1,2,3,4,5,6,7,8})),BG337)","v":27.405652748236523},{"$f":"IF(BI336>0,AVERAGE(SMALL(IF(AP336:BI336>0,AP336:BI336),{1,2,3,4,5,6,7,8})),BH337)","v":27.405652748236523},{"$f":"IF(BJ336>0,AVERAGE(SMALL(IF(AQ336:BJ336>0,AQ336:BJ336),{1,2,3,4,5,6,7,8})),BI337)","v":27.405652748236523},{"$f":"IF(BK336>0,AVERAGE(SMALL(IF(AR336:BK336>0,AR336:BK336),{1,2,3,4,5,6,7,8})),BJ337)","v":27.405652748236523},{"$f":"IF(BL336>0,AVERAGE(SMALL(IF(AS336:BL336>0,AS336:BL336),{1,2,3,4,5,6,7,8})),BK337)","v":27.405652748236523},{"$f":"IF(BM336>0,AVERAGE(SMALL(IF(AT336:BM336>0,AT336:BM336),{1,2,3,4,5,6,7,8})),BL337)","v":27.405652748236523},{"$f":"IF(BN336>0,AVERAGE(SMALL(IF(AU336:BN336>0,AU336:BN336),{1,2,3,4,5,6,7,8})),BM337)","v":27.405652748236523},{"$f":"IF(BO336>0,AVERAGE(SMALL(IF(AV336:BO336>0,AV336:BO336),{1,2,3,4,5,6,7,8})),BN337)","v":27.405652748236523},{"$f":"IF(BP336>0,AVERAGE(SMALL(IF(AW336:BP336>0,AW336:BP336),{1,2,3,4,5,6,7,8})),BO337)","v":27.405652748236523},{"$f":"IF(BQ336>0,AVERAGE(SMALL(IF(AX336:BQ336>0,AX336:BQ336),{1,2,3,4,5,6,7,8})),BP337)","v":27.405652748236523},{"$f":"IF(BR336>0,AVERAGE(SMALL(IF(AY336:BR336>0,AY336:BR336),{1,2,3,4,5,6,7,8})),BQ337)","v":27.405652748236523},{"$f":"IF(BS336>0,AVERAGE(SMALL(IF(AZ336:BS336>0,AZ336:BS336),{1,2,3,4,5,6,7,8})),BR337)","v":27.405652748236523},{"$f":"IF(BT336>0,AVERAGE(SMALL(IF(BA336:BT336>0,BA336:BT336),{1,2,3,4,5,6,7,8})),BS337)","v":27.405652748236523},{"$f":"IF(BU336>0,AVERAGE(SMALL(IF(BB336:BU336>0,BB336:BU336),{1,2,3,4,5,6,7,8})),BT337)","v":27.405652748236523},{"$f":"IF(BV336>0,AVERAGE(SMALL(IF(BC336:BV336>0,BC336:BV336),{1,2,3,4,5,6,7,8})),BU337)","v":27.405652748236523},{"$f":"IF(BW336>0,AVERAGE(SMALL(IF(BD336:BW336>0,BD336:BW336),{1,2,3,4,5,6,7,8})),BV337)","v":27.405652748236523},{"$f":"IF(BX336>0,AVERAGE(SMALL(IF(BE336:BX336>0,BE336:BX336),{1,2,3,4,5,6,7,8})),BW337)","v":27.405652748236523},{"$f":"IF(BY336>0,AVERAGE(SMALL(IF(BF336:BY336>0,BF336:BY336),{1,2,3,4,5,6,7,8})),BX337)","v":27.405652748236523},{"$f":"IF(BZ336>0,AVERAGE(SMALL(IF(BG336:BZ336>0,BG336:BZ336),{1,2,3,4,5,6,7,8})),BY337)","v":27.405652748236523},{"$f":"IF(CA336>0,AVERAGE(SMALL(IF(BH336:CA336>0,BH336:CA336),{1,2,3,4,5,6,7,8})),BZ337)","v":27.405652748236523},{"$f":"IF(CB336>0,AVERAGE(SMALL(IF(BI336:CB336>0,BI336:CB336),{1,2,3,4,5,6,7,8})),CA337)","v":27.405652748236523},{"$f":"IF(CC336>0,AVERAGE(SMALL(IF(BJ336:CC336>0,BJ336:CC336),{1,2,3,4,5,6,7,8})),CB337)","v":27.405652748236523},{"$f":"IF(CD336>0,AVERAGE(SMALL(IF(BK336:CD336>0,BK336:CD336),{1,2,3,4,5,6,7,8})),CC337)","v":27.405652748236523},{"$f":"IF(CE336>0,AVERAGE(SMALL(IF(BL336:CE336>0,BL336:CE336),{1,2,3,4,5,6,7,8})),CD337)","v":27.405652748236523},{"$f":"IF(CF336>0,AVERAGE(SMALL(IF(BM336:CF336>0,BM336:CF336),{1,2,3,4,5,6,7,8})),CE337)","v":27.405652748236523},{"$f":"IF(CG336>0,AVERAGE(SMALL(IF(BN336:CG336>0,BN336:CG336),{1,2,3,4,5,6,7,8})),CF337)","v":27.405652748236523},{"$f":"IF(CH336>0,AVERAGE(SMALL(IF(BO336:CH336>0,BO336:CH336),{1,2,3,4,5,6,7,8})),CG337)","v":27.405652748236523},{"$f":"IF(CI336>0,AVERAGE(SMALL(IF(BP336:CI336>0,BP336:CI336),{1,2,3,4,5,6,7,8})),CH337)","v":27.405652748236523},{"$f":"IF(CJ336>0,AVERAGE(SMALL(IF(BQ336:CJ336>0,BQ336:CJ336),{1,2,3,4,5,6,7,8})),CI337)","v":27.405652748236523},{"$f":"IF(CK336>0,AVERAGE(SMALL(IF(BR336:CK336>0,BR336:CK336),{1,2,3,4,5,6,7,8})),CJ337)","v":27.405652748236523},{"$f":"IF(CL336>0,AVERAGE(SMALL(IF(BS336:CL336>0,BS336:CL336),{1,2,3,4,5,6,7,8})),CK337)","v":27.405652748236523},{"$f":"IF(CM336>0,AVERAGE(SMALL(IF(BT336:CM336>0,BT336:CM336),{1,2,3,4,5,6,7,8})),CL337)","v":27.405652748236523},{"$f":"IF(CN336>0,AVERAGE(SMALL(IF(BU336:CN336>0,BU336:CN336),{1,2,3,4,5,6,7,8})),CM337)","v":27.405652748236523},{"$f":"IF(CO336>0,AVERAGE(SMALL(IF(BV336:CO336>0,BV336:CO336),{1,2,3,4,5,6,7,8})),CN337)","v":27.405652748236523},{"$f":"IF(CP336>0,AVERAGE(SMALL(IF(BW336:CP336>0,BW336:CP336),{1,2,3,4,5,6,7,8})),CO337)","v":27.405652748236523},{"$f":"IF(CQ336>0,AVERAGE(SMALL(IF(BX336:CQ336>0,BX336:CQ336),{1,2,3,4,5,6,7,8})),CP337)","v":27.405652748236523},{"$f":"IF(CR336>0,AVERAGE(SMALL(IF(BY336:CR336>0,BY336:CR336),{1,2,3,4,5,6,7,8})),CQ337)","v":27.405652748236523},{"$f":"IF(CS336>0,AVERAGE(SMALL(IF(BZ336:CS336>0,BZ336:CS336),{1,2,3,4,5,6,7,8})),CR337)","v":27.405652748236523},{"$f":"IF(CT336>0,AVERAGE(SMALL(IF(CA336:CT336>0,CA336:CT336),{1,2,3,4,5,6,7,8})),CS337)","v":27.405652748236523},{"$f":"IF(CU336>0,AVERAGE(SMALL(IF(CB336:CU336>0,CB336:CU336),{1,2,3,4,5,6,7,8})),CT337)","v":27.405652748236523},{"$f":"IF(CV336>0,AVERAGE(SMALL(IF(CC336:CV336>0,CC336:CV336),{1,2,3,4,5,6,7,8})),CU337)","v":27.405652748236523},{"$f":"IF(CW336>0,AVERAGE(SMALL(IF(CD336:CW336>0,CD336:CW336),{1,2,3,4,5,6,7,8})),CV337)","v":27.405652748236523}]
[null,null,null,null,null,null,null,null,"Low Hcap",null,null,null,null,null,null,null,null,null,null,null,null,null,null,null,null,null,null,null,{"$f":"MIN($J337:AC337)","v":18},{"$f":"MIN($J337:AD337)","v":18},{"$f":"MIN($J337:AE337)","v":18},{"$f":"MIN($J337:AF337)","v":18},{"$f":"MIN($J337:AG337)","v":18},{"$f":"MIN($J337:AH337)","v":18},{"$f":"MIN($J337:AI337)","v":18},{"$f":"MIN($J337:AJ337)","v":18},{"$f":"MIN($J337:AK337)","v":18},{"$f":"MIN($J337:AL337)","v":18},{"$f":"MIN($J337:AM337)","v":18},{"$f":"MIN($J337:AN337)","v":18},{"$f":"MIN($J337:AO337)","v":18},{"$f":"MIN($J337:AP337)","v":18},{"$f":"MIN($J337:AQ337)","v":18},{"$f":"MIN($J337:AR337)","v":18},{"$f":"MIN($J337:AS337)","v":18},{"$f":"MIN($J337:AT337)","v":18},{"$f":"MIN($J337:AU337)","v":18},{"$f":"MIN($J337:AV337)","v":18},{"$f":"MIN($J337:AW337)","v":18},{"$f":"MIN($J337:AX337)","v":18},{"$f":"MIN($J337:AY337)","v":18},{"$f":"MIN($J337:AZ337)","v":18},{"$f":"MIN($J337:BA337)","v":18},{"$f":"MIN($J337:BB337)","v":18},{"$f":"MIN($J337:BC337)","v":18},{"$f":"MIN($J337:BD337)","v":18},{"$f":"MIN($J337:BE337)","v":18},{"$f":"MIN($J337:BF337)","v":18},{"$f":"MIN($J337:BG337)","v":18},{"$f":"MIN($J337:BH337)","v":18},{"$f":"MIN($J337:BI337)","v":18},{"$f":"MIN($J337:BJ337)","v":18},{"$f":"MIN($J337:BK337)","v":18},{"$f":"MIN($J337:BL337)","v":18},{"$f":"MIN($J337:BM337)","v":18},{"$f":"MIN($J337:BN337)","v":18},{"$f":"MIN($J337:BO337)","v":18},{"$f":"MIN($J337:BP337)","v":18},{"$f":"MIN($J337:BQ337)","v":18},{"$f":"MIN($J337:BR337)","v":18},{"$f":"MIN($J337:BS337)","v":18},{"$f":"MIN($J337:BT337)","v":18},{"$f":"MIN($J337:BU337)","v":18},{"$f":"MIN($J337:BV337)","v":18},{"$f":"MIN($J337:BW337)","v":18},{"$f":"MIN($J337:BX337)","v":18},{"$f":"MIN($J337:BY337)","v":18},{"$f":"MIN($J337:BZ337)","v":18},{"$f":"MIN($J337:CA337)","v":18},{"$f":"MIN($J337:CB337)","v":18},{"$f":"MIN($J337:CC337)","v":18},{"$f":"MIN($J337:CD337)","v":18},{"$f":"MIN($J337:CE337)","v":18},{"$f":"MIN($J337:CF337)","v":18},{"$f":"MIN($J337:CG337)","v":18},{"$f":"MIN($J337:CH337)","v":18},{"$f":"MIN($J337:CI337)","v":18},{"$f":"MIN($J337:CJ337)","v":18},{"$f":"MIN($J337:CK337)","v":18},{"$f":"MIN($J337:CL337)","v":18},{"$f":"MIN($J337:CM337)","v":18},{"$f":"MIN($J337:CN337)","v":18},{"$f":"MIN($J337:CO337)","v":18},{"$f":"MIN($J337:CP337)","v":18},{"$f":"MIN($J337:CQ337)","v":18},{"$f":"MIN($J337:CR337)","v":18},{"$f":"MIN($J337:CS337)","v":18},{"$f":"MIN($J337:CT337)","v":18},{"$f":"MIN($J337:CU337)","v":18},{"$f":"MIN($J337:CV337)","v":18},{"$f":"MIN($J337:CW337)","v":18}]
[null,"Lechner","Svenja",17.7,"Y",{"$f":"IF(H339<4,\"Y\",)","v":0},2011,{"$f":"COUNT(J339:CX339)","v":84},"Date","2019-11-01","2019-11-10","2019-11-24","2020-05-20","2020-05-24","2020-05-31","2020-06-14","2020-06-19","2020-06-28","2020-07-03","2020-07-12","2020-07-26","2020-07-31","2020-08-09","2020-08-14","2020-08-26","2020-09-06","2020-09-12","2020-09-16","2020-10-04","2020-10-21","2020-11-01","2020-11-15","2021-03-28","2021-04-11","2021-04-25","2021-04-30","2021-05-09","2021-05-14","2021-05-23","2021-05-30","2021-06-04","2021-06-13","2021-06-23","2021-07-11","2021-07-16","2021-07-21","2021-07-25","2021-07-30","2021-08-08","2021-08-22","2021-08-27","2021-09-03","2021-09-08","2021-09-19","2021-09-24","2021-10-03","2021-10-31","2021-11-14","2022-03-22","2022-04-15","2022-04-20","2022-05-01","2022-05-11","2022-05-29","2022-06-05","2022-06-12","2022-06-17","2022-06-25","2022-06-26","2022-07-03","2022-07-10","2022-07-15","2022-07-24","2022-07-31","2022-08-12","2022-08-21","2022-08-26","2022-09-02","2022-09-11","2022-09-23","2022-10-07","2022-10-12","2022-10-21","2022-10-30","2022-11-13","2022-11-27","2023-03-26","2023-04-07","2023-04-14","2023-05-07","2023-05-19","2023-05-28","2023-06-04",null,null,null,null,null,null,null,null,null,{"$f":"IF(CW343>$DD$1,36,CW343)","v":17.219141975409766},15.215939164219145,{"$f":"CZ339-CY339","v":-2.0032028111906204}]
[null,null,null,null,null,null,null,null,"Course","ErdingDR","TegernbachDR","PfaffingDR","GutThailingDR","PfaffingDR","ErdingDR","OdelzhausenDR","StEurachDR","ErdingDR","TegernbachDR","PfaffingDR","OdelzhausenDR","StEurachDR","ErdingDR","EgmatingDR","GutThailingDR","OdelzhausenDR","TegernbachDR","GutThailingDR","OdelzhausenDR","GutThailingDR","ErdingDR","OdelzhausenDR","OdelzhausenDR","ErdingDR","PfaffingDR","TegernbachDR","ErdingDR","StEurachDR","OdelzhausenDR","IffeldorfDR","EgmatingDR","PfaffingDR","GutThailingDR","PfaffingDR","MaxlrainDR","GutThailingDR","OdelzhausenDR","MangfalltalDR","IffeldorfDR","PfaffingDO","AschheimDR","StEurachDR","GutThailingDR","ErdingDR","TegernbachDR","OdelzhausenDR","ErdingDR","OdelzhausenDR","OdelzhausenDR","ReichertshausenDR","GutThailingDR","ErdingDR","AschheimDR","OdelzhausenDR","IffeldorfDR","ErdingDR","StEurach2022DR","AlgaeuerDR","AlgaeuerDR","Pfaffing2022DR","IffeldorfDR","MaxlrainDR","Pfaffing2022DR","HohenpaehlDR","ValleyDR","Pfaffing2022DR","EschenhofDR","StEurach2022DR","Pfaffing2022DR","ReichertshausenDR","Egmating2022DR","GutThailingDR","TegernbachDR","OdelzhausenDR","ErdingDR","OdelzhausenDR","Pfaffing2022DR","Reichertshausen2023DR","TegernbachDR","Odelzhausen2023DR","GarmischDR","ErdingDR","IffeldorfDR"]
[null,null,null,null,null,null,null,null,"Ad Gr",100,103,101,94,108,99,98,102,98,98,103,91,100,87,98,100,96,99,97,97,95,108,97,103,93,104,97,100,98,102,104,106,96,90,98,90,96,94,100,89,90,103,103,98,99,107,100,96,100,109,112,96,94,92,94,95,91,91,97,93,94,89,94,89,93,88,99,94,99,98,93,95,93,95,102,105,105,104,92,99,99,98,96,92]
[null,null,null,null,null,null,null,null,"SD",{"$f":"IF(J341=\"\",0,(J341-INDIRECT(CONCATENATE(J340,\"CR\")))*113/INDIRECT(CONCATENATE(J340,\"SR\")))","v":25.131199999999996},{"$f":"IF(K341=\"\",0,(K341-INDIRECT(CONCATENATE(K340,\"CR\")))*113/INDIRECT(CONCATENATE(K340,\"SR\")))","v":26.541860465116276},24.57301587301588,19.888000000000002,30.850793650793655,24.227199999999996,22.785245901639339,25.131199999999996,23.323199999999996,22.162015503875967,26.366666666666671,16.301639344262288,23.323199999999996,13.379199999999997,21.967199999999998,25.312000000000001,20.932786885245896,23.037984496124029,22.6,21.859016393442616,20.792000000000002,32.363199999999999,21.859016393442616,27.416393442622944,18.803199999999997,27.26349206349207,21.286046511627905,25.131199999999996,21.515199999999997,26.490163934426224,27.67165354330708,29.199199999999998,20.088888888888896,16.271999999999998,21.88253968253969,12.926515151515146,21.696000000000002,19.080327868852454,23.659374999999997,14.325196850393695,15.926771653543312,26.629457364341089,26.035199999999996,23.504000000000001,24.227199999999996,30.045736434108523,24.637704918032782,21.515199999999997,24.637704918032782,32.973770491803272,35.245238095238093,21.696000000000002,19.707199999999997,16.993798449612409,19.080327868852454,19.663779527559051,16.995199999999997,15.037007874015753,20.268253968253962,16.680952380952377,17.528346456692915,14.325196850393695,16.350757575757569,13.079527559055121,17.869767441860471,{"$f":"IF(BW341=\"\",0,(BW341-INDIRECT(CONCATENATE(BW340,\"CR\")))*113/INDIRECT(CONCATENATE(BW340,\"SR\")))","v":11.215037593984965},21.977165354330712,17.510687022900761,22.155118110236227,21.087401574803152,18.205555555555552,19.164800000000003,18.984000000000002,19.534108527131782,26.490163934426224,29.651199999999996,29.268852459016387,26.425984251968508,17.808800000000002,23.037984496124029,23.426829268292682,{"$f":"IF(CM341=\"\",0,(CM341-INDIRECT(CONCATENATE(CM340,\"CR\")))*113/INDIRECT(CONCATENATE(CM340,\"SR\")))","v":22.238399999999995},21.515199999999997,{"$f":"IF(CO341=\"\",0,(CO341-INDIRECT(CONCATENATE(CO340,\"CR\")))*113/INDIRECT(CONCATENATE(CO340,\"SR\")))","v":16.994488188976373},0,{"$f":"IF(CQ341=\"\",0,(CQ341-INDIRECT(CONCATENATE(CQ340,\"CR\")))*113/INDIRECT(CONCATENATE(CQ340,\"SR\")))","v":0},0,{"$f":"IF(CS341=\"\",0,(CS341-INDIRECT(CONCATENATE(CS340,\"CR\")))*113/INDIRECT(CONCATENATE(CS340,\"SR\")))","v":0},0,{"$f":"IF(CU341=\"\",0,(CU341-INDIRECT(CONCATENATE(CU340,\"CR\")))*113/INDIRECT(CONCATENATE(CU340,\"SR\")))","v":0},0,{"$f":"IF(CW341=\"\",0,(CW341-INDIRECT(CONCATENATE(CW340,\"CR\")))*113/INDIRECT(CONCATENATE(CW340,\"SR\")))","v":0}]
[null,null,null,null,null,null,null,null,"New Hcap",{"$f":"J342-2","v":23.131199999999996},{"$f":"IF(K342>0,MIN(J342:K342)-2,J343)","v":23.131199999999996},{"$f":"IF(L342>0,MIN(J342:L342)-2,K343)","v":22.57301587301588},{"$f":"IF(M342>0,MIN(J342:M342)-1,L343)","v":18.888000000000002},{"$f":"IF(N342>0,MIN(J342:N342),M343)","v":19.888000000000002},{"$f":"IF(O342>0,AVERAGE(SMALL(IF(J342:O342>0,J342:O342),{1,2}))-1,N343)","v":21.057600000000001},{"$f":"IF(P342>0,AVERAGE(SMALL(IF(J342:P342>0,J342:P342),{1,2})),O343)","v":21.33662295081967},{"$f":"IF(Q342>0,AVERAGE(SMALL(IF(J342:Q342>0,J342:Q342),{1,2})),P343)","v":21.33662295081967},{"$f":"IF(R342>0,AVERAGE(SMALL(IF(J342:R342>0,J342:R342),{1,2,3})),Q343)","v":21.998815300546443},{"$f":"IF(S342>0,AVERAGE(SMALL(IF(J342:S342>0,J342:S342),{1,2,3})),R343)","v":21.611753801838436},{"$f":"IF(T342>0,AVERAGE(SMALL(IF(J342:T342>0,J342:T342),{1,2,3})),S343)","v":21.611753801838436},{"$f":"IF(U342>0,AVERAGE(SMALL(IF(J342:U342>0,J342:U342),{1,2,3,4})),T343)","v":20.284225187444399},{"$f":"IF(V342>0,AVERAGE(SMALL(IF(J342:V342>0,J342:V342),{1,2,3,4})),U343)","v":20.284225187444399},{"$f":"IF(W342>0,AVERAGE(SMALL(IF(J342:W342>0,J342:W342),{1,2,3,4})),V343)","v":17.932713712034563},{"$f":"IF(X342>0,AVERAGE(SMALL(IF(J342:X342>0,J342:X342),{1,2,3,4,5})),W343)","v":18.739610969627652},{"$f":"IF(Y342>0,AVERAGE(SMALL(IF(J342:Y342>0,J342:Y342),{1,2,3,4,5})),X343)","v":18.739610969627652},{"$f":"IF(Z342>0,AVERAGE(SMALL(IF(J342:Z342>0,J342:Z342),{1,2,3,4,5,6})),Y343)","v":19.105140288897356},{"$f":"IF(AA342>0,AVERAGE(SMALL(IF(J342:AA342>0,J342:AA342),{1,2,3,4,5,6})),Z343)","v":19.105140288897356},{"$f":"IF(AB342>0,AVERAGE(SMALL(IF(J342:AB342>0,J342:AB342),{1,2,3,4,5,6,7})),AA343)","v":19.604405961912022},{"$f":"IF(AC342>0,AVERAGE(SMALL(IF(J342:AC342>0,J342:AC342),{1,2,3,4,5,6,7,8})),AB343)","v":19.886232265853348},{"$f":"IF(AD342>0,AVERAGE(SMALL(IF(K342:AD342>0,K342:AD342),{1,2,3,4,5,6,7,8})),AC343)","v":19.660232265853349},{"$f":"IF(AE342>0,AVERAGE(SMALL(IF(L342:AE342>0,L342:AE342),{1,2,3,4,5,6,7,8})),AD343)","v":19.660232265853349},{"$f":"IF(AF342>0,AVERAGE(SMALL(IF(M342:AF342>0,M342:AF342),{1,2,3,4,5,6,7,8})),AE343)","v":19.622357377049177},{"$f":"IF(AG342>0,AVERAGE(SMALL(IF(N342:AG342>0,N342:AG342),{1,2,3,4,5,6,7,8})),AF343)","v":19.906609315033673},{"$f":"IF(AH342>0,AVERAGE(SMALL(IF(O342:AH342>0,O342:AH342),{1,2,3,4,5,6,7,8})),AG343)","v":19.486757377049177},{"$f":"IF(AI342>0,AVERAGE(SMALL(IF(P342:AI342>0,P342:AI342),{1,2,3,4,5,6,7,8})),AH343)","v":19.486757377049177},{"$f":"IF(AJ342>0,AVERAGE(SMALL(IF(Q342:AJ342>0,Q342:AJ342),{1,2,3,4,5,6,7,8})),AI343)","v":19.401613191002667},{"$f":"IF(AK342>0,AVERAGE(SMALL(IF(R342:AK342>0,R342:AK342),{1,2,3,4,5,6,7,8})),AJ343)","v":19.401613191002667},{"$f":"IF(AL342>0,AVERAGE(SMALL(IF(S342:AL342>0,S342:AL342),{1,2,3,4,5,6,7,8})),AK343)","v":19.358636141822338},{"$f":"IF(AM342>0,AVERAGE(SMALL(IF(T342:AM342>0,T342:AM342),{1,2,3,4,5,6,7,8})),AL343)","v":19.358636141822338},{"$f":"IF(AN342>0,AVERAGE(SMALL(IF(U342:AN342>0,U342:AN342),{1,2,3,4,5,6,7,8})),AM343)","v":19.358636141822338},{"$f":"IF(AO342>0,AVERAGE(SMALL(IF(V342:AO342>0,V342:AO342),{1,2,3,4,5,6,7,8})),AN343)","v":20.053308272969879},{"$f":"IF(AP342>0,AVERAGE(SMALL(IF(W342:AP342>0,W342:AP342),{1,2,3,4,5,6,7,8})),AO343)","v":19.832042334900663},{"$f":"IF(AQ342>0,AVERAGE(SMALL(IF(X342:AQ342>0,X342:AQ342),{1,2,3,4,5,6,7,8})),AP343)","v":20.193642334900666},{"$f":"IF(AR342>0,AVERAGE(SMALL(IF(Y342:AR342>0,Y342:AR342),{1,2,3,4,5,6,7,8})),AQ343)","v":20.193642334900666},{"$f":"IF(AS342>0,AVERAGE(SMALL(IF(Z342:AS342>0,Z342:AS342),{1,2,3,4,5,6,7,8})),AR343)","v":19.077079679659729},{"$f":"IF(AT342>0,AVERAGE(SMALL(IF(AA342:AT342>0,AA342:AT342),{1,2,3,4,5,6,7,8})),AS343)","v":19.172481319003992},{"$f":"IF(AU342>0,AVERAGE(SMALL(IF(AB342:AU342>0,AB342:AU342),{1,2,3,4,5,6,7,8})),AT343)","v":18.845522302610551},{"$f":"IF(AV342>0,AVERAGE(SMALL(IF(AC342:AV342>0,AC342:AV342),{1,2,3,4,5,6,7,8})),AU343)","v":18.845522302610551},{"$f":"IF(AW342>0,AVERAGE(SMALL(IF(AD342:AW342>0,AD342:AW342),{1,2,3,4,5,6,7,8})),AV343)","v":17.946771908909763},{"$f":"IF(AX342>0,AVERAGE(SMALL(IF(AE342:AX342>0,AE342:AX342),{1,2,3,4,5,6,7,8})),AW343)","v":17.338618365602677},{"$f":"IF(AY342>0,AVERAGE(SMALL(IF(AF342:AY342>0,AF342:AY342),{1,2,3,4,5,6,7,8})),AX343)","v":17.338618365602677},{"$f":"IF(AZ342>0,AVERAGE(SMALL(IF(AG342:AZ342>0,AG342:AZ342),{1,2,3,4,5,6,7,8})),AY343)","v":17.338618365602677},{"$f":"IF(BA342>0,AVERAGE(SMALL(IF(AH342:BA342>0,AH342:BA342),{1,2,3,4,5,6,7,8})),AZ343)","v":17.338618365602677},{"$f":"IF(BB342>0,AVERAGE(SMALL(IF(AI342:BB342>0,AI342:BB342),{1,2,3,4,5,6,7,8})),BA343)","v":17.677618365602676},{"$f":"IF(BC342>0,AVERAGE(SMALL(IF(AJ342:BC342>0,AJ342:BC342),{1,2,3,4,5,6,7,8})),BB343)","v":17.677618365602676},{"$f":"IF(BD342>0,AVERAGE(SMALL(IF(AK342:BD342>0,AK342:BD342),{1,2,3,4,5,6,7,8})),BC343)","v":17.728862551649186},{"$f":"IF(BE342>0,AVERAGE(SMALL(IF(AL342:BE342>0,AL342:BE342),{1,2,3,4,5,6,7,8})),BD343)","v":17.706262551649186},{"$f":"IF(BF342>0,AVERAGE(SMALL(IF(AM342:BF342>0,AM342:BF342),{1,2,3,4,5,6,7,8})),BE343)","v":17.728862551649186},{"$f":"IF(BG342>0,AVERAGE(SMALL(IF(AN342:BG342>0,AN342:BG342),{1,2,3,4,5,6,7,8})),BF343)","v":17.728862551649186},{"$f":"IF(BH342>0,AVERAGE(SMALL(IF(AO342:BH342>0,AO342:BH342),{1,2,3,4,5,6,7,8})),BG343)","v":17.728862551649186},{"$f":"IF(BI342>0,AVERAGE(SMALL(IF(AP342:BI342>0,AP342:BI342),{1,2,3,4,5,6,7,8})),BH343)","v":17.728862551649186},{"$f":"IF(BJ342>0,AVERAGE(SMALL(IF(AQ342:BJ342>0,AQ342:BJ342),{1,2,3,4,5,6,7,8})),BI343)","v":17.681151440538077},{"$f":"IF(BK342>0,AVERAGE(SMALL(IF(AR342:BK342>0,AR342:BK342),{1,2,3,4,5,6,7,8})),BJ343)","v":17.771376246739628},{"$f":"IF(BL342>0,AVERAGE(SMALL(IF(AS342:BL342>0,AS342:BL342),{1,2,3,4,5,6,7,8})),BK343)","v":17.444417230346183},{"$f":"IF(BM342>0,AVERAGE(SMALL(IF(AT342:BM342>0,AT342:BM342),{1,2,3,4,5,6,7,8})),BL343)","v":18.28657527735167},{"$f":"IF(BN342>0,AVERAGE(SMALL(IF(AU342:BN342>0,AU342:BN342),{1,2,3,4,5,6,7,8})),BM343)","v":17.721575277351672},{"$f":"IF(BO342>0,AVERAGE(SMALL(IF(AV342:BO342>0,AV342:BO342),{1,2,3,4,5,6,7,8})),BN343)","v":17.216160277997083},{"$f":"IF(BP342>0,AVERAGE(SMALL(IF(AW342:BP342>0,AW342:BP342),{1,2,3,4,5,6,7,8})),BO343)","v":17.216160277997083},{"$f":"IF(BQ342>0,AVERAGE(SMALL(IF(AX342:BQ342>0,AX342:BQ342),{1,2,3,4,5,6,7,8})),BP343)","v":17.51062971931692},{"$f":"IF(BR342>0,AVERAGE(SMALL(IF(AY342:BR342>0,AY342:BR342),{1,2,3,4,5,6,7,8})),BQ343)","v":17.710826569710619},{"$f":"IF(BS342>0,AVERAGE(SMALL(IF(AZ342:BS342>0,AZ342:BS342),{1,2,3,4,5,6,7,8})),BR343)","v":17.038076176009831},{"$f":"IF(BT342>0,AVERAGE(SMALL(IF(BA342:BT342>0,BA342:BT342),{1,2,3,4,5,6,7,8})),BS343)","v":16.623948432034648},{"$f":"IF(BU342>0,AVERAGE(SMALL(IF(BB342:BU342>0,BB342:BU342),{1,2,3,4,5,6,7,8})),BT343)","v":15.873848393309981},{"$f":"IF(BV342>0,AVERAGE(SMALL(IF(BC342:BV342>0,BC342:BV342),{1,2,3,4,5,6,7,8})),BU343)","v":15.873848393309981},{"$f":"IF(BW342>0,AVERAGE(SMALL(IF(BD342:BW342>0,BD342:BW342),{1,2,3,4,5,6,7,8})),BV343)","v":15.084684785471486},{"$f":"IF(BX342>0,AVERAGE(SMALL(IF(BE342:BX342>0,BE342:BX342),{1,2,3,4,5,6,7,8})),BW343)","v":15.084684785471486},{"$f":"IF(BY342>0,AVERAGE(SMALL(IF(BF342:BY342>0,BF342:BY342),{1,2,3,4,5,6,7,8})),BX343)","v":15.084684785471486},{"$f":"IF(BZ342>0,AVERAGE(SMALL(IF(BG342:BZ342>0,BG342:BZ342),{1,2,3,4,5,6,7,8})),BY343)","v":15.084684785471486},{"$f":"IF(CA342>0,AVERAGE(SMALL(IF(BH342:CA342>0,BH342:CA342),{1,2,3,4,5,6,7,8})),BZ343)","v":15.084684785471486},{"$f":"IF(CB342>0,AVERAGE(SMALL(IF(BI342:CB342>0,BI342:CB342),{1,2,3,4,5,6,7,8})),CA343)","v":15.084684785471486},{"$f":"IF(CC342>0,AVERAGE(SMALL(IF(BJ342:CC342>0,BJ342:CC342),{1,2,3,4,5,6,7,8})),CB343)","v":15.084684785471486},{"$f":"IF(CD342>0,AVERAGE(SMALL(IF(BK342:CD342>0,BK342:CD342),{1,2,3,4,5,6,7,8})),CC343)","v":15.084684785471486},{"$f":"IF(CE342>0,AVERAGE(SMALL(IF(BL342:CE342>0,BL342:CE342),{1,2,3,4,5,6,7,8})),CD343)","v":15.149295857132529},{"$f":"IF(CF342>0,AVERAGE(SMALL(IF(BM342:CF342>0,BM342:CF342),{1,2,3,4,5,6,7,8})),CE343)","v":15.149295857132529},{"$f":"IF(CG342>0,AVERAGE(SMALL(IF(BN342:CG342>0,BN342:CG342),{1,2,3,4,5,6,7,8})),CF343)","v":15.149295857132529},{"$f":"IF(CH342>0,AVERAGE(SMALL(IF(BO342:CH342>0,BO342:CH342),{1,2,3,4,5,6,7,8})),CG343)","v":15.215939164219145},{"$f":"IF(CI342>0,AVERAGE(SMALL(IF(BP342:CI342>0,BP342:CI342),{1,2,3,4,5,6,7,8})),CH343)","v":15.570034110199735},{"$f":"IF(CJ342>0,AVERAGE(SMALL(IF(BQ342:CJ342>0,BQ342:CJ342),{1,2,3,4,5,6,7,8})),CI343)","v":15.562413179967177},{"$f":"IF(CK342>0,AVERAGE(SMALL(IF(BR342:CK342>0,BR342:CK342),{1,2,3,4,5,6,7,8})),CJ343)","v":15.711015062580687},{"$f":"IF(CL342>0,AVERAGE(SMALL(IF(BS342:CL342>0,BS342:CL342),{1,2,3,4,5,6,7,8})),CK343)","v":15.795666199938516},{"$f":"IF(CM342>0,AVERAGE(SMALL(IF(BT342:CM342>0,BT342:CM342),{1,2,3,4,5,6,7,8})),CL343)","v":16.378016593639305},{"$f":"IF(CN342>0,AVERAGE(SMALL(IF(BU342:CN342>0,BU342:CN342),{1,2,3,4,5,6,7,8})),CM343)","v":16.729771896669611},{"$f":"IF(CO342>0,AVERAGE(SMALL(IF(BV342:CO342>0,BV342:CO342),{1,2,3,4,5,6,7,8})),CN343)","v":17.219141975409766},{"$f":"IF(CP342>0,AVERAGE(SMALL(IF(BW342:CP342>0,BW342:CP342),{1,2,3,4,5,6,7,8})),CO343)","v":17.219141975409766},{"$f":"IF(CQ342>0,AVERAGE(SMALL(IF(BX342:CQ342>0,BX342:CQ342),{1,2,3,4,5,6,7,8})),CP343)","v":17.219141975409766},{"$f":"IF(CR342>0,AVERAGE(SMALL(IF(BY342:CR342>0,BY342:CR342),{1,2,3,4,5,6,7,8})),CQ343)","v":17.219141975409766},{"$f":"IF(CS342>0,AVERAGE(SMALL(IF(BZ342:CS342>0,BZ342:CS342),{1,2,3,4,5,6,7,8})),CR343)","v":17.219141975409766},{"$f":"IF(CT342>0,AVERAGE(SMALL(IF(CA342:CT342>0,CA342:CT342),{1,2,3,4,5,6,7,8})),CS343)","v":17.219141975409766},{"$f":"IF(CU342>0,AVERAGE(SMALL(IF(CB342:CU342>0,CB342:CU342),{1,2,3,4,5,6,7,8})),CT343)","v":17.219141975409766},{"$f":"IF(CV342>0,AVERAGE(SMALL(IF(CC342:CV342>0,CC342:CV342),{1,2,3,4,5,6,7,8})),CU343)","v":17.219141975409766},{"$f":"IF(CW342>0,AVERAGE(SMALL(IF(CD342:CW342>0,CD342:CW342),{1,2,3,4,5,6,7,8})),CV343)","v":17.219141975409766}]
[null,null,null,null,null,null,null,null,"Low Hcap",null,null,null,null,null,null,null,null,null,null,null,null,null,null,null,null,null,null,null,{"$f":"MIN($J343:AC343)","v":17.932713712034563},{"$f":"MIN($J343:AD343)","v":17.932713712034563},{"$f":"MIN($J343:AE343)","v":17.932713712034563},{"$f":"MIN($L343:AF343)","v":17.932713712034563},{"$f":"MIN($M343:AG343)","v":17.932713712034563},{"$f":"MIN($M343:AH343)","v":17.932713712034563},{"$f":"MIN($M343:AI343)","v":17.932713712034563},{"$f":"MIN($M343:AJ343)","v":17.932713712034563},{"$f":"MIN($M343:AK343)","v":17.932713712034563},{"$f":"MIN($M343:AL343)","v":17.932713712034563},{"$f":"MIN($M343:AM343)","v":17.932713712034563},{"$f":"MIN($M343:AN343)","v":17.932713712034563},{"$f":"MIN($P343:AO343)","v":17.932713712034563},{"$f":"MIN($P343:AP343)","v":17.932713712034563},{"$f":"MIN($R343:AQ343)","v":17.932713712034563},{"$f":"MIN($T343:AR343)","v":17.932713712034563},{"$f":"MIN($U343:AS343)","v":17.932713712034563},{"$f":"MIN($U343:AT343)","v":17.932713712034563},{"$f":"MIN($U343:AU343)","v":17.932713712034563},{"$f":"MIN($V343:AV343)","v":17.932713712034563},{"$f":"MIN($W343:AW343)","v":17.932713712034563},{"$f":"MIN($W343:AX343)","v":17.338618365602677},{"$f":"MIN($Z343:AY343)","v":17.338618365602677},{"$f":"MIN($Z343:AZ343)","v":17.338618365602677},{"$f":"MIN($AA343:BA343)","v":17.338618365602677},{"$f":"MIN($AC343:BB343)","v":17.338618365602677},{"$f":"MIN($AC343:BC343)","v":17.338618365602677},{"$f":"MIN($AC343:BD343)","v":17.338618365602677},{"$f":"MIN($AE343:BE343)","v":17.338618365602677},{"$f":"MIN($AF343:BF343)","v":17.338618365602677},{"$f":"MIN($AG343:BG343)","v":17.338618365602677},{"$f":"MIN($AI343:BH343)","v":17.338618365602677},{"$f":"MIN($AI343:BI343)","v":17.338618365602677},{"$f":"MIN($AK343:BJ343)","v":17.338618365602677},{"$f":"MIN($AL343:BK343)","v":17.338618365602677},{"$f":"MIN($AN343:BL343)","v":17.338618365602677},{"$f":"MIN($AP343:BM343)","v":17.338618365602677},{"$f":"MIN($AP343:BN343)","v":17.338618365602677},{"$f":"MIN($AQ343:BO343)","v":17.216160277997083},{"$f":"MIN($AR343:BP343)","v":17.216160277997083},{"$f":"MIN($AR343:BQ343)","v":17.216160277997083},{"$f":"MIN($AR343:BR343)","v":17.216160277997083},{"$f":"MIN($AR343:BS343)","v":17.038076176009831},{"$f":"MIN($AS343:BT343)","v":16.623948432034648},{"$f":"MIN($AU343:BU343)","v":15.873848393309981},{"$f":"MIN($AW343:BV343)","v":15.873848393309981},{"$f":"MIN($AX343:BW343)","v":15.084684785471486},{"$f":"MIN($AX343:BX343)","v":15.084684785471486},{"$f":"MIN($AY343:BY343)","v":15.084684785471486},{"$f":"MIN($AZ343:BZ343)","v":15.084684785471486},{"$f":"MIN($BB343:CA343)","v":15.084684785471486},{"$f":"MIN($BC343:CB343)","v":15.084684785471486},{"$f":"MIN($BE343:CC343)","v":15.084684785471486},{"$f":"MIN($BE343:CD343)","v":15.084684785471486},{"$f":"MIN($BE343:CE343)","v":15.084684785471486},{"$f":"MIN($BE343:CF343)","v":15.084684785471486},{"$f":"MIN($BF343:CG343)","v":15.084684785471486},{"$f":"MIN($BG343:CH343)","v":15.084684785471486},{"$f":"MIN($BH343:CI343)","v":15.084684785471486},{"$f":"MIN($BH343:CJ343)","v":15.084684785471486},{"$f":"MIN($BH343:CK343)","v":15.084684785471486},{"$f":"MIN($BK343:CL343)","v":15.084684785471486},{"$f":"MIN($BK343:CM343)","v":15.084684785471486},{"$f":"MIN($BL343:CN343)","v":15.084684785471486},{"$f":"MIN($BM343:CO343)","v":15.084684785471486},{"$f":"MIN($BM343:CP343)","v":15.084684785471486},{"$f":"MIN($BM343:CQ343)","v":15.084684785471486},{"$f":"MIN($BM343:CR343)","v":15.084684785471486},{"$f":"MIN($BM343:CS343)","v":15.084684785471486},{"$f":"MIN($BM343:CT343)","v":15.084684785471486},{"$f":"MIN($BM343:CU343)","v":15.084684785471486},{"$f":"MIN($BM343:CV343)","v":15.084684785471486},{"$f":"MIN($BM343:CW343)","v":15.084684785471486}]
[null,"Leigh","David",26.8,"Y",{"$f":"IF(H345<4,\"Y\",)","v":0},null,{"$f":"COUNT(J345:CX345)","v":7},"Date",null,"2018-05-13","2019-03-17","2020-07-26","2020-07-31","2020-10-09","2022-06-12","2022-06-17",null,null,null,null,null,null,null,null,null,null,null,null,null,null,null,null,null,null,null,null,null,null,null,null,null,null,null,null,null,null,null,null,null,null,null,null,null,null,null,null,null,null,null,null,null,null,null,null,null,null,null,null,null,null,null,null,null,null,null,null,null,null,null,null,null,null,null,null,null,null,null,null,null,null,null,null,null,null,null,null,null,null,null,null,null,{"$f":"IF(CW349>$DD$1,36,CW349)","v":26.390551181102364},26.390551181102364,{"$f":"CZ345-CY345","v":0}]
[null,null,null,null,null,null,null,null,"Course",null,"PfaffingHG","PfaffingHG","OdelzhausenHG","StEurachHG","TegernbachHG","ErdingHG","StEurachHG"]
[null,null,null,null,null,null,null,null,"Ad Gr",null,123,123,101,109,107,115,109]
[null,null,null,null,null,null,null,null,"SD",26.8,{"$f":"IF(K347=\"\",0,(K347-INDIRECT(CONCATENATE(K346,\"CR\")))*113/INDIRECT(CONCATENATE(K346,\"SR\")))","v":44.330769230769228},44.330769230769228,25.981102362204727,32.002290076335875,30.21893939393939,38.246153846153845,32.002290076335875,0,0,0,0,0,0,0,0,0,0,0,0,0,0,0,0,0,0,0,0,0,0,0,0,0,0,0,0,0,0,0,0,0,0,0,0,0,0,0,0,0,0,0,0,0,0,0,0,0,0,0,0,0,0,0,0,0,{"$f":"IF(BW347=\"\",0,(BW347-INDIRECT(CONCATENATE(BW346,\"CR\")))*113/INDIRECT(CONCATENATE(BW346,\"SR\")))","v":0},0,0,0,0,0,0,0,0,0,0,0,0,0,0,0,{"$f":"IF(CM347=\"\",0,(CM347-INDIRECT(CONCATENATE(CM346,\"CR\")))*113/INDIRECT(CONCATENATE(CM346,\"SR\")))","v":0},0,{"$f":"IF(CO347=\"\",0,(CO347-INDIRECT(CONCATENATE(CO346,\"CR\")))*113/INDIRECT(CONCATENATE(CO346,\"SR\")))","v":0},0,{"$f":"IF(CQ347=\"\",0,(CQ347-INDIRECT(CONCATENATE(CQ346,\"CR\")))*113/INDIRECT(CONCATENATE(CQ346,\"SR\")))","v":0},0,{"$f":"IF(CS347=\"\",0,(CS347-INDIRECT(CONCATENATE(CS346,\"CR\")))*113/INDIRECT(CONCATENATE(CS346,\"SR\")))","v":0},0,{"$f":"IF(CU347=\"\",0,(CU347-INDIRECT(CONCATENATE(CU346,\"CR\")))*113/INDIRECT(CONCATENATE(CU346,\"SR\")))","v":0},0,{"$f":"IF(CW347=\"\",0,(CW347-INDIRECT(CONCATENATE(CW346,\"CR\")))*113/INDIRECT(CONCATENATE(CW346,\"SR\")))","v":0}]
[null,null,null,null,null,null,null,null,"New Hcap",{"$f":"J348-2","v":24.8},{"$f":"IF(K348>0,MIN(J348:K348)-2,J349)","v":24.8},{"$f":"IF(L348>0,MIN(J348:L348)-2,K349)","v":24.8},{"$f":"IF(M348>0,MIN(J348:M348)-1,L349)","v":24.981102362204727},{"$f":"IF(N348>0,MIN(J348:N348),M349)","v":25.981102362204727},{"$f":"IF(O348>0,AVERAGE(SMALL(IF(J348:O348>0,J348:O348),{1,2}))-1,N349)","v":25.390551181102364},{"$f":"IF(P348>0,AVERAGE(SMALL(IF(J348:P348>0,J348:P348),{1,2})),O349)","v":26.390551181102364},{"$f":"IF(Q348>0,AVERAGE(SMALL(IF(J348:Q348>0,J348:Q348),{1,2})),P349)","v":26.390551181102364},{"$f":"IF(R348>0,AVERAGE(SMALL(IF(J348:R348>0,J348:R348),{1,2,3})),Q349)","v":26.390551181102364},{"$f":"IF(S348>0,AVERAGE(SMALL(IF(J348:S348>0,J348:S348),{1,2,3})),R349)","v":26.390551181102364},{"$f":"IF(T348>0,AVERAGE(SMALL(IF(J348:T348>0,J348:T348),{1,2,3})),S349)","v":26.390551181102364},{"$f":"IF(U348>0,AVERAGE(SMALL(IF(J348:U348>0,J348:U348),{1,2,3,4})),T349)","v":26.390551181102364},{"$f":"IF(V348>0,AVERAGE(SMALL(IF(J348:V348>0,J348:V348),{1,2,3,4})),U349)","v":26.390551181102364},{"$f":"IF(W348>0,AVERAGE(SMALL(IF(J348:W348>0,J348:W348),{1,2,3,4})),V349)","v":26.390551181102364},{"$f":"IF(X348>0,AVERAGE(SMALL(IF(J348:X348>0,J348:X348),{1,2,3,4,5})),W349)","v":26.390551181102364},{"$f":"IF(Y348>0,AVERAGE(SMALL(IF(J348:Y348>0,J348:Y348),{1,2,3,4,5})),X349)","v":26.390551181102364},{"$f":"IF(Z348>0,AVERAGE(SMALL(IF(J348:Z348>0,J348:Z348),{1,2,3,4,5,6})),Y349)","v":26.390551181102364},{"$f":"IF(AA348>0,AVERAGE(SMALL(IF(J348:AA348>0,J348:AA348),{1,2,3,4,5,6})),Z349)","v":26.390551181102364},{"$f":"IF(AB348>0,AVERAGE(SMALL(IF(J348:AB348>0,J348:AB348),{1,2,3,4,5,6,7})),AA349)","v":26.390551181102364},{"$f":"IF(AC348>0,AVERAGE(SMALL(IF(J348:AC348>0,J348:AC348),{1,2,3,4,5,6,7,8})),AB349)","v":26.390551181102364},{"$f":"IF(AD348>0,AVERAGE(SMALL(IF(K348:AD348>0,K348:AD348),{1,2,3,4,5,6,7,8})),AC349)","v":26.390551181102364},{"$f":"IF(AE348>0,AVERAGE(SMALL(IF(L348:AE348>0,L348:AE348),{1,2,3,4,5,6,7,8})),AD349)","v":26.390551181102364},{"$f":"IF(AF348>0,AVERAGE(SMALL(IF(M348:AF348>0,M348:AF348),{1,2,3,4,5,6,7,8})),AE349)","v":26.390551181102364},{"$f":"IF(AG348>0,AVERAGE(SMALL(IF(N348:AG348>0,N348:AG348),{1,2,3,4,5,6,7,8})),AF349)","v":26.390551181102364},{"$f":"IF(AH348>0,AVERAGE(SMALL(IF(O348:AH348>0,O348:AH348),{1,2,3,4,5,6,7,8})),AG349)","v":26.390551181102364},{"$f":"IF(AI348>0,AVERAGE(SMALL(IF(P348:AI348>0,P348:AI348),{1,2,3,4,5,6,7,8})),AH349)","v":26.390551181102364},{"$f":"IF(AJ348>0,AVERAGE(SMALL(IF(Q348:AJ348>0,Q348:AJ348),{1,2,3,4,5,6,7,8})),AI349)","v":26.390551181102364},{"$f":"IF(AK348>0,AVERAGE(SMALL(IF(R348:AK348>0,R348:AK348),{1,2,3,4,5,6,7,8})),AJ349)","v":26.390551181102364},{"$f":"IF(AL348>0,AVERAGE(SMALL(IF(S348:AL348>0,S348:AL348),{1,2,3,4,5,6,7,8})),AK349)","v":26.390551181102364},{"$f":"IF(AM348>0,AVERAGE(SMALL(IF(T348:AM348>0,T348:AM348),{1,2,3,4,5,6,7,8})),AL349)","v":26.390551181102364},{"$f":"IF(AN348>0,AVERAGE(SMALL(IF(U348:AN348>0,U348:AN348),{1,2,3,4,5,6,7,8})),AM349)","v":26.390551181102364},{"$f":"IF(AO348>0,AVERAGE(SMALL(IF(V348:AO348>0,V348:AO348),{1,2,3,4,5,6,7,8})),AN349)","v":26.390551181102364},{"$f":"IF(AP348>0,AVERAGE(SMALL(IF(W348:AP348>0,W348:AP348),{1,2,3,4,5,6,7,8})),AO349)","v":26.390551181102364},{"$f":"IF(AQ348>0,AVERAGE(SMALL(IF(X348:AQ348>0,X348:AQ348),{1,2,3,4,5,6,7,8})),AP349)","v":26.390551181102364},{"$f":"IF(AR348>0,AVERAGE(SMALL(IF(Y348:AR348>0,Y348:AR348),{1,2,3,4,5,6,7,8})),AQ349)","v":26.390551181102364},{"$f":"IF(AS348>0,AVERAGE(SMALL(IF(Z348:AS348>0,Z348:AS348),{1,2,3,4,5,6,7,8})),AR349)","v":26.390551181102364},{"$f":"IF(AT348>0,AVERAGE(SMALL(IF(AA348:AT348>0,AA348:AT348),{1,2,3,4,5,6,7,8})),AS349)","v":26.390551181102364},{"$f":"IF(AU348>0,AVERAGE(SMALL(IF(AB348:AU348>0,AB348:AU348),{1,2,3,4,5,6,7,8})),AT349)","v":26.390551181102364},{"$f":"IF(AV348>0,AVERAGE(SMALL(IF(AC348:AV348>0,AC348:AV348),{1,2,3,4,5,6,7,8})),AU349)","v":26.390551181102364},{"$f":"IF(AW348>0,AVERAGE(SMALL(IF(AD348:AW348>0,AD348:AW348),{1,2,3,4,5,6,7,8})),AV349)","v":26.390551181102364},{"$f":"IF(AX348>0,AVERAGE(SMALL(IF(AE348:AX348>0,AE348:AX348),{1,2,3,4,5,6,7,8})),AW349)","v":26.390551181102364},{"$f":"IF(AY348>0,AVERAGE(SMALL(IF(AF348:AY348>0,AF348:AY348),{1,2,3,4,5,6,7,8})),AX349)","v":26.390551181102364},{"$f":"IF(AZ348>0,AVERAGE(SMALL(IF(AG348:AZ348>0,AG348:AZ348),{1,2,3,4,5,6,7,8})),AY349)","v":26.390551181102364},{"$f":"IF(BA348>0,AVERAGE(SMALL(IF(AH348:BA348>0,AH348:BA348),{1,2,3,4,5,6,7,8})),AZ349)","v":26.390551181102364},{"$f":"IF(BB348>0,AVERAGE(SMALL(IF(AI348:BB348>0,AI348:BB348),{1,2,3,4,5,6,7,8})),BA349)","v":26.390551181102364},{"$f":"IF(BC348>0,AVERAGE(SMALL(IF(AJ348:BC348>0,AJ348:BC348),{1,2,3,4,5,6,7,8})),BB349)","v":26.390551181102364},{"$f":"IF(BD348>0,AVERAGE(SMALL(IF(AK348:BD348>0,AK348:BD348),{1,2,3,4,5,6,7,8})),BC349)","v":26.390551181102364},{"$f":"IF(BE348>0,AVERAGE(SMALL(IF(AL348:BE348>0,AL348:BE348),{1,2,3,4,5,6,7,8})),BD349)","v":26.390551181102364},{"$f":"IF(BF348>0,AVERAGE(SMALL(IF(AM348:BF348>0,AM348:BF348),{1,2,3,4,5,6,7,8})),BE349)","v":26.390551181102364},{"$f":"IF(BG348>0,AVERAGE(SMALL(IF(AN348:BG348>0,AN348:BG348),{1,2,3,4,5,6,7,8})),BF349)","v":26.390551181102364},{"$f":"IF(BH348>0,AVERAGE(SMALL(IF(AO348:BH348>0,AO348:BH348),{1,2,3,4,5,6,7,8})),BG349)","v":26.390551181102364},{"$f":"IF(BI348>0,AVERAGE(SMALL(IF(AP348:BI348>0,AP348:BI348),{1,2,3,4,5,6,7,8})),BH349)","v":26.390551181102364},{"$f":"IF(BJ348>0,AVERAGE(SMALL(IF(AQ348:BJ348>0,AQ348:BJ348),{1,2,3,4,5,6,7,8})),BI349)","v":26.390551181102364},{"$f":"IF(BK348>0,AVERAGE(SMALL(IF(AR348:BK348>0,AR348:BK348),{1,2,3,4,5,6,7,8})),BJ349)","v":26.390551181102364},{"$f":"IF(BL348>0,AVERAGE(SMALL(IF(AS348:BL348>0,AS348:BL348),{1,2,3,4,5,6,7,8})),BK349)","v":26.390551181102364},{"$f":"IF(BM348>0,AVERAGE(SMALL(IF(AT348:BM348>0,AT348:BM348),{1,2,3,4,5,6,7,8})),BL349)","v":26.390551181102364},{"$f":"IF(BN348>0,AVERAGE(SMALL(IF(AU348:BN348>0,AU348:BN348),{1,2,3,4,5,6,7,8})),BM349)","v":26.390551181102364},{"$f":"IF(BO348>0,AVERAGE(SMALL(IF(AV348:BO348>0,AV348:BO348),{1,2,3,4,5,6,7,8})),BN349)","v":26.390551181102364},{"$f":"IF(BP348>0,AVERAGE(SMALL(IF(AW348:BP348>0,AW348:BP348),{1,2,3,4,5,6,7,8})),BO349)","v":26.390551181102364},{"$f":"IF(BQ348>0,AVERAGE(SMALL(IF(AX348:BQ348>0,AX348:BQ348),{1,2,3,4,5,6,7,8})),BP349)","v":26.390551181102364},{"$f":"IF(BR348>0,AVERAGE(SMALL(IF(AY348:BR348>0,AY348:BR348),{1,2,3,4,5,6,7,8})),BQ349)","v":26.390551181102364},{"$f":"IF(BS348>0,AVERAGE(SMALL(IF(AZ348:BS348>0,AZ348:BS348),{1,2,3,4,5,6,7,8})),BR349)","v":26.390551181102364},{"$f":"IF(BT348>0,AVERAGE(SMALL(IF(BA348:BT348>0,BA348:BT348),{1,2,3,4,5,6,7,8})),BS349)","v":26.390551181102364},{"$f":"IF(BU348>0,AVERAGE(SMALL(IF(BB348:BU348>0,BB348:BU348),{1,2,3,4,5,6,7,8})),BT349)","v":26.390551181102364},{"$f":"IF(BV348>0,AVERAGE(SMALL(IF(BC348:BV348>0,BC348:BV348),{1,2,3,4,5,6,7,8})),BU349)","v":26.390551181102364},{"$f":"IF(BW348>0,AVERAGE(SMALL(IF(BD348:BW348>0,BD348:BW348),{1,2,3,4,5,6,7,8})),BV349)","v":26.390551181102364},{"$f":"IF(BX348>0,AVERAGE(SMALL(IF(BE348:BX348>0,BE348:BX348),{1,2,3,4,5,6,7,8})),BW349)","v":26.390551181102364},{"$f":"IF(BY348>0,AVERAGE(SMALL(IF(BF348:BY348>0,BF348:BY348),{1,2,3,4,5,6,7,8})),BX349)","v":26.390551181102364},{"$f":"IF(BZ348>0,AVERAGE(SMALL(IF(BG348:BZ348>0,BG348:BZ348),{1,2,3,4,5,6,7,8})),BY349)","v":26.390551181102364},{"$f":"IF(CA348>0,AVERAGE(SMALL(IF(BH348:CA348>0,BH348:CA348),{1,2,3,4,5,6,7,8})),BZ349)","v":26.390551181102364},{"$f":"IF(CB348>0,AVERAGE(SMALL(IF(BI348:CB348>0,BI348:CB348),{1,2,3,4,5,6,7,8})),CA349)","v":26.390551181102364},{"$f":"IF(CC348>0,AVERAGE(SMALL(IF(BJ348:CC348>0,BJ348:CC348),{1,2,3,4,5,6,7,8})),CB349)","v":26.390551181102364},{"$f":"IF(CD348>0,AVERAGE(SMALL(IF(BK348:CD348>0,BK348:CD348),{1,2,3,4,5,6,7,8})),CC349)","v":26.390551181102364},{"$f":"IF(CE348>0,AVERAGE(SMALL(IF(BL348:CE348>0,BL348:CE348),{1,2,3,4,5,6,7,8})),CD349)","v":26.390551181102364},{"$f":"IF(CF348>0,AVERAGE(SMALL(IF(BM348:CF348>0,BM348:CF348),{1,2,3,4,5,6,7,8})),CE349)","v":26.390551181102364},{"$f":"IF(CG348>0,AVERAGE(SMALL(IF(BN348:CG348>0,BN348:CG348),{1,2,3,4,5,6,7,8})),CF349)","v":26.390551181102364},{"$f":"IF(CH348>0,AVERAGE(SMALL(IF(BO348:CH348>0,BO348:CH348),{1,2,3,4,5,6,7,8})),CG349)","v":26.390551181102364},{"$f":"IF(CI348>0,AVERAGE(SMALL(IF(BP348:CI348>0,BP348:CI348),{1,2,3,4,5,6,7,8})),CH349)","v":26.390551181102364},{"$f":"IF(CJ348>0,AVERAGE(SMALL(IF(BQ348:CJ348>0,BQ348:CJ348),{1,2,3,4,5,6,7,8})),CI349)","v":26.390551181102364},{"$f":"IF(CK348>0,AVERAGE(SMALL(IF(BR348:CK348>0,BR348:CK348),{1,2,3,4,5,6,7,8})),CJ349)","v":26.390551181102364},{"$f":"IF(CL348>0,AVERAGE(SMALL(IF(BS348:CL348>0,BS348:CL348),{1,2,3,4,5,6,7,8})),CK349)","v":26.390551181102364},{"$f":"IF(CM348>0,AVERAGE(SMALL(IF(BT348:CM348>0,BT348:CM348),{1,2,3,4,5,6,7,8})),CL349)","v":26.390551181102364},{"$f":"IF(CN348>0,AVERAGE(SMALL(IF(BU348:CN348>0,BU348:CN348),{1,2,3,4,5,6,7,8})),CM349)","v":26.390551181102364},{"$f":"IF(CO348>0,AVERAGE(SMALL(IF(BV348:CO348>0,BV348:CO348),{1,2,3,4,5,6,7,8})),CN349)","v":26.390551181102364},{"$f":"IF(CP348>0,AVERAGE(SMALL(IF(BW348:CP348>0,BW348:CP348),{1,2,3,4,5,6,7,8})),CO349)","v":26.390551181102364},{"$f":"IF(CQ348>0,AVERAGE(SMALL(IF(BX348:CQ348>0,BX348:CQ348),{1,2,3,4,5,6,7,8})),CP349)","v":26.390551181102364},{"$f":"IF(CR348>0,AVERAGE(SMALL(IF(BY348:CR348>0,BY348:CR348),{1,2,3,4,5,6,7,8})),CQ349)","v":26.390551181102364},{"$f":"IF(CS348>0,AVERAGE(SMALL(IF(BZ348:CS348>0,BZ348:CS348),{1,2,3,4,5,6,7,8})),CR349)","v":26.390551181102364},{"$f":"IF(CT348>0,AVERAGE(SMALL(IF(CA348:CT348>0,CA348:CT348),{1,2,3,4,5,6,7,8})),CS349)","v":26.390551181102364},{"$f":"IF(CU348>0,AVERAGE(SMALL(IF(CB348:CU348>0,CB348:CU348),{1,2,3,4,5,6,7,8})),CT349)","v":26.390551181102364},{"$f":"IF(CV348>0,AVERAGE(SMALL(IF(CC348:CV348>0,CC348:CV348),{1,2,3,4,5,6,7,8})),CU349)","v":26.390551181102364},{"$f":"IF(CW348>0,AVERAGE(SMALL(IF(CD348:CW348>0,CD348:CW348),{1,2,3,4,5,6,7,8})),CV349)","v":26.390551181102364}]
[null,null,null,null,null,null,null,null,"Low Hcap",null,null,null,null,null,null,null,null,null,null,null,null,null,null,null,null,null,null,null,{"$f":"MIN($M349:AC349)","v":24.981102362204727},{"$f":"MIN($M349:AD349)","v":24.981102362204727},{"$f":"MIN($M349:AE349)","v":24.981102362204727},{"$f":"MIN($M349:AF349)","v":24.981102362204727},{"$f":"MIN($M349:AG349)","v":24.981102362204727},{"$f":"MIN($M349:AH349)","v":24.981102362204727},{"$f":"MIN($M349:AI349)","v":24.981102362204727},{"$f":"MIN($M349:AJ349)","v":24.981102362204727},{"$f":"MIN($M349:AK349)","v":24.981102362204727},{"$f":"MIN($M349:AL349)","v":24.981102362204727},{"$f":"MIN($M349:AM349)","v":24.981102362204727},{"$f":"MIN($M349:AN349)","v":24.981102362204727},{"$f":"MIN($M349:AO349)","v":24.981102362204727},{"$f":"MIN($M349:AP349)","v":24.981102362204727},{"$f":"MIN($M349:AQ349)","v":24.981102362204727},{"$f":"MIN($M349:AR349)","v":24.981102362204727},{"$f":"MIN($M349:AS349)","v":24.981102362204727},{"$f":"MIN($M349:AT349)","v":24.981102362204727},{"$f":"MIN($M349:AU349)","v":24.981102362204727},{"$f":"MIN($M349:AV349)","v":24.981102362204727},{"$f":"MIN($M349:AW349)","v":24.981102362204727},{"$f":"MIN($M349:AX349)","v":24.981102362204727},{"$f":"MIN($M349:AY349)","v":24.981102362204727},{"$f":"MIN($M349:AZ349)","v":24.981102362204727},{"$f":"MIN($M349:BA349)","v":24.981102362204727},{"$f":"MIN($M349:BB349)","v":24.981102362204727},{"$f":"MIN($M349:BC349)","v":24.981102362204727},{"$f":"MIN($M349:BD349)","v":24.981102362204727},{"$f":"MIN($M349:BE349)","v":24.981102362204727},{"$f":"MIN($M349:BF349)","v":24.981102362204727},{"$f":"MIN($M349:BG349)","v":24.981102362204727},{"$f":"MIN($M349:BH349)","v":24.981102362204727},{"$f":"MIN($M349:BI349)","v":24.981102362204727},{"$f":"MIN($M349:BJ349)","v":24.981102362204727},{"$f":"MIN($M349:BK349)","v":24.981102362204727},{"$f":"MIN($M349:BL349)","v":24.981102362204727},{"$f":"MIN($M349:BM349)","v":24.981102362204727},{"$f":"MIN($M349:BN349)","v":24.981102362204727},{"$f":"MIN($M349:BO349)","v":24.981102362204727},{"$f":"MIN($M349:BP349)","v":24.981102362204727},{"$f":"MIN($M349:BQ349)","v":24.981102362204727},{"$f":"MIN($M349:BR349)","v":24.981102362204727},{"$f":"MIN($M349:BS349)","v":24.981102362204727},{"$f":"MIN($M349:BT349)","v":24.981102362204727},{"$f":"MIN($M349:BU349)","v":24.981102362204727},{"$f":"MIN($M349:BV349)","v":24.981102362204727},{"$f":"MIN($M349:BW349)","v":24.981102362204727},{"$f":"MIN($M349:BX349)","v":24.981102362204727},{"$f":"MIN($M349:BY349)","v":24.981102362204727},{"$f":"MIN($M349:BZ349)","v":24.981102362204727},{"$f":"MIN($M349:CA349)","v":24.981102362204727},{"$f":"MIN($M349:CB349)","v":24.981102362204727},{"$f":"MIN($M349:CC349)","v":24.981102362204727},{"$f":"MIN($M349:CD349)","v":24.981102362204727},{"$f":"MIN($M349:CE349)","v":24.981102362204727},{"$f":"MIN($M349:CF349)","v":24.981102362204727},{"$f":"MIN($M349:CG349)","v":24.981102362204727},{"$f":"MIN($M349:CH349)","v":24.981102362204727},{"$f":"MIN($M349:CI349)","v":24.981102362204727},{"$f":"MIN($M349:CJ349)","v":24.981102362204727},{"$f":"MIN($M349:CK349)","v":24.981102362204727},{"$f":"MIN($M349:CL349)","v":24.981102362204727},{"$f":"MIN($M349:CM349)","v":24.981102362204727},{"$f":"MIN($M349:CN349)","v":24.981102362204727},{"$f":"MIN($M349:CO349)","v":24.981102362204727},{"$f":"MIN($M349:CP349)","v":24.981102362204727},{"$f":"MIN($M349:CQ349)","v":24.981102362204727},{"$f":"MIN($M349:CR349)","v":24.981102362204727},{"$f":"MIN($M349:CS349)","v":24.981102362204727},{"$f":"MIN($M349:CT349)","v":24.981102362204727},{"$f":"MIN($M349:CU349)","v":24.981102362204727},{"$f":"MIN($M349:CV349)","v":24.981102362204727},{"$f":"MIN($M349:CW349)","v":24.981102362204727}]
[null,"Lightfoot","Matthew",26.9,null,{"$f":"IF(H351<4,\"Y\",)","v":0},null,{"$f":"COUNT(J351:CX351)","v":23},"Date",null,"2020-06-14","2020-06-19","2020-06-28","2020-07-03","2020-07-26","2020-07-31","2020-08-23","2020-09-06","2021-04-30","2021-05-14","2021-05-23","2021-05-30","2021-07-02","2021-07-25","2021-09-03","2021-09-24","2021-10-03","2022-05-06","2022-05-15","2022-09-11","2023-03-26","2023-05-07","2023-05-19",null,null,null,null,null,null,null,null,null,null,null,null,null,null,null,null,null,null,null,null,null,null,null,null,null,null,null,null,null,null,null,null,null,null,null,null,null,null,null,null,null,null,null,null,null,null,null,null,null,null,null,null,null,null,null,null,null,null,null,null,null,null,null,null,null,null,null,null,null,{"$f":"IF(CW355>$DD$1,36,CW355)","v":21.2039639254746},21.784699562686615,{"$f":"CZ351-CY351","v":0.58073563721201538}]
[null,null,null,null,null,null,null,null,"Course",null,"OdelzhausenHG","StEurachHG","ErdingHG","TegernbachHG","OdelzhausenHG","StEurachHG","PfaffingHG","OdelzhausenHG","TegernbachHG","StEurachHG","OdelzhausenHG","IffeldorfHG","TegernbachHG","OdelzhausenHR","StEurachHG","TegernbachHG","OdelzhausenHG","TegernbachHG","OdelzhausenHG","Pfaffing2022HG","Pfaffing2023HG","Odelzhausen2023HG","GarmischHG"]
[null,null,null,null,null,null,null,null,"Ad Gr",null,98,110,110,104,109,109,105,102,94,96,105,105,98,103,94,101,97,100,111,99,95,99,102]
[null,null,null,null,null,null,null,null,"SD",26.9,{"$f":"IF(K353=\"\",0,(K353-INDIRECT(CONCATENATE(K352,\"CR\")))*113/INDIRECT(CONCATENATE(K352,\"SR\")))","v":23.311811023622049},32.864885496183199,33.9,27.650757575757574,33.099212598425197,32.002290076335875,28.684615384615384,26.870866141732286,19.090151515151511,20.788549618320605,29.540157480314964,29.607751937984492,22.514393939393937,33.995762711864408,19.06335877862595,25.082575757575754,22.42204724409449,24.226515151515148,34.878740157480316,22.860769230769229,18.665925925925922,24.969354838709684,27.226771653543302,0,0,0,0,0,0,0,0,0,0,0,0,0,0,0,0,0,0,0,0,0,0,0,0,0,0,0,0,0,0,0,0,0,0,0,0,0,0,0,0,0,{"$f":"IF(BW353=\"\",0,(BW353-INDIRECT(CONCATENATE(BW352,\"CR\")))*113/INDIRECT(CONCATENATE(BW352,\"SR\")))","v":0},0,0,0,0,0,0,0,0,0,0,0,0,0,0,0,{"$f":"IF(CM353=\"\",0,(CM353-INDIRECT(CONCATENATE(CM352,\"CR\")))*113/INDIRECT(CONCATENATE(CM352,\"SR\")))","v":0},0,{"$f":"IF(CO353=\"\",0,(CO353-INDIRECT(CONCATENATE(CO352,\"CR\")))*113/INDIRECT(CONCATENATE(CO352,\"SR\")))","v":0},0,{"$f":"IF(CQ353=\"\",0,(CQ353-INDIRECT(CONCATENATE(CQ352,\"CR\")))*113/INDIRECT(CONCATENATE(CQ352,\"SR\")))","v":0},0,{"$f":"IF(CS353=\"\",0,(CS353-INDIRECT(CONCATENATE(CS352,\"CR\")))*113/INDIRECT(CONCATENATE(CS352,\"SR\")))","v":0},0,{"$f":"IF(CU353=\"\",0,(CU353-INDIRECT(CONCATENATE(CU352,\"CR\")))*113/INDIRECT(CONCATENATE(CU352,\"SR\")))","v":0},0,{"$f":"IF(CW353=\"\",0,(CW353-INDIRECT(CONCATENATE(CW352,\"CR\")))*113/INDIRECT(CONCATENATE(CW352,\"SR\")))","v":0}]
[null,null,null,null,null,null,null,null,"New Hcap",{"$f":"J354-2","v":24.9},{"$f":"IF(K354>0,MIN(J354:K354)-2,J355)","v":21.311811023622049},{"$f":"IF(L354>0,MIN(J354:L354)-2,K355)","v":21.311811023622049},{"$f":"IF(M354>0,MIN(J354:M354)-1,L355)","v":22.311811023622049},{"$f":"IF(N354>0,MIN(J354:N354),M355)","v":23.311811023622049},{"$f":"IF(O354>0,AVERAGE(SMALL(IF(J354:O354>0,J354:O354),{1,2}))-1,N355)","v":24.105905511811024},{"$f":"IF(P354>0,AVERAGE(SMALL(IF(J354:P354>0,J354:P354),{1,2})),O355)","v":25.105905511811024},{"$f":"IF(Q354>0,AVERAGE(SMALL(IF(J354:Q354>0,J354:Q354),{1,2})),P355)","v":25.105905511811024},{"$f":"IF(R354>0,AVERAGE(SMALL(IF(J354:R354>0,J354:R354),{1,2,3})),Q355)","v":25.694225721784779},{"$f":"IF(S354>0,AVERAGE(SMALL(IF(J354:S354>0,J354:S354),{1,2,3})),R355)","v":23.09094289350195},{"$f":"IF(T354>0,AVERAGE(SMALL(IF(J354:T354>0,J354:T354),{1,2,3})),S355)","v":21.063504052364724},{"$f":"IF(U354>0,AVERAGE(SMALL(IF(J354:U354>0,J354:U354),{1,2,3,4})),T355)","v":22.515344574706614},{"$f":"IF(V354>0,AVERAGE(SMALL(IF(J354:V354>0,J354:V354),{1,2,3,4})),U355)","v":22.515344574706614},{"$f":"IF(W354>0,AVERAGE(SMALL(IF(J354:W354>0,J354:W354),{1,2,3,4})),V355)","v":21.426226524122029},{"$f":"IF(X354>0,AVERAGE(SMALL(IF(J354:X354>0,J354:X354),{1,2,3,4,5})),W355)","v":22.515154447644079},{"$f":"IF(Y354>0,AVERAGE(SMALL(IF(J354:Y354>0,J354:Y354),{1,2,3,4,5})),X355)","v":20.953652975022813},{"$f":"IF(Z354>0,AVERAGE(SMALL(IF(J354:Z354>0,J354:Z354),{1,2,3,4,5,6})),Y355)","v":21.641806772114972},{"$f":"IF(AA354>0,AVERAGE(SMALL(IF(J354:AA354>0,J354:AA354),{1,2,3,4,5,6})),Z355)","v":21.19838535320142},{"$f":"IF(AB354>0,AVERAGE(SMALL(IF(J354:AB354>0,J354:AB354),{1,2,3,4,5,6,7})),AA355)","v":21.630975324389095},{"$f":"IF(AC354>0,AVERAGE(SMALL(IF(J354:AC354>0,J354:AC354),{1,2,3,4,5,6,7,8})),AB355)","v":22.062425378537426},{"$f":"IF(AD354>0,AVERAGE(SMALL(IF(K354:AD354>0,K354:AD354),{1,2,3,4,5,6,7,8})),AC355)","v":21.784699562686615},{"$f":"IF(AE354>0,AVERAGE(SMALL(IF(L354:AE354>0,L354:AE354),{1,2,3,4,5,6,7,8})),AD355)","v":21.2039639254746},{"$f":"IF(AF354>0,AVERAGE(SMALL(IF(M354:AF354>0,M354:AF354),{1,2,3,4,5,6,7,8})),AE355)","v":21.2039639254746},{"$f":"IF(AG354>0,AVERAGE(SMALL(IF(N354:AG354>0,N354:AG354),{1,2,3,4,5,6,7,8})),AF355)","v":21.2039639254746},{"$f":"IF(AH354>0,AVERAGE(SMALL(IF(O354:AH354>0,O354:AH354),{1,2,3,4,5,6,7,8})),AG355)","v":21.2039639254746},{"$f":"IF(AI354>0,AVERAGE(SMALL(IF(P354:AI354>0,P354:AI354),{1,2,3,4,5,6,7,8})),AH355)","v":21.2039639254746},{"$f":"IF(AJ354>0,AVERAGE(SMALL(IF(Q354:AJ354>0,Q354:AJ354),{1,2,3,4,5,6,7,8})),AI355)","v":21.2039639254746},{"$f":"IF(AK354>0,AVERAGE(SMALL(IF(R354:AK354>0,R354:AK354),{1,2,3,4,5,6,7,8})),AJ355)","v":21.2039639254746},{"$f":"IF(AL354>0,AVERAGE(SMALL(IF(S354:AL354>0,S354:AL354),{1,2,3,4,5,6,7,8})),AK355)","v":21.2039639254746},{"$f":"IF(AM354>0,AVERAGE(SMALL(IF(T354:AM354>0,T354:AM354),{1,2,3,4,5,6,7,8})),AL355)","v":21.2039639254746},{"$f":"IF(AN354>0,AVERAGE(SMALL(IF(U354:AN354>0,U354:AN354),{1,2,3,4,5,6,7,8})),AM355)","v":21.2039639254746},{"$f":"IF(AO354>0,AVERAGE(SMALL(IF(V354:AO354>0,V354:AO354),{1,2,3,4,5,6,7,8})),AN355)","v":21.2039639254746},{"$f":"IF(AP354>0,AVERAGE(SMALL(IF(W354:AP354>0,W354:AP354),{1,2,3,4,5,6,7,8})),AO355)","v":21.2039639254746},{"$f":"IF(AQ354>0,AVERAGE(SMALL(IF(X354:AQ354>0,X354:AQ354),{1,2,3,4,5,6,7,8})),AP355)","v":21.2039639254746},{"$f":"IF(AR354>0,AVERAGE(SMALL(IF(Y354:AR354>0,Y354:AR354),{1,2,3,4,5,6,7,8})),AQ355)","v":21.2039639254746},{"$f":"IF(AS354>0,AVERAGE(SMALL(IF(Z354:AS354>0,Z354:AS354),{1,2,3,4,5,6,7,8})),AR355)","v":21.2039639254746},{"$f":"IF(AT354>0,AVERAGE(SMALL(IF(AA354:AT354>0,AA354:AT354),{1,2,3,4,5,6,7,8})),AS355)","v":21.2039639254746},{"$f":"IF(AU354>0,AVERAGE(SMALL(IF(AB354:AU354>0,AB354:AU354),{1,2,3,4,5,6,7,8})),AT355)","v":21.2039639254746},{"$f":"IF(AV354>0,AVERAGE(SMALL(IF(AC354:AV354>0,AC354:AV354),{1,2,3,4,5,6,7,8})),AU355)","v":21.2039639254746},{"$f":"IF(AW354>0,AVERAGE(SMALL(IF(AD354:AW354>0,AD354:AW354),{1,2,3,4,5,6,7,8})),AV355)","v":21.2039639254746},{"$f":"IF(AX354>0,AVERAGE(SMALL(IF(AE354:AX354>0,AE354:AX354),{1,2,3,4,5,6,7,8})),AW355)","v":21.2039639254746},{"$f":"IF(AY354>0,AVERAGE(SMALL(IF(AF354:AY354>0,AF354:AY354),{1,2,3,4,5,6,7,8})),AX355)","v":21.2039639254746},{"$f":"IF(AZ354>0,AVERAGE(SMALL(IF(AG354:AZ354>0,AG354:AZ354),{1,2,3,4,5,6,7,8})),AY355)","v":21.2039639254746},{"$f":"IF(BA354>0,AVERAGE(SMALL(IF(AH354:BA354>0,AH354:BA354),{1,2,3,4,5,6,7,8})),AZ355)","v":21.2039639254746},{"$f":"IF(BB354>0,AVERAGE(SMALL(IF(AI354:BB354>0,AI354:BB354),{1,2,3,4,5,6,7,8})),BA355)","v":21.2039639254746},{"$f":"IF(BC354>0,AVERAGE(SMALL(IF(AJ354:BC354>0,AJ354:BC354),{1,2,3,4,5,6,7,8})),BB355)","v":21.2039639254746},{"$f":"IF(BD354>0,AVERAGE(SMALL(IF(AK354:BD354>0,AK354:BD354),{1,2,3,4,5,6,7,8})),BC355)","v":21.2039639254746},{"$f":"IF(BE354>0,AVERAGE(SMALL(IF(AL354:BE354>0,AL354:BE354),{1,2,3,4,5,6,7,8})),BD355)","v":21.2039639254746},{"$f":"IF(BF354>0,AVERAGE(SMALL(IF(AM354:BF354>0,AM354:BF354),{1,2,3,4,5,6,7,8})),BE355)","v":21.2039639254746},{"$f":"IF(BG354>0,AVERAGE(SMALL(IF(AN354:BG354>0,AN354:BG354),{1,2,3,4,5,6,7,8})),BF355)","v":21.2039639254746},{"$f":"IF(BH354>0,AVERAGE(SMALL(IF(AO354:BH354>0,AO354:BH354),{1,2,3,4,5,6,7,8})),BG355)","v":21.2039639254746},{"$f":"IF(BI354>0,AVERAGE(SMALL(IF(AP354:BI354>0,AP354:BI354),{1,2,3,4,5,6,7,8})),BH355)","v":21.2039639254746},{"$f":"IF(BJ354>0,AVERAGE(SMALL(IF(AQ354:BJ354>0,AQ354:BJ354),{1,2,3,4,5,6,7,8})),BI355)","v":21.2039639254746},{"$f":"IF(BK354>0,AVERAGE(SMALL(IF(AR354:BK354>0,AR354:BK354),{1,2,3,4,5,6,7,8})),BJ355)","v":21.2039639254746},{"$f":"IF(BL354>0,AVERAGE(SMALL(IF(AS354:BL354>0,AS354:BL354),{1,2,3,4,5,6,7,8})),BK355)","v":21.2039639254746},{"$f":"IF(BM354>0,AVERAGE(SMALL(IF(AT354:BM354>0,AT354:BM354),{1,2,3,4,5,6,7,8})),BL355)","v":21.2039639254746},{"$f":"IF(BN354>0,AVERAGE(SMALL(IF(AU354:BN354>0,AU354:BN354),{1,2,3,4,5,6,7,8})),BM355)","v":21.2039639254746},{"$f":"IF(BO354>0,AVERAGE(SMALL(IF(AV354:BO354>0,AV354:BO354),{1,2,3,4,5,6,7,8})),BN355)","v":21.2039639254746},{"$f":"IF(BP354>0,AVERAGE(SMALL(IF(AW354:BP354>0,AW354:BP354),{1,2,3,4,5,6,7,8})),BO355)","v":21.2039639254746},{"$f":"IF(BQ354>0,AVERAGE(SMALL(IF(AX354:BQ354>0,AX354:BQ354),{1,2,3,4,5,6,7,8})),BP355)","v":21.2039639254746},{"$f":"IF(BR354>0,AVERAGE(SMALL(IF(AY354:BR354>0,AY354:BR354),{1,2,3,4,5,6,7,8})),BQ355)","v":21.2039639254746},{"$f":"IF(BS354>0,AVERAGE(SMALL(IF(AZ354:BS354>0,AZ354:BS354),{1,2,3,4,5,6,7,8})),BR355)","v":21.2039639254746},{"$f":"IF(BT354>0,AVERAGE(SMALL(IF(BA354:BT354>0,BA354:BT354),{1,2,3,4,5,6,7,8})),BS355)","v":21.2039639254746},{"$f":"IF(BU354>0,AVERAGE(SMALL(IF(BB354:BU354>0,BB354:BU354),{1,2,3,4,5,6,7,8})),BT355)","v":21.2039639254746},{"$f":"IF(BV354>0,AVERAGE(SMALL(IF(BC354:BV354>0,BC354:BV354),{1,2,3,4,5,6,7,8})),BU355)","v":21.2039639254746},{"$f":"IF(BW354>0,AVERAGE(SMALL(IF(BD354:BW354>0,BD354:BW354),{1,2,3,4,5,6,7,8})),BV355)","v":21.2039639254746},{"$f":"IF(BX354>0,AVERAGE(SMALL(IF(BE354:BX354>0,BE354:BX354),{1,2,3,4,5,6,7,8})),BW355)","v":21.2039639254746},{"$f":"IF(BY354>0,AVERAGE(SMALL(IF(BF354:BY354>0,BF354:BY354),{1,2,3,4,5,6,7,8})),BX355)","v":21.2039639254746},{"$f":"IF(BZ354>0,AVERAGE(SMALL(IF(BG354:BZ354>0,BG354:BZ354),{1,2,3,4,5,6,7,8})),BY355)","v":21.2039639254746},{"$f":"IF(CA354>0,AVERAGE(SMALL(IF(BH354:CA354>0,BH354:CA354),{1,2,3,4,5,6,7,8})),BZ355)","v":21.2039639254746},{"$f":"IF(CB354>0,AVERAGE(SMALL(IF(BI354:CB354>0,BI354:CB354),{1,2,3,4,5,6,7,8})),CA355)","v":21.2039639254746},{"$f":"IF(CC354>0,AVERAGE(SMALL(IF(BJ354:CC354>0,BJ354:CC354),{1,2,3,4,5,6,7,8})),CB355)","v":21.2039639254746},{"$f":"IF(CD354>0,AVERAGE(SMALL(IF(BK354:CD354>0,BK354:CD354),{1,2,3,4,5,6,7,8})),CC355)","v":21.2039639254746},{"$f":"IF(CE354>0,AVERAGE(SMALL(IF(BL354:CE354>0,BL354:CE354),{1,2,3,4,5,6,7,8})),CD355)","v":21.2039639254746},{"$f":"IF(CF354>0,AVERAGE(SMALL(IF(BM354:CF354>0,BM354:CF354),{1,2,3,4,5,6,7,8})),CE355)","v":21.2039639254746},{"$f":"IF(CG354>0,AVERAGE(SMALL(IF(BN354:CG354>0,BN354:CG354),{1,2,3,4,5,6,7,8})),CF355)","v":21.2039639254746},{"$f":"IF(CH354>0,AVERAGE(SMALL(IF(BO354:CH354>0,BO354:CH354),{1,2,3,4,5,6,7,8})),CG355)","v":21.2039639254746},{"$f":"IF(CI354>0,AVERAGE(SMALL(IF(BP354:CI354>0,BP354:CI354),{1,2,3,4,5,6,7,8})),CH355)","v":21.2039639254746},{"$f":"IF(CJ354>0,AVERAGE(SMALL(IF(BQ354:CJ354>0,BQ354:CJ354),{1,2,3,4,5,6,7,8})),CI355)","v":21.2039639254746},{"$f":"IF(CK354>0,AVERAGE(SMALL(IF(BR354:CK354>0,BR354:CK354),{1,2,3,4,5,6,7,8})),CJ355)","v":21.2039639254746},{"$f":"IF(CL354>0,AVERAGE(SMALL(IF(BS354:CL354>0,BS354:CL354),{1,2,3,4,5,6,7,8})),CK355)","v":21.2039639254746},{"$f":"IF(CM354>0,AVERAGE(SMALL(IF(BT354:CM354>0,BT354:CM354),{1,2,3,4,5,6,7,8})),CL355)","v":21.2039639254746},{"$f":"IF(CN354>0,AVERAGE(SMALL(IF(BU354:CN354>0,BU354:CN354),{1,2,3,4,5,6,7,8})),CM355)","v":21.2039639254746},{"$f":"IF(CO354>0,AVERAGE(SMALL(IF(BV354:CO354>0,BV354:CO354),{1,2,3,4,5,6,7,8})),CN355)","v":21.2039639254746},{"$f":"IF(CP354>0,AVERAGE(SMALL(IF(BW354:CP354>0,BW354:CP354),{1,2,3,4,5,6,7,8})),CO355)","v":21.2039639254746},{"$f":"IF(CQ354>0,AVERAGE(SMALL(IF(BX354:CQ354>0,BX354:CQ354),{1,2,3,4,5,6,7,8})),CP355)","v":21.2039639254746},{"$f":"IF(CR354>0,AVERAGE(SMALL(IF(BY354:CR354>0,BY354:CR354),{1,2,3,4,5,6,7,8})),CQ355)","v":21.2039639254746},{"$f":"IF(CS354>0,AVERAGE(SMALL(IF(BZ354:CS354>0,BZ354:CS354),{1,2,3,4,5,6,7,8})),CR355)","v":21.2039639254746},{"$f":"IF(CT354>0,AVERAGE(SMALL(IF(CA354:CT354>0,CA354:CT354),{1,2,3,4,5,6,7,8})),CS355)","v":21.2039639254746},{"$f":"IF(CU354>0,AVERAGE(SMALL(IF(CB354:CU354>0,CB354:CU354),{1,2,3,4,5,6,7,8})),CT355)","v":21.2039639254746},{"$f":"IF(CV354>0,AVERAGE(SMALL(IF(CC354:CV354>0,CC354:CV354),{1,2,3,4,5,6,7,8})),CU355)","v":21.2039639254746},{"$f":"IF(CW354>0,AVERAGE(SMALL(IF(CD354:CW354>0,CD354:CW354),{1,2,3,4,5,6,7,8})),CV355)","v":21.2039639254746}]
[null,null,null,null,null,null,null,null,"Low Hcap",null,null,null,null,null,null,null,null,null,null,null,null,null,null,null,null,null,null,null,{"$f":"MIN($U355:AC355)","v":20.953652975022813},{"$f":"MIN($Z355:AD355)","v":21.19838535320142},{"$f":"MIN($AB355:AE355)","v":21.2039639254746},{"$f":"MIN($AC355:AF355)","v":21.2039639254746},{"$f":"MIN($AC355:AG355)","v":21.2039639254746},{"$f":"MIN($AC355:AH355)","v":21.2039639254746},{"$f":"MIN($AC355:AI355)","v":21.2039639254746},{"$f":"MIN($AC355:AJ355)","v":21.2039639254746},{"$f":"MIN($AC355:AK355)","v":21.2039639254746},{"$f":"MIN($AC355:AL355)","v":21.2039639254746},{"$f":"MIN($AC355:AM355)","v":21.2039639254746},{"$f":"MIN($AC355:AN355)","v":21.2039639254746},{"$f":"MIN($AC355:AO355)","v":21.2039639254746},{"$f":"MIN($AC355:AP355)","v":21.2039639254746},{"$f":"MIN($AC355:AQ355)","v":21.2039639254746},{"$f":"MIN($AC355:AR355)","v":21.2039639254746},{"$f":"MIN($AC355:AS355)","v":21.2039639254746},{"$f":"MIN($AC355:AT355)","v":21.2039639254746},{"$f":"MIN($AC355:AU355)","v":21.2039639254746},{"$f":"MIN($AC355:AV355)","v":21.2039639254746},{"$f":"MIN($AC355:AW355)","v":21.2039639254746},{"$f":"MIN($AC355:AX355)","v":21.2039639254746},{"$f":"MIN($AC355:AY355)","v":21.2039639254746},{"$f":"MIN($AC355:AZ355)","v":21.2039639254746},{"$f":"MIN($AC355:BA355)","v":21.2039639254746},{"$f":"MIN($AC355:BB355)","v":21.2039639254746},{"$f":"MIN($AC355:BC355)","v":21.2039639254746},{"$f":"MIN($AC355:BD355)","v":21.2039639254746},{"$f":"MIN($AC355:BE355)","v":21.2039639254746},{"$f":"MIN($AC355:BF355)","v":21.2039639254746},{"$f":"MIN($AC355:BG355)","v":21.2039639254746},{"$f":"MIN($AC355:BH355)","v":21.2039639254746},{"$f":"MIN($AC355:BI355)","v":21.2039639254746},{"$f":"MIN($AC355:BJ355)","v":21.2039639254746},{"$f":"MIN($AC355:BK355)","v":21.2039639254746},{"$f":"MIN($AC355:BL355)","v":21.2039639254746},{"$f":"MIN($AC355:BM355)","v":21.2039639254746},{"$f":"MIN($AC355:BN355)","v":21.2039639254746},{"$f":"MIN($AC355:BO355)","v":21.2039639254746},{"$f":"MIN($AC355:BP355)","v":21.2039639254746},{"$f":"MIN($AC355:BQ355)","v":21.2039639254746},{"$f":"MIN($AC355:BR355)","v":21.2039639254746},{"$f":"MIN($AC355:BS355)","v":21.2039639254746},{"$f":"MIN($AC355:BT355)","v":21.2039639254746},{"$f":"MIN($AC355:BU355)","v":21.2039639254746},{"$f":"MIN($AC355:BV355)","v":21.2039639254746},{"$f":"MIN($AC355:BW355)","v":21.2039639254746},{"$f":"MIN($AC355:BX355)","v":21.2039639254746},{"$f":"MIN($AC355:BY355)","v":21.2039639254746},{"$f":"MIN($AC355:BZ355)","v":21.2039639254746},{"$f":"MIN($AC355:CA355)","v":21.2039639254746},{"$f":"MIN($AC355:CB355)","v":21.2039639254746},{"$f":"MIN($AC355:CC355)","v":21.2039639254746},{"$f":"MIN($AC355:CD355)","v":21.2039639254746},{"$f":"MIN($AC355:CE355)","v":21.2039639254746},{"$f":"MIN($AC355:CF355)","v":21.2039639254746},{"$f":"MIN($AC355:CG355)","v":21.2039639254746},{"$f":"MIN($AC355:CH355)","v":21.2039639254746},{"$f":"MIN($AC355:CI355)","v":21.2039639254746},{"$f":"MIN($AC355:CJ355)","v":21.2039639254746},{"$f":"MIN($AC355:CK355)","v":21.2039639254746},{"$f":"MIN($AC355:CL355)","v":21.2039639254746},{"$f":"MIN($AC355:CM355)","v":21.2039639254746},{"$f":"MIN($AC355:CN355)","v":21.2039639254746},{"$f":"MIN($AC355:CO355)","v":21.2039639254746},{"$f":"MIN($AC355:CP355)","v":21.2039639254746},{"$f":"MIN($AC355:CQ355)","v":21.2039639254746},{"$f":"MIN($AC355:CR355)","v":21.2039639254746},{"$f":"MIN($AC355:CS355)","v":21.2039639254746},{"$f":"MIN($AC355:CT355)","v":21.2039639254746},{"$f":"MIN($AC355:CU355)","v":21.2039639254746},{"$f":"MIN($AC355:CV355)","v":21.2039639254746},{"$f":"MIN($AC355:CW355)","v":21.2039639254746}]
[null,"Longworth","Robin",11.9,null,{"$f":"IF(H357<4,\"Y\",)","v":0},null,{"$f":"COUNT(J357:CX357)","v":28},"Date","2019-03-31","2019-05-12","2019-07-07","2019-08-28","2019-09-01","2019-10-23","2020-05-20","2020-05-24","2020-06-05","2020-06-19","2020-07-03","2020-07-12","2020-07-15","2020-07-31","2020-08-14","2020-09-16","2020-10-21","2020-11-01","2021-03-28","2021-05-14","2022-04-20","2022-05-20","2022-06-17","2022-06-22","2022-06-25","2022-06-26","2022-08-26","2022-09-02",null,null,null,null,null,null,null,null,null,null,null,null,null,null,null,null,null,null,null,null,null,null,null,null,null,null,null,null,null,null,null,null,null,null,null,null,null,null,null,null,null,null,null,null,null,null,null,null,null,null,null,null,null,null,null,null,null,null,null,null,null,null,null,null,null,{"$f":"IF(CW361>$DD$1,36,CW361)","v":16.500455079271866},16.500455079271866,{"$f":"CZ357-CY357","v":0}]
[null,null,null,null,null,null,null,null,"Course","ErdingHG","ErdingHG","ErdingHG","GutThailingHG","ErdingHG","GutThailingHG","GutThailingHG","PfaffingHG","ErdingHG","StEurachHG","TegernbachHG","PfaffingHG","GutThailingHG","StEurachHG","EgmatingHG","GutThailingHG","GutThailingHG","ErdingHG","OdelzhausenHG","StEurachHG","GutThailing2022HG","GutHaeusenHG","StEurachHG","GutThailing2022HG","AlgaeuerHG","AlgaeuerHG","EschenhofHG","StEurachHG"]
[null,null,null,null,null,null,null,null,"Ad Gr",94,99,87,95,95,91,98,93,96,98,97,98,89,100,103,92,89,88,96,93,96,97,94,96,94,90,99,89]
[null,null,null,null,null,null,null,null,"SD",{"$f":"IF(J359=\"\",0,(J359-INDIRECT(CONCATENATE(J358,\"CR\")))*113/INDIRECT(CONCATENATE(J358,\"SR\")))","v":19.992307692307691},{"$f":"IF(K359=\"\",0,(K359-INDIRECT(CONCATENATE(K358,\"CR\")))*113/INDIRECT(CONCATENATE(K358,\"SR\")))","v":24.338461538461537},13.907692307692308,21.133587786259543,20.861538461538462,17.68320610687023,23.721374045801525,18.253846153846155,21.73076923076923,22.513740458015263,21.658333333333331,22.6,15.958015267175572,24.238931297709918,26.48167938931298,18.545801526717558,15.958015267175572,14.776923076923078,21.53228346456693,18.20076335877862,22.078461538461543,22.42204724409449,19.06335877862595,22.078461538461543,18.632061068702285,15.181679389312972,23.284848484848489,14.750381679389307,0,0,0,0,0,0,0,0,0,0,0,0,0,0,0,0,0,0,0,0,0,0,0,0,0,0,0,0,0,0,0,0,0,0,0,0,0,{"$f":"IF(BW359=\"\",0,(BW359-INDIRECT(CONCATENATE(BW358,\"CR\")))*113/INDIRECT(CONCATENATE(BW358,\"SR\")))","v":0},0,0,0,0,0,0,0,0,0,0,0,0,0,0,0,{"$f":"IF(CM359=\"\",0,(CM359-INDIRECT(CONCATENATE(CM358,\"CR\")))*113/INDIRECT(CONCATENATE(CM358,\"SR\")))","v":0},0,{"$f":"IF(CO359=\"\",0,(CO359-INDIRECT(CONCATENATE(CO358,\"CR\")))*113/INDIRECT(CONCATENATE(CO358,\"SR\")))","v":0},0,{"$f":"IF(CQ359=\"\",0,(CQ359-INDIRECT(CONCATENATE(CQ358,\"CR\")))*113/INDIRECT(CONCATENATE(CQ358,\"SR\")))","v":0},0,{"$f":"IF(CS359=\"\",0,(CS359-INDIRECT(CONCATENATE(CS358,\"CR\")))*113/INDIRECT(CONCATENATE(CS358,\"SR\")))","v":0},0,{"$f":"IF(CU359=\"\",0,(CU359-INDIRECT(CONCATENATE(CU358,\"CR\")))*113/INDIRECT(CONCATENATE(CU358,\"SR\")))","v":0},0,{"$f":"IF(CW359=\"\",0,(CW359-INDIRECT(CONCATENATE(CW358,\"CR\")))*113/INDIRECT(CONCATENATE(CW358,\"SR\")))","v":0}]
[null,null,null,null,null,null,null,null,"New Hcap",{"$f":"J360-2","v":17.992307692307691},{"$f":"IF(K360>0,MIN(J360:K360)-2,J361)","v":17.992307692307691},{"$f":"IF(L360>0,MIN(J360:L360)-2,K361)","v":11.907692307692308},{"$f":"IF(M360>0,MIN(J360:M360)-1,L361)","v":12.907692307692308},{"$f":"IF(N360>0,MIN(J360:N360),M361)","v":13.907692307692308},{"$f":"IF(O360>0,AVERAGE(SMALL(IF(J360:O360>0,J360:O360),{1,2}))-1,N361)","v":14.795449207281269},{"$f":"IF(P360>0,AVERAGE(SMALL(IF(J360:P360>0,J360:P360),{1,2})),O361)","v":15.795449207281269},{"$f":"IF(Q360>0,AVERAGE(SMALL(IF(J360:Q360>0,J360:Q360),{1,2})),P361)","v":15.795449207281269},{"$f":"IF(R360>0,AVERAGE(SMALL(IF(J360:R360>0,J360:R360),{1,2,3})),Q361)","v":16.614914856136231},{"$f":"IF(S360>0,AVERAGE(SMALL(IF(J360:S360>0,J360:S360),{1,2,3})),R361)","v":16.614914856136231},{"$f":"IF(T360>0,AVERAGE(SMALL(IF(J360:T360>0,J360:T360),{1,2,3})),S361)","v":16.614914856136231},{"$f":"IF(U360>0,AVERAGE(SMALL(IF(J360:U360>0,J360:U360),{1,2,3,4})),T361)","v":17.459263065179094},{"$f":"IF(V360>0,AVERAGE(SMALL(IF(J360:V360>0,J360:V360),{1,2,3,4})),U361)","v":16.450689958896067},{"$f":"IF(W360>0,AVERAGE(SMALL(IF(J360:W360>0,J360:W360),{1,2,3,4})),V361)","v":16.450689958896067},{"$f":"IF(X360>0,AVERAGE(SMALL(IF(J360:X360>0,J360:X360),{1,2,3,4,5})),W361)","v":17.159013505578393},{"$f":"IF(Y360>0,AVERAGE(SMALL(IF(J360:Y360>0,J360:Y360),{1,2,3,4,5})),X361)","v":16.869712272460365},{"$f":"IF(Z360>0,AVERAGE(SMALL(IF(J360:Z360>0,J360:Z360),{1,2,3,4,5,6})),Y361)","v":16.717762771579565},{"$f":"IF(AA360>0,AVERAGE(SMALL(IF(J360:AA360>0,J360:AA360),{1,2,3,4,5,6})),Z361)","v":16.089616363280484},{"$f":"IF(AB360>0,AVERAGE(SMALL(IF(J360:AB360>0,J360:AB360),{1,2,3,4,5,6,7})),AA361)","v":16.44049995805721},{"$f":"IF(AC360>0,AVERAGE(SMALL(IF(J360:AC360>0,J360:AC360),{1,2,3,4,5,6,7,8})),AB361)","v":16.660532883147386},{"$f":"IF(AD360>0,AVERAGE(SMALL(IF(K360:AD360>0,K360:AD360),{1,2,3,4,5,6,7,8})),AC361)","v":16.660532883147386},{"$f":"IF(AE360>0,AVERAGE(SMALL(IF(L360:AE360>0,L360:AE360),{1,2,3,4,5,6,7,8})),AD361)","v":16.660532883147386},{"$f":"IF(AF360>0,AVERAGE(SMALL(IF(M360:AF360>0,M360:AF360),{1,2,3,4,5,6,7,8})),AE361)","v":17.304991192014089},{"$f":"IF(AG360>0,AVERAGE(SMALL(IF(N360:AG360>0,N360:AG360),{1,2,3,4,5,6,7,8})),AF361)","v":17.304991192014089},{"$f":"IF(AH360>0,AVERAGE(SMALL(IF(O360:AH360>0,O360:AH360),{1,2,3,4,5,6,7,8})),AG361)","v":17.251078978273632},{"$f":"IF(AI360>0,AVERAGE(SMALL(IF(P360:AI360>0,P360:AI360),{1,2,3,4,5,6,7,8})),AH361)","v":16.938388138578976},{"$f":"IF(AJ360>0,AVERAGE(SMALL(IF(Q360:AJ360>0,Q360:AJ360),{1,2,3,4,5,6,7,8})),AI361)","v":16.938388138578976},{"$f":"IF(AK360>0,AVERAGE(SMALL(IF(R360:AK360>0,R360:AK360),{1,2,3,4,5,6,7,8})),AJ361)","v":16.500455079271866},{"$f":"IF(AL360>0,AVERAGE(SMALL(IF(S360:AL360>0,S360:AL360),{1,2,3,4,5,6,7,8})),AK361)","v":16.500455079271866},{"$f":"IF(AM360>0,AVERAGE(SMALL(IF(T360:AM360>0,T360:AM360),{1,2,3,4,5,6,7,8})),AL361)","v":16.500455079271866},{"$f":"IF(AN360>0,AVERAGE(SMALL(IF(U360:AN360>0,U360:AN360),{1,2,3,4,5,6,7,8})),AM361)","v":16.500455079271866},{"$f":"IF(AO360>0,AVERAGE(SMALL(IF(V360:AO360>0,V360:AO360),{1,2,3,4,5,6,7,8})),AN361)","v":16.500455079271866},{"$f":"IF(AP360>0,AVERAGE(SMALL(IF(W360:AP360>0,W360:AP360),{1,2,3,4,5,6,7,8})),AO361)","v":16.500455079271866},{"$f":"IF(AQ360>0,AVERAGE(SMALL(IF(X360:AQ360>0,X360:AQ360),{1,2,3,4,5,6,7,8})),AP361)","v":16.500455079271866},{"$f":"IF(AR360>0,AVERAGE(SMALL(IF(Y360:AR360>0,Y360:AR360),{1,2,3,4,5,6,7,8})),AQ361)","v":16.500455079271866},{"$f":"IF(AS360>0,AVERAGE(SMALL(IF(Z360:AS360>0,Z360:AS360),{1,2,3,4,5,6,7,8})),AR361)","v":16.500455079271866},{"$f":"IF(AT360>0,AVERAGE(SMALL(IF(AA360:AT360>0,AA360:AT360),{1,2,3,4,5,6,7,8})),AS361)","v":16.500455079271866},{"$f":"IF(AU360>0,AVERAGE(SMALL(IF(AB360:AU360>0,AB360:AU360),{1,2,3,4,5,6,7,8})),AT361)","v":16.500455079271866},{"$f":"IF(AV360>0,AVERAGE(SMALL(IF(AC360:AV360>0,AC360:AV360),{1,2,3,4,5,6,7,8})),AU361)","v":16.500455079271866},{"$f":"IF(AW360>0,AVERAGE(SMALL(IF(AD360:AW360>0,AD360:AW360),{1,2,3,4,5,6,7,8})),AV361)","v":16.500455079271866},{"$f":"IF(AX360>0,AVERAGE(SMALL(IF(AE360:AX360>0,AE360:AX360),{1,2,3,4,5,6,7,8})),AW361)","v":16.500455079271866},{"$f":"IF(AY360>0,AVERAGE(SMALL(IF(AF360:AY360>0,AF360:AY360),{1,2,3,4,5,6,7,8})),AX361)","v":16.500455079271866},{"$f":"IF(AZ360>0,AVERAGE(SMALL(IF(AG360:AZ360>0,AG360:AZ360),{1,2,3,4,5,6,7,8})),AY361)","v":16.500455079271866},{"$f":"IF(BA360>0,AVERAGE(SMALL(IF(AH360:BA360>0,AH360:BA360),{1,2,3,4,5,6,7,8})),AZ361)","v":16.500455079271866},{"$f":"IF(BB360>0,AVERAGE(SMALL(IF(AI360:BB360>0,AI360:BB360),{1,2,3,4,5,6,7,8})),BA361)","v":16.500455079271866},{"$f":"IF(BC360>0,AVERAGE(SMALL(IF(AJ360:BC360>0,AJ360:BC360),{1,2,3,4,5,6,7,8})),BB361)","v":16.500455079271866},{"$f":"IF(BD360>0,AVERAGE(SMALL(IF(AK360:BD360>0,AK360:BD360),{1,2,3,4,5,6,7,8})),BC361)","v":16.500455079271866},{"$f":"IF(BE360>0,AVERAGE(SMALL(IF(AL360:BE360>0,AL360:BE360),{1,2,3,4,5,6,7,8})),BD361)","v":16.500455079271866},{"$f":"IF(BF360>0,AVERAGE(SMALL(IF(AM360:BF360>0,AM360:BF360),{1,2,3,4,5,6,7,8})),BE361)","v":16.500455079271866},{"$f":"IF(BG360>0,AVERAGE(SMALL(IF(AN360:BG360>0,AN360:BG360),{1,2,3,4,5,6,7,8})),BF361)","v":16.500455079271866},{"$f":"IF(BH360>0,AVERAGE(SMALL(IF(AO360:BH360>0,AO360:BH360),{1,2,3,4,5,6,7,8})),BG361)","v":16.500455079271866},{"$f":"IF(BI360>0,AVERAGE(SMALL(IF(AP360:BI360>0,AP360:BI360),{1,2,3,4,5,6,7,8})),BH361)","v":16.500455079271866},{"$f":"IF(BJ360>0,AVERAGE(SMALL(IF(AQ360:BJ360>0,AQ360:BJ360),{1,2,3,4,5,6,7,8})),BI361)","v":16.500455079271866},{"$f":"IF(BK360>0,AVERAGE(SMALL(IF(AR360:BK360>0,AR360:BK360),{1,2,3,4,5,6,7,8})),BJ361)","v":16.500455079271866},{"$f":"IF(BL360>0,AVERAGE(SMALL(IF(AS360:BL360>0,AS360:BL360),{1,2,3,4,5,6,7,8})),BK361)","v":16.500455079271866},{"$f":"IF(BM360>0,AVERAGE(SMALL(IF(AT360:BM360>0,AT360:BM360),{1,2,3,4,5,6,7,8})),BL361)","v":16.500455079271866},{"$f":"IF(BN360>0,AVERAGE(SMALL(IF(AU360:BN360>0,AU360:BN360),{1,2,3,4,5,6,7,8})),BM361)","v":16.500455079271866},{"$f":"IF(BO360>0,AVERAGE(SMALL(IF(AV360:BO360>0,AV360:BO360),{1,2,3,4,5,6,7,8})),BN361)","v":16.500455079271866},{"$f":"IF(BP360>0,AVERAGE(SMALL(IF(AW360:BP360>0,AW360:BP360),{1,2,3,4,5,6,7,8})),BO361)","v":16.500455079271866},{"$f":"IF(BQ360>0,AVERAGE(SMALL(IF(AX360:BQ360>0,AX360:BQ360),{1,2,3,4,5,6,7,8})),BP361)","v":16.500455079271866},{"$f":"IF(BR360>0,AVERAGE(SMALL(IF(AY360:BR360>0,AY360:BR360),{1,2,3,4,5,6,7,8})),BQ361)","v":16.500455079271866},{"$f":"IF(BS360>0,AVERAGE(SMALL(IF(AZ360:BS360>0,AZ360:BS360),{1,2,3,4,5,6,7,8})),BR361)","v":16.500455079271866},{"$f":"IF(BT360>0,AVERAGE(SMALL(IF(BA360:BT360>0,BA360:BT360),{1,2,3,4,5,6,7,8})),BS361)","v":16.500455079271866},{"$f":"IF(BU360>0,AVERAGE(SMALL(IF(BB360:BU360>0,BB360:BU360),{1,2,3,4,5,6,7,8})),BT361)","v":16.500455079271866},{"$f":"IF(BV360>0,AVERAGE(SMALL(IF(BC360:BV360>0,BC360:BV360),{1,2,3,4,5,6,7,8})),BU361)","v":16.500455079271866},{"$f":"IF(BW360>0,AVERAGE(SMALL(IF(BD360:BW360>0,BD360:BW360),{1,2,3,4,5,6,7,8})),BV361)","v":16.500455079271866},{"$f":"IF(BX360>0,AVERAGE(SMALL(IF(BE360:BX360>0,BE360:BX360),{1,2,3,4,5,6,7,8})),BW361)","v":16.500455079271866},{"$f":"IF(BY360>0,AVERAGE(SMALL(IF(BF360:BY360>0,BF360:BY360),{1,2,3,4,5,6,7,8})),BX361)","v":16.500455079271866},{"$f":"IF(BZ360>0,AVERAGE(SMALL(IF(BG360:BZ360>0,BG360:BZ360),{1,2,3,4,5,6,7,8})),BY361)","v":16.500455079271866},{"$f":"IF(CA360>0,AVERAGE(SMALL(IF(BH360:CA360>0,BH360:CA360),{1,2,3,4,5,6,7,8})),BZ361)","v":16.500455079271866},{"$f":"IF(CB360>0,AVERAGE(SMALL(IF(BI360:CB360>0,BI360:CB360),{1,2,3,4,5,6,7,8})),CA361)","v":16.500455079271866},{"$f":"IF(CC360>0,AVERAGE(SMALL(IF(BJ360:CC360>0,BJ360:CC360),{1,2,3,4,5,6,7,8})),CB361)","v":16.500455079271866},{"$f":"IF(CD360>0,AVERAGE(SMALL(IF(BK360:CD360>0,BK360:CD360),{1,2,3,4,5,6,7,8})),CC361)","v":16.500455079271866},{"$f":"IF(CE360>0,AVERAGE(SMALL(IF(BL360:CE360>0,BL360:CE360),{1,2,3,4,5,6,7,8})),CD361)","v":16.500455079271866},{"$f":"IF(CF360>0,AVERAGE(SMALL(IF(BM360:CF360>0,BM360:CF360),{1,2,3,4,5,6,7,8})),CE361)","v":16.500455079271866},{"$f":"IF(CG360>0,AVERAGE(SMALL(IF(BN360:CG360>0,BN360:CG360),{1,2,3,4,5,6,7,8})),CF361)","v":16.500455079271866},{"$f":"IF(CH360>0,AVERAGE(SMALL(IF(BO360:CH360>0,BO360:CH360),{1,2,3,4,5,6,7,8})),CG361)","v":16.500455079271866},{"$f":"IF(CI360>0,AVERAGE(SMALL(IF(BP360:CI360>0,BP360:CI360),{1,2,3,4,5,6,7,8})),CH361)","v":16.500455079271866},{"$f":"IF(CJ360>0,AVERAGE(SMALL(IF(BQ360:CJ360>0,BQ360:CJ360),{1,2,3,4,5,6,7,8})),CI361)","v":16.500455079271866},{"$f":"IF(CK360>0,AVERAGE(SMALL(IF(BR360:CK360>0,BR360:CK360),{1,2,3,4,5,6,7,8})),CJ361)","v":16.500455079271866},{"$f":"IF(CL360>0,AVERAGE(SMALL(IF(BS360:CL360>0,BS360:CL360),{1,2,3,4,5,6,7,8})),CK361)","v":16.500455079271866},{"$f":"IF(CM360>0,AVERAGE(SMALL(IF(BT360:CM360>0,BT360:CM360),{1,2,3,4,5,6,7,8})),CL361)","v":16.500455079271866},{"$f":"IF(CN360>0,AVERAGE(SMALL(IF(BU360:CN360>0,BU360:CN360),{1,2,3,4,5,6,7,8})),CM361)","v":16.500455079271866},{"$f":"IF(CO360>0,AVERAGE(SMALL(IF(BV360:CO360>0,BV360:CO360),{1,2,3,4,5,6,7,8})),CN361)","v":16.500455079271866},{"$f":"IF(CP360>0,AVERAGE(SMALL(IF(BW360:CP360>0,BW360:CP360),{1,2,3,4,5,6,7,8})),CO361)","v":16.500455079271866},{"$f":"IF(CQ360>0,AVERAGE(SMALL(IF(BX360:CQ360>0,BX360:CQ360),{1,2,3,4,5,6,7,8})),CP361)","v":16.500455079271866},{"$f":"IF(CR360>0,AVERAGE(SMALL(IF(BY360:CR360>0,BY360:CR360),{1,2,3,4,5,6,7,8})),CQ361)","v":16.500455079271866},{"$f":"IF(CS360>0,AVERAGE(SMALL(IF(BZ360:CS360>0,BZ360:CS360),{1,2,3,4,5,6,7,8})),CR361)","v":16.500455079271866},{"$f":"IF(CT360>0,AVERAGE(SMALL(IF(CA360:CT360>0,CA360:CT360),{1,2,3,4,5,6,7,8})),CS361)","v":16.500455079271866},{"$f":"IF(CU360>0,AVERAGE(SMALL(IF(CB360:CU360>0,CB360:CU360),{1,2,3,4,5,6,7,8})),CT361)","v":16.500455079271866},{"$f":"IF(CV360>0,AVERAGE(SMALL(IF(CC360:CV360>0,CC360:CV360),{1,2,3,4,5,6,7,8})),CU361)","v":16.500455079271866},{"$f":"IF(CW360>0,AVERAGE(SMALL(IF(CD360:CW360>0,CD360:CW360),{1,2,3,4,5,6,7,8})),CV361)","v":16.500455079271866}]
[null,null,null,null,null,null,null,null,"Low Hcap",null,null,null,null,null,null,null,null,null,null,null,null,null,null,null,null,null,null,null,{"$f":"MIN($P361:AC361)","v":15.795449207281269},{"$f":"MIN($AC361:AD361)","v":16.660532883147386},{"$f":"MIN($AD361:AE361)","v":16.660532883147386},{"$f":"MIN($AD361:AF361)","v":16.660532883147386},{"$f":"MIN($AD361:AG361)","v":16.660532883147386},{"$f":"MIN($AD361:AH361)","v":16.660532883147386},{"$f":"MIN($AD361:AI361)","v":16.660532883147386},{"$f":"MIN($AD361:AJ361)","v":16.660532883147386},{"$f":"MIN($AD361:AK361)","v":16.500455079271866},{"$f":"MIN($AD361:AL361)","v":16.500455079271866},{"$f":"MIN($AD361:AM361)","v":16.500455079271866},{"$f":"MIN($AD361:AN361)","v":16.500455079271866},{"$f":"MIN($AD361:AO361)","v":16.500455079271866},{"$f":"MIN($AD361:AP361)","v":16.500455079271866},{"$f":"MIN($AD361:AQ361)","v":16.500455079271866},{"$f":"MIN($AD361:AR361)","v":16.500455079271866},{"$f":"MIN($AD361:AS361)","v":16.500455079271866},{"$f":"MIN($AD361:AT361)","v":16.500455079271866},{"$f":"MIN($AD361:AU361)","v":16.500455079271866},{"$f":"MIN($AD361:AV361)","v":16.500455079271866},{"$f":"MIN($AD361:AW361)","v":16.500455079271866},{"$f":"MIN($AD361:AX361)","v":16.500455079271866},{"$f":"MIN($AD361:AY361)","v":16.500455079271866},{"$f":"MIN($AD361:AZ361)","v":16.500455079271866},{"$f":"MIN($AD361:BA361)","v":16.500455079271866},{"$f":"MIN($AD361:BB361)","v":16.500455079271866},{"$f":"MIN($AD361:BC361)","v":16.500455079271866},{"$f":"MIN($AD361:BD361)","v":16.500455079271866},{"$f":"MIN($AD361:BE361)","v":16.500455079271866},{"$f":"MIN($AD361:BF361)","v":16.500455079271866},{"$f":"MIN($AD361:BG361)","v":16.500455079271866},{"$f":"MIN($AD361:BH361)","v":16.500455079271866},{"$f":"MIN($AD361:BI361)","v":16.500455079271866},{"$f":"MIN($AD361:BJ361)","v":16.500455079271866},{"$f":"MIN($AD361:BK361)","v":16.500455079271866},{"$f":"MIN($AD361:BL361)","v":16.500455079271866},{"$f":"MIN($AD361:BM361)","v":16.500455079271866},{"$f":"MIN($AD361:BN361)","v":16.500455079271866},{"$f":"MIN($AD361:BO361)","v":16.500455079271866},{"$f":"MIN($AD361:BP361)","v":16.500455079271866},{"$f":"MIN($AD361:BQ361)","v":16.500455079271866},{"$f":"MIN($AD361:BR361)","v":16.500455079271866},{"$f":"MIN($AD361:BS361)","v":16.500455079271866},{"$f":"MIN($AD361:BT361)","v":16.500455079271866},{"$f":"MIN($AD361:BU361)","v":16.500455079271866},{"$f":"MIN($AD361:BV361)","v":16.500455079271866},{"$f":"MIN($AD361:BW361)","v":16.500455079271866},{"$f":"MIN($AD361:BX361)","v":16.500455079271866},{"$f":"MIN($AD361:BY361)","v":16.500455079271866},{"$f":"MIN($AD361:BZ361)","v":16.500455079271866},{"$f":"MIN($AD361:CA361)","v":16.500455079271866},{"$f":"MIN($AD361:CB361)","v":16.500455079271866},{"$f":"MIN($AD361:CC361)","v":16.500455079271866},{"$f":"MIN($AD361:CD361)","v":16.500455079271866},{"$f":"MIN($AD361:CE361)","v":16.500455079271866},{"$f":"MIN($AD361:CF361)","v":16.500455079271866},{"$f":"MIN($AD361:CG361)","v":16.500455079271866},{"$f":"MIN($AD361:CH361)","v":16.500455079271866},{"$f":"MIN($AD361:CI361)","v":16.500455079271866},{"$f":"MIN($AD361:CJ361)","v":16.500455079271866},{"$f":"MIN($AD361:CK361)","v":16.500455079271866},{"$f":"MIN($AD361:CL361)","v":16.500455079271866},{"$f":"MIN($AD361:CM361)","v":16.500455079271866},{"$f":"MIN($AD361:CN361)","v":16.500455079271866},{"$f":"MIN($AD361:CO361)","v":16.500455079271866},{"$f":"MIN($AD361:CP361)","v":16.500455079271866},{"$f":"MIN($AD361:CQ361)","v":16.500455079271866},{"$f":"MIN($AD361:CR361)","v":16.500455079271866},{"$f":"MIN($AD361:CS361)","v":16.500455079271866},{"$f":"MIN($AD361:CT361)","v":16.500455079271866},{"$f":"MIN($AD361:CU361)","v":16.500455079271866},{"$f":"MIN($AD361:CV361)","v":16.500455079271866},{"$f":"MIN($AD361:CW361)","v":16.500455079271866}]
[null,"McCorley","Niall",22.6,"Y",{"$f":"IF(H363<4,\"Y\",)","v":0},null,{"$f":"COUNT(J363:CX363)","v":32},"Date",null,"2020-06-19","2020-07-03","2020-07-12","2020-07-31","2020-08-26","2020-11-01","2020-11-15","2021-03-28","2021-04-11","2021-05-23","2021-05-30","2021-06-19","2021-07-11","2021-07-16","2021-07-21","2021-07-25","2021-07-30","2021-08-08","2021-09-19","2021-09-24","2021-10-22","2021-10-31","2021-11-14","2021-11-19","2022-05-11","2022-05-25","2022-06-22","2022-07-24","2022-09-11","2022-10-21","2022-11-18","2023-05-31",null,null,null,null,null,null,null,null,null,null,null,null,null,null,null,null,null,null,null,null,null,null,null,null,null,null,null,null,null,null,null,null,null,null,null,null,null,null,null,null,null,null,null,null,null,null,null,null,null,null,null,null,null,null,null,null,null,null,null,null,{"$f":"IF(CW367>$DD$1,36,CW367)","v":21.073037709745723},21.073037709745723,{"$f":"CZ363-CY363","v":0}]
[null,null,null,null,null,null,null,null,"Course",null,"StEurachHG","TegernbachHG","PfaffingHG","StEurachHG","GutThailingHG","ErdingHG","OdelzhausenHG","OdelzhausenHG","ErdingHR","OdelzhausenHG","IffeldorfHG","TegernbachHG","PfaffingHG","MaxlrainHG","GutThailingHG","OdelzhausenHG","MangfalltalHG","IffeldorfHG","ErdingHG","TegernbachHG","TegernbachHG","ErdingHG","OdelzhausenHG","TegernbachHG","AschheimHG","GutThailing2022HG","GutThailing2022HG","Pfaffing2022HG","Pfaffing2022HG","TegernbachHG","TegernbachHG","GutThailing2022HG"]
[null,null,null,null,null,null,null,null,"Ad Gr",null,89,99,105,106,104,114,104,98,92,107,104,104,116,114,91,108,105,100,105,96,97,100,104,90,101,96,99,110,109,96,104,101]
[null,null,null,null,null,null,null,null,"SD",22.6,{"$f":"IF(K365=\"\",0,(K365-INDIRECT(CONCATENATE(K364,\"CR\")))*113/INDIRECT(CONCATENATE(K364,\"SR\")))","v":14.750381679389307},{"$f":"IF(L365=\"\",0,(L365-INDIRECT(CONCATENATE(L364,\"CR\")))*113/INDIRECT(CONCATENATE(L364,\"SR\")))","v":23.370454545454542},28.684615384615384,29.414503816793889,28.896946564885496,37.376923076923077,28.650393700787404,23.311811023622049,23.8344537815126,31.319685039370082,28.73178294573643,27.650757575757574,38.246153846153845,34.149264705882345,17.68320610687023,32.209448818897641,28.00434782608696,25.227906976744183,29.553846153846155,20.802272727272726,21.658333333333331,25.207692307692309,28.650393700787404,15.665909090909087,25.425000000000004,22.078461538461543,24.68615384615385,32.42230769230769,31.553076923076919,20.802272727272726,27.650757575757574,26.42461538461539,0,0,0,0,0,0,0,0,0,0,0,0,0,0,0,0,0,0,0,0,0,0,0,0,0,0,0,0,0,0,0,0,0,{"$f":"IF(BX365=\"\",0,(BX365-INDIRECT(CONCATENATE(BX364,\"CR\")))*113/INDIRECT(CONCATENATE(BX364,\"SR\")))","v":0},0,0,0,0,0,0,0,0,0,0,0,0,0,0,{"$f":"IF(CM365=\"\",0,(CM365-INDIRECT(CONCATENATE(CM364,\"CR\")))*113/INDIRECT(CONCATENATE(CM364,\"SR\")))","v":0},0,{"$f":"IF(CO365=\"\",0,(CO365-INDIRECT(CONCATENATE(CO364,\"CR\")))*113/INDIRECT(CONCATENATE(CO364,\"SR\")))","v":0},0,{"$f":"IF(CQ365=\"\",0,(CQ365-INDIRECT(CONCATENATE(CQ364,\"CR\")))*113/INDIRECT(CONCATENATE(CQ364,\"SR\")))","v":0},0,{"$f":"IF(CS365=\"\",0,(CS365-INDIRECT(CONCATENATE(CS364,\"CR\")))*113/INDIRECT(CONCATENATE(CS364,\"SR\")))","v":0},0,{"$f":"IF(CU365=\"\",0,(CU365-INDIRECT(CONCATENATE(CU364,\"CR\")))*113/INDIRECT(CONCATENATE(CU364,\"SR\")))","v":0},0,{"$f":"IF(CW365=\"\",0,(CW365-INDIRECT(CONCATENATE(CW364,\"CR\")))*113/INDIRECT(CONCATENATE(CW364,\"SR\")))","v":0}]
[null,null,null,null,null,null,null,null,"New Hcap",{"$f":"J366-2","v":20.6},{"$f":"IF(K366>0,MIN(J366:K366)-2,J367)","v":12.750381679389307},{"$f":"IF(L366>0,MIN(J366:L366)-2,K367)","v":12.750381679389307},{"$f":"IF(M366>0,MIN(J366:M366)-1,L367)","v":13.750381679389307},{"$f":"IF(N366>0,MIN(J366:N366),M367)","v":14.750381679389307},{"$f":"IF(O366>0,AVERAGE(SMALL(IF(J366:O366>0,J366:O366),{1,2}))-1,N367)","v":17.675190839694654},{"$f":"IF(P366>0,AVERAGE(SMALL(IF(J366:P366>0,J366:P366),{1,2})),O367)","v":18.675190839694654},{"$f":"IF(Q366>0,AVERAGE(SMALL(IF(J366:Q366>0,J366:Q366),{1,2})),P367)","v":18.675190839694654},{"$f":"IF(R366>0,AVERAGE(SMALL(IF(J366:R366>0,J366:R366),{1,2,3})),Q367)","v":20.220730901003787},{"$f":"IF(S366>0,AVERAGE(SMALL(IF(J366:S366>0,J366:S366),{1,2,3})),R367)","v":20.220730901003787},{"$f":"IF(T366>0,AVERAGE(SMALL(IF(J366:T366>0,J366:T366),{1,2,3})),S367)","v":20.220730901003787},{"$f":"IF(U366>0,AVERAGE(SMALL(IF(J366:U366>0,J366:U366),{1,2,3,4})),T367)","v":21.008161812116477},{"$f":"IF(V366>0,AVERAGE(SMALL(IF(J366:V366>0,J366:V366),{1,2,3,4})),U367)","v":21.008161812116477},{"$f":"IF(W366>0,AVERAGE(SMALL(IF(J366:W366>0,J366:W366),{1,2,3,4})),V367)","v":21.008161812116477},{"$f":"IF(X366>0,AVERAGE(SMALL(IF(J366:X366>0,J366:X366),{1,2,3,4,5})),W367)","v":21.573420205995699},{"$f":"IF(Y366>0,AVERAGE(SMALL(IF(J366:Y366>0,J366:Y366),{1,2,3,4,5})),X367)","v":20.343170671067224},{"$f":"IF(Z366>0,AVERAGE(SMALL(IF(J366:Z366>0,J366:Z366),{1,2,3,4,5,6})),Y367)","v":20.925051189474786},{"$f":"IF(AA366>0,AVERAGE(SMALL(IF(J366:AA366>0,J366:AA366),{1,2,3,4,5,6})),Z367)","v":20.925051189474786},{"$f":"IF(AB366>0,AVERAGE(SMALL(IF(J366:AB366>0,J366:AB366),{1,2,3,4,5,6,7})),AA367)","v":21.539744873370413},{"$f":"IF(AC366>0,AVERAGE(SMALL(IF(J366:AC366>0,J366:AC366),{1,2,3,4,5,6,7,8})),AB367)","v":22.30362146116881},{"$f":"IF(AD366>0,AVERAGE(SMALL(IF(K366:AD366>0,K366:AD366),{1,2,3,4,5,6,7,8})),AC367)","v":22.078905552077902},{"$f":"IF(AE366>0,AVERAGE(SMALL(IF(L366:AE366>0,L366:AE366),{1,2,3,4,5,6,7,8})),AD367)","v":22.942399508820905},{"$f":"IF(AF366>0,AVERAGE(SMALL(IF(M366:AF366>0,M366:AF366),{1,2,3,4,5,6,7,8})),AE367)","v":23.172054229100624},{"$f":"IF(AG366>0,AVERAGE(SMALL(IF(N366:AG366>0,N366:AG366),{1,2,3,4,5,6,7,8})),AF367)","v":23.172054229100624},{"$f":"IF(AH366>0,AVERAGE(SMALL(IF(O366:AH366>0,O366:AH366),{1,2,3,4,5,6,7,8})),AG367)","v":21.673948168494562},{"$f":"IF(AI366>0,AVERAGE(SMALL(IF(P366:AI366>0,P366:AI366),{1,2,3,4,5,6,7,8})),AH367)","v":21.673948168494562},{"$f":"IF(AJ366>0,AVERAGE(SMALL(IF(Q366:AJ366>0,Q366:AJ366),{1,2,3,4,5,6,7,8})),AI367)","v":21.280267488709232},{"$f":"IF(AK366>0,AVERAGE(SMALL(IF(R366:AK366>0,R366:AK366),{1,2,3,4,5,6,7,8})),AJ367)","v":21.215075181016925},{"$f":"IF(AL366>0,AVERAGE(SMALL(IF(S366:AL366>0,S366:AL366),{1,2,3,4,5,6,7,8})),AK367)","v":21.452060341525709},{"$f":"IF(AM366>0,AVERAGE(SMALL(IF(T366:AM366>0,T366:AM366),{1,2,3,4,5,6,7,8})),AL367)","v":21.626241990929657},{"$f":"IF(AN366>0,AVERAGE(SMALL(IF(U366:AN366>0,U366:AN366),{1,2,3,4,5,6,7,8})),AM367)","v":21.073037709745723},{"$f":"IF(AO366>0,AVERAGE(SMALL(IF(V366:AO366>0,V366:AO366),{1,2,3,4,5,6,7,8})),AN367)","v":21.073037709745723},{"$f":"IF(AP366>0,AVERAGE(SMALL(IF(W366:AP366>0,W366:AP366),{1,2,3,4,5,6,7,8})),AO367)","v":21.073037709745723},{"$f":"IF(AQ366>0,AVERAGE(SMALL(IF(X366:AQ366>0,X366:AQ366),{1,2,3,4,5,6,7,8})),AP367)","v":21.073037709745723},{"$f":"IF(AR366>0,AVERAGE(SMALL(IF(Y366:AR366>0,Y366:AR366),{1,2,3,4,5,6,7,8})),AQ367)","v":21.073037709745723},{"$f":"IF(AS366>0,AVERAGE(SMALL(IF(Z366:AS366>0,Z366:AS366),{1,2,3,4,5,6,7,8})),AR367)","v":21.073037709745723},{"$f":"IF(AT366>0,AVERAGE(SMALL(IF(AA366:AT366>0,AA366:AT366),{1,2,3,4,5,6,7,8})),AS367)","v":21.073037709745723},{"$f":"IF(AU366>0,AVERAGE(SMALL(IF(AB366:AU366>0,AB366:AU366),{1,2,3,4,5,6,7,8})),AT367)","v":21.073037709745723},{"$f":"IF(AV366>0,AVERAGE(SMALL(IF(AC366:AV366>0,AC366:AV366),{1,2,3,4,5,6,7,8})),AU367)","v":21.073037709745723},{"$f":"IF(AW366>0,AVERAGE(SMALL(IF(AD366:AW366>0,AD366:AW366),{1,2,3,4,5,6,7,8})),AV367)","v":21.073037709745723},{"$f":"IF(AX366>0,AVERAGE(SMALL(IF(AE366:AX366>0,AE366:AX366),{1,2,3,4,5,6,7,8})),AW367)","v":21.073037709745723},{"$f":"IF(AY366>0,AVERAGE(SMALL(IF(AF366:AY366>0,AF366:AY366),{1,2,3,4,5,6,7,8})),AX367)","v":21.073037709745723},{"$f":"IF(AZ366>0,AVERAGE(SMALL(IF(AG366:AZ366>0,AG366:AZ366),{1,2,3,4,5,6,7,8})),AY367)","v":21.073037709745723},{"$f":"IF(BA366>0,AVERAGE(SMALL(IF(AH366:BA366>0,AH366:BA366),{1,2,3,4,5,6,7,8})),AZ367)","v":21.073037709745723},{"$f":"IF(BB366>0,AVERAGE(SMALL(IF(AI366:BB366>0,AI366:BB366),{1,2,3,4,5,6,7,8})),BA367)","v":21.073037709745723},{"$f":"IF(BC366>0,AVERAGE(SMALL(IF(AJ366:BC366>0,AJ366:BC366),{1,2,3,4,5,6,7,8})),BB367)","v":21.073037709745723},{"$f":"IF(BD366>0,AVERAGE(SMALL(IF(AK366:BD366>0,AK366:BD366),{1,2,3,4,5,6,7,8})),BC367)","v":21.073037709745723},{"$f":"IF(BE366>0,AVERAGE(SMALL(IF(AL366:BE366>0,AL366:BE366),{1,2,3,4,5,6,7,8})),BD367)","v":21.073037709745723},{"$f":"IF(BF366>0,AVERAGE(SMALL(IF(AM366:BF366>0,AM366:BF366),{1,2,3,4,5,6,7,8})),BE367)","v":21.073037709745723},{"$f":"IF(BG366>0,AVERAGE(SMALL(IF(AN366:BG366>0,AN366:BG366),{1,2,3,4,5,6,7,8})),BF367)","v":21.073037709745723},{"$f":"IF(BH366>0,AVERAGE(SMALL(IF(AO366:BH366>0,AO366:BH366),{1,2,3,4,5,6,7,8})),BG367)","v":21.073037709745723},{"$f":"IF(BI366>0,AVERAGE(SMALL(IF(AP366:BI366>0,AP366:BI366),{1,2,3,4,5,6,7,8})),BH367)","v":21.073037709745723},{"$f":"IF(BJ366>0,AVERAGE(SMALL(IF(AQ366:BJ366>0,AQ366:BJ366),{1,2,3,4,5,6,7,8})),BI367)","v":21.073037709745723},{"$f":"IF(BK366>0,AVERAGE(SMALL(IF(AR366:BK366>0,AR366:BK366),{1,2,3,4,5,6,7,8})),BJ367)","v":21.073037709745723},{"$f":"IF(BL366>0,AVERAGE(SMALL(IF(AS366:BL366>0,AS366:BL366),{1,2,3,4,5,6,7,8})),BK367)","v":21.073037709745723},{"$f":"IF(BM366>0,AVERAGE(SMALL(IF(AT366:BM366>0,AT366:BM366),{1,2,3,4,5,6,7,8})),BL367)","v":21.073037709745723},{"$f":"IF(BN366>0,AVERAGE(SMALL(IF(AU366:BN366>0,AU366:BN366),{1,2,3,4,5,6,7,8})),BM367)","v":21.073037709745723},{"$f":"IF(BO366>0,AVERAGE(SMALL(IF(AV366:BO366>0,AV366:BO366),{1,2,3,4,5,6,7,8})),BN367)","v":21.073037709745723},{"$f":"IF(BP366>0,AVERAGE(SMALL(IF(AW366:BP366>0,AW366:BP366),{1,2,3,4,5,6,7,8})),BO367)","v":21.073037709745723},{"$f":"IF(BQ366>0,AVERAGE(SMALL(IF(AX366:BQ366>0,AX366:BQ366),{1,2,3,4,5,6,7,8})),BP367)","v":21.073037709745723},{"$f":"IF(BR366>0,AVERAGE(SMALL(IF(AY366:BR366>0,AY366:BR366),{1,2,3,4,5,6,7,8})),BQ367)","v":21.073037709745723},{"$f":"IF(BS366>0,AVERAGE(SMALL(IF(AZ366:BS366>0,AZ366:BS366),{1,2,3,4,5,6,7,8})),BR367)","v":21.073037709745723},{"$f":"IF(BT366>0,AVERAGE(SMALL(IF(BA366:BT366>0,BA366:BT366),{1,2,3,4,5,6,7,8})),BS367)","v":21.073037709745723},{"$f":"IF(BU366>0,AVERAGE(SMALL(IF(BB366:BU366>0,BB366:BU366),{1,2,3,4,5,6,7,8})),BT367)","v":21.073037709745723},{"$f":"IF(BV366>0,AVERAGE(SMALL(IF(BC366:BV366>0,BC366:BV366),{1,2,3,4,5,6,7,8})),BU367)","v":21.073037709745723},{"$f":"IF(BW366>0,AVERAGE(SMALL(IF(BD366:BW366>0,BD366:BW366),{1,2,3,4,5,6,7,8})),BV367)","v":21.073037709745723},{"$f":"IF(BX366>0,AVERAGE(SMALL(IF(BE366:BX366>0,BE366:BX366),{1,2,3,4,5,6,7,8})),BW367)","v":21.073037709745723},{"$f":"IF(BY366>0,AVERAGE(SMALL(IF(BF366:BY366>0,BF366:BY366),{1,2,3,4,5,6,7,8})),BX367)","v":21.073037709745723},{"$f":"IF(BZ366>0,AVERAGE(SMALL(IF(BG366:BZ366>0,BG366:BZ366),{1,2,3,4,5,6,7,8})),BY367)","v":21.073037709745723},{"$f":"IF(CA366>0,AVERAGE(SMALL(IF(BH366:CA366>0,BH366:CA366),{1,2,3,4,5,6,7,8})),BZ367)","v":21.073037709745723},{"$f":"IF(CB366>0,AVERAGE(SMALL(IF(BI366:CB366>0,BI366:CB366),{1,2,3,4,5,6,7,8})),CA367)","v":21.073037709745723},{"$f":"IF(CC366>0,AVERAGE(SMALL(IF(BJ366:CC366>0,BJ366:CC366),{1,2,3,4,5,6,7,8})),CB367)","v":21.073037709745723},{"$f":"IF(CD366>0,AVERAGE(SMALL(IF(BK366:CD366>0,BK366:CD366),{1,2,3,4,5,6,7,8})),CC367)","v":21.073037709745723},{"$f":"IF(CE366>0,AVERAGE(SMALL(IF(BL366:CE366>0,BL366:CE366),{1,2,3,4,5,6,7,8})),CD367)","v":21.073037709745723},{"$f":"IF(CF366>0,AVERAGE(SMALL(IF(BM366:CF366>0,BM366:CF366),{1,2,3,4,5,6,7,8})),CE367)","v":21.073037709745723},{"$f":"IF(CG366>0,AVERAGE(SMALL(IF(BN366:CG366>0,BN366:CG366),{1,2,3,4,5,6,7,8})),CF367)","v":21.073037709745723},{"$f":"IF(CH366>0,AVERAGE(SMALL(IF(BO366:CH366>0,BO366:CH366),{1,2,3,4,5,6,7,8})),CG367)","v":21.073037709745723},{"$f":"IF(CI366>0,AVERAGE(SMALL(IF(BP366:CI366>0,BP366:CI366),{1,2,3,4,5,6,7,8})),CH367)","v":21.073037709745723},{"$f":"IF(CJ366>0,AVERAGE(SMALL(IF(BQ366:CJ366>0,BQ366:CJ366),{1,2,3,4,5,6,7,8})),CI367)","v":21.073037709745723},{"$f":"IF(CK366>0,AVERAGE(SMALL(IF(BR366:CK366>0,BR366:CK366),{1,2,3,4,5,6,7,8})),CJ367)","v":21.073037709745723},{"$f":"IF(CL366>0,AVERAGE(SMALL(IF(BS366:CL366>0,BS366:CL366),{1,2,3,4,5,6,7,8})),CK367)","v":21.073037709745723},{"$f":"IF(CM366>0,AVERAGE(SMALL(IF(BT366:CM366>0,BT366:CM366),{1,2,3,4,5,6,7,8})),CL367)","v":21.073037709745723},{"$f":"IF(CN366>0,AVERAGE(SMALL(IF(BU366:CN366>0,BU366:CN366),{1,2,3,4,5,6,7,8})),CM367)","v":21.073037709745723},{"$f":"IF(CO366>0,AVERAGE(SMALL(IF(BV366:CO366>0,BV366:CO366),{1,2,3,4,5,6,7,8})),CN367)","v":21.073037709745723},{"$f":"IF(CP366>0,AVERAGE(SMALL(IF(BW366:CP366>0,BW366:CP366),{1,2,3,4,5,6,7,8})),CO367)","v":21.073037709745723},{"$f":"IF(CQ366>0,AVERAGE(SMALL(IF(BX366:CQ366>0,BX366:CQ366),{1,2,3,4,5,6,7,8})),CP367)","v":21.073037709745723},{"$f":"IF(CR366>0,AVERAGE(SMALL(IF(BY366:CR366>0,BY366:CR366),{1,2,3,4,5,6,7,8})),CQ367)","v":21.073037709745723},{"$f":"IF(CS366>0,AVERAGE(SMALL(IF(BZ366:CS366>0,BZ366:CS366),{1,2,3,4,5,6,7,8})),CR367)","v":21.073037709745723},{"$f":"IF(CT366>0,AVERAGE(SMALL(IF(CA366:CT366>0,CA366:CT366),{1,2,3,4,5,6,7,8})),CS367)","v":21.073037709745723},{"$f":"IF(CU366>0,AVERAGE(SMALL(IF(CB366:CU366>0,CB366:CU366),{1,2,3,4,5,6,7,8})),CT367)","v":21.073037709745723},{"$f":"IF(CV366>0,AVERAGE(SMALL(IF(CC366:CV366>0,CC366:CV366),{1,2,3,4,5,6,7,8})),CU367)","v":21.073037709745723},{"$f":"IF(CW366>0,AVERAGE(SMALL(IF(CD366:CW366>0,CD366:CW366),{1,2,3,4,5,6,7,8})),CV367)","v":21.073037709745723}]
[null,null,null,null,null,null,null,null,"Low Hcap",null,null,null,null,null,null,null,null,null,null,null,null,null,null,null,null,null,null,null,{"$f":"MIN($P367:AC367)","v":18.675190839694654},{"$f":"MIN($P367:AD367)","v":18.675190839694654},{"$f":"MIN($P367:AE367)","v":18.675190839694654},{"$f":"MIN($P367:AF367)","v":18.675190839694654},{"$f":"MIN($Q367:AG367)","v":18.675190839694654},{"$f":"MIN($R367:AH367)","v":20.220730901003787},{"$f":"MIN($T367:AI367)","v":20.220730901003787},{"$f":"MIN($U367:AJ367)","v":20.343170671067224},{"$f":"MIN($W367:AK367)","v":20.343170671067224},{"$f":"MIN($Z367:AL367)","v":20.925051189474786},{"$f":"MIN($AC367:AM367)","v":21.215075181016925},{"$f":"MIN($AE367:AN367)","v":21.073037709745723},{"$f":"MIN($AH367:AO367)","v":21.073037709745723},{"$f":"MIN($AH367:AP367)","v":21.073037709745723},{"$f":"MIN($AH367:AQ367)","v":21.073037709745723},{"$f":"MIN($AH367:AR367)","v":21.073037709745723},{"$f":"MIN($AH367:AS367)","v":21.073037709745723},{"$f":"MIN($AH367:AT367)","v":21.073037709745723},{"$f":"MIN($AH367:AU367)","v":21.073037709745723},{"$f":"MIN($AH367:AV367)","v":21.073037709745723},{"$f":"MIN($AH367:AW367)","v":21.073037709745723},{"$f":"MIN($AH367:AX367)","v":21.073037709745723},{"$f":"MIN($AH367:AY367)","v":21.073037709745723},{"$f":"MIN($AH367:AZ367)","v":21.073037709745723},{"$f":"MIN($AH367:BA367)","v":21.073037709745723},{"$f":"MIN($AH367:BB367)","v":21.073037709745723},{"$f":"MIN($AH367:BC367)","v":21.073037709745723},{"$f":"MIN($AH367:BD367)","v":21.073037709745723},{"$f":"MIN($AH367:BE367)","v":21.073037709745723},{"$f":"MIN($AH367:BF367)","v":21.073037709745723},{"$f":"MIN($AH367:BG367)","v":21.073037709745723},{"$f":"MIN($AH367:BH367)","v":21.073037709745723},{"$f":"MIN($AH367:BI367)","v":21.073037709745723},{"$f":"MIN($AH367:BJ367)","v":21.073037709745723},{"$f":"MIN($AH367:BK367)","v":21.073037709745723},{"$f":"MIN($AH367:BL367)","v":21.073037709745723},{"$f":"MIN($AH367:BM367)","v":21.073037709745723},{"$f":"MIN($AH367:BN367)","v":21.073037709745723},{"$f":"MIN($AH367:BO367)","v":21.073037709745723},{"$f":"MIN($AH367:BP367)","v":21.073037709745723},{"$f":"MIN($AH367:BQ367)","v":21.073037709745723},{"$f":"MIN($AH367:BR367)","v":21.073037709745723},{"$f":"MIN($AH367:BS367)","v":21.073037709745723},{"$f":"MIN($AH367:BT367)","v":21.073037709745723},{"$f":"MIN($AH367:BU367)","v":21.073037709745723},{"$f":"MIN($AH367:BV367)","v":21.073037709745723},{"$f":"MIN($AH367:BW367)","v":21.073037709745723},{"$f":"MIN($AH367:BX367)","v":21.073037709745723},{"$f":"MIN($AH367:BY367)","v":21.073037709745723},{"$f":"MIN($AH367:BZ367)","v":21.073037709745723},{"$f":"MIN($AH367:CA367)","v":21.073037709745723},{"$f":"MIN($AH367:CB367)","v":21.073037709745723},{"$f":"MIN($AH367:CC367)","v":21.073037709745723},{"$f":"MIN($AH367:CD367)","v":21.073037709745723},{"$f":"MIN($AH367:CE367)","v":21.073037709745723},{"$f":"MIN($AH367:CF367)","v":21.073037709745723},{"$f":"MIN($AH367:CG367)","v":21.073037709745723},{"$f":"MIN($AH367:CH367)","v":21.073037709745723},{"$f":"MIN($AH367:CI367)","v":21.073037709745723},{"$f":"MIN($AH367:CJ367)","v":21.073037709745723},{"$f":"MIN($AH367:CK367)","v":21.073037709745723},{"$f":"MIN($AH367:CL367)","v":21.073037709745723},{"$f":"MIN($AH367:CM367)","v":21.073037709745723},{"$f":"MIN($AH367:CN367)","v":21.073037709745723},{"$f":"MIN($AH367:CO367)","v":21.073037709745723},{"$f":"MIN($AH367:CP367)","v":21.073037709745723},{"$f":"MIN($AH367:CQ367)","v":21.073037709745723},{"$f":"MIN($AH367:CR367)","v":21.073037709745723},{"$f":"MIN($AH367:CS367)","v":21.073037709745723},{"$f":"MIN($AH367:CT367)","v":21.073037709745723},{"$f":"MIN($AH367:CU367)","v":21.073037709745723},{"$f":"MIN($AH367:CV367)","v":21.073037709745723},{"$f":"MIN($AH367:CW367)","v":21.073037709745723}]
[null,"McDonald","Martin",22,null,{"$f":"IF(H369<4,\"Y\",)","v":"Y"},2023,{"$f":"COUNT(J369:CX369)","v":0},"Date",null,null,null,null,null,null,null,null,null,null,null,null,null,null,null,null,null,null,null,null,null,null,null,null,null,null,null,null,null,null,null,null,null,null,null,null,null,null,null,null,null,null,null,null,null,null,null,null,null,null,null,null,null,null,null,null,null,null,null,null,null,null,null,null,null,null,null,null,null,null,null,null,null,null,null,null,null,null,null,null,null,null,null,null,null,null,null,null,null,null,null,null,null,{"$f":"IF(CW373>$DD$1,36,CW373)","v":22},22,{"$f":"CZ369-CY369","v":0}]
[null,null,null,null,null,null,null,null,"Course"]
[null,null,null,null,null,null,null,null,"Ad Gr"]
[null,null,null,null,null,null,null,null,"SD",24,{"$f":"IF(K371=\"\",0,(K371-INDIRECT(CONCATENATE(K370,\"CR\")))*113/INDIRECT(CONCATENATE(K370,\"SR\")))","v":0},{"$f":"IF(L371=\"\",0,(L371-INDIRECT(CONCATENATE(L370,\"CR\")))*113/INDIRECT(CONCATENATE(L370,\"SR\")))","v":0},0,0,0,0,0,0,0,0,0,0,0,0,0,0,0,0,0,0,0,0,0,0,0,0,0,0,0,0,0,0,0,0,0,0,0,0,0,0,0,0,0,0,0,0,0,0,0,0,0,0,0,0,0,0,0,0,0,0,0,0,0,0,0,{"$f":"IF(BX371=\"\",0,(BX371-INDIRECT(CONCATENATE(BX370,\"CR\")))*113/INDIRECT(CONCATENATE(BX370,\"SR\")))","v":0},0,0,0,0,0,0,0,0,0,0,0,0,0,0,{"$f":"IF(CM371=\"\",0,(CM371-INDIRECT(CONCATENATE(CM370,\"CR\")))*113/INDIRECT(CONCATENATE(CM370,\"SR\")))","v":0},0,{"$f":"IF(CO371=\"\",0,(CO371-INDIRECT(CONCATENATE(CO370,\"CR\")))*113/INDIRECT(CONCATENATE(CO370,\"SR\")))","v":0},0,{"$f":"IF(CQ371=\"\",0,(CQ371-INDIRECT(CONCATENATE(CQ370,\"CR\")))*113/INDIRECT(CONCATENATE(CQ370,\"SR\")))","v":0},0,{"$f":"IF(CS371=\"\",0,(CS371-INDIRECT(CONCATENATE(CS370,\"CR\")))*113/INDIRECT(CONCATENATE(CS370,\"SR\")))","v":0},0,{"$f":"IF(CU371=\"\",0,(CU371-INDIRECT(CONCATENATE(CU370,\"CR\")))*113/INDIRECT(CONCATENATE(CU370,\"SR\")))","v":0},0,{"$f":"IF(CW371=\"\",0,(CW371-INDIRECT(CONCATENATE(CW370,\"CR\")))*113/INDIRECT(CONCATENATE(CW370,\"SR\")))","v":0}]
[null,null,null,null,null,null,null,null,"New Hcap",{"$f":"J372-2","v":22},{"$f":"IF(K372>0,MIN(J372:K372)-2,J373)","v":22},{"$f":"IF(L372>0,MIN(J372:L372)-2,K373)","v":22},{"$f":"IF(M372>0,MIN(J372:M372)-1,L373)","v":22},{"$f":"IF(N372>0,MIN(J372:N372),M373)","v":22},{"$f":"IF(O372>0,AVERAGE(SMALL(IF(J372:O372>0,J372:O372),{1,2}))-1,N373)","v":22},{"$f":"IF(P372>0,AVERAGE(SMALL(IF(J372:P372>0,J372:P372),{1,2})),O373)","v":22},{"$f":"IF(Q372>0,AVERAGE(SMALL(IF(J372:Q372>0,J372:Q372),{1,2})),P373)","v":22},{"$f":"IF(R372>0,AVERAGE(SMALL(IF(J372:R372>0,J372:R372),{1,2,3})),Q373)","v":22},{"$f":"IF(S372>0,AVERAGE(SMALL(IF(J372:S372>0,J372:S372),{1,2,3})),R373)","v":22},{"$f":"IF(T372>0,AVERAGE(SMALL(IF(J372:T372>0,J372:T372),{1,2,3})),S373)","v":22},{"$f":"IF(U372>0,AVERAGE(SMALL(IF(J372:U372>0,J372:U372),{1,2,3,4})),T373)","v":22},{"$f":"IF(V372>0,AVERAGE(SMALL(IF(J372:V372>0,J372:V372),{1,2,3,4})),U373)","v":22},{"$f":"IF(W372>0,AVERAGE(SMALL(IF(J372:W372>0,J372:W372),{1,2,3,4})),V373)","v":22},{"$f":"IF(X372>0,AVERAGE(SMALL(IF(J372:X372>0,J372:X372),{1,2,3,4,5})),W373)","v":22},{"$f":"IF(Y372>0,AVERAGE(SMALL(IF(J372:Y372>0,J372:Y372),{1,2,3,4,5})),X373)","v":22},{"$f":"IF(Z372>0,AVERAGE(SMALL(IF(J372:Z372>0,J372:Z372),{1,2,3,4,5,6})),Y373)","v":22},{"$f":"IF(AA372>0,AVERAGE(SMALL(IF(J372:AA372>0,J372:AA372),{1,2,3,4,5,6})),Z373)","v":22},{"$f":"IF(AB372>0,AVERAGE(SMALL(IF(J372:AB372>0,J372:AB372),{1,2,3,4,5,6,7})),AA373)","v":22},{"$f":"IF(AC372>0,AVERAGE(SMALL(IF(J372:AC372>0,J372:AC372),{1,2,3,4,5,6,7,8})),AB373)","v":22},{"$f":"IF(AD372>0,AVERAGE(SMALL(IF(K372:AD372>0,K372:AD372),{1,2,3,4,5,6,7,8})),AC373)","v":22},{"$f":"IF(AE372>0,AVERAGE(SMALL(IF(L372:AE372>0,L372:AE372),{1,2,3,4,5,6,7,8})),AD373)","v":22},{"$f":"IF(AF372>0,AVERAGE(SMALL(IF(M372:AF372>0,M372:AF372),{1,2,3,4,5,6,7,8})),AE373)","v":22},{"$f":"IF(AG372>0,AVERAGE(SMALL(IF(N372:AG372>0,N372:AG372),{1,2,3,4,5,6,7,8})),AF373)","v":22},{"$f":"IF(AH372>0,AVERAGE(SMALL(IF(O372:AH372>0,O372:AH372),{1,2,3,4,5,6,7,8})),AG373)","v":22},{"$f":"IF(AI372>0,AVERAGE(SMALL(IF(P372:AI372>0,P372:AI372),{1,2,3,4,5,6,7,8})),AH373)","v":22},{"$f":"IF(AJ372>0,AVERAGE(SMALL(IF(Q372:AJ372>0,Q372:AJ372),{1,2,3,4,5,6,7,8})),AI373)","v":22},{"$f":"IF(AK372>0,AVERAGE(SMALL(IF(R372:AK372>0,R372:AK372),{1,2,3,4,5,6,7,8})),AJ373)","v":22},{"$f":"IF(AL372>0,AVERAGE(SMALL(IF(S372:AL372>0,S372:AL372),{1,2,3,4,5,6,7,8})),AK373)","v":22},{"$f":"IF(AM372>0,AVERAGE(SMALL(IF(T372:AM372>0,T372:AM372),{1,2,3,4,5,6,7,8})),AL373)","v":22},{"$f":"IF(AN372>0,AVERAGE(SMALL(IF(U372:AN372>0,U372:AN372),{1,2,3,4,5,6,7,8})),AM373)","v":22},{"$f":"IF(AO372>0,AVERAGE(SMALL(IF(V372:AO372>0,V372:AO372),{1,2,3,4,5,6,7,8})),AN373)","v":22},{"$f":"IF(AP372>0,AVERAGE(SMALL(IF(W372:AP372>0,W372:AP372),{1,2,3,4,5,6,7,8})),AO373)","v":22},{"$f":"IF(AQ372>0,AVERAGE(SMALL(IF(X372:AQ372>0,X372:AQ372),{1,2,3,4,5,6,7,8})),AP373)","v":22},{"$f":"IF(AR372>0,AVERAGE(SMALL(IF(Y372:AR372>0,Y372:AR372),{1,2,3,4,5,6,7,8})),AQ373)","v":22},{"$f":"IF(AS372>0,AVERAGE(SMALL(IF(Z372:AS372>0,Z372:AS372),{1,2,3,4,5,6,7,8})),AR373)","v":22},{"$f":"IF(AT372>0,AVERAGE(SMALL(IF(AA372:AT372>0,AA372:AT372),{1,2,3,4,5,6,7,8})),AS373)","v":22},{"$f":"IF(AU372>0,AVERAGE(SMALL(IF(AB372:AU372>0,AB372:AU372),{1,2,3,4,5,6,7,8})),AT373)","v":22},{"$f":"IF(AV372>0,AVERAGE(SMALL(IF(AC372:AV372>0,AC372:AV372),{1,2,3,4,5,6,7,8})),AU373)","v":22},{"$f":"IF(AW372>0,AVERAGE(SMALL(IF(AD372:AW372>0,AD372:AW372),{1,2,3,4,5,6,7,8})),AV373)","v":22},{"$f":"IF(AX372>0,AVERAGE(SMALL(IF(AE372:AX372>0,AE372:AX372),{1,2,3,4,5,6,7,8})),AW373)","v":22},{"$f":"IF(AY372>0,AVERAGE(SMALL(IF(AF372:AY372>0,AF372:AY372),{1,2,3,4,5,6,7,8})),AX373)","v":22},{"$f":"IF(AZ372>0,AVERAGE(SMALL(IF(AG372:AZ372>0,AG372:AZ372),{1,2,3,4,5,6,7,8})),AY373)","v":22},{"$f":"IF(BA372>0,AVERAGE(SMALL(IF(AH372:BA372>0,AH372:BA372),{1,2,3,4,5,6,7,8})),AZ373)","v":22},{"$f":"IF(BB372>0,AVERAGE(SMALL(IF(AI372:BB372>0,AI372:BB372),{1,2,3,4,5,6,7,8})),BA373)","v":22},{"$f":"IF(BC372>0,AVERAGE(SMALL(IF(AJ372:BC372>0,AJ372:BC372),{1,2,3,4,5,6,7,8})),BB373)","v":22},{"$f":"IF(BD372>0,AVERAGE(SMALL(IF(AK372:BD372>0,AK372:BD372),{1,2,3,4,5,6,7,8})),BC373)","v":22},{"$f":"IF(BE372>0,AVERAGE(SMALL(IF(AL372:BE372>0,AL372:BE372),{1,2,3,4,5,6,7,8})),BD373)","v":22},{"$f":"IF(BF372>0,AVERAGE(SMALL(IF(AM372:BF372>0,AM372:BF372),{1,2,3,4,5,6,7,8})),BE373)","v":22},{"$f":"IF(BG372>0,AVERAGE(SMALL(IF(AN372:BG372>0,AN372:BG372),{1,2,3,4,5,6,7,8})),BF373)","v":22},{"$f":"IF(BH372>0,AVERAGE(SMALL(IF(AO372:BH372>0,AO372:BH372),{1,2,3,4,5,6,7,8})),BG373)","v":22},{"$f":"IF(BI372>0,AVERAGE(SMALL(IF(AP372:BI372>0,AP372:BI372),{1,2,3,4,5,6,7,8})),BH373)","v":22},{"$f":"IF(BJ372>0,AVERAGE(SMALL(IF(AQ372:BJ372>0,AQ372:BJ372),{1,2,3,4,5,6,7,8})),BI373)","v":22},{"$f":"IF(BK372>0,AVERAGE(SMALL(IF(AR372:BK372>0,AR372:BK372),{1,2,3,4,5,6,7,8})),BJ373)","v":22},{"$f":"IF(BL372>0,AVERAGE(SMALL(IF(AS372:BL372>0,AS372:BL372),{1,2,3,4,5,6,7,8})),BK373)","v":22},{"$f":"IF(BM372>0,AVERAGE(SMALL(IF(AT372:BM372>0,AT372:BM372),{1,2,3,4,5,6,7,8})),BL373)","v":22},{"$f":"IF(BN372>0,AVERAGE(SMALL(IF(AU372:BN372>0,AU372:BN372),{1,2,3,4,5,6,7,8})),BM373)","v":22},{"$f":"IF(BO372>0,AVERAGE(SMALL(IF(AV372:BO372>0,AV372:BO372),{1,2,3,4,5,6,7,8})),BN373)","v":22},{"$f":"IF(BP372>0,AVERAGE(SMALL(IF(AW372:BP372>0,AW372:BP372),{1,2,3,4,5,6,7,8})),BO373)","v":22},{"$f":"IF(BQ372>0,AVERAGE(SMALL(IF(AX372:BQ372>0,AX372:BQ372),{1,2,3,4,5,6,7,8})),BP373)","v":22},{"$f":"IF(BR372>0,AVERAGE(SMALL(IF(AY372:BR372>0,AY372:BR372),{1,2,3,4,5,6,7,8})),BQ373)","v":22},{"$f":"IF(BS372>0,AVERAGE(SMALL(IF(AZ372:BS372>0,AZ372:BS372),{1,2,3,4,5,6,7,8})),BR373)","v":22},{"$f":"IF(BT372>0,AVERAGE(SMALL(IF(BA372:BT372>0,BA372:BT372),{1,2,3,4,5,6,7,8})),BS373)","v":22},{"$f":"IF(BU372>0,AVERAGE(SMALL(IF(BB372:BU372>0,BB372:BU372),{1,2,3,4,5,6,7,8})),BT373)","v":22},{"$f":"IF(BV372>0,AVERAGE(SMALL(IF(BC372:BV372>0,BC372:BV372),{1,2,3,4,5,6,7,8})),BU373)","v":22},{"$f":"IF(BW372>0,AVERAGE(SMALL(IF(BD372:BW372>0,BD372:BW372),{1,2,3,4,5,6,7,8})),BV373)","v":22},{"$f":"IF(BX372>0,AVERAGE(SMALL(IF(BE372:BX372>0,BE372:BX372),{1,2,3,4,5,6,7,8})),BW373)","v":22},{"$f":"IF(BY372>0,AVERAGE(SMALL(IF(BF372:BY372>0,BF372:BY372),{1,2,3,4,5,6,7,8})),BX373)","v":22},{"$f":"IF(BZ372>0,AVERAGE(SMALL(IF(BG372:BZ372>0,BG372:BZ372),{1,2,3,4,5,6,7,8})),BY373)","v":22},{"$f":"IF(CA372>0,AVERAGE(SMALL(IF(BH372:CA372>0,BH372:CA372),{1,2,3,4,5,6,7,8})),BZ373)","v":22},{"$f":"IF(CB372>0,AVERAGE(SMALL(IF(BI372:CB372>0,BI372:CB372),{1,2,3,4,5,6,7,8})),CA373)","v":22},{"$f":"IF(CC372>0,AVERAGE(SMALL(IF(BJ372:CC372>0,BJ372:CC372),{1,2,3,4,5,6,7,8})),CB373)","v":22},{"$f":"IF(CD372>0,AVERAGE(SMALL(IF(BK372:CD372>0,BK372:CD372),{1,2,3,4,5,6,7,8})),CC373)","v":22},{"$f":"IF(CE372>0,AVERAGE(SMALL(IF(BL372:CE372>0,BL372:CE372),{1,2,3,4,5,6,7,8})),CD373)","v":22},{"$f":"IF(CF372>0,AVERAGE(SMALL(IF(BM372:CF372>0,BM372:CF372),{1,2,3,4,5,6,7,8})),CE373)","v":22},{"$f":"IF(CG372>0,AVERAGE(SMALL(IF(BN372:CG372>0,BN372:CG372),{1,2,3,4,5,6,7,8})),CF373)","v":22},{"$f":"IF(CH372>0,AVERAGE(SMALL(IF(BO372:CH372>0,BO372:CH372),{1,2,3,4,5,6,7,8})),CG373)","v":22},{"$f":"IF(CI372>0,AVERAGE(SMALL(IF(BP372:CI372>0,BP372:CI372),{1,2,3,4,5,6,7,8})),CH373)","v":22},{"$f":"IF(CJ372>0,AVERAGE(SMALL(IF(BQ372:CJ372>0,BQ372:CJ372),{1,2,3,4,5,6,7,8})),CI373)","v":22},{"$f":"IF(CK372>0,AVERAGE(SMALL(IF(BR372:CK372>0,BR372:CK372),{1,2,3,4,5,6,7,8})),CJ373)","v":22},{"$f":"IF(CL372>0,AVERAGE(SMALL(IF(BS372:CL372>0,BS372:CL372),{1,2,3,4,5,6,7,8})),CK373)","v":22},{"$f":"IF(CM372>0,AVERAGE(SMALL(IF(BT372:CM372>0,BT372:CM372),{1,2,3,4,5,6,7,8})),CL373)","v":22},{"$f":"IF(CN372>0,AVERAGE(SMALL(IF(BU372:CN372>0,BU372:CN372),{1,2,3,4,5,6,7,8})),CM373)","v":22},{"$f":"IF(CO372>0,AVERAGE(SMALL(IF(BV372:CO372>0,BV372:CO372),{1,2,3,4,5,6,7,8})),CN373)","v":22},{"$f":"IF(CP372>0,AVERAGE(SMALL(IF(BW372:CP372>0,BW372:CP372),{1,2,3,4,5,6,7,8})),CO373)","v":22},{"$f":"IF(CQ372>0,AVERAGE(SMALL(IF(BX372:CQ372>0,BX372:CQ372),{1,2,3,4,5,6,7,8})),CP373)","v":22},{"$f":"IF(CR372>0,AVERAGE(SMALL(IF(BY372:CR372>0,BY372:CR372),{1,2,3,4,5,6,7,8})),CQ373)","v":22},{"$f":"IF(CS372>0,AVERAGE(SMALL(IF(BZ372:CS372>0,BZ372:CS372),{1,2,3,4,5,6,7,8})),CR373)","v":22},{"$f":"IF(CT372>0,AVERAGE(SMALL(IF(CA372:CT372>0,CA372:CT372),{1,2,3,4,5,6,7,8})),CS373)","v":22},{"$f":"IF(CU372>0,AVERAGE(SMALL(IF(CB372:CU372>0,CB372:CU372),{1,2,3,4,5,6,7,8})),CT373)","v":22},{"$f":"IF(CV372>0,AVERAGE(SMALL(IF(CC372:CV372>0,CC372:CV372),{1,2,3,4,5,6,7,8})),CU373)","v":22},{"$f":"IF(CW372>0,AVERAGE(SMALL(IF(CD372:CW372>0,CD372:CW372),{1,2,3,4,5,6,7,8})),CV373)","v":22}]
[null,null,null,null,null,null,null,null,"Low Hcap",null,null,null,null,null,null,null,null,null,null,null,null,null,null,null,null,null,null,null,{"$f":"MIN($J373:AC373)","v":22},{"$f":"MIN($J373:AD373)","v":22},{"$f":"MIN($J373:AE373)","v":22},{"$f":"MIN($J373:AF373)","v":22},{"$f":"MIN($J373:AG373)","v":22},{"$f":"MIN($J373:AH373)","v":22},{"$f":"MIN($J373:AI373)","v":22},{"$f":"MIN($J373:AJ373)","v":22},{"$f":"MIN($J373:AK373)","v":22},{"$f":"MIN($J373:AL373)","v":22},{"$f":"MIN($J373:AM373)","v":22},{"$f":"MIN($J373:AN373)","v":22},{"$f":"MIN($J373:AO373)","v":22},{"$f":"MIN($J373:AP373)","v":22},{"$f":"MIN($J373:AQ373)","v":22},{"$f":"MIN($J373:AR373)","v":22},{"$f":"MIN($J373:AS373)","v":22},{"$f":"MIN($J373:AT373)","v":22},{"$f":"MIN($J373:AU373)","v":22},{"$f":"MIN($J373:AV373)","v":22},{"$f":"MIN($J373:AW373)","v":22},{"$f":"MIN($J373:AX373)","v":22},{"$f":"MIN($J373:AY373)","v":22},{"$f":"MIN($J373:AZ373)","v":22},{"$f":"MIN($J373:BA373)","v":22},{"$f":"MIN($J373:BB373)","v":22},{"$f":"MIN($J373:BC373)","v":22},{"$f":"MIN($J373:BD373)","v":22},{"$f":"MIN($J373:BE373)","v":22},{"$f":"MIN($J373:BF373)","v":22},{"$f":"MIN($J373:BG373)","v":22},{"$f":"MIN($J373:BH373)","v":22},{"$f":"MIN($J373:BI373)","v":22},{"$f":"MIN($J373:BJ373)","v":22},{"$f":"MIN($J373:BK373)","v":22},{"$f":"MIN($J373:BL373)","v":22},{"$f":"MIN($J373:BM373)","v":22},{"$f":"MIN($J373:BN373)","v":22},{"$f":"MIN($J373:BO373)","v":22},{"$f":"MIN($J373:BP373)","v":22},{"$f":"MIN($J373:BQ373)","v":22},{"$f":"MIN($J373:BR373)","v":22},{"$f":"MIN($J373:BS373)","v":22},{"$f":"MIN($J373:BT373)","v":22},{"$f":"MIN($J373:BU373)","v":22},{"$f":"MIN($J373:BV373)","v":22},{"$f":"MIN($J373:BW373)","v":22},{"$f":"MIN($J373:BX373)","v":22},{"$f":"MIN($J373:BY373)","v":22},{"$f":"MIN($J373:BZ373)","v":22},{"$f":"MIN($J373:CA373)","v":22},{"$f":"MIN($J373:CB373)","v":22},{"$f":"MIN($J373:CC373)","v":22},{"$f":"MIN($J373:CD373)","v":22},{"$f":"MIN($J373:CE373)","v":22},{"$f":"MIN($J373:CF373)","v":22},{"$f":"MIN($J373:CG373)","v":22},{"$f":"MIN($J373:CH373)","v":22},{"$f":"MIN($J373:CI373)","v":22},{"$f":"MIN($J373:CJ373)","v":22},{"$f":"MIN($J373:CK373)","v":22},{"$f":"MIN($J373:CL373)","v":22},{"$f":"MIN($J373:CM373)","v":22},{"$f":"MIN($J373:CN373)","v":22},{"$f":"MIN($J373:CO373)","v":22},{"$f":"MIN($J373:CP373)","v":22},{"$f":"MIN($J373:CQ373)","v":22},{"$f":"MIN($J373:CR373)","v":22},{"$f":"MIN($J373:CS373)","v":22},{"$f":"MIN($J373:CT373)","v":22},{"$f":"MIN($J373:CU373)","v":22},{"$f":"MIN($J373:CV373)","v":22},{"$f":"MIN($J373:CW373)","v":22}]
[null,"Molloy","David",22,null,{"$f":"IF(H375<4,\"Y\",)","v":"Y"},2019,{"$f":"COUNT(J375:CX375)","v":3},"Date",null,"2021-04-16","2021-04-30","2021-06-19",null,null,null,null,null,null,null,null,null,null,null,null,null,null,null,null,null,null,null,null,null,null,null,null,null,null,null,null,null,null,null,null,null,null,null,null,null,null,null,null,null,null,null,null,null,null,null,null,null,null,null,null,null,null,null,null,null,null,null,null,null,null,null,null,null,null,null,null,null,null,null,null,null,null,null,null,null,null,null,null,null,null,null,null,null,null,null,null,null,{"$f":"IF(CW379>$DD$1,36,CW379)","v":20.658333333333331},20.658333333333331,{"$f":"CZ375-CY375","v":0}]
[null,null,null,null,null,null,null,null,"Course",null,"TegernbachHG","TegernbachHG","TegernbachHG"]
[null,null,null,null,null,null,null,null,"Ad Gr",null,98,97,98]
[null,null,null,null,null,null,null,null,"SD",{"$f":"D375","v":22},{"$f":"IF(K377=\"\",0,(K377-INDIRECT(CONCATENATE(K376,\"CR\")))*113/INDIRECT(CONCATENATE(K376,\"SR\")))","v":22.514393939393937},{"$f":"IF(L377=\"\",0,(L377-INDIRECT(CONCATENATE(L376,\"CR\")))*113/INDIRECT(CONCATENATE(L376,\"SR\")))","v":21.658333333333331},22.514393939393937,0,0,0,0,0,0,0,0,0,0,0,0,0,0,0,0,0,0,0,0,0,0,0,0,0,0,0,0,0,0,0,0,0,0,0,0,0,0,0,0,0,0,0,0,0,0,0,0,0,0,0,0,0,0,0,0,0,0,0,0,0,0,{"$f":"IF(BX377=\"\",0,(BX377-INDIRECT(CONCATENATE(BX376,\"CR\")))*113/INDIRECT(CONCATENATE(BX376,\"SR\")))","v":0},0,0,0,0,0,0,0,0,0,0,0,0,0,0,{"$f":"IF(CM377=\"\",0,(CM377-INDIRECT(CONCATENATE(CM376,\"CR\")))*113/INDIRECT(CONCATENATE(CM376,\"SR\")))","v":0},0,{"$f":"IF(CO377=\"\",0,(CO377-INDIRECT(CONCATENATE(CO376,\"CR\")))*113/INDIRECT(CONCATENATE(CO376,\"SR\")))","v":0},0,{"$f":"IF(CQ377=\"\",0,(CQ377-INDIRECT(CONCATENATE(CQ376,\"CR\")))*113/INDIRECT(CONCATENATE(CQ376,\"SR\")))","v":0},0,{"$f":"IF(CS377=\"\",0,(CS377-INDIRECT(CONCATENATE(CS376,\"CR\")))*113/INDIRECT(CONCATENATE(CS376,\"SR\")))","v":0},0,{"$f":"IF(CU377=\"\",0,(CU377-INDIRECT(CONCATENATE(CU376,\"CR\")))*113/INDIRECT(CONCATENATE(CU376,\"SR\")))","v":0},0,{"$f":"IF(CW377=\"\",0,(CW377-INDIRECT(CONCATENATE(CW376,\"CR\")))*113/INDIRECT(CONCATENATE(CW376,\"SR\")))","v":0}]
[null,null,null,null,null,null,null,null,"New Hcap",{"$f":"J378-2","v":20},{"$f":"IF(K378>0,MIN(J378:K378)-2,J379)","v":20},{"$f":"IF(L378>0,MIN(J378:L378)-2,K379)","v":19.658333333333331},{"$f":"IF(M378>0,MIN(J378:M378)-1,L379)","v":20.658333333333331},{"$f":"IF(N378>0,MIN(J378:N378),M379)","v":20.658333333333331},{"$f":"IF(O378>0,AVERAGE(SMALL(IF(J378:O378>0,J378:O378),{1,2}))-1,N379)","v":20.658333333333331},{"$f":"IF(P378>0,AVERAGE(SMALL(IF(J378:P378>0,J378:P378),{1,2})),O379)","v":20.658333333333331},{"$f":"IF(Q378>0,AVERAGE(SMALL(IF(J378:Q378>0,J378:Q378),{1,2})),P379)","v":20.658333333333331},{"$f":"IF(R378>0,AVERAGE(SMALL(IF(J378:R378>0,J378:R378),{1,2,3})),Q379)","v":20.658333333333331},{"$f":"IF(S378>0,AVERAGE(SMALL(IF(J378:S378>0,J378:S378),{1,2,3})),R379)","v":20.658333333333331},{"$f":"IF(T378>0,AVERAGE(SMALL(IF(J378:T378>0,J378:T378),{1,2,3})),S379)","v":20.658333333333331},{"$f":"IF(U378>0,AVERAGE(SMALL(IF(J378:U378>0,J378:U378),{1,2,3,4})),T379)","v":20.658333333333331},{"$f":"IF(V378>0,AVERAGE(SMALL(IF(J378:V378>0,J378:V378),{1,2,3,4})),U379)","v":20.658333333333331},{"$f":"IF(W378>0,AVERAGE(SMALL(IF(J378:W378>0,J378:W378),{1,2,3,4})),V379)","v":20.658333333333331},{"$f":"IF(X378>0,AVERAGE(SMALL(IF(J378:X378>0,J378:X378),{1,2,3,4,5})),W379)","v":20.658333333333331},{"$f":"IF(Y378>0,AVERAGE(SMALL(IF(J378:Y378>0,J378:Y378),{1,2,3,4,5})),X379)","v":20.658333333333331},{"$f":"IF(Z378>0,AVERAGE(SMALL(IF(J378:Z378>0,J378:Z378),{1,2,3,4,5,6})),Y379)","v":20.658333333333331},{"$f":"IF(AA378>0,AVERAGE(SMALL(IF(J378:AA378>0,J378:AA378),{1,2,3,4,5,6})),Z379)","v":20.658333333333331},{"$f":"IF(AB378>0,AVERAGE(SMALL(IF(J378:AB378>0,J378:AB378),{1,2,3,4,5,6,7})),AA379)","v":20.658333333333331},{"$f":"IF(AC378>0,AVERAGE(SMALL(IF(J378:AC378>0,J378:AC378),{1,2,3,4,5,6,7,8})),AB379)","v":20.658333333333331},{"$f":"IF(AD378>0,AVERAGE(SMALL(IF(K378:AD378>0,K378:AD378),{1,2,3,4,5,6,7,8})),AC379)","v":20.658333333333331},{"$f":"IF(AE378>0,AVERAGE(SMALL(IF(L378:AE378>0,L378:AE378),{1,2,3,4,5,6,7,8})),AD379)","v":20.658333333333331},{"$f":"IF(AF378>0,AVERAGE(SMALL(IF(M378:AF378>0,M378:AF378),{1,2,3,4,5,6,7,8})),AE379)","v":20.658333333333331},{"$f":"IF(AG378>0,AVERAGE(SMALL(IF(N378:AG378>0,N378:AG378),{1,2,3,4,5,6,7,8})),AF379)","v":20.658333333333331},{"$f":"IF(AH378>0,AVERAGE(SMALL(IF(O378:AH378>0,O378:AH378),{1,2,3,4,5,6,7,8})),AG379)","v":20.658333333333331},{"$f":"IF(AI378>0,AVERAGE(SMALL(IF(P378:AI378>0,P378:AI378),{1,2,3,4,5,6,7,8})),AH379)","v":20.658333333333331},{"$f":"IF(AJ378>0,AVERAGE(SMALL(IF(Q378:AJ378>0,Q378:AJ378),{1,2,3,4,5,6,7,8})),AI379)","v":20.658333333333331},{"$f":"IF(AK378>0,AVERAGE(SMALL(IF(R378:AK378>0,R378:AK378),{1,2,3,4,5,6,7,8})),AJ379)","v":20.658333333333331},{"$f":"IF(AL378>0,AVERAGE(SMALL(IF(S378:AL378>0,S378:AL378),{1,2,3,4,5,6,7,8})),AK379)","v":20.658333333333331},{"$f":"IF(AM378>0,AVERAGE(SMALL(IF(T378:AM378>0,T378:AM378),{1,2,3,4,5,6,7,8})),AL379)","v":20.658333333333331},{"$f":"IF(AN378>0,AVERAGE(SMALL(IF(U378:AN378>0,U378:AN378),{1,2,3,4,5,6,7,8})),AM379)","v":20.658333333333331},{"$f":"IF(AO378>0,AVERAGE(SMALL(IF(V378:AO378>0,V378:AO378),{1,2,3,4,5,6,7,8})),AN379)","v":20.658333333333331},{"$f":"IF(AP378>0,AVERAGE(SMALL(IF(W378:AP378>0,W378:AP378),{1,2,3,4,5,6,7,8})),AO379)","v":20.658333333333331},{"$f":"IF(AQ378>0,AVERAGE(SMALL(IF(X378:AQ378>0,X378:AQ378),{1,2,3,4,5,6,7,8})),AP379)","v":20.658333333333331},{"$f":"IF(AR378>0,AVERAGE(SMALL(IF(Y378:AR378>0,Y378:AR378),{1,2,3,4,5,6,7,8})),AQ379)","v":20.658333333333331},{"$f":"IF(AS378>0,AVERAGE(SMALL(IF(Z378:AS378>0,Z378:AS378),{1,2,3,4,5,6,7,8})),AR379)","v":20.658333333333331},{"$f":"IF(AT378>0,AVERAGE(SMALL(IF(AA378:AT378>0,AA378:AT378),{1,2,3,4,5,6,7,8})),AS379)","v":20.658333333333331},{"$f":"IF(AU378>0,AVERAGE(SMALL(IF(AB378:AU378>0,AB378:AU378),{1,2,3,4,5,6,7,8})),AT379)","v":20.658333333333331},{"$f":"IF(AV378>0,AVERAGE(SMALL(IF(AC378:AV378>0,AC378:AV378),{1,2,3,4,5,6,7,8})),AU379)","v":20.658333333333331},{"$f":"IF(AW378>0,AVERAGE(SMALL(IF(AD378:AW378>0,AD378:AW378),{1,2,3,4,5,6,7,8})),AV379)","v":20.658333333333331},{"$f":"IF(AX378>0,AVERAGE(SMALL(IF(AE378:AX378>0,AE378:AX378),{1,2,3,4,5,6,7,8})),AW379)","v":20.658333333333331},{"$f":"IF(AY378>0,AVERAGE(SMALL(IF(AF378:AY378>0,AF378:AY378),{1,2,3,4,5,6,7,8})),AX379)","v":20.658333333333331},{"$f":"IF(AZ378>0,AVERAGE(SMALL(IF(AG378:AZ378>0,AG378:AZ378),{1,2,3,4,5,6,7,8})),AY379)","v":20.658333333333331},{"$f":"IF(BA378>0,AVERAGE(SMALL(IF(AH378:BA378>0,AH378:BA378),{1,2,3,4,5,6,7,8})),AZ379)","v":20.658333333333331},{"$f":"IF(BB378>0,AVERAGE(SMALL(IF(AI378:BB378>0,AI378:BB378),{1,2,3,4,5,6,7,8})),BA379)","v":20.658333333333331},{"$f":"IF(BC378>0,AVERAGE(SMALL(IF(AJ378:BC378>0,AJ378:BC378),{1,2,3,4,5,6,7,8})),BB379)","v":20.658333333333331},{"$f":"IF(BD378>0,AVERAGE(SMALL(IF(AK378:BD378>0,AK378:BD378),{1,2,3,4,5,6,7,8})),BC379)","v":20.658333333333331},{"$f":"IF(BE378>0,AVERAGE(SMALL(IF(AL378:BE378>0,AL378:BE378),{1,2,3,4,5,6,7,8})),BD379)","v":20.658333333333331},{"$f":"IF(BF378>0,AVERAGE(SMALL(IF(AM378:BF378>0,AM378:BF378),{1,2,3,4,5,6,7,8})),BE379)","v":20.658333333333331},{"$f":"IF(BG378>0,AVERAGE(SMALL(IF(AN378:BG378>0,AN378:BG378),{1,2,3,4,5,6,7,8})),BF379)","v":20.658333333333331},{"$f":"IF(BH378>0,AVERAGE(SMALL(IF(AO378:BH378>0,AO378:BH378),{1,2,3,4,5,6,7,8})),BG379)","v":20.658333333333331},{"$f":"IF(BI378>0,AVERAGE(SMALL(IF(AP378:BI378>0,AP378:BI378),{1,2,3,4,5,6,7,8})),BH379)","v":20.658333333333331},{"$f":"IF(BJ378>0,AVERAGE(SMALL(IF(AQ378:BJ378>0,AQ378:BJ378),{1,2,3,4,5,6,7,8})),BI379)","v":20.658333333333331},{"$f":"IF(BK378>0,AVERAGE(SMALL(IF(AR378:BK378>0,AR378:BK378),{1,2,3,4,5,6,7,8})),BJ379)","v":20.658333333333331},{"$f":"IF(BL378>0,AVERAGE(SMALL(IF(AS378:BL378>0,AS378:BL378),{1,2,3,4,5,6,7,8})),BK379)","v":20.658333333333331},{"$f":"IF(BM378>0,AVERAGE(SMALL(IF(AT378:BM378>0,AT378:BM378),{1,2,3,4,5,6,7,8})),BL379)","v":20.658333333333331},{"$f":"IF(BN378>0,AVERAGE(SMALL(IF(AU378:BN378>0,AU378:BN378),{1,2,3,4,5,6,7,8})),BM379)","v":20.658333333333331},{"$f":"IF(BO378>0,AVERAGE(SMALL(IF(AV378:BO378>0,AV378:BO378),{1,2,3,4,5,6,7,8})),BN379)","v":20.658333333333331},{"$f":"IF(BP378>0,AVERAGE(SMALL(IF(AW378:BP378>0,AW378:BP378),{1,2,3,4,5,6,7,8})),BO379)","v":20.658333333333331},{"$f":"IF(BQ378>0,AVERAGE(SMALL(IF(AX378:BQ378>0,AX378:BQ378),{1,2,3,4,5,6,7,8})),BP379)","v":20.658333333333331},{"$f":"IF(BR378>0,AVERAGE(SMALL(IF(AY378:BR378>0,AY378:BR378),{1,2,3,4,5,6,7,8})),BQ379)","v":20.658333333333331},{"$f":"IF(BS378>0,AVERAGE(SMALL(IF(AZ378:BS378>0,AZ378:BS378),{1,2,3,4,5,6,7,8})),BR379)","v":20.658333333333331},{"$f":"IF(BT378>0,AVERAGE(SMALL(IF(BA378:BT378>0,BA378:BT378),{1,2,3,4,5,6,7,8})),BS379)","v":20.658333333333331},{"$f":"IF(BU378>0,AVERAGE(SMALL(IF(BB378:BU378>0,BB378:BU378),{1,2,3,4,5,6,7,8})),BT379)","v":20.658333333333331},{"$f":"IF(BV378>0,AVERAGE(SMALL(IF(BC378:BV378>0,BC378:BV378),{1,2,3,4,5,6,7,8})),BU379)","v":20.658333333333331},{"$f":"IF(BW378>0,AVERAGE(SMALL(IF(BD378:BW378>0,BD378:BW378),{1,2,3,4,5,6,7,8})),BV379)","v":20.658333333333331},{"$f":"IF(BX378>0,AVERAGE(SMALL(IF(BE378:BX378>0,BE378:BX378),{1,2,3,4,5,6,7,8})),BW379)","v":20.658333333333331},{"$f":"IF(BY378>0,AVERAGE(SMALL(IF(BF378:BY378>0,BF378:BY378),{1,2,3,4,5,6,7,8})),BX379)","v":20.658333333333331},{"$f":"IF(BZ378>0,AVERAGE(SMALL(IF(BG378:BZ378>0,BG378:BZ378),{1,2,3,4,5,6,7,8})),BY379)","v":20.658333333333331},{"$f":"IF(CA378>0,AVERAGE(SMALL(IF(BH378:CA378>0,BH378:CA378),{1,2,3,4,5,6,7,8})),BZ379)","v":20.658333333333331},{"$f":"IF(CB378>0,AVERAGE(SMALL(IF(BI378:CB378>0,BI378:CB378),{1,2,3,4,5,6,7,8})),CA379)","v":20.658333333333331},{"$f":"IF(CC378>0,AVERAGE(SMALL(IF(BJ378:CC378>0,BJ378:CC378),{1,2,3,4,5,6,7,8})),CB379)","v":20.658333333333331},{"$f":"IF(CD378>0,AVERAGE(SMALL(IF(BK378:CD378>0,BK378:CD378),{1,2,3,4,5,6,7,8})),CC379)","v":20.658333333333331},{"$f":"IF(CE378>0,AVERAGE(SMALL(IF(BL378:CE378>0,BL378:CE378),{1,2,3,4,5,6,7,8})),CD379)","v":20.658333333333331},{"$f":"IF(CF378>0,AVERAGE(SMALL(IF(BM378:CF378>0,BM378:CF378),{1,2,3,4,5,6,7,8})),CE379)","v":20.658333333333331},{"$f":"IF(CG378>0,AVERAGE(SMALL(IF(BN378:CG378>0,BN378:CG378),{1,2,3,4,5,6,7,8})),CF379)","v":20.658333333333331},{"$f":"IF(CH378>0,AVERAGE(SMALL(IF(BO378:CH378>0,BO378:CH378),{1,2,3,4,5,6,7,8})),CG379)","v":20.658333333333331},{"$f":"IF(CI378>0,AVERAGE(SMALL(IF(BP378:CI378>0,BP378:CI378),{1,2,3,4,5,6,7,8})),CH379)","v":20.658333333333331},{"$f":"IF(CJ378>0,AVERAGE(SMALL(IF(BQ378:CJ378>0,BQ378:CJ378),{1,2,3,4,5,6,7,8})),CI379)","v":20.658333333333331},{"$f":"IF(CK378>0,AVERAGE(SMALL(IF(BR378:CK378>0,BR378:CK378),{1,2,3,4,5,6,7,8})),CJ379)","v":20.658333333333331},{"$f":"IF(CL378>0,AVERAGE(SMALL(IF(BS378:CL378>0,BS378:CL378),{1,2,3,4,5,6,7,8})),CK379)","v":20.658333333333331},{"$f":"IF(CM378>0,AVERAGE(SMALL(IF(BT378:CM378>0,BT378:CM378),{1,2,3,4,5,6,7,8})),CL379)","v":20.658333333333331},{"$f":"IF(CN378>0,AVERAGE(SMALL(IF(BU378:CN378>0,BU378:CN378),{1,2,3,4,5,6,7,8})),CM379)","v":20.658333333333331},{"$f":"IF(CO378>0,AVERAGE(SMALL(IF(BV378:CO378>0,BV378:CO378),{1,2,3,4,5,6,7,8})),CN379)","v":20.658333333333331},{"$f":"IF(CP378>0,AVERAGE(SMALL(IF(BW378:CP378>0,BW378:CP378),{1,2,3,4,5,6,7,8})),CO379)","v":20.658333333333331},{"$f":"IF(CQ378>0,AVERAGE(SMALL(IF(BX378:CQ378>0,BX378:CQ378),{1,2,3,4,5,6,7,8})),CP379)","v":20.658333333333331},{"$f":"IF(CR378>0,AVERAGE(SMALL(IF(BY378:CR378>0,BY378:CR378),{1,2,3,4,5,6,7,8})),CQ379)","v":20.658333333333331},{"$f":"IF(CS378>0,AVERAGE(SMALL(IF(BZ378:CS378>0,BZ378:CS378),{1,2,3,4,5,6,7,8})),CR379)","v":20.658333333333331},{"$f":"IF(CT378>0,AVERAGE(SMALL(IF(CA378:CT378>0,CA378:CT378),{1,2,3,4,5,6,7,8})),CS379)","v":20.658333333333331},{"$f":"IF(CU378>0,AVERAGE(SMALL(IF(CB378:CU378>0,CB378:CU378),{1,2,3,4,5,6,7,8})),CT379)","v":20.658333333333331},{"$f":"IF(CV378>0,AVERAGE(SMALL(IF(CC378:CV378>0,CC378:CV378),{1,2,3,4,5,6,7,8})),CU379)","v":20.658333333333331},{"$f":"IF(CW378>0,AVERAGE(SMALL(IF(CD378:CW378>0,CD378:CW378),{1,2,3,4,5,6,7,8})),CV379)","v":20.658333333333331}]
[null,null,null,null,null,null,null,null,"Low Hcap",null,null,null,null,null,null,null,null,null,null,null,null,null,null,null,null,null,null,null,{"$f":"MIN($J379:AC379)","v":19.658333333333331},{"$f":"MIN($J379:AD379)","v":19.658333333333331},{"$f":"MIN($J379:AE379)","v":19.658333333333331},{"$f":"MIN($J379:AF379)","v":19.658333333333331},{"$f":"MIN($J379:AG379)","v":19.658333333333331},{"$f":"MIN($J379:AH379)","v":19.658333333333331},{"$f":"MIN($J379:AI379)","v":19.658333333333331},{"$f":"MIN($J379:AJ379)","v":19.658333333333331},{"$f":"MIN($J379:AK379)","v":19.658333333333331},{"$f":"MIN($J379:AL379)","v":19.658333333333331},{"$f":"MIN($J379:AM379)","v":19.658333333333331},{"$f":"MIN($J379:AN379)","v":19.658333333333331},{"$f":"MIN($J379:AO379)","v":19.658333333333331},{"$f":"MIN($J379:AP379)","v":19.658333333333331},{"$f":"MIN($J379:AQ379)","v":19.658333333333331},{"$f":"MIN($J379:AR379)","v":19.658333333333331},{"$f":"MIN($J379:AS379)","v":19.658333333333331},{"$f":"MIN($J379:AT379)","v":19.658333333333331},{"$f":"MIN($J379:AU379)","v":19.658333333333331},{"$f":"MIN($J379:AV379)","v":19.658333333333331},{"$f":"MIN($J379:AW379)","v":19.658333333333331},{"$f":"MIN($J379:AX379)","v":19.658333333333331},{"$f":"MIN($J379:AY379)","v":19.658333333333331},{"$f":"MIN($J379:AZ379)","v":19.658333333333331},{"$f":"MIN($J379:BA379)","v":19.658333333333331},{"$f":"MIN($J379:BB379)","v":19.658333333333331},{"$f":"MIN($J379:BC379)","v":19.658333333333331},{"$f":"MIN($J379:BD379)","v":19.658333333333331},{"$f":"MIN($J379:BE379)","v":19.658333333333331},{"$f":"MIN($J379:BF379)","v":19.658333333333331},{"$f":"MIN($J379:BG379)","v":19.658333333333331},{"$f":"MIN($J379:BH379)","v":19.658333333333331},{"$f":"MIN($J379:BI379)","v":19.658333333333331},{"$f":"MIN($J379:BJ379)","v":19.658333333333331},{"$f":"MIN($J379:BK379)","v":19.658333333333331},{"$f":"MIN($J379:BL379)","v":19.658333333333331},{"$f":"MIN($J379:BM379)","v":19.658333333333331},{"$f":"MIN($J379:BN379)","v":19.658333333333331},{"$f":"MIN($J379:BO379)","v":19.658333333333331},{"$f":"MIN($J379:BP379)","v":19.658333333333331},{"$f":"MIN($J379:BQ379)","v":19.658333333333331},{"$f":"MIN($J379:BR379)","v":19.658333333333331},{"$f":"MIN($J379:BS379)","v":19.658333333333331},{"$f":"MIN($J379:BT379)","v":19.658333333333331},{"$f":"MIN($J379:BU379)","v":19.658333333333331},{"$f":"MIN($J379:BV379)","v":19.658333333333331},{"$f":"MIN($J379:BW379)","v":19.658333333333331},{"$f":"MIN($J379:BX379)","v":19.658333333333331},{"$f":"MIN($J379:BY379)","v":19.658333333333331},{"$f":"MIN($J379:BZ379)","v":19.658333333333331},{"$f":"MIN($J379:CA379)","v":19.658333333333331},{"$f":"MIN($J379:CB379)","v":19.658333333333331},{"$f":"MIN($J379:CC379)","v":19.658333333333331},{"$f":"MIN($J379:CD379)","v":19.658333333333331},{"$f":"MIN($J379:CE379)","v":19.658333333333331},{"$f":"MIN($J379:CF379)","v":19.658333333333331},{"$f":"MIN($J379:CG379)","v":19.658333333333331},{"$f":"MIN($J379:CH379)","v":19.658333333333331},{"$f":"MIN($J379:CI379)","v":19.658333333333331},{"$f":"MIN($J379:CJ379)","v":19.658333333333331},{"$f":"MIN($J379:CK379)","v":19.658333333333331},{"$f":"MIN($J379:CL379)","v":19.658333333333331},{"$f":"MIN($J379:CM379)","v":19.658333333333331},{"$f":"MIN($J379:CN379)","v":19.658333333333331},{"$f":"MIN($J379:CO379)","v":19.658333333333331},{"$f":"MIN($J379:CP379)","v":19.658333333333331},{"$f":"MIN($J379:CQ379)","v":19.658333333333331},{"$f":"MIN($J379:CR379)","v":19.658333333333331},{"$f":"MIN($J379:CS379)","v":19.658333333333331},{"$f":"MIN($J379:CT379)","v":19.658333333333331},{"$f":"MIN($J379:CU379)","v":19.658333333333331},{"$f":"MIN($J379:CV379)","v":19.658333333333331},{"$f":"MIN($J379:CW379)","v":19.658333333333331}]
[null,"Morris","Brian",12.7,null,{"$f":"IF(H381<4,\"Y\",)","v":0},null,{"$f":"COUNT(J381:CX381)","v":5},"Date",null,"2018-05-13","2018-11-04","2020-06-28","2020-07-12","2020-07-31",null,null,null,null,null,null,null,null,null,null,null,null,null,null,null,null,null,null,null,null,null,null,null,null,null,null,null,null,null,null,null,null,null,null,null,null,null,null,null,null,null,null,null,null,null,null,null,null,null,null,null,null,null,null,null,null,null,null,null,null,null,null,null,null,null,null,null,null,null,null,null,null,null,null,null,null,null,null,null,null,null,null,null,null,null,null,null,{"$f":"IF(CW385>$DD$1,36,CW385)","v":12.303846153846154},12.303846153846154,{"$f":"CZ381-CY381","v":0}]
[null,null,null,null,null,null,null,null,"Course",null,"PfaffingHG","OdelzhausenHG","ErdingHG","PfaffingHG","StEurachHG"]
[null,null,null,null,null,null,null,null,"Ad Gr",null,96,91,94,88,94]
[null,null,null,null,null,null,null,null,"SD",12.7,{"$f":"IF(K383=\"\",0,(K383-INDIRECT(CONCATENATE(K382,\"CR\")))*113/INDIRECT(CONCATENATE(K382,\"SR\")))","v":20.861538461538462},{"$f":"IF(L383=\"\",0,(L383-INDIRECT(CONCATENATE(L382,\"CR\")))*113/INDIRECT(CONCATENATE(L382,\"SR\")))","v":17.083464566929138},19.992307692307691,13.907692307692308,19.06335877862595,0,0,0,0,0,0,0,0,0,0,0,0,0,0,0,0,0,0,0,0,0,0,0,0,0,0,0,0,0,0,0,0,0,0,0,0,0,0,0,0,0,0,0,0,0,0,0,0,0,0,0,0,0,0,0,0,0,0,0,0,{"$f":"IF(BX383=\"\",0,(BX383-INDIRECT(CONCATENATE(BX382,\"CR\")))*113/INDIRECT(CONCATENATE(BX382,\"SR\")))","v":0},0,0,0,0,0,0,0,0,0,0,0,0,0,0,{"$f":"IF(CM383=\"\",0,(CM383-INDIRECT(CONCATENATE(CM382,\"CR\")))*113/INDIRECT(CONCATENATE(CM382,\"SR\")))","v":0},0,{"$f":"IF(CO383=\"\",0,(CO383-INDIRECT(CONCATENATE(CO382,\"CR\")))*113/INDIRECT(CONCATENATE(CO382,\"SR\")))","v":0},0,{"$f":"IF(CQ383=\"\",0,(CQ383-INDIRECT(CONCATENATE(CQ382,\"CR\")))*113/INDIRECT(CONCATENATE(CQ382,\"SR\")))","v":0},0,{"$f":"IF(CS383=\"\",0,(CS383-INDIRECT(CONCATENATE(CS382,\"CR\")))*113/INDIRECT(CONCATENATE(CS382,\"SR\")))","v":0},0,{"$f":"IF(CU383=\"\",0,(CU383-INDIRECT(CONCATENATE(CU382,\"CR\")))*113/INDIRECT(CONCATENATE(CU382,\"SR\")))","v":0},0,{"$f":"IF(CW383=\"\",0,(CW383-INDIRECT(CONCATENATE(CW382,\"CR\")))*113/INDIRECT(CONCATENATE(CW382,\"SR\")))","v":0}]
[null,null,null,null,null,null,null,null,"New Hcap",{"$f":"J384-2","v":10.7},{"$f":"IF(K384>0,MIN(J384:K384)-2,J385)","v":10.7},{"$f":"IF(L384>0,MIN(J384:L384)-2,K385)","v":10.7},{"$f":"IF(M384>0,MIN(J384:M384)-1,L385)","v":11.7},{"$f":"IF(N384>0,MIN(J384:N384),M385)","v":12.7},{"$f":"IF(O384>0,AVERAGE(SMALL(IF(J384:O384>0,J384:O384),{1,2}))-1,N385)","v":12.303846153846154},{"$f":"IF(P384>0,AVERAGE(SMALL(IF(J384:P384>0,J384:P384),{1,2})),O385)","v":12.303846153846154},{"$f":"IF(Q384>0,AVERAGE(SMALL(IF(J384:Q384>0,J384:Q384),{1,2})),P385)","v":12.303846153846154},{"$f":"IF(R384>0,AVERAGE(SMALL(IF(J384:R384>0,J384:R384),{1,2,3})),Q385)","v":12.303846153846154},{"$f":"IF(S384>0,AVERAGE(SMALL(IF(J384:S384>0,J384:S384),{1,2,3})),R385)","v":12.303846153846154},{"$f":"IF(T384>0,AVERAGE(SMALL(IF(J384:T384>0,J384:T384),{1,2,3})),S385)","v":12.303846153846154},{"$f":"IF(U384>0,AVERAGE(SMALL(IF(J384:U384>0,J384:U384),{1,2,3,4})),T385)","v":12.303846153846154},{"$f":"IF(V384>0,AVERAGE(SMALL(IF(J384:V384>0,J384:V384),{1,2,3,4})),U385)","v":12.303846153846154},{"$f":"IF(W384>0,AVERAGE(SMALL(IF(J384:W384>0,J384:W384),{1,2,3,4})),V385)","v":12.303846153846154},{"$f":"IF(X384>0,AVERAGE(SMALL(IF(J384:X384>0,J384:X384),{1,2,3,4,5})),W385)","v":12.303846153846154},{"$f":"IF(Y384>0,AVERAGE(SMALL(IF(J384:Y384>0,J384:Y384),{1,2,3,4,5})),X385)","v":12.303846153846154},{"$f":"IF(Z384>0,AVERAGE(SMALL(IF(J384:Z384>0,J384:Z384),{1,2,3,4,5,6})),Y385)","v":12.303846153846154},{"$f":"IF(AA384>0,AVERAGE(SMALL(IF(J384:AA384>0,J384:AA384),{1,2,3,4,5,6})),Z385)","v":12.303846153846154},{"$f":"IF(AB384>0,AVERAGE(SMALL(IF(J384:AB384>0,J384:AB384),{1,2,3,4,5,6,7})),AA385)","v":12.303846153846154},{"$f":"IF(AC384>0,AVERAGE(SMALL(IF(J384:AC384>0,J384:AC384),{1,2,3,4,5,6,7,8})),AB385)","v":12.303846153846154},{"$f":"IF(AD384>0,AVERAGE(SMALL(IF(K384:AD384>0,K384:AD384),{1,2,3,4,5,6,7,8})),AC385)","v":12.303846153846154},{"$f":"IF(AE384>0,AVERAGE(SMALL(IF(L384:AE384>0,L384:AE384),{1,2,3,4,5,6,7,8})),AD385)","v":12.303846153846154},{"$f":"IF(AF384>0,AVERAGE(SMALL(IF(M384:AF384>0,M384:AF384),{1,2,3,4,5,6,7,8})),AE385)","v":12.303846153846154},{"$f":"IF(AG384>0,AVERAGE(SMALL(IF(N384:AG384>0,N384:AG384),{1,2,3,4,5,6,7,8})),AF385)","v":12.303846153846154},{"$f":"IF(AH384>0,AVERAGE(SMALL(IF(O384:AH384>0,O384:AH384),{1,2,3,4,5,6,7,8})),AG385)","v":12.303846153846154},{"$f":"IF(AI384>0,AVERAGE(SMALL(IF(P384:AI384>0,P384:AI384),{1,2,3,4,5,6,7,8})),AH385)","v":12.303846153846154},{"$f":"IF(AJ384>0,AVERAGE(SMALL(IF(Q384:AJ384>0,Q384:AJ384),{1,2,3,4,5,6,7,8})),AI385)","v":12.303846153846154},{"$f":"IF(AK384>0,AVERAGE(SMALL(IF(R384:AK384>0,R384:AK384),{1,2,3,4,5,6,7,8})),AJ385)","v":12.303846153846154},{"$f":"IF(AL384>0,AVERAGE(SMALL(IF(S384:AL384>0,S384:AL384),{1,2,3,4,5,6,7,8})),AK385)","v":12.303846153846154},{"$f":"IF(AM384>0,AVERAGE(SMALL(IF(T384:AM384>0,T384:AM384),{1,2,3,4,5,6,7,8})),AL385)","v":12.303846153846154},{"$f":"IF(AN384>0,AVERAGE(SMALL(IF(U384:AN384>0,U384:AN384),{1,2,3,4,5,6,7,8})),AM385)","v":12.303846153846154},{"$f":"IF(AO384>0,AVERAGE(SMALL(IF(V384:AO384>0,V384:AO384),{1,2,3,4,5,6,7,8})),AN385)","v":12.303846153846154},{"$f":"IF(AP384>0,AVERAGE(SMALL(IF(W384:AP384>0,W384:AP384),{1,2,3,4,5,6,7,8})),AO385)","v":12.303846153846154},{"$f":"IF(AQ384>0,AVERAGE(SMALL(IF(X384:AQ384>0,X384:AQ384),{1,2,3,4,5,6,7,8})),AP385)","v":12.303846153846154},{"$f":"IF(AR384>0,AVERAGE(SMALL(IF(Y384:AR384>0,Y384:AR384),{1,2,3,4,5,6,7,8})),AQ385)","v":12.303846153846154},{"$f":"IF(AS384>0,AVERAGE(SMALL(IF(Z384:AS384>0,Z384:AS384),{1,2,3,4,5,6,7,8})),AR385)","v":12.303846153846154},{"$f":"IF(AT384>0,AVERAGE(SMALL(IF(AA384:AT384>0,AA384:AT384),{1,2,3,4,5,6,7,8})),AS385)","v":12.303846153846154},{"$f":"IF(AU384>0,AVERAGE(SMALL(IF(AB384:AU384>0,AB384:AU384),{1,2,3,4,5,6,7,8})),AT385)","v":12.303846153846154},{"$f":"IF(AV384>0,AVERAGE(SMALL(IF(AC384:AV384>0,AC384:AV384),{1,2,3,4,5,6,7,8})),AU385)","v":12.303846153846154},{"$f":"IF(AW384>0,AVERAGE(SMALL(IF(AD384:AW384>0,AD384:AW384),{1,2,3,4,5,6,7,8})),AV385)","v":12.303846153846154},{"$f":"IF(AX384>0,AVERAGE(SMALL(IF(AE384:AX384>0,AE384:AX384),{1,2,3,4,5,6,7,8})),AW385)","v":12.303846153846154},{"$f":"IF(AY384>0,AVERAGE(SMALL(IF(AF384:AY384>0,AF384:AY384),{1,2,3,4,5,6,7,8})),AX385)","v":12.303846153846154},{"$f":"IF(AZ384>0,AVERAGE(SMALL(IF(AG384:AZ384>0,AG384:AZ384),{1,2,3,4,5,6,7,8})),AY385)","v":12.303846153846154},{"$f":"IF(BA384>0,AVERAGE(SMALL(IF(AH384:BA384>0,AH384:BA384),{1,2,3,4,5,6,7,8})),AZ385)","v":12.303846153846154},{"$f":"IF(BB384>0,AVERAGE(SMALL(IF(AI384:BB384>0,AI384:BB384),{1,2,3,4,5,6,7,8})),BA385)","v":12.303846153846154},{"$f":"IF(BC384>0,AVERAGE(SMALL(IF(AJ384:BC384>0,AJ384:BC384),{1,2,3,4,5,6,7,8})),BB385)","v":12.303846153846154},{"$f":"IF(BD384>0,AVERAGE(SMALL(IF(AK384:BD384>0,AK384:BD384),{1,2,3,4,5,6,7,8})),BC385)","v":12.303846153846154},{"$f":"IF(BE384>0,AVERAGE(SMALL(IF(AL384:BE384>0,AL384:BE384),{1,2,3,4,5,6,7,8})),BD385)","v":12.303846153846154},{"$f":"IF(BF384>0,AVERAGE(SMALL(IF(AM384:BF384>0,AM384:BF384),{1,2,3,4,5,6,7,8})),BE385)","v":12.303846153846154},{"$f":"IF(BG384>0,AVERAGE(SMALL(IF(AN384:BG384>0,AN384:BG384),{1,2,3,4,5,6,7,8})),BF385)","v":12.303846153846154},{"$f":"IF(BH384>0,AVERAGE(SMALL(IF(AO384:BH384>0,AO384:BH384),{1,2,3,4,5,6,7,8})),BG385)","v":12.303846153846154},{"$f":"IF(BI384>0,AVERAGE(SMALL(IF(AP384:BI384>0,AP384:BI384),{1,2,3,4,5,6,7,8})),BH385)","v":12.303846153846154},{"$f":"IF(BJ384>0,AVERAGE(SMALL(IF(AQ384:BJ384>0,AQ384:BJ384),{1,2,3,4,5,6,7,8})),BI385)","v":12.303846153846154},{"$f":"IF(BK384>0,AVERAGE(SMALL(IF(AR384:BK384>0,AR384:BK384),{1,2,3,4,5,6,7,8})),BJ385)","v":12.303846153846154},{"$f":"IF(BL384>0,AVERAGE(SMALL(IF(AS384:BL384>0,AS384:BL384),{1,2,3,4,5,6,7,8})),BK385)","v":12.303846153846154},{"$f":"IF(BM384>0,AVERAGE(SMALL(IF(AT384:BM384>0,AT384:BM384),{1,2,3,4,5,6,7,8})),BL385)","v":12.303846153846154},{"$f":"IF(BN384>0,AVERAGE(SMALL(IF(AU384:BN384>0,AU384:BN384),{1,2,3,4,5,6,7,8})),BM385)","v":12.303846153846154},{"$f":"IF(BO384>0,AVERAGE(SMALL(IF(AV384:BO384>0,AV384:BO384),{1,2,3,4,5,6,7,8})),BN385)","v":12.303846153846154},{"$f":"IF(BP384>0,AVERAGE(SMALL(IF(AW384:BP384>0,AW384:BP384),{1,2,3,4,5,6,7,8})),BO385)","v":12.303846153846154},{"$f":"IF(BQ384>0,AVERAGE(SMALL(IF(AX384:BQ384>0,AX384:BQ384),{1,2,3,4,5,6,7,8})),BP385)","v":12.303846153846154},{"$f":"IF(BR384>0,AVERAGE(SMALL(IF(AY384:BR384>0,AY384:BR384),{1,2,3,4,5,6,7,8})),BQ385)","v":12.303846153846154},{"$f":"IF(BS384>0,AVERAGE(SMALL(IF(AZ384:BS384>0,AZ384:BS384),{1,2,3,4,5,6,7,8})),BR385)","v":12.303846153846154},{"$f":"IF(BT384>0,AVERAGE(SMALL(IF(BA384:BT384>0,BA384:BT384),{1,2,3,4,5,6,7,8})),BS385)","v":12.303846153846154},{"$f":"IF(BU384>0,AVERAGE(SMALL(IF(BB384:BU384>0,BB384:BU384),{1,2,3,4,5,6,7,8})),BT385)","v":12.303846153846154},{"$f":"IF(BV384>0,AVERAGE(SMALL(IF(BC384:BV384>0,BC384:BV384),{1,2,3,4,5,6,7,8})),BU385)","v":12.303846153846154},{"$f":"IF(BW384>0,AVERAGE(SMALL(IF(BD384:BW384>0,BD384:BW384),{1,2,3,4,5,6,7,8})),BV385)","v":12.303846153846154},{"$f":"IF(BX384>0,AVERAGE(SMALL(IF(BE384:BX384>0,BE384:BX384),{1,2,3,4,5,6,7,8})),BW385)","v":12.303846153846154},{"$f":"IF(BY384>0,AVERAGE(SMALL(IF(BF384:BY384>0,BF384:BY384),{1,2,3,4,5,6,7,8})),BX385)","v":12.303846153846154},{"$f":"IF(BZ384>0,AVERAGE(SMALL(IF(BG384:BZ384>0,BG384:BZ384),{1,2,3,4,5,6,7,8})),BY385)","v":12.303846153846154},{"$f":"IF(CA384>0,AVERAGE(SMALL(IF(BH384:CA384>0,BH384:CA384),{1,2,3,4,5,6,7,8})),BZ385)","v":12.303846153846154},{"$f":"IF(CB384>0,AVERAGE(SMALL(IF(BI384:CB384>0,BI384:CB384),{1,2,3,4,5,6,7,8})),CA385)","v":12.303846153846154},{"$f":"IF(CC384>0,AVERAGE(SMALL(IF(BJ384:CC384>0,BJ384:CC384),{1,2,3,4,5,6,7,8})),CB385)","v":12.303846153846154},{"$f":"IF(CD384>0,AVERAGE(SMALL(IF(BK384:CD384>0,BK384:CD384),{1,2,3,4,5,6,7,8})),CC385)","v":12.303846153846154},{"$f":"IF(CE384>0,AVERAGE(SMALL(IF(BL384:CE384>0,BL384:CE384),{1,2,3,4,5,6,7,8})),CD385)","v":12.303846153846154},{"$f":"IF(CF384>0,AVERAGE(SMALL(IF(BM384:CF384>0,BM384:CF384),{1,2,3,4,5,6,7,8})),CE385)","v":12.303846153846154},{"$f":"IF(CG384>0,AVERAGE(SMALL(IF(BN384:CG384>0,BN384:CG384),{1,2,3,4,5,6,7,8})),CF385)","v":12.303846153846154},{"$f":"IF(CH384>0,AVERAGE(SMALL(IF(BO384:CH384>0,BO384:CH384),{1,2,3,4,5,6,7,8})),CG385)","v":12.303846153846154},{"$f":"IF(CI384>0,AVERAGE(SMALL(IF(BP384:CI384>0,BP384:CI384),{1,2,3,4,5,6,7,8})),CH385)","v":12.303846153846154},{"$f":"IF(CJ384>0,AVERAGE(SMALL(IF(BQ384:CJ384>0,BQ384:CJ384),{1,2,3,4,5,6,7,8})),CI385)","v":12.303846153846154},{"$f":"IF(CK384>0,AVERAGE(SMALL(IF(BR384:CK384>0,BR384:CK384),{1,2,3,4,5,6,7,8})),CJ385)","v":12.303846153846154},{"$f":"IF(CL384>0,AVERAGE(SMALL(IF(BS384:CL384>0,BS384:CL384),{1,2,3,4,5,6,7,8})),CK385)","v":12.303846153846154},{"$f":"IF(CM384>0,AVERAGE(SMALL(IF(BT384:CM384>0,BT384:CM384),{1,2,3,4,5,6,7,8})),CL385)","v":12.303846153846154},{"$f":"IF(CN384>0,AVERAGE(SMALL(IF(BU384:CN384>0,BU384:CN384),{1,2,3,4,5,6,7,8})),CM385)","v":12.303846153846154},{"$f":"IF(CO384>0,AVERAGE(SMALL(IF(BV384:CO384>0,BV384:CO384),{1,2,3,4,5,6,7,8})),CN385)","v":12.303846153846154},{"$f":"IF(CP384>0,AVERAGE(SMALL(IF(BW384:CP384>0,BW384:CP384),{1,2,3,4,5,6,7,8})),CO385)","v":12.303846153846154},{"$f":"IF(CQ384>0,AVERAGE(SMALL(IF(BX384:CQ384>0,BX384:CQ384),{1,2,3,4,5,6,7,8})),CP385)","v":12.303846153846154},{"$f":"IF(CR384>0,AVERAGE(SMALL(IF(BY384:CR384>0,BY384:CR384),{1,2,3,4,5,6,7,8})),CQ385)","v":12.303846153846154},{"$f":"IF(CS384>0,AVERAGE(SMALL(IF(BZ384:CS384>0,BZ384:CS384),{1,2,3,4,5,6,7,8})),CR385)","v":12.303846153846154},{"$f":"IF(CT384>0,AVERAGE(SMALL(IF(CA384:CT384>0,CA384:CT384),{1,2,3,4,5,6,7,8})),CS385)","v":12.303846153846154},{"$f":"IF(CU384>0,AVERAGE(SMALL(IF(CB384:CU384>0,CB384:CU384),{1,2,3,4,5,6,7,8})),CT385)","v":12.303846153846154},{"$f":"IF(CV384>0,AVERAGE(SMALL(IF(CC384:CV384>0,CC384:CV384),{1,2,3,4,5,6,7,8})),CU385)","v":12.303846153846154},{"$f":"IF(CW384>0,AVERAGE(SMALL(IF(CD384:CW384>0,CD384:CW384),{1,2,3,4,5,6,7,8})),CV385)","v":12.303846153846154}]
[null,null,null,null,null,null,null,null,"Low Hcap",null,null,null,null,null,null,null,null,null,null,null,null,null,null,null,null,null,null,null,{"$f":"MIN($M385:AC385)","v":11.7},{"$f":"MIN($M385:AD385)","v":11.7},{"$f":"MIN($M385:AE385)","v":11.7},{"$f":"MIN($M385:AF385)","v":11.7},{"$f":"MIN($M385:AG385)","v":11.7},{"$f":"MIN($M385:AH385)","v":11.7},{"$f":"MIN($M385:AI385)","v":11.7},{"$f":"MIN($M385:AJ385)","v":11.7},{"$f":"MIN($M385:AK385)","v":11.7},{"$f":"MIN($M385:AL385)","v":11.7},{"$f":"MIN($M385:AM385)","v":11.7},{"$f":"MIN($M385:AN385)","v":11.7},{"$f":"MIN($M385:AO385)","v":11.7},{"$f":"MIN($M385:AP385)","v":11.7},{"$f":"MIN($M385:AQ385)","v":11.7},{"$f":"MIN($M385:AR385)","v":11.7},{"$f":"MIN($M385:AS385)","v":11.7},{"$f":"MIN($M385:AT385)","v":11.7},{"$f":"MIN($M385:AU385)","v":11.7},{"$f":"MIN($M385:AV385)","v":11.7},{"$f":"MIN($M385:AW385)","v":11.7},{"$f":"MIN($M385:AX385)","v":11.7},{"$f":"MIN($M385:AY385)","v":11.7},{"$f":"MIN($M385:AZ385)","v":11.7},{"$f":"MIN($M385:BA385)","v":11.7},{"$f":"MIN($M385:BB385)","v":11.7},{"$f":"MIN($M385:BC385)","v":11.7},{"$f":"MIN($M385:BD385)","v":11.7},{"$f":"MIN($M385:BE385)","v":11.7},{"$f":"MIN($M385:BF385)","v":11.7},{"$f":"MIN($M385:BG385)","v":11.7},{"$f":"MIN($M385:BH385)","v":11.7},{"$f":"MIN($M385:BI385)","v":11.7},{"$f":"MIN($M385:BJ385)","v":11.7},{"$f":"MIN($M385:BK385)","v":11.7},{"$f":"MIN($M385:BL385)","v":11.7},{"$f":"MIN($M385:BM385)","v":11.7},{"$f":"MIN($M385:BN385)","v":11.7},{"$f":"MIN($M385:BO385)","v":11.7},{"$f":"MIN($M385:BP385)","v":11.7},{"$f":"MIN($M385:BQ385)","v":11.7},{"$f":"MIN($M385:BR385)","v":11.7},{"$f":"MIN($M385:BS385)","v":11.7},{"$f":"MIN($M385:BT385)","v":11.7},{"$f":"MIN($M385:BU385)","v":11.7},{"$f":"MIN($M385:BV385)","v":11.7},{"$f":"MIN($M385:BW385)","v":11.7},{"$f":"MIN($M385:BX385)","v":11.7},{"$f":"MIN($M385:BY385)","v":11.7},{"$f":"MIN($M385:BZ385)","v":11.7},{"$f":"MIN($M385:CA385)","v":11.7},{"$f":"MIN($M385:CB385)","v":11.7},{"$f":"MIN($M385:CC385)","v":11.7},{"$f":"MIN($M385:CD385)","v":11.7},{"$f":"MIN($M385:CE385)","v":11.7},{"$f":"MIN($M385:CF385)","v":11.7},{"$f":"MIN($M385:CG385)","v":11.7},{"$f":"MIN($M385:CH385)","v":11.7},{"$f":"MIN($M385:CI385)","v":11.7},{"$f":"MIN($M385:CJ385)","v":11.7},{"$f":"MIN($M385:CK385)","v":11.7},{"$f":"MIN($M385:CL385)","v":11.7},{"$f":"MIN($M385:CM385)","v":11.7},{"$f":"MIN($M385:CN385)","v":11.7},{"$f":"MIN($M385:CO385)","v":11.7},{"$f":"MIN($M385:CP385)","v":11.7},{"$f":"MIN($M385:CQ385)","v":11.7},{"$f":"MIN($M385:CR385)","v":11.7},{"$f":"MIN($M385:CS385)","v":11.7},{"$f":"MIN($M385:CT385)","v":11.7},{"$f":"MIN($M385:CU385)","v":11.7},{"$f":"MIN($M385:CV385)","v":11.7},{"$f":"MIN($M385:CW385)","v":11.7}]
[null,"Moss","Clyde",21.1,null,{"$f":"IF(H387<4,\"Y\",)","v":0},null,{"$f":"COUNT(J387:CX387)","v":12},"Date",null,"2019-06-09","2019-08-18","2019-09-08","2020-06-05","2020-06-28","2020-07-12","2021-04-30","2021-07-11","2021-09-19","2022-05-15","2022-07-03","2023-05-07",null,null,null,null,null,null,null,null,null,null,null,null,null,null,null,null,null,null,null,null,null,null,null,null,null,null,null,null,null,null,null,null,null,null,null,null,null,null,null,null,null,null,null,null,null,null,null,null,null,null,null,null,null,null,null,null,null,null,null,null,null,null,null,null,null,null,null,null,null,null,null,null,null,null,null,null,null,null,null,null,{"$f":"IF(CW391>$DD$1,36,CW391)","v":20.416384009691097},20.416384009691097,{"$f":"CZ387-CY387","v":0}]
[null,null,null,null,null,null,null,null,"Course",null,"OdelzhausenHG","PfaffingHG","OdelzhausenHG","ErdingHG","ErdingHG","PfaffingHG","TegernbachHG","PfaffingHG","ErdingHG","OdelzhausenHG","Pfaffing2022HG","Odelzhausen2023HG"]
[null,null,null,null,null,null,null,null,"Ad Gr",null,92,96,99,96,102,110,104,101,102,107,108,106]
[null,null,null,null,null,null,null,null,"SD",21.1,{"$f":"IF(K389=\"\",0,(K389-INDIRECT(CONCATENATE(K388,\"CR\")))*113/INDIRECT(CONCATENATE(K388,\"SR\")))","v":17.973228346456697},{"$f":"IF(L389=\"\",0,(L389-INDIRECT(CONCATENATE(L388,\"CR\")))*113/INDIRECT(CONCATENATE(L388,\"SR\")))","v":20.861538461538462},24.201574803149608,21.73076923076923,26.946153846153845,33.030769230769231,27.650757575757574,25.207692307692309,26.946153846153845,31.319685039370082,30.683846153846151,31.3483870967742,0,0,0,0,0,0,0,0,0,0,0,0,0,0,0,0,0,0,0,0,0,0,0,0,0,0,0,0,0,0,0,0,0,0,0,0,0,0,0,0,0,0,0,0,0,0,0,0,0,0,0,0,0,{"$f":"IF(BX389=\"\",0,(BX389-INDIRECT(CONCATENATE(BX388,\"CR\")))*113/INDIRECT(CONCATENATE(BX388,\"SR\")))","v":0},0,0,0,0,0,0,0,0,0,0,0,0,0,0,{"$f":"IF(CM389=\"\",0,(CM389-INDIRECT(CONCATENATE(CM388,\"CR\")))*113/INDIRECT(CONCATENATE(CM388,\"SR\")))","v":0},0,{"$f":"IF(CO389=\"\",0,(CO389-INDIRECT(CONCATENATE(CO388,\"CR\")))*113/INDIRECT(CONCATENATE(CO388,\"SR\")))","v":0},0,{"$f":"IF(CQ389=\"\",0,(CQ389-INDIRECT(CONCATENATE(CQ388,\"CR\")))*113/INDIRECT(CONCATENATE(CQ388,\"SR\")))","v":0},0,{"$f":"IF(CS389=\"\",0,(CS389-INDIRECT(CONCATENATE(CS388,\"CR\")))*113/INDIRECT(CONCATENATE(CS388,\"SR\")))","v":0},0,{"$f":"IF(CU389=\"\",0,(CU389-INDIRECT(CONCATENATE(CU388,\"CR\")))*113/INDIRECT(CONCATENATE(CU388,\"SR\")))","v":0},0,{"$f":"IF(CW389=\"\",0,(CW389-INDIRECT(CONCATENATE(CW388,\"CR\")))*113/INDIRECT(CONCATENATE(CW388,\"SR\")))","v":0}]
[null,null,null,null,null,null,null,null,"New Hcap",{"$f":"J390-2","v":19.100000000000001},{"$f":"IF(K390>0,MIN(J390:K390)-2,J391)","v":15.973228346456697},{"$f":"IF(L390>0,MIN(J390:L390)-2,K391)","v":15.973228346456697},{"$f":"IF(M390>0,MIN(J390:M390)-1,L391)","v":16.973228346456697},{"$f":"IF(N390>0,MIN(J390:N390),M391)","v":17.973228346456697},{"$f":"IF(O390>0,AVERAGE(SMALL(IF(J390:O390>0,J390:O390),{1,2}))-1,N391)","v":18.417383403997579},{"$f":"IF(P390>0,AVERAGE(SMALL(IF(J390:P390>0,J390:P390),{1,2})),O391)","v":19.417383403997579},{"$f":"IF(Q390>0,AVERAGE(SMALL(IF(J390:Q390>0,J390:Q390),{1,2})),P391)","v":19.417383403997579},{"$f":"IF(R390>0,AVERAGE(SMALL(IF(J390:R390>0,J390:R390),{1,2,3})),Q391)","v":19.978255602665055},{"$f":"IF(S390>0,AVERAGE(SMALL(IF(J390:S390>0,J390:S390),{1,2,3})),R391)","v":19.978255602665055},{"$f":"IF(T390>0,AVERAGE(SMALL(IF(J390:T390>0,J390:T390),{1,2,3})),S391)","v":19.978255602665055},{"$f":"IF(U390>0,AVERAGE(SMALL(IF(J390:U390>0,J390:U390),{1,2,3,4})),T391)","v":20.416384009691097},{"$f":"IF(V390>0,AVERAGE(SMALL(IF(J390:V390>0,J390:V390),{1,2,3,4})),U391)","v":20.416384009691097},{"$f":"IF(W390>0,AVERAGE(SMALL(IF(J390:W390>0,J390:W390),{1,2,3,4})),V391)","v":20.416384009691097},{"$f":"IF(X390>0,AVERAGE(SMALL(IF(J390:X390>0,J390:X390),{1,2,3,4,5})),W391)","v":20.416384009691097},{"$f":"IF(Y390>0,AVERAGE(SMALL(IF(J390:Y390>0,J390:Y390),{1,2,3,4,5})),X391)","v":20.416384009691097},{"$f":"IF(Z390>0,AVERAGE(SMALL(IF(J390:Z390>0,J390:Z390),{1,2,3,4,5,6})),Y391)","v":20.416384009691097},{"$f":"IF(AA390>0,AVERAGE(SMALL(IF(J390:AA390>0,J390:AA390),{1,2,3,4,5,6})),Z391)","v":20.416384009691097},{"$f":"IF(AB390>0,AVERAGE(SMALL(IF(J390:AB390>0,J390:AB390),{1,2,3,4,5,6,7})),AA391)","v":20.416384009691097},{"$f":"IF(AC390>0,AVERAGE(SMALL(IF(J390:AC390>0,J390:AC390),{1,2,3,4,5,6,7,8})),AB391)","v":20.416384009691097},{"$f":"IF(AD390>0,AVERAGE(SMALL(IF(K390:AD390>0,K390:AD390),{1,2,3,4,5,6,7,8})),AC391)","v":20.416384009691097},{"$f":"IF(AE390>0,AVERAGE(SMALL(IF(L390:AE390>0,L390:AE390),{1,2,3,4,5,6,7,8})),AD391)","v":20.416384009691097},{"$f":"IF(AF390>0,AVERAGE(SMALL(IF(M390:AF390>0,M390:AF390),{1,2,3,4,5,6,7,8})),AE391)","v":20.416384009691097},{"$f":"IF(AG390>0,AVERAGE(SMALL(IF(N390:AG390>0,N390:AG390),{1,2,3,4,5,6,7,8})),AF391)","v":20.416384009691097},{"$f":"IF(AH390>0,AVERAGE(SMALL(IF(O390:AH390>0,O390:AH390),{1,2,3,4,5,6,7,8})),AG391)","v":20.416384009691097},{"$f":"IF(AI390>0,AVERAGE(SMALL(IF(P390:AI390>0,P390:AI390),{1,2,3,4,5,6,7,8})),AH391)","v":20.416384009691097},{"$f":"IF(AJ390>0,AVERAGE(SMALL(IF(Q390:AJ390>0,Q390:AJ390),{1,2,3,4,5,6,7,8})),AI391)","v":20.416384009691097},{"$f":"IF(AK390>0,AVERAGE(SMALL(IF(R390:AK390>0,R390:AK390),{1,2,3,4,5,6,7,8})),AJ391)","v":20.416384009691097},{"$f":"IF(AL390>0,AVERAGE(SMALL(IF(S390:AL390>0,S390:AL390),{1,2,3,4,5,6,7,8})),AK391)","v":20.416384009691097},{"$f":"IF(AM390>0,AVERAGE(SMALL(IF(T390:AM390>0,T390:AM390),{1,2,3,4,5,6,7,8})),AL391)","v":20.416384009691097},{"$f":"IF(AN390>0,AVERAGE(SMALL(IF(U390:AN390>0,U390:AN390),{1,2,3,4,5,6,7,8})),AM391)","v":20.416384009691097},{"$f":"IF(AO390>0,AVERAGE(SMALL(IF(V390:AO390>0,V390:AO390),{1,2,3,4,5,6,7,8})),AN391)","v":20.416384009691097},{"$f":"IF(AP390>0,AVERAGE(SMALL(IF(W390:AP390>0,W390:AP390),{1,2,3,4,5,6,7,8})),AO391)","v":20.416384009691097},{"$f":"IF(AQ390>0,AVERAGE(SMALL(IF(X390:AQ390>0,X390:AQ390),{1,2,3,4,5,6,7,8})),AP391)","v":20.416384009691097},{"$f":"IF(AR390>0,AVERAGE(SMALL(IF(Y390:AR390>0,Y390:AR390),{1,2,3,4,5,6,7,8})),AQ391)","v":20.416384009691097},{"$f":"IF(AS390>0,AVERAGE(SMALL(IF(Z390:AS390>0,Z390:AS390),{1,2,3,4,5,6,7,8})),AR391)","v":20.416384009691097},{"$f":"IF(AT390>0,AVERAGE(SMALL(IF(AA390:AT390>0,AA390:AT390),{1,2,3,4,5,6,7,8})),AS391)","v":20.416384009691097},{"$f":"IF(AU390>0,AVERAGE(SMALL(IF(AB390:AU390>0,AB390:AU390),{1,2,3,4,5,6,7,8})),AT391)","v":20.416384009691097},{"$f":"IF(AV390>0,AVERAGE(SMALL(IF(AC390:AV390>0,AC390:AV390),{1,2,3,4,5,6,7,8})),AU391)","v":20.416384009691097},{"$f":"IF(AW390>0,AVERAGE(SMALL(IF(AD390:AW390>0,AD390:AW390),{1,2,3,4,5,6,7,8})),AV391)","v":20.416384009691097},{"$f":"IF(AX390>0,AVERAGE(SMALL(IF(AE390:AX390>0,AE390:AX390),{1,2,3,4,5,6,7,8})),AW391)","v":20.416384009691097},{"$f":"IF(AY390>0,AVERAGE(SMALL(IF(AF390:AY390>0,AF390:AY390),{1,2,3,4,5,6,7,8})),AX391)","v":20.416384009691097},{"$f":"IF(AZ390>0,AVERAGE(SMALL(IF(AG390:AZ390>0,AG390:AZ390),{1,2,3,4,5,6,7,8})),AY391)","v":20.416384009691097},{"$f":"IF(BA390>0,AVERAGE(SMALL(IF(AH390:BA390>0,AH390:BA390),{1,2,3,4,5,6,7,8})),AZ391)","v":20.416384009691097},{"$f":"IF(BB390>0,AVERAGE(SMALL(IF(AI390:BB390>0,AI390:BB390),{1,2,3,4,5,6,7,8})),BA391)","v":20.416384009691097},{"$f":"IF(BC390>0,AVERAGE(SMALL(IF(AJ390:BC390>0,AJ390:BC390),{1,2,3,4,5,6,7,8})),BB391)","v":20.416384009691097},{"$f":"IF(BD390>0,AVERAGE(SMALL(IF(AK390:BD390>0,AK390:BD390),{1,2,3,4,5,6,7,8})),BC391)","v":20.416384009691097},{"$f":"IF(BE390>0,AVERAGE(SMALL(IF(AL390:BE390>0,AL390:BE390),{1,2,3,4,5,6,7,8})),BD391)","v":20.416384009691097},{"$f":"IF(BF390>0,AVERAGE(SMALL(IF(AM390:BF390>0,AM390:BF390),{1,2,3,4,5,6,7,8})),BE391)","v":20.416384009691097},{"$f":"IF(BG390>0,AVERAGE(SMALL(IF(AN390:BG390>0,AN390:BG390),{1,2,3,4,5,6,7,8})),BF391)","v":20.416384009691097},{"$f":"IF(BH390>0,AVERAGE(SMALL(IF(AO390:BH390>0,AO390:BH390),{1,2,3,4,5,6,7,8})),BG391)","v":20.416384009691097},{"$f":"IF(BI390>0,AVERAGE(SMALL(IF(AP390:BI390>0,AP390:BI390),{1,2,3,4,5,6,7,8})),BH391)","v":20.416384009691097},{"$f":"IF(BJ390>0,AVERAGE(SMALL(IF(AQ390:BJ390>0,AQ390:BJ390),{1,2,3,4,5,6,7,8})),BI391)","v":20.416384009691097},{"$f":"IF(BK390>0,AVERAGE(SMALL(IF(AR390:BK390>0,AR390:BK390),{1,2,3,4,5,6,7,8})),BJ391)","v":20.416384009691097},{"$f":"IF(BL390>0,AVERAGE(SMALL(IF(AS390:BL390>0,AS390:BL390),{1,2,3,4,5,6,7,8})),BK391)","v":20.416384009691097},{"$f":"IF(BM390>0,AVERAGE(SMALL(IF(AT390:BM390>0,AT390:BM390),{1,2,3,4,5,6,7,8})),BL391)","v":20.416384009691097},{"$f":"IF(BN390>0,AVERAGE(SMALL(IF(AU390:BN390>0,AU390:BN390),{1,2,3,4,5,6,7,8})),BM391)","v":20.416384009691097},{"$f":"IF(BO390>0,AVERAGE(SMALL(IF(AV390:BO390>0,AV390:BO390),{1,2,3,4,5,6,7,8})),BN391)","v":20.416384009691097},{"$f":"IF(BP390>0,AVERAGE(SMALL(IF(AW390:BP390>0,AW390:BP390),{1,2,3,4,5,6,7,8})),BO391)","v":20.416384009691097},{"$f":"IF(BQ390>0,AVERAGE(SMALL(IF(AX390:BQ390>0,AX390:BQ390),{1,2,3,4,5,6,7,8})),BP391)","v":20.416384009691097},{"$f":"IF(BR390>0,AVERAGE(SMALL(IF(AY390:BR390>0,AY390:BR390),{1,2,3,4,5,6,7,8})),BQ391)","v":20.416384009691097},{"$f":"IF(BS390>0,AVERAGE(SMALL(IF(AZ390:BS390>0,AZ390:BS390),{1,2,3,4,5,6,7,8})),BR391)","v":20.416384009691097},{"$f":"IF(BT390>0,AVERAGE(SMALL(IF(BA390:BT390>0,BA390:BT390),{1,2,3,4,5,6,7,8})),BS391)","v":20.416384009691097},{"$f":"IF(BU390>0,AVERAGE(SMALL(IF(BB390:BU390>0,BB390:BU390),{1,2,3,4,5,6,7,8})),BT391)","v":20.416384009691097},{"$f":"IF(BV390>0,AVERAGE(SMALL(IF(BC390:BV390>0,BC390:BV390),{1,2,3,4,5,6,7,8})),BU391)","v":20.416384009691097},{"$f":"IF(BW390>0,AVERAGE(SMALL(IF(BD390:BW390>0,BD390:BW390),{1,2,3,4,5,6,7,8})),BV391)","v":20.416384009691097},{"$f":"IF(BX390>0,AVERAGE(SMALL(IF(BE390:BX390>0,BE390:BX390),{1,2,3,4,5,6,7,8})),BW391)","v":20.416384009691097},{"$f":"IF(BY390>0,AVERAGE(SMALL(IF(BF390:BY390>0,BF390:BY390),{1,2,3,4,5,6,7,8})),BX391)","v":20.416384009691097},{"$f":"IF(BZ390>0,AVERAGE(SMALL(IF(BG390:BZ390>0,BG390:BZ390),{1,2,3,4,5,6,7,8})),BY391)","v":20.416384009691097},{"$f":"IF(CA390>0,AVERAGE(SMALL(IF(BH390:CA390>0,BH390:CA390),{1,2,3,4,5,6,7,8})),BZ391)","v":20.416384009691097},{"$f":"IF(CB390>0,AVERAGE(SMALL(IF(BI390:CB390>0,BI390:CB390),{1,2,3,4,5,6,7,8})),CA391)","v":20.416384009691097},{"$f":"IF(CC390>0,AVERAGE(SMALL(IF(BJ390:CC390>0,BJ390:CC390),{1,2,3,4,5,6,7,8})),CB391)","v":20.416384009691097},{"$f":"IF(CD390>0,AVERAGE(SMALL(IF(BK390:CD390>0,BK390:CD390),{1,2,3,4,5,6,7,8})),CC391)","v":20.416384009691097},{"$f":"IF(CE390>0,AVERAGE(SMALL(IF(BL390:CE390>0,BL390:CE390),{1,2,3,4,5,6,7,8})),CD391)","v":20.416384009691097},{"$f":"IF(CF390>0,AVERAGE(SMALL(IF(BM390:CF390>0,BM390:CF390),{1,2,3,4,5,6,7,8})),CE391)","v":20.416384009691097},{"$f":"IF(CG390>0,AVERAGE(SMALL(IF(BN390:CG390>0,BN390:CG390),{1,2,3,4,5,6,7,8})),CF391)","v":20.416384009691097},{"$f":"IF(CH390>0,AVERAGE(SMALL(IF(BO390:CH390>0,BO390:CH390),{1,2,3,4,5,6,7,8})),CG391)","v":20.416384009691097},{"$f":"IF(CI390>0,AVERAGE(SMALL(IF(BP390:CI390>0,BP390:CI390),{1,2,3,4,5,6,7,8})),CH391)","v":20.416384009691097},{"$f":"IF(CJ390>0,AVERAGE(SMALL(IF(BQ390:CJ390>0,BQ390:CJ390),{1,2,3,4,5,6,7,8})),CI391)","v":20.416384009691097},{"$f":"IF(CK390>0,AVERAGE(SMALL(IF(BR390:CK390>0,BR390:CK390),{1,2,3,4,5,6,7,8})),CJ391)","v":20.416384009691097},{"$f":"IF(CL390>0,AVERAGE(SMALL(IF(BS390:CL390>0,BS390:CL390),{1,2,3,4,5,6,7,8})),CK391)","v":20.416384009691097},{"$f":"IF(CM390>0,AVERAGE(SMALL(IF(BT390:CM390>0,BT390:CM390),{1,2,3,4,5,6,7,8})),CL391)","v":20.416384009691097},{"$f":"IF(CN390>0,AVERAGE(SMALL(IF(BU390:CN390>0,BU390:CN390),{1,2,3,4,5,6,7,8})),CM391)","v":20.416384009691097},{"$f":"IF(CO390>0,AVERAGE(SMALL(IF(BV390:CO390>0,BV390:CO390),{1,2,3,4,5,6,7,8})),CN391)","v":20.416384009691097},{"$f":"IF(CP390>0,AVERAGE(SMALL(IF(BW390:CP390>0,BW390:CP390),{1,2,3,4,5,6,7,8})),CO391)","v":20.416384009691097},{"$f":"IF(CQ390>0,AVERAGE(SMALL(IF(BX390:CQ390>0,BX390:CQ390),{1,2,3,4,5,6,7,8})),CP391)","v":20.416384009691097},{"$f":"IF(CR390>0,AVERAGE(SMALL(IF(BY390:CR390>0,BY390:CR390),{1,2,3,4,5,6,7,8})),CQ391)","v":20.416384009691097},{"$f":"IF(CS390>0,AVERAGE(SMALL(IF(BZ390:CS390>0,BZ390:CS390),{1,2,3,4,5,6,7,8})),CR391)","v":20.416384009691097},{"$f":"IF(CT390>0,AVERAGE(SMALL(IF(CA390:CT390>0,CA390:CT390),{1,2,3,4,5,6,7,8})),CS391)","v":20.416384009691097},{"$f":"IF(CU390>0,AVERAGE(SMALL(IF(CB390:CU390>0,CB390:CU390),{1,2,3,4,5,6,7,8})),CT391)","v":20.416384009691097},{"$f":"IF(CV390>0,AVERAGE(SMALL(IF(CC390:CV390>0,CC390:CV390),{1,2,3,4,5,6,7,8})),CU391)","v":20.416384009691097},{"$f":"IF(CW390>0,AVERAGE(SMALL(IF(CD390:CW390>0,CD390:CW390),{1,2,3,4,5,6,7,8})),CV391)","v":20.416384009691097}]
[null,null,null,null,null,null,null,null,"Low Hcap",null,null,null,null,null,null,null,null,null,null,null,null,null,null,null,null,null,null,null,{"$f":"MIN($N391:AC391)","v":17.973228346456697},{"$f":"MIN($N391:AD391)","v":17.973228346456697},{"$f":"MIN($N391:AE391)","v":17.973228346456697},{"$f":"MIN($N391:AF391)","v":17.973228346456697},{"$f":"MIN($N391:AG391)","v":17.973228346456697},{"$f":"MIN($N391:AH391)","v":17.973228346456697},{"$f":"MIN($N391:AI391)","v":17.973228346456697},{"$f":"MIN($N391:AJ391)","v":17.973228346456697},{"$f":"MIN($N391:AK391)","v":17.973228346456697},{"$f":"MIN($N391:AL391)","v":17.973228346456697},{"$f":"MIN($N391:AM391)","v":17.973228346456697},{"$f":"MIN($N391:AN391)","v":17.973228346456697},{"$f":"MIN($N391:AO391)","v":17.973228346456697},{"$f":"MIN($N391:AP391)","v":17.973228346456697},{"$f":"MIN($N391:AQ391)","v":17.973228346456697},{"$f":"MIN($N391:AR391)","v":17.973228346456697},{"$f":"MIN($N391:AS391)","v":17.973228346456697},{"$f":"MIN($N391:AT391)","v":17.973228346456697},{"$f":"MIN($N391:AU391)","v":17.973228346456697},{"$f":"MIN($N391:AV391)","v":17.973228346456697},{"$f":"MIN($N391:AW391)","v":17.973228346456697},{"$f":"MIN($N391:AX391)","v":17.973228346456697},{"$f":"MIN($N391:AY391)","v":17.973228346456697},{"$f":"MIN($N391:AZ391)","v":17.973228346456697},{"$f":"MIN($N391:BA391)","v":17.973228346456697},{"$f":"MIN($N391:BB391)","v":17.973228346456697},{"$f":"MIN($N391:BC391)","v":17.973228346456697},{"$f":"MIN($N391:BD391)","v":17.973228346456697},{"$f":"MIN($N391:BE391)","v":17.973228346456697},{"$f":"MIN($N391:BF391)","v":17.973228346456697},{"$f":"MIN($N391:BG391)","v":17.973228346456697},{"$f":"MIN($N391:BH391)","v":17.973228346456697},{"$f":"MIN($N391:BI391)","v":17.973228346456697},{"$f":"MIN($N391:BJ391)","v":17.973228346456697},{"$f":"MIN($N391:BK391)","v":17.973228346456697},{"$f":"MIN($N391:BL391)","v":17.973228346456697},{"$f":"MIN($N391:BM391)","v":17.973228346456697},{"$f":"MIN($N391:BN391)","v":17.973228346456697},{"$f":"MIN($N391:BO391)","v":17.973228346456697},{"$f":"MIN($N391:BP391)","v":17.973228346456697},{"$f":"MIN($N391:BQ391)","v":17.973228346456697},{"$f":"MIN($N391:BR391)","v":17.973228346456697},{"$f":"MIN($N391:BS391)","v":17.973228346456697},{"$f":"MIN($N391:BT391)","v":17.973228346456697},{"$f":"MIN($N391:BU391)","v":17.973228346456697},{"$f":"MIN($N391:BV391)","v":17.973228346456697},{"$f":"MIN($N391:BW391)","v":17.973228346456697},{"$f":"MIN($N391:BX391)","v":17.973228346456697},{"$f":"MIN($N391:BY391)","v":17.973228346456697},{"$f":"MIN($N391:BZ391)","v":17.973228346456697},{"$f":"MIN($N391:CA391)","v":17.973228346456697},{"$f":"MIN($N391:CB391)","v":17.973228346456697},{"$f":"MIN($N391:CC391)","v":17.973228346456697},{"$f":"MIN($N391:CD391)","v":17.973228346456697},{"$f":"MIN($N391:CE391)","v":17.973228346456697},{"$f":"MIN($N391:CF391)","v":17.973228346456697},{"$f":"MIN($N391:CG391)","v":17.973228346456697},{"$f":"MIN($N391:CH391)","v":17.973228346456697},{"$f":"MIN($N391:CI391)","v":17.973228346456697},{"$f":"MIN($N391:CJ391)","v":17.973228346456697},{"$f":"MIN($N391:CK391)","v":17.973228346456697},{"$f":"MIN($N391:CL391)","v":17.973228346456697},{"$f":"MIN($N391:CM391)","v":17.973228346456697},{"$f":"MIN($N391:CN391)","v":17.973228346456697},{"$f":"MIN($N391:CO391)","v":17.973228346456697},{"$f":"MIN($N391:CP391)","v":17.973228346456697},{"$f":"MIN($N391:CQ391)","v":17.973228346456697},{"$f":"MIN($N391:CR391)","v":17.973228346456697},{"$f":"MIN($N391:CS391)","v":17.973228346456697},{"$f":"MIN($N391:CT391)","v":17.973228346456697},{"$f":"MIN($N391:CU391)","v":17.973228346456697},{"$f":"MIN($N391:CV391)","v":17.973228346456697},{"$f":"MIN($N391:CW391)","v":17.973228346456697}]
[null,"Naudet","Thomas",18.3,"Y",{"$f":"IF(H393<4,\"Y\",)","v":0},null,{"$f":"COUNT(J393:CX393)","v":12},"Date",null,"2020-06-19","2020-07-03","2020-07-31","2020-08-23","2020-09-06","2021-04-16","2021-04-30","2021-05-14","2021-06-19","2021-07-30","2022-10-07","2023-04-07",null,null,null,null,null,null,null,null,null,null,null,null,null,null,null,null,null,null,null,null,null,null,null,null,null,null,null,null,null,null,null,null,null,null,null,null,null,null,null,null,null,null,null,null,null,null,null,null,null,null,null,null,null,null,null,null,null,null,null,null,null,null,null,null,null,null,null,null,null,null,null,null,null,null,null,null,null,null,null,null,{"$f":"IF(CW397>$DD$1,36,CW397)","v":17.442274749053318},17.442274749053318,{"$f":"CZ393-CY393","v":0}]
[null,null,null,null,null,null,null,null,"Course",null,"StEurachHG","TegernbachHG","StEurachHG","PfaffingHG","OdelzhausenHG","TegernbachHG","TegernbachHG","StEurachHG","TegernbachHG","MangfalltalHG","EgmatingHG","Reichertshausen2023HG"]
[null,null,null,null,null,null,null,null,"Ad Gr",null,96,100,92,99,93,96,102,100,94,103,90,100]
[null,null,null,null,null,null,null,null,"SD",18.3,{"$f":"IF(K395=\"\",0,(K395-INDIRECT(CONCATENATE(K394,\"CR\")))*113/INDIRECT(CONCATENATE(K394,\"SR\")))","v":20.788549618320605},24.226515151515148,17.338167938931292,23.469230769230769,18.862992125984256,20.802272727272726,25.938636363636363,24.238931297709918,19.090151515151511,26.366666666666671,15.267938931297712,24.654545454545453,0,0,0,0,0,0,0,0,0,0,0,0,0,0,0,0,0,0,0,0,0,0,0,0,0,0,0,0,0,0,0,0,0,0,0,0,0,0,0,0,0,0,0,0,0,0,0,0,0,0,0,0,{"$f":"IF(BW395=\"\",0,(BW395-INDIRECT(CONCATENATE(BW394,\"CR\")))*113/INDIRECT(CONCATENATE(BW394,\"SR\")))","v":0},0,0,0,0,0,0,0,0,0,0,0,0,0,0,0,{"$f":"IF(CM395=\"\",0,(CM395-INDIRECT(CONCATENATE(CM394,\"CR\")))*113/INDIRECT(CONCATENATE(CM394,\"SR\")))","v":0},0,{"$f":"IF(CO395=\"\",0,(CO395-INDIRECT(CONCATENATE(CO394,\"CR\")))*113/INDIRECT(CONCATENATE(CO394,\"SR\")))","v":0},0,{"$f":"IF(CQ395=\"\",0,(CQ395-INDIRECT(CONCATENATE(CQ394,\"CR\")))*113/INDIRECT(CONCATENATE(CQ394,\"SR\")))","v":0},0,{"$f":"IF(CS395=\"\",0,(CS395-INDIRECT(CONCATENATE(CS394,\"CR\")))*113/INDIRECT(CONCATENATE(CS394,\"SR\")))","v":0},0,{"$f":"IF(CU395=\"\",0,(CU395-INDIRECT(CONCATENATE(CU394,\"CR\")))*113/INDIRECT(CONCATENATE(CU394,\"SR\")))","v":0},0,{"$f":"IF(CW395=\"\",0,(CW395-INDIRECT(CONCATENATE(CW394,\"CR\")))*113/INDIRECT(CONCATENATE(CW394,\"SR\")))","v":0}]
[null,null,null,null,null,null,null,null,"New Hcap",{"$f":"J396-2","v":16.3},{"$f":"IF(K396>0,MIN(J396:K396)-2,J397)","v":16.3},{"$f":"IF(L396>0,MIN(J396:L396)-2,K397)","v":16.3},{"$f":"IF(M396>0,MIN(J396:M396)-1,L397)","v":16.338167938931292},{"$f":"IF(N396>0,MIN(J396:N396),M397)","v":17.338167938931292},{"$f":"IF(O396>0,AVERAGE(SMALL(IF(J396:O396>0,J396:O396),{1,2}))-1,N397)","v":16.819083969465645},{"$f":"IF(P396>0,AVERAGE(SMALL(IF(J396:P396>0,J396:P396),{1,2})),O397)","v":17.819083969465645},{"$f":"IF(Q396>0,AVERAGE(SMALL(IF(J396:Q396>0,J396:Q396),{1,2})),P397)","v":17.819083969465645},{"$f":"IF(R396>0,AVERAGE(SMALL(IF(J396:R396>0,J396:R396),{1,2,3})),Q397)","v":18.167053354971848},{"$f":"IF(S396>0,AVERAGE(SMALL(IF(J396:S396>0,J396:S396),{1,2,3})),R397)","v":18.167053354971848},{"$f":"IF(T396>0,AVERAGE(SMALL(IF(J396:T396>0,J396:T396),{1,2,3})),S397)","v":18.167053354971848},{"$f":"IF(U396>0,AVERAGE(SMALL(IF(J396:U396>0,J396:U396),{1,2,3,4})),T397)","v":17.442274749053318},{"$f":"IF(V396>0,AVERAGE(SMALL(IF(J396:V396>0,J396:V396),{1,2,3,4})),U397)","v":17.442274749053318},{"$f":"IF(W396>0,AVERAGE(SMALL(IF(J396:W396>0,J396:W396),{1,2,3,4})),V397)","v":17.442274749053318},{"$f":"IF(X396>0,AVERAGE(SMALL(IF(J396:X396>0,J396:X396),{1,2,3,4,5})),W397)","v":17.442274749053318},{"$f":"IF(Y396>0,AVERAGE(SMALL(IF(J396:Y396>0,J396:Y396),{1,2,3,4,5})),X397)","v":17.442274749053318},{"$f":"IF(Z396>0,AVERAGE(SMALL(IF(J396:Z396>0,J396:Z396),{1,2,3,4,5,6})),Y397)","v":17.442274749053318},{"$f":"IF(AA396>0,AVERAGE(SMALL(IF(J396:AA396>0,J396:AA396),{1,2,3,4,5,6})),Z397)","v":17.442274749053318},{"$f":"IF(AB396>0,AVERAGE(SMALL(IF(J396:AB396>0,J396:AB396),{1,2,3,4,5,6,7})),AA397)","v":17.442274749053318},{"$f":"IF(AC396>0,AVERAGE(SMALL(IF(J396:AC396>0,J396:AC396),{1,2,3,4,5,6,7,8})),AB397)","v":17.442274749053318},{"$f":"IF(AD396>0,AVERAGE(SMALL(IF(K396:AD396>0,K396:AD396),{1,2,3,4,5,6,7,8})),AC397)","v":17.442274749053318},{"$f":"IF(AE396>0,AVERAGE(SMALL(IF(L396:AE396>0,L396:AE396),{1,2,3,4,5,6,7,8})),AD397)","v":17.442274749053318},{"$f":"IF(AF396>0,AVERAGE(SMALL(IF(M396:AF396>0,M396:AF396),{1,2,3,4,5,6,7,8})),AE397)","v":17.442274749053318},{"$f":"IF(AG396>0,AVERAGE(SMALL(IF(N396:AG396>0,N396:AG396),{1,2,3,4,5,6,7,8})),AF397)","v":17.442274749053318},{"$f":"IF(AH396>0,AVERAGE(SMALL(IF(O396:AH396>0,O396:AH396),{1,2,3,4,5,6,7,8})),AG397)","v":17.442274749053318},{"$f":"IF(AI396>0,AVERAGE(SMALL(IF(P396:AI396>0,P396:AI396),{1,2,3,4,5,6,7,8})),AH397)","v":17.442274749053318},{"$f":"IF(AJ396>0,AVERAGE(SMALL(IF(Q396:AJ396>0,Q396:AJ396),{1,2,3,4,5,6,7,8})),AI397)","v":17.442274749053318},{"$f":"IF(AK396>0,AVERAGE(SMALL(IF(R396:AK396>0,R396:AK396),{1,2,3,4,5,6,7,8})),AJ397)","v":17.442274749053318},{"$f":"IF(AL396>0,AVERAGE(SMALL(IF(S396:AL396>0,S396:AL396),{1,2,3,4,5,6,7,8})),AK397)","v":17.442274749053318},{"$f":"IF(AM396>0,AVERAGE(SMALL(IF(T396:AM396>0,T396:AM396),{1,2,3,4,5,6,7,8})),AL397)","v":17.442274749053318},{"$f":"IF(AN396>0,AVERAGE(SMALL(IF(U396:AN396>0,U396:AN396),{1,2,3,4,5,6,7,8})),AM397)","v":17.442274749053318},{"$f":"IF(AO396>0,AVERAGE(SMALL(IF(V396:AO396>0,V396:AO396),{1,2,3,4,5,6,7,8})),AN397)","v":17.442274749053318},{"$f":"IF(AP396>0,AVERAGE(SMALL(IF(W396:AP396>0,W396:AP396),{1,2,3,4,5,6,7,8})),AO397)","v":17.442274749053318},{"$f":"IF(AQ396>0,AVERAGE(SMALL(IF(X396:AQ396>0,X396:AQ396),{1,2,3,4,5,6,7,8})),AP397)","v":17.442274749053318},{"$f":"IF(AR396>0,AVERAGE(SMALL(IF(Y396:AR396>0,Y396:AR396),{1,2,3,4,5,6,7,8})),AQ397)","v":17.442274749053318},{"$f":"IF(AS396>0,AVERAGE(SMALL(IF(Z396:AS396>0,Z396:AS396),{1,2,3,4,5,6,7,8})),AR397)","v":17.442274749053318},{"$f":"IF(AT396>0,AVERAGE(SMALL(IF(AA396:AT396>0,AA396:AT396),{1,2,3,4,5,6,7,8})),AS397)","v":17.442274749053318},{"$f":"IF(AU396>0,AVERAGE(SMALL(IF(AB396:AU396>0,AB396:AU396),{1,2,3,4,5,6,7,8})),AT397)","v":17.442274749053318},{"$f":"IF(AV396>0,AVERAGE(SMALL(IF(AC396:AV396>0,AC396:AV396),{1,2,3,4,5,6,7,8})),AU397)","v":17.442274749053318},{"$f":"IF(AW396>0,AVERAGE(SMALL(IF(AD396:AW396>0,AD396:AW396),{1,2,3,4,5,6,7,8})),AV397)","v":17.442274749053318},{"$f":"IF(AX396>0,AVERAGE(SMALL(IF(AE396:AX396>0,AE396:AX396),{1,2,3,4,5,6,7,8})),AW397)","v":17.442274749053318},{"$f":"IF(AY396>0,AVERAGE(SMALL(IF(AF396:AY396>0,AF396:AY396),{1,2,3,4,5,6,7,8})),AX397)","v":17.442274749053318},{"$f":"IF(AZ396>0,AVERAGE(SMALL(IF(AG396:AZ396>0,AG396:AZ396),{1,2,3,4,5,6,7,8})),AY397)","v":17.442274749053318},{"$f":"IF(BA396>0,AVERAGE(SMALL(IF(AH396:BA396>0,AH396:BA396),{1,2,3,4,5,6,7,8})),AZ397)","v":17.442274749053318},{"$f":"IF(BB396>0,AVERAGE(SMALL(IF(AI396:BB396>0,AI396:BB396),{1,2,3,4,5,6,7,8})),BA397)","v":17.442274749053318},{"$f":"IF(BC396>0,AVERAGE(SMALL(IF(AJ396:BC396>0,AJ396:BC396),{1,2,3,4,5,6,7,8})),BB397)","v":17.442274749053318},{"$f":"IF(BD396>0,AVERAGE(SMALL(IF(AK396:BD396>0,AK396:BD396),{1,2,3,4,5,6,7,8})),BC397)","v":17.442274749053318},{"$f":"IF(BE396>0,AVERAGE(SMALL(IF(AL396:BE396>0,AL396:BE396),{1,2,3,4,5,6,7,8})),BD397)","v":17.442274749053318},{"$f":"IF(BF396>0,AVERAGE(SMALL(IF(AM396:BF396>0,AM396:BF396),{1,2,3,4,5,6,7,8})),BE397)","v":17.442274749053318},{"$f":"IF(BG396>0,AVERAGE(SMALL(IF(AN396:BG396>0,AN396:BG396),{1,2,3,4,5,6,7,8})),BF397)","v":17.442274749053318},{"$f":"IF(BH396>0,AVERAGE(SMALL(IF(AO396:BH396>0,AO396:BH396),{1,2,3,4,5,6,7,8})),BG397)","v":17.442274749053318},{"$f":"IF(BI396>0,AVERAGE(SMALL(IF(AP396:BI396>0,AP396:BI396),{1,2,3,4,5,6,7,8})),BH397)","v":17.442274749053318},{"$f":"IF(BJ396>0,AVERAGE(SMALL(IF(AQ396:BJ396>0,AQ396:BJ396),{1,2,3,4,5,6,7,8})),BI397)","v":17.442274749053318},{"$f":"IF(BK396>0,AVERAGE(SMALL(IF(AR396:BK396>0,AR396:BK396),{1,2,3,4,5,6,7,8})),BJ397)","v":17.442274749053318},{"$f":"IF(BL396>0,AVERAGE(SMALL(IF(AS396:BL396>0,AS396:BL396),{1,2,3,4,5,6,7,8})),BK397)","v":17.442274749053318},{"$f":"IF(BM396>0,AVERAGE(SMALL(IF(AT396:BM396>0,AT396:BM396),{1,2,3,4,5,6,7,8})),BL397)","v":17.442274749053318},{"$f":"IF(BN396>0,AVERAGE(SMALL(IF(AU396:BN396>0,AU396:BN396),{1,2,3,4,5,6,7,8})),BM397)","v":17.442274749053318},{"$f":"IF(BO396>0,AVERAGE(SMALL(IF(AV396:BO396>0,AV396:BO396),{1,2,3,4,5,6,7,8})),BN397)","v":17.442274749053318},{"$f":"IF(BP396>0,AVERAGE(SMALL(IF(AW396:BP396>0,AW396:BP396),{1,2,3,4,5,6,7,8})),BO397)","v":17.442274749053318},{"$f":"IF(BQ396>0,AVERAGE(SMALL(IF(AX396:BQ396>0,AX396:BQ396),{1,2,3,4,5,6,7,8})),BP397)","v":17.442274749053318},{"$f":"IF(BR396>0,AVERAGE(SMALL(IF(AY396:BR396>0,AY396:BR396),{1,2,3,4,5,6,7,8})),BQ397)","v":17.442274749053318},{"$f":"IF(BS396>0,AVERAGE(SMALL(IF(AZ396:BS396>0,AZ396:BS396),{1,2,3,4,5,6,7,8})),BR397)","v":17.442274749053318},{"$f":"IF(BT396>0,AVERAGE(SMALL(IF(BA396:BT396>0,BA396:BT396),{1,2,3,4,5,6,7,8})),BS397)","v":17.442274749053318},{"$f":"IF(BU396>0,AVERAGE(SMALL(IF(BB396:BU396>0,BB396:BU396),{1,2,3,4,5,6,7,8})),BT397)","v":17.442274749053318},{"$f":"IF(BV396>0,AVERAGE(SMALL(IF(BC396:BV396>0,BC396:BV396),{1,2,3,4,5,6,7,8})),BU397)","v":17.442274749053318},{"$f":"IF(BW396>0,AVERAGE(SMALL(IF(BD396:BW396>0,BD396:BW396),{1,2,3,4,5,6,7,8})),BV397)","v":17.442274749053318},{"$f":"IF(BX396>0,AVERAGE(SMALL(IF(BE396:BX396>0,BE396:BX396),{1,2,3,4,5,6,7,8})),BW397)","v":17.442274749053318},{"$f":"IF(BY396>0,AVERAGE(SMALL(IF(BF396:BY396>0,BF396:BY396),{1,2,3,4,5,6,7,8})),BX397)","v":17.442274749053318},{"$f":"IF(BZ396>0,AVERAGE(SMALL(IF(BG396:BZ396>0,BG396:BZ396),{1,2,3,4,5,6,7,8})),BY397)","v":17.442274749053318},{"$f":"IF(CA396>0,AVERAGE(SMALL(IF(BH396:CA396>0,BH396:CA396),{1,2,3,4,5,6,7,8})),BZ397)","v":17.442274749053318},{"$f":"IF(CB396>0,AVERAGE(SMALL(IF(BI396:CB396>0,BI396:CB396),{1,2,3,4,5,6,7,8})),CA397)","v":17.442274749053318},{"$f":"IF(CC396>0,AVERAGE(SMALL(IF(BJ396:CC396>0,BJ396:CC396),{1,2,3,4,5,6,7,8})),CB397)","v":17.442274749053318},{"$f":"IF(CD396>0,AVERAGE(SMALL(IF(BK396:CD396>0,BK396:CD396),{1,2,3,4,5,6,7,8})),CC397)","v":17.442274749053318},{"$f":"IF(CE396>0,AVERAGE(SMALL(IF(BL396:CE396>0,BL396:CE396),{1,2,3,4,5,6,7,8})),CD397)","v":17.442274749053318},{"$f":"IF(CF396>0,AVERAGE(SMALL(IF(BM396:CF396>0,BM396:CF396),{1,2,3,4,5,6,7,8})),CE397)","v":17.442274749053318},{"$f":"IF(CG396>0,AVERAGE(SMALL(IF(BN396:CG396>0,BN396:CG396),{1,2,3,4,5,6,7,8})),CF397)","v":17.442274749053318},{"$f":"IF(CH396>0,AVERAGE(SMALL(IF(BO396:CH396>0,BO396:CH396),{1,2,3,4,5,6,7,8})),CG397)","v":17.442274749053318},{"$f":"IF(CI396>0,AVERAGE(SMALL(IF(BP396:CI396>0,BP396:CI396),{1,2,3,4,5,6,7,8})),CH397)","v":17.442274749053318},{"$f":"IF(CJ396>0,AVERAGE(SMALL(IF(BQ396:CJ396>0,BQ396:CJ396),{1,2,3,4,5,6,7,8})),CI397)","v":17.442274749053318},{"$f":"IF(CK396>0,AVERAGE(SMALL(IF(BR396:CK396>0,BR396:CK396),{1,2,3,4,5,6,7,8})),CJ397)","v":17.442274749053318},{"$f":"IF(CL396>0,AVERAGE(SMALL(IF(BS396:CL396>0,BS396:CL396),{1,2,3,4,5,6,7,8})),CK397)","v":17.442274749053318},{"$f":"IF(CM396>0,AVERAGE(SMALL(IF(BT396:CM396>0,BT396:CM396),{1,2,3,4,5,6,7,8})),CL397)","v":17.442274749053318},{"$f":"IF(CN396>0,AVERAGE(SMALL(IF(BU396:CN396>0,BU396:CN396),{1,2,3,4,5,6,7,8})),CM397)","v":17.442274749053318},{"$f":"IF(CO396>0,AVERAGE(SMALL(IF(BV396:CO396>0,BV396:CO396),{1,2,3,4,5,6,7,8})),CN397)","v":17.442274749053318},{"$f":"IF(CP396>0,AVERAGE(SMALL(IF(BW396:CP396>0,BW396:CP396),{1,2,3,4,5,6,7,8})),CO397)","v":17.442274749053318},{"$f":"IF(CQ396>0,AVERAGE(SMALL(IF(BX396:CQ396>0,BX396:CQ396),{1,2,3,4,5,6,7,8})),CP397)","v":17.442274749053318},{"$f":"IF(CR396>0,AVERAGE(SMALL(IF(BY396:CR396>0,BY396:CR396),{1,2,3,4,5,6,7,8})),CQ397)","v":17.442274749053318},{"$f":"IF(CS396>0,AVERAGE(SMALL(IF(BZ396:CS396>0,BZ396:CS396),{1,2,3,4,5,6,7,8})),CR397)","v":17.442274749053318},{"$f":"IF(CT396>0,AVERAGE(SMALL(IF(CA396:CT396>0,CA396:CT396),{1,2,3,4,5,6,7,8})),CS397)","v":17.442274749053318},{"$f":"IF(CU396>0,AVERAGE(SMALL(IF(CB396:CU396>0,CB396:CU396),{1,2,3,4,5,6,7,8})),CT397)","v":17.442274749053318},{"$f":"IF(CV396>0,AVERAGE(SMALL(IF(CC396:CV396>0,CC396:CV396),{1,2,3,4,5,6,7,8})),CU397)","v":17.442274749053318},{"$f":"IF(CW396>0,AVERAGE(SMALL(IF(CD396:CW396>0,CD396:CW396),{1,2,3,4,5,6,7,8})),CV397)","v":17.442274749053318}]
[null,null,null,null,null,null,null,null,"Low Hcap",null,null,null,null,null,null,null,null,null,null,null,null,null,null,null,null,null,null,null,{"$f":"MIN($J397:AC397)","v":16.3},{"$f":"MIN($J397:AD397)","v":16.3},{"$f":"MIN($J397:AE397)","v":16.3},{"$f":"MIN($J397:AF397)","v":16.3},{"$f":"MIN($J397:AG397)","v":16.3},{"$f":"MIN($J397:AH397)","v":16.3},{"$f":"MIN($J397:AI397)","v":16.3},{"$f":"MIN($J397:AJ397)","v":16.3},{"$f":"MIN($J397:AK397)","v":16.3},{"$f":"MIN($J397:AL397)","v":16.3},{"$f":"MIN($J397:AM397)","v":16.3},{"$f":"MIN($J397:AN397)","v":16.3},{"$f":"MIN($J397:AO397)","v":16.3},{"$f":"MIN($J397:AP397)","v":16.3},{"$f":"MIN($J397:AQ397)","v":16.3},{"$f":"MIN($J397:AR397)","v":16.3},{"$f":"MIN($J397:AS397)","v":16.3},{"$f":"MIN($J397:AT397)","v":16.3},{"$f":"MIN($J397:AU397)","v":16.3},{"$f":"MIN($J397:AV397)","v":16.3},{"$f":"MIN($J397:AW397)","v":16.3},{"$f":"MIN($J397:AX397)","v":16.3},{"$f":"MIN($J397:AY397)","v":16.3},{"$f":"MIN($J397:AZ397)","v":16.3},{"$f":"MIN($J397:BA397)","v":16.3},{"$f":"MIN($J397:BB397)","v":16.3},{"$f":"MIN($J397:BC397)","v":16.3},{"$f":"MIN($J397:BD397)","v":16.3},{"$f":"MIN($J397:BE397)","v":16.3},{"$f":"MIN($J397:BF397)","v":16.3},{"$f":"MIN($J397:BG397)","v":16.3},{"$f":"MIN($J397:BH397)","v":16.3},{"$f":"MIN($J397:BI397)","v":16.3},{"$f":"MIN($J397:BJ397)","v":16.3},{"$f":"MIN($J397:BK397)","v":16.3},{"$f":"MIN($J397:BL397)","v":16.3},{"$f":"MIN($J397:BM397)","v":16.3},{"$f":"MIN($J397:BN397)","v":16.3},{"$f":"MIN($J397:BO397)","v":16.3},{"$f":"MIN($J397:BP397)","v":16.3},{"$f":"MIN($J397:BQ397)","v":16.3},{"$f":"MIN($J397:BR397)","v":16.3},{"$f":"MIN($J397:BS397)","v":16.3},{"$f":"MIN($J397:BT397)","v":16.3},{"$f":"MIN($J397:BU397)","v":16.3},{"$f":"MIN($J397:BV397)","v":16.3},{"$f":"MIN($J397:BW397)","v":16.3},{"$f":"MIN($J397:BX397)","v":16.3},{"$f":"MIN($J397:BY397)","v":16.3},{"$f":"MIN($J397:BZ397)","v":16.3},{"$f":"MIN($J397:CA397)","v":16.3},{"$f":"MIN($J397:CB397)","v":16.3},{"$f":"MIN($J397:CC397)","v":16.3},{"$f":"MIN($J397:CD397)","v":16.3},{"$f":"MIN($J397:CE397)","v":16.3},{"$f":"MIN($J397:CF397)","v":16.3},{"$f":"MIN($J397:CG397)","v":16.3},{"$f":"MIN($J397:CH397)","v":16.3},{"$f":"MIN($J397:CI397)","v":16.3},{"$f":"MIN($J397:CJ397)","v":16.3},{"$f":"MIN($J397:CK397)","v":16.3},{"$f":"MIN($J397:CL397)","v":16.3},{"$f":"MIN($J397:CM397)","v":16.3},{"$f":"MIN($J397:CN397)","v":16.3},{"$f":"MIN($J397:CO397)","v":16.3},{"$f":"MIN($J397:CP397)","v":16.3},{"$f":"MIN($J397:CQ397)","v":16.3},{"$f":"MIN($J397:CR397)","v":16.3},{"$f":"MIN($J397:CS397)","v":16.3},{"$f":"MIN($J397:CT397)","v":16.3},{"$f":"MIN($J397:CU397)","v":16.3},{"$f":"MIN($J397:CV397)","v":16.3},{"$f":"MIN($J397:CW397)","v":16.3}]
[null,"Niklas","Martina",26,null,{"$f":"IF(H399<4,\"Y\",)","v":0},2021,{"$f":"COUNT(J399:CX399)","v":5},"Date",null,"2021-06-19","2021-07-16","2021-08-27","2022-08-26","2022-09-11",null,null,null,null,null,null,null,null,null,null,null,null,null,null,null,null,null,null,null,null,null,null,null,null,null,null,null,null,null,null,null,null,null,null,null,null,null,null,null,null,null,null,null,null,null,null,null,null,null,null,null,null,null,null,null,null,null,null,null,null,null,null,null,null,null,null,null,null,null,null,null,null,null,null,null,null,null,null,null,null,null,null,null,null,null,null,null,{"$f":"IF(CW403>$DD$1,36,CW403)","v":31.441338582677162},31.441338582677162,{"$f":"CZ399-CY399","v":0}]
[null,null,null,null,null,null,null,null,"Course",null,"TegernbachDR","MaxlrainDR","AschheimDR","EschenhofDR","Pfaffing2022DR"]
[null,null,null,null,null,null,null,null,"Ad Gr",null,118,127,118,125,118]
[null,null,null,null,null,null,null,null,"SD",{"$f":"D399","v":26},{"$f":"IF(K401=\"\",0,(K401-INDIRECT(CONCATENATE(K400,\"CR\")))*113/INDIRECT(CONCATENATE(K400,\"SR\")))","v":39.681395348837206},44.600757575757569,39.76899224806202,44.251145038167934,38.88267716535433,0,0,0,0,0,0,0,0,0,0,0,0,0,0,0,0,0,0,0,0,0,0,0,0,0,0,0,0,0,0,0,0,0,0,0,0,0,0,0,0,0,0,0,0,0,0,0,0,0,0,0,0,0,0,0,0,0,0,0,{"$f":"IF(BW401=\"\",0,(BW401-INDIRECT(CONCATENATE(BW400,\"CR\")))*113/INDIRECT(CONCATENATE(BW400,\"SR\")))","v":0},0,0,0,0,0,0,0,0,0,0,0,0,0,0,0,{"$f":"IF(CM401=\"\",0,(CM401-INDIRECT(CONCATENATE(CM400,\"CR\")))*113/INDIRECT(CONCATENATE(CM400,\"SR\")))","v":0},0,{"$f":"IF(CO401=\"\",0,(CO401-INDIRECT(CONCATENATE(CO400,\"CR\")))*113/INDIRECT(CONCATENATE(CO400,\"SR\")))","v":0},0,{"$f":"IF(CQ401=\"\",0,(CQ401-INDIRECT(CONCATENATE(CQ400,\"CR\")))*113/INDIRECT(CONCATENATE(CQ400,\"SR\")))","v":0},0,{"$f":"IF(CS401=\"\",0,(CS401-INDIRECT(CONCATENATE(CS400,\"CR\")))*113/INDIRECT(CONCATENATE(CS400,\"SR\")))","v":0},0,{"$f":"IF(CU401=\"\",0,(CU401-INDIRECT(CONCATENATE(CU400,\"CR\")))*113/INDIRECT(CONCATENATE(CU400,\"SR\")))","v":0},0,{"$f":"IF(CW401=\"\",0,(CW401-INDIRECT(CONCATENATE(CW400,\"CR\")))*113/INDIRECT(CONCATENATE(CW400,\"SR\")))","v":0}]
[null,null,null,null,null,null,null,null,"New Hcap",{"$f":"J402-2","v":24},{"$f":"IF(K402>0,MIN(J402:K402)-2,J403)","v":24},{"$f":"IF(L402>0,MIN(J402:L402)-2,K403)","v":24},{"$f":"IF(M402>0,MIN(J402:M402)-1,L403)","v":25},{"$f":"IF(N402>0,MIN(J402:N402),M403)","v":26},{"$f":"IF(O402>0,AVERAGE(SMALL(IF(J402:O402>0,J402:O402),{1,2}))-1,N403)","v":31.441338582677162},{"$f":"IF(P402>0,AVERAGE(SMALL(IF(J402:P402>0,J402:P402),{1,2})),O403)","v":31.441338582677162},{"$f":"IF(Q402>0,AVERAGE(SMALL(IF(J402:Q402>0,J402:Q402),{1,2})),P403)","v":31.441338582677162},{"$f":"IF(R402>0,AVERAGE(SMALL(IF(J402:R402>0,J402:R402),{1,2,3})),Q403)","v":31.441338582677162},{"$f":"IF(S402>0,AVERAGE(SMALL(IF(J402:S402>0,J402:S402),{1,2,3})),R403)","v":31.441338582677162},{"$f":"IF(T402>0,AVERAGE(SMALL(IF(J402:T402>0,J402:T402),{1,2,3})),S403)","v":31.441338582677162},{"$f":"IF(U402>0,AVERAGE(SMALL(IF(J402:U402>0,J402:U402),{1,2,3,4})),T403)","v":31.441338582677162},{"$f":"IF(V402>0,AVERAGE(SMALL(IF(J402:V402>0,J402:V402),{1,2,3,4})),U403)","v":31.441338582677162},{"$f":"IF(W402>0,AVERAGE(SMALL(IF(J402:W402>0,J402:W402),{1,2,3,4})),V403)","v":31.441338582677162},{"$f":"IF(X402>0,AVERAGE(SMALL(IF(J402:X402>0,J402:X402),{1,2,3,4,5})),W403)","v":31.441338582677162},{"$f":"IF(Y402>0,AVERAGE(SMALL(IF(J402:Y402>0,J402:Y402),{1,2,3,4,5})),X403)","v":31.441338582677162},{"$f":"IF(Z402>0,AVERAGE(SMALL(IF(J402:Z402>0,J402:Z402),{1,2,3,4,5,6})),Y403)","v":31.441338582677162},{"$f":"IF(AA402>0,AVERAGE(SMALL(IF(J402:AA402>0,J402:AA402),{1,2,3,4,5,6})),Z403)","v":31.441338582677162},{"$f":"IF(AB402>0,AVERAGE(SMALL(IF(J402:AB402>0,J402:AB402),{1,2,3,4,5,6,7})),AA403)","v":31.441338582677162},{"$f":"IF(AC402>0,AVERAGE(SMALL(IF(J402:AC402>0,J402:AC402),{1,2,3,4,5,6,7,8})),AB403)","v":31.441338582677162},{"$f":"IF(AD402>0,AVERAGE(SMALL(IF(K402:AD402>0,K402:AD402),{1,2,3,4,5,6,7,8})),AC403)","v":31.441338582677162},{"$f":"IF(AE402>0,AVERAGE(SMALL(IF(L402:AE402>0,L402:AE402),{1,2,3,4,5,6,7,8})),AD403)","v":31.441338582677162},{"$f":"IF(AF402>0,AVERAGE(SMALL(IF(M402:AF402>0,M402:AF402),{1,2,3,4,5,6,7,8})),AE403)","v":31.441338582677162},{"$f":"IF(AG402>0,AVERAGE(SMALL(IF(N402:AG402>0,N402:AG402),{1,2,3,4,5,6,7,8})),AF403)","v":31.441338582677162},{"$f":"IF(AH402>0,AVERAGE(SMALL(IF(O402:AH402>0,O402:AH402),{1,2,3,4,5,6,7,8})),AG403)","v":31.441338582677162},{"$f":"IF(AI402>0,AVERAGE(SMALL(IF(P402:AI402>0,P402:AI402),{1,2,3,4,5,6,7,8})),AH403)","v":31.441338582677162},{"$f":"IF(AJ402>0,AVERAGE(SMALL(IF(Q402:AJ402>0,Q402:AJ402),{1,2,3,4,5,6,7,8})),AI403)","v":31.441338582677162},{"$f":"IF(AK402>0,AVERAGE(SMALL(IF(R402:AK402>0,R402:AK402),{1,2,3,4,5,6,7,8})),AJ403)","v":31.441338582677162},{"$f":"IF(AL402>0,AVERAGE(SMALL(IF(S402:AL402>0,S402:AL402),{1,2,3,4,5,6,7,8})),AK403)","v":31.441338582677162},{"$f":"IF(AM402>0,AVERAGE(SMALL(IF(T402:AM402>0,T402:AM402),{1,2,3,4,5,6,7,8})),AL403)","v":31.441338582677162},{"$f":"IF(AN402>0,AVERAGE(SMALL(IF(U402:AN402>0,U402:AN402),{1,2,3,4,5,6,7,8})),AM403)","v":31.441338582677162},{"$f":"IF(AO402>0,AVERAGE(SMALL(IF(V402:AO402>0,V402:AO402),{1,2,3,4,5,6,7,8})),AN403)","v":31.441338582677162},{"$f":"IF(AP402>0,AVERAGE(SMALL(IF(W402:AP402>0,W402:AP402),{1,2,3,4,5,6,7,8})),AO403)","v":31.441338582677162},{"$f":"IF(AQ402>0,AVERAGE(SMALL(IF(X402:AQ402>0,X402:AQ402),{1,2,3,4,5,6,7,8})),AP403)","v":31.441338582677162},{"$f":"IF(AR402>0,AVERAGE(SMALL(IF(Y402:AR402>0,Y402:AR402),{1,2,3,4,5,6,7,8})),AQ403)","v":31.441338582677162},{"$f":"IF(AS402>0,AVERAGE(SMALL(IF(Z402:AS402>0,Z402:AS402),{1,2,3,4,5,6,7,8})),AR403)","v":31.441338582677162},{"$f":"IF(AT402>0,AVERAGE(SMALL(IF(AA402:AT402>0,AA402:AT402),{1,2,3,4,5,6,7,8})),AS403)","v":31.441338582677162},{"$f":"IF(AU402>0,AVERAGE(SMALL(IF(AB402:AU402>0,AB402:AU402),{1,2,3,4,5,6,7,8})),AT403)","v":31.441338582677162},{"$f":"IF(AV402>0,AVERAGE(SMALL(IF(AC402:AV402>0,AC402:AV402),{1,2,3,4,5,6,7,8})),AU403)","v":31.441338582677162},{"$f":"IF(AW402>0,AVERAGE(SMALL(IF(AD402:AW402>0,AD402:AW402),{1,2,3,4,5,6,7,8})),AV403)","v":31.441338582677162},{"$f":"IF(AX402>0,AVERAGE(SMALL(IF(AE402:AX402>0,AE402:AX402),{1,2,3,4,5,6,7,8})),AW403)","v":31.441338582677162},{"$f":"IF(AY402>0,AVERAGE(SMALL(IF(AF402:AY402>0,AF402:AY402),{1,2,3,4,5,6,7,8})),AX403)","v":31.441338582677162},{"$f":"IF(AZ402>0,AVERAGE(SMALL(IF(AG402:AZ402>0,AG402:AZ402),{1,2,3,4,5,6,7,8})),AY403)","v":31.441338582677162},{"$f":"IF(BA402>0,AVERAGE(SMALL(IF(AH402:BA402>0,AH402:BA402),{1,2,3,4,5,6,7,8})),AZ403)","v":31.441338582677162},{"$f":"IF(BB402>0,AVERAGE(SMALL(IF(AI402:BB402>0,AI402:BB402),{1,2,3,4,5,6,7,8})),BA403)","v":31.441338582677162},{"$f":"IF(BC402>0,AVERAGE(SMALL(IF(AJ402:BC402>0,AJ402:BC402),{1,2,3,4,5,6,7,8})),BB403)","v":31.441338582677162},{"$f":"IF(BD402>0,AVERAGE(SMALL(IF(AK402:BD402>0,AK402:BD402),{1,2,3,4,5,6,7,8})),BC403)","v":31.441338582677162},{"$f":"IF(BE402>0,AVERAGE(SMALL(IF(AL402:BE402>0,AL402:BE402),{1,2,3,4,5,6,7,8})),BD403)","v":31.441338582677162},{"$f":"IF(BF402>0,AVERAGE(SMALL(IF(AM402:BF402>0,AM402:BF402),{1,2,3,4,5,6,7,8})),BE403)","v":31.441338582677162},{"$f":"IF(BG402>0,AVERAGE(SMALL(IF(AN402:BG402>0,AN402:BG402),{1,2,3,4,5,6,7,8})),BF403)","v":31.441338582677162},{"$f":"IF(BH402>0,AVERAGE(SMALL(IF(AO402:BH402>0,AO402:BH402),{1,2,3,4,5,6,7,8})),BG403)","v":31.441338582677162},{"$f":"IF(BI402>0,AVERAGE(SMALL(IF(AP402:BI402>0,AP402:BI402),{1,2,3,4,5,6,7,8})),BH403)","v":31.441338582677162},{"$f":"IF(BJ402>0,AVERAGE(SMALL(IF(AQ402:BJ402>0,AQ402:BJ402),{1,2,3,4,5,6,7,8})),BI403)","v":31.441338582677162},{"$f":"IF(BK402>0,AVERAGE(SMALL(IF(AR402:BK402>0,AR402:BK402),{1,2,3,4,5,6,7,8})),BJ403)","v":31.441338582677162},{"$f":"IF(BL402>0,AVERAGE(SMALL(IF(AS402:BL402>0,AS402:BL402),{1,2,3,4,5,6,7,8})),BK403)","v":31.441338582677162},{"$f":"IF(BM402>0,AVERAGE(SMALL(IF(AT402:BM402>0,AT402:BM402),{1,2,3,4,5,6,7,8})),BL403)","v":31.441338582677162},{"$f":"IF(BN402>0,AVERAGE(SMALL(IF(AU402:BN402>0,AU402:BN402),{1,2,3,4,5,6,7,8})),BM403)","v":31.441338582677162},{"$f":"IF(BO402>0,AVERAGE(SMALL(IF(AV402:BO402>0,AV402:BO402),{1,2,3,4,5,6,7,8})),BN403)","v":31.441338582677162},{"$f":"IF(BP402>0,AVERAGE(SMALL(IF(AW402:BP402>0,AW402:BP402),{1,2,3,4,5,6,7,8})),BO403)","v":31.441338582677162},{"$f":"IF(BQ402>0,AVERAGE(SMALL(IF(AX402:BQ402>0,AX402:BQ402),{1,2,3,4,5,6,7,8})),BP403)","v":31.441338582677162},{"$f":"IF(BR402>0,AVERAGE(SMALL(IF(AY402:BR402>0,AY402:BR402),{1,2,3,4,5,6,7,8})),BQ403)","v":31.441338582677162},{"$f":"IF(BS402>0,AVERAGE(SMALL(IF(AZ402:BS402>0,AZ402:BS402),{1,2,3,4,5,6,7,8})),BR403)","v":31.441338582677162},{"$f":"IF(BT402>0,AVERAGE(SMALL(IF(BA402:BT402>0,BA402:BT402),{1,2,3,4,5,6,7,8})),BS403)","v":31.441338582677162},{"$f":"IF(BU402>0,AVERAGE(SMALL(IF(BB402:BU402>0,BB402:BU402),{1,2,3,4,5,6,7,8})),BT403)","v":31.441338582677162},{"$f":"IF(BV402>0,AVERAGE(SMALL(IF(BC402:BV402>0,BC402:BV402),{1,2,3,4,5,6,7,8})),BU403)","v":31.441338582677162},{"$f":"IF(BW402>0,AVERAGE(SMALL(IF(BD402:BW402>0,BD402:BW402),{1,2,3,4,5,6,7,8})),BV403)","v":31.441338582677162},{"$f":"IF(BX402>0,AVERAGE(SMALL(IF(BE402:BX402>0,BE402:BX402),{1,2,3,4,5,6,7,8})),BW403)","v":31.441338582677162},{"$f":"IF(BY402>0,AVERAGE(SMALL(IF(BF402:BY402>0,BF402:BY402),{1,2,3,4,5,6,7,8})),BX403)","v":31.441338582677162},{"$f":"IF(BZ402>0,AVERAGE(SMALL(IF(BG402:BZ402>0,BG402:BZ402),{1,2,3,4,5,6,7,8})),BY403)","v":31.441338582677162},{"$f":"IF(CA402>0,AVERAGE(SMALL(IF(BH402:CA402>0,BH402:CA402),{1,2,3,4,5,6,7,8})),BZ403)","v":31.441338582677162},{"$f":"IF(CB402>0,AVERAGE(SMALL(IF(BI402:CB402>0,BI402:CB402),{1,2,3,4,5,6,7,8})),CA403)","v":31.441338582677162},{"$f":"IF(CC402>0,AVERAGE(SMALL(IF(BJ402:CC402>0,BJ402:CC402),{1,2,3,4,5,6,7,8})),CB403)","v":31.441338582677162},{"$f":"IF(CD402>0,AVERAGE(SMALL(IF(BK402:CD402>0,BK402:CD402),{1,2,3,4,5,6,7,8})),CC403)","v":31.441338582677162},{"$f":"IF(CE402>0,AVERAGE(SMALL(IF(BL402:CE402>0,BL402:CE402),{1,2,3,4,5,6,7,8})),CD403)","v":31.441338582677162},{"$f":"IF(CF402>0,AVERAGE(SMALL(IF(BM402:CF402>0,BM402:CF402),{1,2,3,4,5,6,7,8})),CE403)","v":31.441338582677162},{"$f":"IF(CG402>0,AVERAGE(SMALL(IF(BN402:CG402>0,BN402:CG402),{1,2,3,4,5,6,7,8})),CF403)","v":31.441338582677162},{"$f":"IF(CH402>0,AVERAGE(SMALL(IF(BO402:CH402>0,BO402:CH402),{1,2,3,4,5,6,7,8})),CG403)","v":31.441338582677162},{"$f":"IF(CI402>0,AVERAGE(SMALL(IF(BP402:CI402>0,BP402:CI402),{1,2,3,4,5,6,7,8})),CH403)","v":31.441338582677162},{"$f":"IF(CJ402>0,AVERAGE(SMALL(IF(BQ402:CJ402>0,BQ402:CJ402),{1,2,3,4,5,6,7,8})),CI403)","v":31.441338582677162},{"$f":"IF(CK402>0,AVERAGE(SMALL(IF(BR402:CK402>0,BR402:CK402),{1,2,3,4,5,6,7,8})),CJ403)","v":31.441338582677162},{"$f":"IF(CL402>0,AVERAGE(SMALL(IF(BS402:CL402>0,BS402:CL402),{1,2,3,4,5,6,7,8})),CK403)","v":31.441338582677162},{"$f":"IF(CM402>0,AVERAGE(SMALL(IF(BT402:CM402>0,BT402:CM402),{1,2,3,4,5,6,7,8})),CL403)","v":31.441338582677162},{"$f":"IF(CN402>0,AVERAGE(SMALL(IF(BU402:CN402>0,BU402:CN402),{1,2,3,4,5,6,7,8})),CM403)","v":31.441338582677162},{"$f":"IF(CO402>0,AVERAGE(SMALL(IF(BV402:CO402>0,BV402:CO402),{1,2,3,4,5,6,7,8})),CN403)","v":31.441338582677162},{"$f":"IF(CP402>0,AVERAGE(SMALL(IF(BW402:CP402>0,BW402:CP402),{1,2,3,4,5,6,7,8})),CO403)","v":31.441338582677162},{"$f":"IF(CQ402>0,AVERAGE(SMALL(IF(BX402:CQ402>0,BX402:CQ402),{1,2,3,4,5,6,7,8})),CP403)","v":31.441338582677162},{"$f":"IF(CR402>0,AVERAGE(SMALL(IF(BY402:CR402>0,BY402:CR402),{1,2,3,4,5,6,7,8})),CQ403)","v":31.441338582677162},{"$f":"IF(CS402>0,AVERAGE(SMALL(IF(BZ402:CS402>0,BZ402:CS402),{1,2,3,4,5,6,7,8})),CR403)","v":31.441338582677162},{"$f":"IF(CT402>0,AVERAGE(SMALL(IF(CA402:CT402>0,CA402:CT402),{1,2,3,4,5,6,7,8})),CS403)","v":31.441338582677162},{"$f":"IF(CU402>0,AVERAGE(SMALL(IF(CB402:CU402>0,CB402:CU402),{1,2,3,4,5,6,7,8})),CT403)","v":31.441338582677162},{"$f":"IF(CV402>0,AVERAGE(SMALL(IF(CC402:CV402>0,CC402:CV402),{1,2,3,4,5,6,7,8})),CU403)","v":31.441338582677162},{"$f":"IF(CW402>0,AVERAGE(SMALL(IF(CD402:CW402>0,CD402:CW402),{1,2,3,4,5,6,7,8})),CV403)","v":31.441338582677162}]
[null,null,null,null,null,null,null,null,"Low Hcap",null,null,null,null,null,null,null,null,null,null,null,null,null,null,null,null,null,null,null,{"$f":"MIN($J403:AC403)","v":24},{"$f":"MIN($J403:AD403)","v":24},{"$f":"MIN($J403:AE403)","v":24},{"$f":"MIN($J403:AF403)","v":24},{"$f":"MIN($J403:AG403)","v":24},{"$f":"MIN($J403:AH403)","v":24},{"$f":"MIN($J403:AI403)","v":24},{"$f":"MIN($J403:AJ403)","v":24},{"$f":"MIN($J403:AK403)","v":24},{"$f":"MIN($J403:AL403)","v":24},{"$f":"MIN($J403:AM403)","v":24},{"$f":"MIN($J403:AN403)","v":24},{"$f":"MIN($J403:AO403)","v":24},{"$f":"MIN($J403:AP403)","v":24},{"$f":"MIN($J403:AQ403)","v":24},{"$f":"MIN($J403:AR403)","v":24},{"$f":"MIN($J403:AS403)","v":24},{"$f":"MIN($J403:AT403)","v":24},{"$f":"MIN($J403:AU403)","v":24},{"$f":"MIN($J403:AV403)","v":24},{"$f":"MIN($J403:AW403)","v":24},{"$f":"MIN($J403:AX403)","v":24},{"$f":"MIN($J403:AY403)","v":24},{"$f":"MIN($J403:AZ403)","v":24},{"$f":"MIN($J403:BA403)","v":24},{"$f":"MIN($J403:BB403)","v":24},{"$f":"MIN($J403:BC403)","v":24},{"$f":"MIN($J403:BD403)","v":24},{"$f":"MIN($J403:BE403)","v":24},{"$f":"MIN($J403:BF403)","v":24},{"$f":"MIN($J403:BG403)","v":24},{"$f":"MIN($J403:BH403)","v":24},{"$f":"MIN($J403:BI403)","v":24},{"$f":"MIN($J403:BJ403)","v":24},{"$f":"MIN($J403:BK403)","v":24},{"$f":"MIN($J403:BL403)","v":24},{"$f":"MIN($J403:BM403)","v":24},{"$f":"MIN($J403:BN403)","v":24},{"$f":"MIN($J403:BO403)","v":24},{"$f":"MIN($J403:BP403)","v":24},{"$f":"MIN($J403:BQ403)","v":24},{"$f":"MIN($J403:BR403)","v":24},{"$f":"MIN($J403:BS403)","v":24},{"$f":"MIN($J403:BT403)","v":24},{"$f":"MIN($J403:BU403)","v":24},{"$f":"MIN($J403:BV403)","v":24},{"$f":"MIN($J403:BW403)","v":24},{"$f":"MIN($J403:BX403)","v":24},{"$f":"MIN($J403:BY403)","v":24},{"$f":"MIN($J403:BZ403)","v":24},{"$f":"MIN($J403:CA403)","v":24},{"$f":"MIN($J403:CB403)","v":24},{"$f":"MIN($J403:CC403)","v":24},{"$f":"MIN($J403:CD403)","v":24},{"$f":"MIN($J403:CE403)","v":24},{"$f":"MIN($J403:CF403)","v":24},{"$f":"MIN($J403:CG403)","v":24},{"$f":"MIN($J403:CH403)","v":24},{"$f":"MIN($J403:CI403)","v":24},{"$f":"MIN($J403:CJ403)","v":24},{"$f":"MIN($J403:CK403)","v":24},{"$f":"MIN($J403:CL403)","v":24},{"$f":"MIN($J403:CM403)","v":24},{"$f":"MIN($J403:CN403)","v":24},{"$f":"MIN($J403:CO403)","v":24},{"$f":"MIN($J403:CP403)","v":24},{"$f":"MIN($J403:CQ403)","v":24},{"$f":"MIN($J403:CR403)","v":24},{"$f":"MIN($J403:CS403)","v":24},{"$f":"MIN($J403:CT403)","v":24},{"$f":"MIN($J403:CU403)","v":24},{"$f":"MIN($J403:CV403)","v":24},{"$f":"MIN($J403:CW403)","v":24}]
[null,"O'Reilly","Derek",16.899999999999999,null,{"$f":"IF(H405<4,\"Y\",)","v":0},2022,{"$f":"COUNT(J405:CX405)","v":9},"Date",null,"2022-11-18","2023-01-08","2023-03-05","2023-03-26","2023-04-02","2023-04-14","2023-05-10","2023-05-19","2023-06-09",null,null,null,null,null,null,null,null,null,null,null,null,null,null,null,null,null,null,null,null,null,null,null,null,null,null,null,null,null,null,null,null,null,null,null,null,null,null,null,null,null,null,null,null,null,null,null,null,null,null,null,null,null,null,null,null,null,null,null,null,null,null,null,null,null,null,null,null,null,null,null,null,null,null,null,null,null,null,null,null,null,null,null,{"$f":"IF(CW409>$DD$1,36,CW409)","v":12.715353535353531},16.899999999999999,{"$f":"CZ405-CY405","v":4.1846464646464678}]
[null,null,null,null,null,null,null,null,"Course",null,"TegernbachHG","TegernbachHG","TegernbachHG","Pfaffing2023HG","ErdingHG","TegernbachHG","AschheimHG","GarmischHG","TegernbachHG"]
[null,null,null,null,null,null,null,null,"Ad Gr",null,97,86,98,88,96,87,101,95,92]
[null,null,null,null,null,null,null,null,"SD",18.899999999999999,{"$f":"IF(K407=\"\",0,(K407-INDIRECT(CONCATENATE(K406,\"CR\")))*113/INDIRECT(CONCATENATE(K406,\"SR\")))","v":21.658333333333331},12.241666666666664,22.514393939393937,12.806666666666663,21.73076923076923,13.097727272727269,25.425000000000004,20.998425196850388,17.3780303030303,0,0,0,0,0,0,0,0,0,0,0,0,0,0,0,0,0,0,0,0,0,0,0,0,0,0,0,0,0,0,0,0,0,0,0,0,0,0,0,0,0,0,0,0,0,0,0,0,0,0,0,0,0,0,0,{"$f":"IF(BW407=\"\",0,(BW407-INDIRECT(CONCATENATE(BW406,\"CR\")))*113/INDIRECT(CONCATENATE(BW406,\"SR\")))","v":0},0,0,0,0,0,0,0,0,0,0,0,0,0,0,0,{"$f":"IF(CM407=\"\",0,(CM407-INDIRECT(CONCATENATE(CM406,\"CR\")))*113/INDIRECT(CONCATENATE(CM406,\"SR\")))","v":0},0,{"$f":"IF(CO407=\"\",0,(CO407-INDIRECT(CONCATENATE(CO406,\"CR\")))*113/INDIRECT(CONCATENATE(CO406,\"SR\")))","v":0},0,{"$f":"IF(CQ407=\"\",0,(CQ407-INDIRECT(CONCATENATE(CQ406,\"CR\")))*113/INDIRECT(CONCATENATE(CQ406,\"SR\")))","v":0},0,{"$f":"IF(CS407=\"\",0,(CS407-INDIRECT(CONCATENATE(CS406,\"CR\")))*113/INDIRECT(CONCATENATE(CS406,\"SR\")))","v":0},0,{"$f":"IF(CU407=\"\",0,(CU407-INDIRECT(CONCATENATE(CU406,\"CR\")))*113/INDIRECT(CONCATENATE(CU406,\"SR\")))","v":0},0,{"$f":"IF(CW407=\"\",0,(CW407-INDIRECT(CONCATENATE(CW406,\"CR\")))*113/INDIRECT(CONCATENATE(CW406,\"SR\")))","v":0}]
[null,null,null,null,null,null,null,null,"New Hcap",{"$f":"J408-2","v":16.899999999999999},{"$f":"IF(K408>0,MIN(J408:K408)-2,J409)","v":16.899999999999999},{"$f":"IF(L408>0,MIN(J408:L408)-2,K409)","v":10.241666666666664},{"$f":"IF(M408>0,MIN(J408:M408)-1,L409)","v":11.241666666666664},{"$f":"IF(N408>0,MIN(J408:N408),M409)","v":12.241666666666664},{"$f":"IF(O408>0,AVERAGE(SMALL(IF(J408:O408>0,J408:O408),{1,2}))-1,N409)","v":11.524166666666662},{"$f":"IF(P408>0,AVERAGE(SMALL(IF(J408:P408>0,J408:P408),{1,2})),O409)","v":12.524166666666662},{"$f":"IF(Q408>0,AVERAGE(SMALL(IF(J408:Q408>0,J408:Q408),{1,2})),P409)","v":12.524166666666662},{"$f":"IF(R408>0,AVERAGE(SMALL(IF(J408:R408>0,J408:R408),{1,2,3})),Q409)","v":12.715353535353531},{"$f":"IF(S408>0,AVERAGE(SMALL(IF(J408:S408>0,J408:S408),{1,2,3})),R409)","v":12.715353535353531},{"$f":"IF(T408>0,AVERAGE(SMALL(IF(J408:T408>0,J408:T408),{1,2,3})),S409)","v":12.715353535353531},{"$f":"IF(U408>0,AVERAGE(SMALL(IF(J408:U408>0,J408:U408),{1,2,3,4})),T409)","v":12.715353535353531},{"$f":"IF(V408>0,AVERAGE(SMALL(IF(J408:V408>0,J408:V408),{1,2,3,4})),U409)","v":12.715353535353531},{"$f":"IF(W408>0,AVERAGE(SMALL(IF(J408:W408>0,J408:W408),{1,2,3,4})),V409)","v":12.715353535353531},{"$f":"IF(X408>0,AVERAGE(SMALL(IF(J408:X408>0,J408:X408),{1,2,3,4,5})),W409)","v":12.715353535353531},{"$f":"IF(Y408>0,AVERAGE(SMALL(IF(J408:Y408>0,J408:Y408),{1,2,3,4,5})),X409)","v":12.715353535353531},{"$f":"IF(Z408>0,AVERAGE(SMALL(IF(J408:Z408>0,J408:Z408),{1,2,3,4,5,6})),Y409)","v":12.715353535353531},{"$f":"IF(AA408>0,AVERAGE(SMALL(IF(J408:AA408>0,J408:AA408),{1,2,3,4,5,6})),Z409)","v":12.715353535353531},{"$f":"IF(AB408>0,AVERAGE(SMALL(IF(J408:AB408>0,J408:AB408),{1,2,3,4,5,6,7})),AA409)","v":12.715353535353531},{"$f":"IF(AC408>0,AVERAGE(SMALL(IF(J408:AC408>0,J408:AC408),{1,2,3,4,5,6,7,8})),AB409)","v":12.715353535353531},{"$f":"IF(AD408>0,AVERAGE(SMALL(IF(K408:AD408>0,K408:AD408),{1,2,3,4,5,6,7,8})),AC409)","v":12.715353535353531},{"$f":"IF(AE408>0,AVERAGE(SMALL(IF(L408:AE408>0,L408:AE408),{1,2,3,4,5,6,7,8})),AD409)","v":12.715353535353531},{"$f":"IF(AF408>0,AVERAGE(SMALL(IF(M408:AF408>0,M408:AF408),{1,2,3,4,5,6,7,8})),AE409)","v":12.715353535353531},{"$f":"IF(AG408>0,AVERAGE(SMALL(IF(N408:AG408>0,N408:AG408),{1,2,3,4,5,6,7,8})),AF409)","v":12.715353535353531},{"$f":"IF(AH408>0,AVERAGE(SMALL(IF(O408:AH408>0,O408:AH408),{1,2,3,4,5,6,7,8})),AG409)","v":12.715353535353531},{"$f":"IF(AI408>0,AVERAGE(SMALL(IF(P408:AI408>0,P408:AI408),{1,2,3,4,5,6,7,8})),AH409)","v":12.715353535353531},{"$f":"IF(AJ408>0,AVERAGE(SMALL(IF(Q408:AJ408>0,Q408:AJ408),{1,2,3,4,5,6,7,8})),AI409)","v":12.715353535353531},{"$f":"IF(AK408>0,AVERAGE(SMALL(IF(R408:AK408>0,R408:AK408),{1,2,3,4,5,6,7,8})),AJ409)","v":12.715353535353531},{"$f":"IF(AL408>0,AVERAGE(SMALL(IF(S408:AL408>0,S408:AL408),{1,2,3,4,5,6,7,8})),AK409)","v":12.715353535353531},{"$f":"IF(AM408>0,AVERAGE(SMALL(IF(T408:AM408>0,T408:AM408),{1,2,3,4,5,6,7,8})),AL409)","v":12.715353535353531},{"$f":"IF(AN408>0,AVERAGE(SMALL(IF(U408:AN408>0,U408:AN408),{1,2,3,4,5,6,7,8})),AM409)","v":12.715353535353531},{"$f":"IF(AO408>0,AVERAGE(SMALL(IF(V408:AO408>0,V408:AO408),{1,2,3,4,5,6,7,8})),AN409)","v":12.715353535353531},{"$f":"IF(AP408>0,AVERAGE(SMALL(IF(W408:AP408>0,W408:AP408),{1,2,3,4,5,6,7,8})),AO409)","v":12.715353535353531},{"$f":"IF(AQ408>0,AVERAGE(SMALL(IF(X408:AQ408>0,X408:AQ408),{1,2,3,4,5,6,7,8})),AP409)","v":12.715353535353531},{"$f":"IF(AR408>0,AVERAGE(SMALL(IF(Y408:AR408>0,Y408:AR408),{1,2,3,4,5,6,7,8})),AQ409)","v":12.715353535353531},{"$f":"IF(AS408>0,AVERAGE(SMALL(IF(Z408:AS408>0,Z408:AS408),{1,2,3,4,5,6,7,8})),AR409)","v":12.715353535353531},{"$f":"IF(AT408>0,AVERAGE(SMALL(IF(AA408:AT408>0,AA408:AT408),{1,2,3,4,5,6,7,8})),AS409)","v":12.715353535353531},{"$f":"IF(AU408>0,AVERAGE(SMALL(IF(AB408:AU408>0,AB408:AU408),{1,2,3,4,5,6,7,8})),AT409)","v":12.715353535353531},{"$f":"IF(AV408>0,AVERAGE(SMALL(IF(AC408:AV408>0,AC408:AV408),{1,2,3,4,5,6,7,8})),AU409)","v":12.715353535353531},{"$f":"IF(AW408>0,AVERAGE(SMALL(IF(AD408:AW408>0,AD408:AW408),{1,2,3,4,5,6,7,8})),AV409)","v":12.715353535353531},{"$f":"IF(AX408>0,AVERAGE(SMALL(IF(AE408:AX408>0,AE408:AX408),{1,2,3,4,5,6,7,8})),AW409)","v":12.715353535353531},{"$f":"IF(AY408>0,AVERAGE(SMALL(IF(AF408:AY408>0,AF408:AY408),{1,2,3,4,5,6,7,8})),AX409)","v":12.715353535353531},{"$f":"IF(AZ408>0,AVERAGE(SMALL(IF(AG408:AZ408>0,AG408:AZ408),{1,2,3,4,5,6,7,8})),AY409)","v":12.715353535353531},{"$f":"IF(BA408>0,AVERAGE(SMALL(IF(AH408:BA408>0,AH408:BA408),{1,2,3,4,5,6,7,8})),AZ409)","v":12.715353535353531},{"$f":"IF(BB408>0,AVERAGE(SMALL(IF(AI408:BB408>0,AI408:BB408),{1,2,3,4,5,6,7,8})),BA409)","v":12.715353535353531},{"$f":"IF(BC408>0,AVERAGE(SMALL(IF(AJ408:BC408>0,AJ408:BC408),{1,2,3,4,5,6,7,8})),BB409)","v":12.715353535353531},{"$f":"IF(BD408>0,AVERAGE(SMALL(IF(AK408:BD408>0,AK408:BD408),{1,2,3,4,5,6,7,8})),BC409)","v":12.715353535353531},{"$f":"IF(BE408>0,AVERAGE(SMALL(IF(AL408:BE408>0,AL408:BE408),{1,2,3,4,5,6,7,8})),BD409)","v":12.715353535353531},{"$f":"IF(BF408>0,AVERAGE(SMALL(IF(AM408:BF408>0,AM408:BF408),{1,2,3,4,5,6,7,8})),BE409)","v":12.715353535353531},{"$f":"IF(BG408>0,AVERAGE(SMALL(IF(AN408:BG408>0,AN408:BG408),{1,2,3,4,5,6,7,8})),BF409)","v":12.715353535353531},{"$f":"IF(BH408>0,AVERAGE(SMALL(IF(AO408:BH408>0,AO408:BH408),{1,2,3,4,5,6,7,8})),BG409)","v":12.715353535353531},{"$f":"IF(BI408>0,AVERAGE(SMALL(IF(AP408:BI408>0,AP408:BI408),{1,2,3,4,5,6,7,8})),BH409)","v":12.715353535353531},{"$f":"IF(BJ408>0,AVERAGE(SMALL(IF(AQ408:BJ408>0,AQ408:BJ408),{1,2,3,4,5,6,7,8})),BI409)","v":12.715353535353531},{"$f":"IF(BK408>0,AVERAGE(SMALL(IF(AR408:BK408>0,AR408:BK408),{1,2,3,4,5,6,7,8})),BJ409)","v":12.715353535353531},{"$f":"IF(BL408>0,AVERAGE(SMALL(IF(AS408:BL408>0,AS408:BL408),{1,2,3,4,5,6,7,8})),BK409)","v":12.715353535353531},{"$f":"IF(BM408>0,AVERAGE(SMALL(IF(AT408:BM408>0,AT408:BM408),{1,2,3,4,5,6,7,8})),BL409)","v":12.715353535353531},{"$f":"IF(BN408>0,AVERAGE(SMALL(IF(AU408:BN408>0,AU408:BN408),{1,2,3,4,5,6,7,8})),BM409)","v":12.715353535353531},{"$f":"IF(BO408>0,AVERAGE(SMALL(IF(AV408:BO408>0,AV408:BO408),{1,2,3,4,5,6,7,8})),BN409)","v":12.715353535353531},{"$f":"IF(BP408>0,AVERAGE(SMALL(IF(AW408:BP408>0,AW408:BP408),{1,2,3,4,5,6,7,8})),BO409)","v":12.715353535353531},{"$f":"IF(BQ408>0,AVERAGE(SMALL(IF(AX408:BQ408>0,AX408:BQ408),{1,2,3,4,5,6,7,8})),BP409)","v":12.715353535353531},{"$f":"IF(BR408>0,AVERAGE(SMALL(IF(AY408:BR408>0,AY408:BR408),{1,2,3,4,5,6,7,8})),BQ409)","v":12.715353535353531},{"$f":"IF(BS408>0,AVERAGE(SMALL(IF(AZ408:BS408>0,AZ408:BS408),{1,2,3,4,5,6,7,8})),BR409)","v":12.715353535353531},{"$f":"IF(BT408>0,AVERAGE(SMALL(IF(BA408:BT408>0,BA408:BT408),{1,2,3,4,5,6,7,8})),BS409)","v":12.715353535353531},{"$f":"IF(BU408>0,AVERAGE(SMALL(IF(BB408:BU408>0,BB408:BU408),{1,2,3,4,5,6,7,8})),BT409)","v":12.715353535353531},{"$f":"IF(BV408>0,AVERAGE(SMALL(IF(BC408:BV408>0,BC408:BV408),{1,2,3,4,5,6,7,8})),BU409)","v":12.715353535353531},{"$f":"IF(BW408>0,AVERAGE(SMALL(IF(BD408:BW408>0,BD408:BW408),{1,2,3,4,5,6,7,8})),BV409)","v":12.715353535353531},{"$f":"IF(BX408>0,AVERAGE(SMALL(IF(BE408:BX408>0,BE408:BX408),{1,2,3,4,5,6,7,8})),BW409)","v":12.715353535353531},{"$f":"IF(BY408>0,AVERAGE(SMALL(IF(BF408:BY408>0,BF408:BY408),{1,2,3,4,5,6,7,8})),BX409)","v":12.715353535353531},{"$f":"IF(BZ408>0,AVERAGE(SMALL(IF(BG408:BZ408>0,BG408:BZ408),{1,2,3,4,5,6,7,8})),BY409)","v":12.715353535353531},{"$f":"IF(CA408>0,AVERAGE(SMALL(IF(BH408:CA408>0,BH408:CA408),{1,2,3,4,5,6,7,8})),BZ409)","v":12.715353535353531},{"$f":"IF(CB408>0,AVERAGE(SMALL(IF(BI408:CB408>0,BI408:CB408),{1,2,3,4,5,6,7,8})),CA409)","v":12.715353535353531},{"$f":"IF(CC408>0,AVERAGE(SMALL(IF(BJ408:CC408>0,BJ408:CC408),{1,2,3,4,5,6,7,8})),CB409)","v":12.715353535353531},{"$f":"IF(CD408>0,AVERAGE(SMALL(IF(BK408:CD408>0,BK408:CD408),{1,2,3,4,5,6,7,8})),CC409)","v":12.715353535353531},{"$f":"IF(CE408>0,AVERAGE(SMALL(IF(BL408:CE408>0,BL408:CE408),{1,2,3,4,5,6,7,8})),CD409)","v":12.715353535353531},{"$f":"IF(CF408>0,AVERAGE(SMALL(IF(BM408:CF408>0,BM408:CF408),{1,2,3,4,5,6,7,8})),CE409)","v":12.715353535353531},{"$f":"IF(CG408>0,AVERAGE(SMALL(IF(BN408:CG408>0,BN408:CG408),{1,2,3,4,5,6,7,8})),CF409)","v":12.715353535353531},{"$f":"IF(CH408>0,AVERAGE(SMALL(IF(BO408:CH408>0,BO408:CH408),{1,2,3,4,5,6,7,8})),CG409)","v":12.715353535353531},{"$f":"IF(CI408>0,AVERAGE(SMALL(IF(BP408:CI408>0,BP408:CI408),{1,2,3,4,5,6,7,8})),CH409)","v":12.715353535353531},{"$f":"IF(CJ408>0,AVERAGE(SMALL(IF(BQ408:CJ408>0,BQ408:CJ408),{1,2,3,4,5,6,7,8})),CI409)","v":12.715353535353531},{"$f":"IF(CK408>0,AVERAGE(SMALL(IF(BR408:CK408>0,BR408:CK408),{1,2,3,4,5,6,7,8})),CJ409)","v":12.715353535353531},{"$f":"IF(CL408>0,AVERAGE(SMALL(IF(BS408:CL408>0,BS408:CL408),{1,2,3,4,5,6,7,8})),CK409)","v":12.715353535353531},{"$f":"IF(CM408>0,AVERAGE(SMALL(IF(BT408:CM408>0,BT408:CM408),{1,2,3,4,5,6,7,8})),CL409)","v":12.715353535353531},{"$f":"IF(CN408>0,AVERAGE(SMALL(IF(BU408:CN408>0,BU408:CN408),{1,2,3,4,5,6,7,8})),CM409)","v":12.715353535353531},{"$f":"IF(CO408>0,AVERAGE(SMALL(IF(BV408:CO408>0,BV408:CO408),{1,2,3,4,5,6,7,8})),CN409)","v":12.715353535353531},{"$f":"IF(CP408>0,AVERAGE(SMALL(IF(BW408:CP408>0,BW408:CP408),{1,2,3,4,5,6,7,8})),CO409)","v":12.715353535353531},{"$f":"IF(CQ408>0,AVERAGE(SMALL(IF(BX408:CQ408>0,BX408:CQ408),{1,2,3,4,5,6,7,8})),CP409)","v":12.715353535353531},{"$f":"IF(CR408>0,AVERAGE(SMALL(IF(BY408:CR408>0,BY408:CR408),{1,2,3,4,5,6,7,8})),CQ409)","v":12.715353535353531},{"$f":"IF(CS408>0,AVERAGE(SMALL(IF(BZ408:CS408>0,BZ408:CS408),{1,2,3,4,5,6,7,8})),CR409)","v":12.715353535353531},{"$f":"IF(CT408>0,AVERAGE(SMALL(IF(CA408:CT408>0,CA408:CT408),{1,2,3,4,5,6,7,8})),CS409)","v":12.715353535353531},{"$f":"IF(CU408>0,AVERAGE(SMALL(IF(CB408:CU408>0,CB408:CU408),{1,2,3,4,5,6,7,8})),CT409)","v":12.715353535353531},{"$f":"IF(CV408>0,AVERAGE(SMALL(IF(CC408:CV408>0,CC408:CV408),{1,2,3,4,5,6,7,8})),CU409)","v":12.715353535353531},{"$f":"IF(CW408>0,AVERAGE(SMALL(IF(CD408:CW408>0,CD408:CW408),{1,2,3,4,5,6,7,8})),CV409)","v":12.715353535353531}]
[null,null,null,null,null,null,null,null,"Low Hcap",null,null,null,null,null,null,null,null,null,null,null,null,null,null,null,null,null,null,null,{"$f":"MIN($J409:AC409)","v":10.241666666666664},{"$f":"MIN($J409:AD409)","v":10.241666666666664},{"$f":"MIN($J409:AE409)","v":10.241666666666664},{"$f":"MIN($J409:AF409)","v":10.241666666666664},{"$f":"MIN($J409:AG409)","v":10.241666666666664},{"$f":"MIN($J409:AH409)","v":10.241666666666664},{"$f":"MIN($J409:AI409)","v":10.241666666666664},{"$f":"MIN($J409:AJ409)","v":10.241666666666664},{"$f":"MIN($J409:AK409)","v":10.241666666666664},{"$f":"MIN($J409:AL409)","v":10.241666666666664},{"$f":"MIN($J409:AM409)","v":10.241666666666664},{"$f":"MIN($J409:AN409)","v":10.241666666666664},{"$f":"MIN($J409:AO409)","v":10.241666666666664},{"$f":"MIN($J409:AP409)","v":10.241666666666664},{"$f":"MIN($J409:AQ409)","v":10.241666666666664},{"$f":"MIN($J409:AR409)","v":10.241666666666664},{"$f":"MIN($J409:AS409)","v":10.241666666666664},{"$f":"MIN($J409:AT409)","v":10.241666666666664},{"$f":"MIN($J409:AU409)","v":10.241666666666664},{"$f":"MIN($J409:AV409)","v":10.241666666666664},{"$f":"MIN($J409:AW409)","v":10.241666666666664},{"$f":"MIN($J409:AX409)","v":10.241666666666664},{"$f":"MIN($J409:AY409)","v":10.241666666666664},{"$f":"MIN($J409:AZ409)","v":10.241666666666664},{"$f":"MIN($J409:BA409)","v":10.241666666666664},{"$f":"MIN($J409:BB409)","v":10.241666666666664},{"$f":"MIN($J409:BC409)","v":10.241666666666664},{"$f":"MIN($J409:BD409)","v":10.241666666666664},{"$f":"MIN($J409:BE409)","v":10.241666666666664},{"$f":"MIN($J409:BF409)","v":10.241666666666664},{"$f":"MIN($J409:BG409)","v":10.241666666666664},{"$f":"MIN($J409:BH409)","v":10.241666666666664},{"$f":"MIN($J409:BI409)","v":10.241666666666664},{"$f":"MIN($J409:BJ409)","v":10.241666666666664},{"$f":"MIN($J409:BK409)","v":10.241666666666664},{"$f":"MIN($J409:BL409)","v":10.241666666666664},{"$f":"MIN($J409:BM409)","v":10.241666666666664},{"$f":"MIN($J409:BN409)","v":10.241666666666664},{"$f":"MIN($J409:BO409)","v":10.241666666666664},{"$f":"MIN($J409:BP409)","v":10.241666666666664},{"$f":"MIN($J409:BQ409)","v":10.241666666666664},{"$f":"MIN($J409:BR409)","v":10.241666666666664},{"$f":"MIN($J409:BS409)","v":10.241666666666664},{"$f":"MIN($J409:BT409)","v":10.241666666666664},{"$f":"MIN($J409:BU409)","v":10.241666666666664},{"$f":"MIN($J409:BV409)","v":10.241666666666664},{"$f":"MIN($J409:BW409)","v":10.241666666666664},{"$f":"MIN($J409:BX409)","v":10.241666666666664},{"$f":"MIN($J409:BY409)","v":10.241666666666664},{"$f":"MIN($J409:BZ409)","v":10.241666666666664},{"$f":"MIN($J409:CA409)","v":10.241666666666664},{"$f":"MIN($J409:CB409)","v":10.241666666666664},{"$f":"MIN($J409:CC409)","v":10.241666666666664},{"$f":"MIN($J409:CD409)","v":10.241666666666664},{"$f":"MIN($J409:CE409)","v":10.241666666666664},{"$f":"MIN($J409:CF409)","v":10.241666666666664},{"$f":"MIN($J409:CG409)","v":10.241666666666664},{"$f":"MIN($J409:CH409)","v":10.241666666666664},{"$f":"MIN($J409:CI409)","v":10.241666666666664},{"$f":"MIN($J409:CJ409)","v":10.241666666666664},{"$f":"MIN($J409:CK409)","v":10.241666666666664},{"$f":"MIN($J409:CL409)","v":10.241666666666664},{"$f":"MIN($J409:CM409)","v":10.241666666666664},{"$f":"MIN($J409:CN409)","v":10.241666666666664},{"$f":"MIN($J409:CO409)","v":10.241666666666664},{"$f":"MIN($J409:CP409)","v":10.241666666666664},{"$f":"MIN($J409:CQ409)","v":10.241666666666664},{"$f":"MIN($J409:CR409)","v":10.241666666666664},{"$f":"MIN($J409:CS409)","v":10.241666666666664},{"$f":"MIN($J409:CT409)","v":10.241666666666664},{"$f":"MIN($J409:CU409)","v":10.241666666666664},{"$f":"MIN($J409:CV409)","v":10.241666666666664},{"$f":"MIN($J409:CW409)","v":10.241666666666664}]
[null,"Osborne","Robert",19.100000000000001,null,{"$f":"IF(H411<4,\"Y\",)","v":"Y"},2020,{"$f":"COUNT(J411:CX411)","v":0},"Date",null,null,null,null,null,null,null,null,null,null,null,null,null,null,null,null,null,null,null,null,null,null,null,null,null,null,null,null,null,null,null,null,null,null,null,null,null,null,null,null,null,null,null,null,null,null,null,null,null,null,null,null,null,null,null,null,null,null,null,null,null,null,null,null,null,null,null,null,null,null,null,null,null,null,null,null,null,null,null,null,null,null,null,null,null,null,null,null,null,null,null,null,null,{"$f":"IF(CW415>$DD$1,36,CW415)","v":19.100000000000001},19.100000000000001,{"$f":"CZ411-CY411","v":0}]
[null,null,null,null,null,null,null,null,"Course"]
[null,null,null,null,null,null,null,null,"Ad Gr"]
[null,null,null,null,null,null,null,null,"SD",21.1,{"$f":"IF(K413=\"\",0,(K413-INDIRECT(CONCATENATE(K412,\"CR\")))*113/INDIRECT(CONCATENATE(K412,\"SR\")))","v":0},0,0,0,0,0,0,0,0,0,0,0,0,0,0,0,0,0,0,0,0,0,0,0,0,0,0,0,0,0,0,0,0,0,0,0,0,0,0,0,0,0,0,0,0,0,0,0,0,0,0,0,0,0,0,0,0,0,0,0,0,0,0,0,{"$f":"IF(BW413=\"\",0,(BW413-INDIRECT(CONCATENATE(BW412,\"CR\")))*113/INDIRECT(CONCATENATE(BW412,\"SR\")))","v":0},0,0,0,0,0,0,0,0,0,0,0,0,0,0,0,{"$f":"IF(CM413=\"\",0,(CM413-INDIRECT(CONCATENATE(CM412,\"CR\")))*113/INDIRECT(CONCATENATE(CM412,\"SR\")))","v":0},0,{"$f":"IF(CO413=\"\",0,(CO413-INDIRECT(CONCATENATE(CO412,\"CR\")))*113/INDIRECT(CONCATENATE(CO412,\"SR\")))","v":0},0,{"$f":"IF(CQ413=\"\",0,(CQ413-INDIRECT(CONCATENATE(CQ412,\"CR\")))*113/INDIRECT(CONCATENATE(CQ412,\"SR\")))","v":0},0,{"$f":"IF(CS413=\"\",0,(CS413-INDIRECT(CONCATENATE(CS412,\"CR\")))*113/INDIRECT(CONCATENATE(CS412,\"SR\")))","v":0},0,{"$f":"IF(CU413=\"\",0,(CU413-INDIRECT(CONCATENATE(CU412,\"CR\")))*113/INDIRECT(CONCATENATE(CU412,\"SR\")))","v":0},0,{"$f":"IF(CW413=\"\",0,(CW413-INDIRECT(CONCATENATE(CW412,\"CR\")))*113/INDIRECT(CONCATENATE(CW412,\"SR\")))","v":0}]
[null,null,null,null,null,null,null,null,"New Hcap",{"$f":"J414-2","v":19.100000000000001},{"$f":"IF(K414>0,MIN(J414:K414)-2,J415)","v":19.100000000000001},{"$f":"IF(L414>0,MIN(J414:L414)-2,K415)","v":19.100000000000001},{"$f":"IF(M414>0,MIN(J414:M414)-1,L415)","v":19.100000000000001},{"$f":"IF(N414>0,MIN(J414:N414),M415)","v":19.100000000000001},{"$f":"IF(O414>0,AVERAGE(SMALL(IF(J414:O414>0,J414:O414),{1,2}))-1,N415)","v":19.100000000000001},{"$f":"IF(P414>0,AVERAGE(SMALL(IF(J414:P414>0,J414:P414),{1,2})),O415)","v":19.100000000000001},{"$f":"IF(Q414>0,AVERAGE(SMALL(IF(J414:Q414>0,J414:Q414),{1,2})),P415)","v":19.100000000000001},{"$f":"IF(R414>0,AVERAGE(SMALL(IF(J414:R414>0,J414:R414),{1,2,3})),Q415)","v":19.100000000000001},{"$f":"IF(S414>0,AVERAGE(SMALL(IF(J414:S414>0,J414:S414),{1,2,3})),R415)","v":19.100000000000001},{"$f":"IF(T414>0,AVERAGE(SMALL(IF(J414:T414>0,J414:T414),{1,2,3})),S415)","v":19.100000000000001},{"$f":"IF(U414>0,AVERAGE(SMALL(IF(J414:U414>0,J414:U414),{1,2,3,4})),T415)","v":19.100000000000001},{"$f":"IF(V414>0,AVERAGE(SMALL(IF(J414:V414>0,J414:V414),{1,2,3,4})),U415)","v":19.100000000000001},{"$f":"IF(W414>0,AVERAGE(SMALL(IF(J414:W414>0,J414:W414),{1,2,3,4})),V415)","v":19.100000000000001},{"$f":"IF(X414>0,AVERAGE(SMALL(IF(J414:X414>0,J414:X414),{1,2,3,4,5})),W415)","v":19.100000000000001},{"$f":"IF(Y414>0,AVERAGE(SMALL(IF(J414:Y414>0,J414:Y414),{1,2,3,4,5})),X415)","v":19.100000000000001},{"$f":"IF(Z414>0,AVERAGE(SMALL(IF(J414:Z414>0,J414:Z414),{1,2,3,4,5,6})),Y415)","v":19.100000000000001},{"$f":"IF(AA414>0,AVERAGE(SMALL(IF(J414:AA414>0,J414:AA414),{1,2,3,4,5,6})),Z415)","v":19.100000000000001},{"$f":"IF(AB414>0,AVERAGE(SMALL(IF(J414:AB414>0,J414:AB414),{1,2,3,4,5,6,7})),AA415)","v":19.100000000000001},{"$f":"IF(AC414>0,AVERAGE(SMALL(IF(J414:AC414>0,J414:AC414),{1,2,3,4,5,6,7,8})),AB415)","v":19.100000000000001},{"$f":"IF(AD414>0,AVERAGE(SMALL(IF(K414:AD414>0,K414:AD414),{1,2,3,4,5,6,7,8})),AC415)","v":19.100000000000001},{"$f":"IF(AE414>0,AVERAGE(SMALL(IF(L414:AE414>0,L414:AE414),{1,2,3,4,5,6,7,8})),AD415)","v":19.100000000000001},{"$f":"IF(AF414>0,AVERAGE(SMALL(IF(M414:AF414>0,M414:AF414),{1,2,3,4,5,6,7,8})),AE415)","v":19.100000000000001},{"$f":"IF(AG414>0,AVERAGE(SMALL(IF(N414:AG414>0,N414:AG414),{1,2,3,4,5,6,7,8})),AF415)","v":19.100000000000001},{"$f":"IF(AH414>0,AVERAGE(SMALL(IF(O414:AH414>0,O414:AH414),{1,2,3,4,5,6,7,8})),AG415)","v":19.100000000000001},{"$f":"IF(AI414>0,AVERAGE(SMALL(IF(P414:AI414>0,P414:AI414),{1,2,3,4,5,6,7,8})),AH415)","v":19.100000000000001},{"$f":"IF(AJ414>0,AVERAGE(SMALL(IF(Q414:AJ414>0,Q414:AJ414),{1,2,3,4,5,6,7,8})),AI415)","v":19.100000000000001},{"$f":"IF(AK414>0,AVERAGE(SMALL(IF(R414:AK414>0,R414:AK414),{1,2,3,4,5,6,7,8})),AJ415)","v":19.100000000000001},{"$f":"IF(AL414>0,AVERAGE(SMALL(IF(S414:AL414>0,S414:AL414),{1,2,3,4,5,6,7,8})),AK415)","v":19.100000000000001},{"$f":"IF(AM414>0,AVERAGE(SMALL(IF(T414:AM414>0,T414:AM414),{1,2,3,4,5,6,7,8})),AL415)","v":19.100000000000001},{"$f":"IF(AN414>0,AVERAGE(SMALL(IF(U414:AN414>0,U414:AN414),{1,2,3,4,5,6,7,8})),AM415)","v":19.100000000000001},{"$f":"IF(AO414>0,AVERAGE(SMALL(IF(V414:AO414>0,V414:AO414),{1,2,3,4,5,6,7,8})),AN415)","v":19.100000000000001},{"$f":"IF(AP414>0,AVERAGE(SMALL(IF(W414:AP414>0,W414:AP414),{1,2,3,4,5,6,7,8})),AO415)","v":19.100000000000001},{"$f":"IF(AQ414>0,AVERAGE(SMALL(IF(X414:AQ414>0,X414:AQ414),{1,2,3,4,5,6,7,8})),AP415)","v":19.100000000000001},{"$f":"IF(AR414>0,AVERAGE(SMALL(IF(Y414:AR414>0,Y414:AR414),{1,2,3,4,5,6,7,8})),AQ415)","v":19.100000000000001},{"$f":"IF(AS414>0,AVERAGE(SMALL(IF(Z414:AS414>0,Z414:AS414),{1,2,3,4,5,6,7,8})),AR415)","v":19.100000000000001},{"$f":"IF(AT414>0,AVERAGE(SMALL(IF(AA414:AT414>0,AA414:AT414),{1,2,3,4,5,6,7,8})),AS415)","v":19.100000000000001},{"$f":"IF(AU414>0,AVERAGE(SMALL(IF(AB414:AU414>0,AB414:AU414),{1,2,3,4,5,6,7,8})),AT415)","v":19.100000000000001},{"$f":"IF(AV414>0,AVERAGE(SMALL(IF(AC414:AV414>0,AC414:AV414),{1,2,3,4,5,6,7,8})),AU415)","v":19.100000000000001},{"$f":"IF(AW414>0,AVERAGE(SMALL(IF(AD414:AW414>0,AD414:AW414),{1,2,3,4,5,6,7,8})),AV415)","v":19.100000000000001},{"$f":"IF(AX414>0,AVERAGE(SMALL(IF(AE414:AX414>0,AE414:AX414),{1,2,3,4,5,6,7,8})),AW415)","v":19.100000000000001},{"$f":"IF(AY414>0,AVERAGE(SMALL(IF(AF414:AY414>0,AF414:AY414),{1,2,3,4,5,6,7,8})),AX415)","v":19.100000000000001},{"$f":"IF(AZ414>0,AVERAGE(SMALL(IF(AG414:AZ414>0,AG414:AZ414),{1,2,3,4,5,6,7,8})),AY415)","v":19.100000000000001},{"$f":"IF(BA414>0,AVERAGE(SMALL(IF(AH414:BA414>0,AH414:BA414),{1,2,3,4,5,6,7,8})),AZ415)","v":19.100000000000001},{"$f":"IF(BB414>0,AVERAGE(SMALL(IF(AI414:BB414>0,AI414:BB414),{1,2,3,4,5,6,7,8})),BA415)","v":19.100000000000001},{"$f":"IF(BC414>0,AVERAGE(SMALL(IF(AJ414:BC414>0,AJ414:BC414),{1,2,3,4,5,6,7,8})),BB415)","v":19.100000000000001},{"$f":"IF(BD414>0,AVERAGE(SMALL(IF(AK414:BD414>0,AK414:BD414),{1,2,3,4,5,6,7,8})),BC415)","v":19.100000000000001},{"$f":"IF(BE414>0,AVERAGE(SMALL(IF(AL414:BE414>0,AL414:BE414),{1,2,3,4,5,6,7,8})),BD415)","v":19.100000000000001},{"$f":"IF(BF414>0,AVERAGE(SMALL(IF(AM414:BF414>0,AM414:BF414),{1,2,3,4,5,6,7,8})),BE415)","v":19.100000000000001},{"$f":"IF(BG414>0,AVERAGE(SMALL(IF(AN414:BG414>0,AN414:BG414),{1,2,3,4,5,6,7,8})),BF415)","v":19.100000000000001},{"$f":"IF(BH414>0,AVERAGE(SMALL(IF(AO414:BH414>0,AO414:BH414),{1,2,3,4,5,6,7,8})),BG415)","v":19.100000000000001},{"$f":"IF(BI414>0,AVERAGE(SMALL(IF(AP414:BI414>0,AP414:BI414),{1,2,3,4,5,6,7,8})),BH415)","v":19.100000000000001},{"$f":"IF(BJ414>0,AVERAGE(SMALL(IF(AQ414:BJ414>0,AQ414:BJ414),{1,2,3,4,5,6,7,8})),BI415)","v":19.100000000000001},{"$f":"IF(BK414>0,AVERAGE(SMALL(IF(AR414:BK414>0,AR414:BK414),{1,2,3,4,5,6,7,8})),BJ415)","v":19.100000000000001},{"$f":"IF(BL414>0,AVERAGE(SMALL(IF(AS414:BL414>0,AS414:BL414),{1,2,3,4,5,6,7,8})),BK415)","v":19.100000000000001},{"$f":"IF(BM414>0,AVERAGE(SMALL(IF(AT414:BM414>0,AT414:BM414),{1,2,3,4,5,6,7,8})),BL415)","v":19.100000000000001},{"$f":"IF(BN414>0,AVERAGE(SMALL(IF(AU414:BN414>0,AU414:BN414),{1,2,3,4,5,6,7,8})),BM415)","v":19.100000000000001},{"$f":"IF(BO414>0,AVERAGE(SMALL(IF(AV414:BO414>0,AV414:BO414),{1,2,3,4,5,6,7,8})),BN415)","v":19.100000000000001},{"$f":"IF(BP414>0,AVERAGE(SMALL(IF(AW414:BP414>0,AW414:BP414),{1,2,3,4,5,6,7,8})),BO415)","v":19.100000000000001},{"$f":"IF(BQ414>0,AVERAGE(SMALL(IF(AX414:BQ414>0,AX414:BQ414),{1,2,3,4,5,6,7,8})),BP415)","v":19.100000000000001},{"$f":"IF(BR414>0,AVERAGE(SMALL(IF(AY414:BR414>0,AY414:BR414),{1,2,3,4,5,6,7,8})),BQ415)","v":19.100000000000001},{"$f":"IF(BS414>0,AVERAGE(SMALL(IF(AZ414:BS414>0,AZ414:BS414),{1,2,3,4,5,6,7,8})),BR415)","v":19.100000000000001},{"$f":"IF(BT414>0,AVERAGE(SMALL(IF(BA414:BT414>0,BA414:BT414),{1,2,3,4,5,6,7,8})),BS415)","v":19.100000000000001},{"$f":"IF(BU414>0,AVERAGE(SMALL(IF(BB414:BU414>0,BB414:BU414),{1,2,3,4,5,6,7,8})),BT415)","v":19.100000000000001},{"$f":"IF(BV414>0,AVERAGE(SMALL(IF(BC414:BV414>0,BC414:BV414),{1,2,3,4,5,6,7,8})),BU415)","v":19.100000000000001},{"$f":"IF(BW414>0,AVERAGE(SMALL(IF(BD414:BW414>0,BD414:BW414),{1,2,3,4,5,6,7,8})),BV415)","v":19.100000000000001},{"$f":"IF(BX414>0,AVERAGE(SMALL(IF(BE414:BX414>0,BE414:BX414),{1,2,3,4,5,6,7,8})),BW415)","v":19.100000000000001},{"$f":"IF(BY414>0,AVERAGE(SMALL(IF(BF414:BY414>0,BF414:BY414),{1,2,3,4,5,6,7,8})),BX415)","v":19.100000000000001},{"$f":"IF(BZ414>0,AVERAGE(SMALL(IF(BG414:BZ414>0,BG414:BZ414),{1,2,3,4,5,6,7,8})),BY415)","v":19.100000000000001},{"$f":"IF(CA414>0,AVERAGE(SMALL(IF(BH414:CA414>0,BH414:CA414),{1,2,3,4,5,6,7,8})),BZ415)","v":19.100000000000001},{"$f":"IF(CB414>0,AVERAGE(SMALL(IF(BI414:CB414>0,BI414:CB414),{1,2,3,4,5,6,7,8})),CA415)","v":19.100000000000001},{"$f":"IF(CC414>0,AVERAGE(SMALL(IF(BJ414:CC414>0,BJ414:CC414),{1,2,3,4,5,6,7,8})),CB415)","v":19.100000000000001},{"$f":"IF(CD414>0,AVERAGE(SMALL(IF(BK414:CD414>0,BK414:CD414),{1,2,3,4,5,6,7,8})),CC415)","v":19.100000000000001},{"$f":"IF(CE414>0,AVERAGE(SMALL(IF(BL414:CE414>0,BL414:CE414),{1,2,3,4,5,6,7,8})),CD415)","v":19.100000000000001},{"$f":"IF(CF414>0,AVERAGE(SMALL(IF(BM414:CF414>0,BM414:CF414),{1,2,3,4,5,6,7,8})),CE415)","v":19.100000000000001},{"$f":"IF(CG414>0,AVERAGE(SMALL(IF(BN414:CG414>0,BN414:CG414),{1,2,3,4,5,6,7,8})),CF415)","v":19.100000000000001},{"$f":"IF(CH414>0,AVERAGE(SMALL(IF(BO414:CH414>0,BO414:CH414),{1,2,3,4,5,6,7,8})),CG415)","v":19.100000000000001},{"$f":"IF(CI414>0,AVERAGE(SMALL(IF(BP414:CI414>0,BP414:CI414),{1,2,3,4,5,6,7,8})),CH415)","v":19.100000000000001},{"$f":"IF(CJ414>0,AVERAGE(SMALL(IF(BQ414:CJ414>0,BQ414:CJ414),{1,2,3,4,5,6,7,8})),CI415)","v":19.100000000000001},{"$f":"IF(CK414>0,AVERAGE(SMALL(IF(BR414:CK414>0,BR414:CK414),{1,2,3,4,5,6,7,8})),CJ415)","v":19.100000000000001},{"$f":"IF(CL414>0,AVERAGE(SMALL(IF(BS414:CL414>0,BS414:CL414),{1,2,3,4,5,6,7,8})),CK415)","v":19.100000000000001},{"$f":"IF(CM414>0,AVERAGE(SMALL(IF(BT414:CM414>0,BT414:CM414),{1,2,3,4,5,6,7,8})),CL415)","v":19.100000000000001},{"$f":"IF(CN414>0,AVERAGE(SMALL(IF(BU414:CN414>0,BU414:CN414),{1,2,3,4,5,6,7,8})),CM415)","v":19.100000000000001},{"$f":"IF(CO414>0,AVERAGE(SMALL(IF(BV414:CO414>0,BV414:CO414),{1,2,3,4,5,6,7,8})),CN415)","v":19.100000000000001},{"$f":"IF(CP414>0,AVERAGE(SMALL(IF(BW414:CP414>0,BW414:CP414),{1,2,3,4,5,6,7,8})),CO415)","v":19.100000000000001},{"$f":"IF(CQ414>0,AVERAGE(SMALL(IF(BX414:CQ414>0,BX414:CQ414),{1,2,3,4,5,6,7,8})),CP415)","v":19.100000000000001},{"$f":"IF(CR414>0,AVERAGE(SMALL(IF(BY414:CR414>0,BY414:CR414),{1,2,3,4,5,6,7,8})),CQ415)","v":19.100000000000001},{"$f":"IF(CS414>0,AVERAGE(SMALL(IF(BZ414:CS414>0,BZ414:CS414),{1,2,3,4,5,6,7,8})),CR415)","v":19.100000000000001},{"$f":"IF(CT414>0,AVERAGE(SMALL(IF(CA414:CT414>0,CA414:CT414),{1,2,3,4,5,6,7,8})),CS415)","v":19.100000000000001},{"$f":"IF(CU414>0,AVERAGE(SMALL(IF(CB414:CU414>0,CB414:CU414),{1,2,3,4,5,6,7,8})),CT415)","v":19.100000000000001},{"$f":"IF(CV414>0,AVERAGE(SMALL(IF(CC414:CV414>0,CC414:CV414),{1,2,3,4,5,6,7,8})),CU415)","v":19.100000000000001},{"$f":"IF(CW414>0,AVERAGE(SMALL(IF(CD414:CW414>0,CD414:CW414),{1,2,3,4,5,6,7,8})),CV415)","v":19.100000000000001}]
[null,null,null,null,null,null,null,null,"Low Hcap",null,null,null,null,null,null,null,null,null,null,null,null,null,null,null,null,null,null,null,{"$f":"MIN($J415:AC415)","v":19.100000000000001},{"$f":"MIN($J415:AD415)","v":19.100000000000001},{"$f":"MIN($J415:AE415)","v":19.100000000000001},{"$f":"MIN($J415:AF415)","v":19.100000000000001},{"$f":"MIN($J415:AG415)","v":19.100000000000001},{"$f":"MIN($J415:AH415)","v":19.100000000000001},{"$f":"MIN($J415:AI415)","v":19.100000000000001},{"$f":"MIN($J415:AJ415)","v":19.100000000000001},{"$f":"MIN($J415:AK415)","v":19.100000000000001},{"$f":"MIN($J415:AL415)","v":19.100000000000001},{"$f":"MIN($J415:AM415)","v":19.100000000000001},{"$f":"MIN($J415:AN415)","v":19.100000000000001},{"$f":"MIN($J415:AO415)","v":19.100000000000001},{"$f":"MIN($J415:AP415)","v":19.100000000000001},{"$f":"MIN($J415:AQ415)","v":19.100000000000001},{"$f":"MIN($J415:AR415)","v":19.100000000000001},{"$f":"MIN($J415:AS415)","v":19.100000000000001},{"$f":"MIN($J415:AT415)","v":19.100000000000001},{"$f":"MIN($J415:AU415)","v":19.100000000000001},{"$f":"MIN($J415:AV415)","v":19.100000000000001},{"$f":"MIN($J415:AW415)","v":19.100000000000001},{"$f":"MIN($J415:AX415)","v":19.100000000000001},{"$f":"MIN($J415:AY415)","v":19.100000000000001},{"$f":"MIN($J415:AZ415)","v":19.100000000000001},{"$f":"MIN($J415:BA415)","v":19.100000000000001},{"$f":"MIN($J415:BB415)","v":19.100000000000001},{"$f":"MIN($J415:BC415)","v":19.100000000000001},{"$f":"MIN($J415:BD415)","v":19.100000000000001},{"$f":"MIN($J415:BE415)","v":19.100000000000001},{"$f":"MIN($J415:BF415)","v":19.100000000000001},{"$f":"MIN($J415:BG415)","v":19.100000000000001},{"$f":"MIN($J415:BH415)","v":19.100000000000001},{"$f":"MIN($J415:BI415)","v":19.100000000000001},{"$f":"MIN($J415:BJ415)","v":19.100000000000001},{"$f":"MIN($J415:BK415)","v":19.100000000000001},{"$f":"MIN($J415:BL415)","v":19.100000000000001},{"$f":"MIN($J415:BM415)","v":19.100000000000001},{"$f":"MIN($J415:BN415)","v":19.100000000000001},{"$f":"MIN($J415:BO415)","v":19.100000000000001},{"$f":"MIN($J415:BP415)","v":19.100000000000001},{"$f":"MIN($J415:BQ415)","v":19.100000000000001},{"$f":"MIN($J415:BR415)","v":19.100000000000001},{"$f":"MIN($J415:BS415)","v":19.100000000000001},{"$f":"MIN($J415:BT415)","v":19.100000000000001},{"$f":"MIN($J415:BU415)","v":19.100000000000001},{"$f":"MIN($J415:BV415)","v":19.100000000000001},{"$f":"MIN($J415:BW415)","v":19.100000000000001},{"$f":"MIN($J415:BX415)","v":19.100000000000001},{"$f":"MIN($J415:BY415)","v":19.100000000000001},{"$f":"MIN($J415:BZ415)","v":19.100000000000001},{"$f":"MIN($J415:CA415)","v":19.100000000000001},{"$f":"MIN($J415:CB415)","v":19.100000000000001},{"$f":"MIN($J415:CC415)","v":19.100000000000001},{"$f":"MIN($J415:CD415)","v":19.100000000000001},{"$f":"MIN($J415:CE415)","v":19.100000000000001},{"$f":"MIN($J415:CF415)","v":19.100000000000001},{"$f":"MIN($J415:CG415)","v":19.100000000000001},{"$f":"MIN($J415:CH415)","v":19.100000000000001},{"$f":"MIN($J415:CI415)","v":19.100000000000001},{"$f":"MIN($J415:CJ415)","v":19.100000000000001},{"$f":"MIN($J415:CK415)","v":19.100000000000001},{"$f":"MIN($J415:CL415)","v":19.100000000000001},{"$f":"MIN($J415:CM415)","v":19.100000000000001},{"$f":"MIN($J415:CN415)","v":19.100000000000001},{"$f":"MIN($J415:CO415)","v":19.100000000000001},{"$f":"MIN($J415:CP415)","v":19.100000000000001},{"$f":"MIN($J415:CQ415)","v":19.100000000000001},{"$f":"MIN($J415:CR415)","v":19.100000000000001},{"$f":"MIN($J415:CS415)","v":19.100000000000001},{"$f":"MIN($J415:CT415)","v":19.100000000000001},{"$f":"MIN($J415:CU415)","v":19.100000000000001},{"$f":"MIN($J415:CV415)","v":19.100000000000001},{"$f":"MIN($J415:CW415)","v":19.100000000000001}]
[null,"Parry","Rick",19.100000000000001,null,{"$f":"IF(H417<4,\"Y\",)","v":"Y"},1981,{"$f":"COUNT(J417:CX417)","v":0},"Date",null,null,null,null,null,null,null,null,null,null,null,null,null,null,null,null,null,null,null,null,null,null,null,null,null,null,null,null,null,null,null,null,null,null,null,null,null,null,null,null,null,null,null,null,null,null,null,null,null,null,null,null,null,null,null,null,null,null,null,null,null,null,null,null,null,null,null,null,null,null,null,null,null,null,null,null,null,null,null,null,null,null,null,null,null,null,null,null,null,null,null,null,null,{"$f":"IF(CW421>$DD$1,36,CW421)","v":17.100000000000001},17.100000000000001,{"$f":"CZ417-CY417","v":0}]
[null,null,null,null,null,null,null,null,"Course"]
[null,null,null,null,null,null,null,null,"Ad Gr"]
[null,null,null,null,null,null,null,null,"SD",{"$f":"D417","v":19.100000000000001},{"$f":"IF(K419=\"\",0,(K419-INDIRECT(CONCATENATE(K418,\"CR\")))*113/INDIRECT(CONCATENATE(K418,\"SR\")))","v":0},0,0,0,0,0,0,0,0,0,0,0,0,0,0,0,0,0,0,0,0,0,0,0,0,0,0,0,0,0,0,0,0,0,0,0,0,0,0,0,0,0,0,0,0,0,0,0,0,0,0,0,0,0,0,0,0,0,0,0,0,0,0,0,{"$f":"IF(BW419=\"\",0,(BW419-INDIRECT(CONCATENATE(BW418,\"CR\")))*113/INDIRECT(CONCATENATE(BW418,\"SR\")))","v":0},0,0,0,0,0,0,0,0,0,0,0,0,0,0,0,{"$f":"IF(CM419=\"\",0,(CM419-INDIRECT(CONCATENATE(CM418,\"CR\")))*113/INDIRECT(CONCATENATE(CM418,\"SR\")))","v":0},0,{"$f":"IF(CO419=\"\",0,(CO419-INDIRECT(CONCATENATE(CO418,\"CR\")))*113/INDIRECT(CONCATENATE(CO418,\"SR\")))","v":0},0,{"$f":"IF(CQ419=\"\",0,(CQ419-INDIRECT(CONCATENATE(CQ418,\"CR\")))*113/INDIRECT(CONCATENATE(CQ418,\"SR\")))","v":0},0,{"$f":"IF(CS419=\"\",0,(CS419-INDIRECT(CONCATENATE(CS418,\"CR\")))*113/INDIRECT(CONCATENATE(CS418,\"SR\")))","v":0},0,{"$f":"IF(CU419=\"\",0,(CU419-INDIRECT(CONCATENATE(CU418,\"CR\")))*113/INDIRECT(CONCATENATE(CU418,\"SR\")))","v":0},0,{"$f":"IF(CW419=\"\",0,(CW419-INDIRECT(CONCATENATE(CW418,\"CR\")))*113/INDIRECT(CONCATENATE(CW418,\"SR\")))","v":0}]
[null,null,null,null,null,null,null,null,"New Hcap",{"$f":"J420-2","v":17.100000000000001},{"$f":"IF(K420>0,MIN(J420:K420)-2,J421)","v":17.100000000000001},{"$f":"IF(L420>0,MIN(J420:L420)-2,K421)","v":17.100000000000001},{"$f":"IF(M420>0,MIN(J420:M420)-1,L421)","v":17.100000000000001},{"$f":"IF(N420>0,MIN(J420:N420),M421)","v":17.100000000000001},{"$f":"IF(O420>0,AVERAGE(SMALL(IF(J420:O420>0,J420:O420),{1,2}))-1,N421)","v":17.100000000000001},{"$f":"IF(P420>0,AVERAGE(SMALL(IF(J420:P420>0,J420:P420),{1,2})),O421)","v":17.100000000000001},{"$f":"IF(Q420>0,AVERAGE(SMALL(IF(J420:Q420>0,J420:Q420),{1,2})),P421)","v":17.100000000000001},{"$f":"IF(R420>0,AVERAGE(SMALL(IF(J420:R420>0,J420:R420),{1,2,3})),Q421)","v":17.100000000000001},{"$f":"IF(S420>0,AVERAGE(SMALL(IF(J420:S420>0,J420:S420),{1,2,3})),R421)","v":17.100000000000001},{"$f":"IF(T420>0,AVERAGE(SMALL(IF(J420:T420>0,J420:T420),{1,2,3})),S421)","v":17.100000000000001},{"$f":"IF(U420>0,AVERAGE(SMALL(IF(J420:U420>0,J420:U420),{1,2,3,4})),T421)","v":17.100000000000001},{"$f":"IF(V420>0,AVERAGE(SMALL(IF(J420:V420>0,J420:V420),{1,2,3,4})),U421)","v":17.100000000000001},{"$f":"IF(W420>0,AVERAGE(SMALL(IF(J420:W420>0,J420:W420),{1,2,3,4})),V421)","v":17.100000000000001},{"$f":"IF(X420>0,AVERAGE(SMALL(IF(J420:X420>0,J420:X420),{1,2,3,4,5})),W421)","v":17.100000000000001},{"$f":"IF(Y420>0,AVERAGE(SMALL(IF(J420:Y420>0,J420:Y420),{1,2,3,4,5})),X421)","v":17.100000000000001},{"$f":"IF(Z420>0,AVERAGE(SMALL(IF(J420:Z420>0,J420:Z420),{1,2,3,4,5,6})),Y421)","v":17.100000000000001},{"$f":"IF(AA420>0,AVERAGE(SMALL(IF(J420:AA420>0,J420:AA420),{1,2,3,4,5,6})),Z421)","v":17.100000000000001},{"$f":"IF(AB420>0,AVERAGE(SMALL(IF(J420:AB420>0,J420:AB420),{1,2,3,4,5,6,7})),AA421)","v":17.100000000000001},{"$f":"IF(AC420>0,AVERAGE(SMALL(IF(J420:AC420>0,J420:AC420),{1,2,3,4,5,6,7,8})),AB421)","v":17.100000000000001},{"$f":"IF(AD420>0,AVERAGE(SMALL(IF(K420:AD420>0,K420:AD420),{1,2,3,4,5,6,7,8})),AC421)","v":17.100000000000001},{"$f":"IF(AE420>0,AVERAGE(SMALL(IF(L420:AE420>0,L420:AE420),{1,2,3,4,5,6,7,8})),AD421)","v":17.100000000000001},{"$f":"IF(AF420>0,AVERAGE(SMALL(IF(M420:AF420>0,M420:AF420),{1,2,3,4,5,6,7,8})),AE421)","v":17.100000000000001},{"$f":"IF(AG420>0,AVERAGE(SMALL(IF(N420:AG420>0,N420:AG420),{1,2,3,4,5,6,7,8})),AF421)","v":17.100000000000001},{"$f":"IF(AH420>0,AVERAGE(SMALL(IF(O420:AH420>0,O420:AH420),{1,2,3,4,5,6,7,8})),AG421)","v":17.100000000000001},{"$f":"IF(AI420>0,AVERAGE(SMALL(IF(P420:AI420>0,P420:AI420),{1,2,3,4,5,6,7,8})),AH421)","v":17.100000000000001},{"$f":"IF(AJ420>0,AVERAGE(SMALL(IF(Q420:AJ420>0,Q420:AJ420),{1,2,3,4,5,6,7,8})),AI421)","v":17.100000000000001},{"$f":"IF(AK420>0,AVERAGE(SMALL(IF(R420:AK420>0,R420:AK420),{1,2,3,4,5,6,7,8})),AJ421)","v":17.100000000000001},{"$f":"IF(AL420>0,AVERAGE(SMALL(IF(S420:AL420>0,S420:AL420),{1,2,3,4,5,6,7,8})),AK421)","v":17.100000000000001},{"$f":"IF(AM420>0,AVERAGE(SMALL(IF(T420:AM420>0,T420:AM420),{1,2,3,4,5,6,7,8})),AL421)","v":17.100000000000001},{"$f":"IF(AN420>0,AVERAGE(SMALL(IF(U420:AN420>0,U420:AN420),{1,2,3,4,5,6,7,8})),AM421)","v":17.100000000000001},{"$f":"IF(AO420>0,AVERAGE(SMALL(IF(V420:AO420>0,V420:AO420),{1,2,3,4,5,6,7,8})),AN421)","v":17.100000000000001},{"$f":"IF(AP420>0,AVERAGE(SMALL(IF(W420:AP420>0,W420:AP420),{1,2,3,4,5,6,7,8})),AO421)","v":17.100000000000001},{"$f":"IF(AQ420>0,AVERAGE(SMALL(IF(X420:AQ420>0,X420:AQ420),{1,2,3,4,5,6,7,8})),AP421)","v":17.100000000000001},{"$f":"IF(AR420>0,AVERAGE(SMALL(IF(Y420:AR420>0,Y420:AR420),{1,2,3,4,5,6,7,8})),AQ421)","v":17.100000000000001},{"$f":"IF(AS420>0,AVERAGE(SMALL(IF(Z420:AS420>0,Z420:AS420),{1,2,3,4,5,6,7,8})),AR421)","v":17.100000000000001},{"$f":"IF(AT420>0,AVERAGE(SMALL(IF(AA420:AT420>0,AA420:AT420),{1,2,3,4,5,6,7,8})),AS421)","v":17.100000000000001},{"$f":"IF(AU420>0,AVERAGE(SMALL(IF(AB420:AU420>0,AB420:AU420),{1,2,3,4,5,6,7,8})),AT421)","v":17.100000000000001},{"$f":"IF(AV420>0,AVERAGE(SMALL(IF(AC420:AV420>0,AC420:AV420),{1,2,3,4,5,6,7,8})),AU421)","v":17.100000000000001},{"$f":"IF(AW420>0,AVERAGE(SMALL(IF(AD420:AW420>0,AD420:AW420),{1,2,3,4,5,6,7,8})),AV421)","v":17.100000000000001},{"$f":"IF(AX420>0,AVERAGE(SMALL(IF(AE420:AX420>0,AE420:AX420),{1,2,3,4,5,6,7,8})),AW421)","v":17.100000000000001},{"$f":"IF(AY420>0,AVERAGE(SMALL(IF(AF420:AY420>0,AF420:AY420),{1,2,3,4,5,6,7,8})),AX421)","v":17.100000000000001},{"$f":"IF(AZ420>0,AVERAGE(SMALL(IF(AG420:AZ420>0,AG420:AZ420),{1,2,3,4,5,6,7,8})),AY421)","v":17.100000000000001},{"$f":"IF(BA420>0,AVERAGE(SMALL(IF(AH420:BA420>0,AH420:BA420),{1,2,3,4,5,6,7,8})),AZ421)","v":17.100000000000001},{"$f":"IF(BB420>0,AVERAGE(SMALL(IF(AI420:BB420>0,AI420:BB420),{1,2,3,4,5,6,7,8})),BA421)","v":17.100000000000001},{"$f":"IF(BC420>0,AVERAGE(SMALL(IF(AJ420:BC420>0,AJ420:BC420),{1,2,3,4,5,6,7,8})),BB421)","v":17.100000000000001},{"$f":"IF(BD420>0,AVERAGE(SMALL(IF(AK420:BD420>0,AK420:BD420),{1,2,3,4,5,6,7,8})),BC421)","v":17.100000000000001},{"$f":"IF(BE420>0,AVERAGE(SMALL(IF(AL420:BE420>0,AL420:BE420),{1,2,3,4,5,6,7,8})),BD421)","v":17.100000000000001},{"$f":"IF(BF420>0,AVERAGE(SMALL(IF(AM420:BF420>0,AM420:BF420),{1,2,3,4,5,6,7,8})),BE421)","v":17.100000000000001},{"$f":"IF(BG420>0,AVERAGE(SMALL(IF(AN420:BG420>0,AN420:BG420),{1,2,3,4,5,6,7,8})),BF421)","v":17.100000000000001},{"$f":"IF(BH420>0,AVERAGE(SMALL(IF(AO420:BH420>0,AO420:BH420),{1,2,3,4,5,6,7,8})),BG421)","v":17.100000000000001},{"$f":"IF(BI420>0,AVERAGE(SMALL(IF(AP420:BI420>0,AP420:BI420),{1,2,3,4,5,6,7,8})),BH421)","v":17.100000000000001},{"$f":"IF(BJ420>0,AVERAGE(SMALL(IF(AQ420:BJ420>0,AQ420:BJ420),{1,2,3,4,5,6,7,8})),BI421)","v":17.100000000000001},{"$f":"IF(BK420>0,AVERAGE(SMALL(IF(AR420:BK420>0,AR420:BK420),{1,2,3,4,5,6,7,8})),BJ421)","v":17.100000000000001},{"$f":"IF(BL420>0,AVERAGE(SMALL(IF(AS420:BL420>0,AS420:BL420),{1,2,3,4,5,6,7,8})),BK421)","v":17.100000000000001},{"$f":"IF(BM420>0,AVERAGE(SMALL(IF(AT420:BM420>0,AT420:BM420),{1,2,3,4,5,6,7,8})),BL421)","v":17.100000000000001},{"$f":"IF(BN420>0,AVERAGE(SMALL(IF(AU420:BN420>0,AU420:BN420),{1,2,3,4,5,6,7,8})),BM421)","v":17.100000000000001},{"$f":"IF(BO420>0,AVERAGE(SMALL(IF(AV420:BO420>0,AV420:BO420),{1,2,3,4,5,6,7,8})),BN421)","v":17.100000000000001},{"$f":"IF(BP420>0,AVERAGE(SMALL(IF(AW420:BP420>0,AW420:BP420),{1,2,3,4,5,6,7,8})),BO421)","v":17.100000000000001},{"$f":"IF(BQ420>0,AVERAGE(SMALL(IF(AX420:BQ420>0,AX420:BQ420),{1,2,3,4,5,6,7,8})),BP421)","v":17.100000000000001},{"$f":"IF(BR420>0,AVERAGE(SMALL(IF(AY420:BR420>0,AY420:BR420),{1,2,3,4,5,6,7,8})),BQ421)","v":17.100000000000001},{"$f":"IF(BS420>0,AVERAGE(SMALL(IF(AZ420:BS420>0,AZ420:BS420),{1,2,3,4,5,6,7,8})),BR421)","v":17.100000000000001},{"$f":"IF(BT420>0,AVERAGE(SMALL(IF(BA420:BT420>0,BA420:BT420),{1,2,3,4,5,6,7,8})),BS421)","v":17.100000000000001},{"$f":"IF(BU420>0,AVERAGE(SMALL(IF(BB420:BU420>0,BB420:BU420),{1,2,3,4,5,6,7,8})),BT421)","v":17.100000000000001},{"$f":"IF(BV420>0,AVERAGE(SMALL(IF(BC420:BV420>0,BC420:BV420),{1,2,3,4,5,6,7,8})),BU421)","v":17.100000000000001},{"$f":"IF(BW420>0,AVERAGE(SMALL(IF(BD420:BW420>0,BD420:BW420),{1,2,3,4,5,6,7,8})),BV421)","v":17.100000000000001},{"$f":"IF(BX420>0,AVERAGE(SMALL(IF(BE420:BX420>0,BE420:BX420),{1,2,3,4,5,6,7,8})),BW421)","v":17.100000000000001},{"$f":"IF(BY420>0,AVERAGE(SMALL(IF(BF420:BY420>0,BF420:BY420),{1,2,3,4,5,6,7,8})),BX421)","v":17.100000000000001},{"$f":"IF(BZ420>0,AVERAGE(SMALL(IF(BG420:BZ420>0,BG420:BZ420),{1,2,3,4,5,6,7,8})),BY421)","v":17.100000000000001},{"$f":"IF(CA420>0,AVERAGE(SMALL(IF(BH420:CA420>0,BH420:CA420),{1,2,3,4,5,6,7,8})),BZ421)","v":17.100000000000001},{"$f":"IF(CB420>0,AVERAGE(SMALL(IF(BI420:CB420>0,BI420:CB420),{1,2,3,4,5,6,7,8})),CA421)","v":17.100000000000001},{"$f":"IF(CC420>0,AVERAGE(SMALL(IF(BJ420:CC420>0,BJ420:CC420),{1,2,3,4,5,6,7,8})),CB421)","v":17.100000000000001},{"$f":"IF(CD420>0,AVERAGE(SMALL(IF(BK420:CD420>0,BK420:CD420),{1,2,3,4,5,6,7,8})),CC421)","v":17.100000000000001},{"$f":"IF(CE420>0,AVERAGE(SMALL(IF(BL420:CE420>0,BL420:CE420),{1,2,3,4,5,6,7,8})),CD421)","v":17.100000000000001},{"$f":"IF(CF420>0,AVERAGE(SMALL(IF(BM420:CF420>0,BM420:CF420),{1,2,3,4,5,6,7,8})),CE421)","v":17.100000000000001},{"$f":"IF(CG420>0,AVERAGE(SMALL(IF(BN420:CG420>0,BN420:CG420),{1,2,3,4,5,6,7,8})),CF421)","v":17.100000000000001},{"$f":"IF(CH420>0,AVERAGE(SMALL(IF(BO420:CH420>0,BO420:CH420),{1,2,3,4,5,6,7,8})),CG421)","v":17.100000000000001},{"$f":"IF(CI420>0,AVERAGE(SMALL(IF(BP420:CI420>0,BP420:CI420),{1,2,3,4,5,6,7,8})),CH421)","v":17.100000000000001},{"$f":"IF(CJ420>0,AVERAGE(SMALL(IF(BQ420:CJ420>0,BQ420:CJ420),{1,2,3,4,5,6,7,8})),CI421)","v":17.100000000000001},{"$f":"IF(CK420>0,AVERAGE(SMALL(IF(BR420:CK420>0,BR420:CK420),{1,2,3,4,5,6,7,8})),CJ421)","v":17.100000000000001},{"$f":"IF(CL420>0,AVERAGE(SMALL(IF(BS420:CL420>0,BS420:CL420),{1,2,3,4,5,6,7,8})),CK421)","v":17.100000000000001},{"$f":"IF(CM420>0,AVERAGE(SMALL(IF(BT420:CM420>0,BT420:CM420),{1,2,3,4,5,6,7,8})),CL421)","v":17.100000000000001},{"$f":"IF(CN420>0,AVERAGE(SMALL(IF(BU420:CN420>0,BU420:CN420),{1,2,3,4,5,6,7,8})),CM421)","v":17.100000000000001},{"$f":"IF(CO420>0,AVERAGE(SMALL(IF(BV420:CO420>0,BV420:CO420),{1,2,3,4,5,6,7,8})),CN421)","v":17.100000000000001},{"$f":"IF(CP420>0,AVERAGE(SMALL(IF(BW420:CP420>0,BW420:CP420),{1,2,3,4,5,6,7,8})),CO421)","v":17.100000000000001},{"$f":"IF(CQ420>0,AVERAGE(SMALL(IF(BX420:CQ420>0,BX420:CQ420),{1,2,3,4,5,6,7,8})),CP421)","v":17.100000000000001},{"$f":"IF(CR420>0,AVERAGE(SMALL(IF(BY420:CR420>0,BY420:CR420),{1,2,3,4,5,6,7,8})),CQ421)","v":17.100000000000001},{"$f":"IF(CS420>0,AVERAGE(SMALL(IF(BZ420:CS420>0,BZ420:CS420),{1,2,3,4,5,6,7,8})),CR421)","v":17.100000000000001},{"$f":"IF(CT420>0,AVERAGE(SMALL(IF(CA420:CT420>0,CA420:CT420),{1,2,3,4,5,6,7,8})),CS421)","v":17.100000000000001},{"$f":"IF(CU420>0,AVERAGE(SMALL(IF(CB420:CU420>0,CB420:CU420),{1,2,3,4,5,6,7,8})),CT421)","v":17.100000000000001},{"$f":"IF(CV420>0,AVERAGE(SMALL(IF(CC420:CV420>0,CC420:CV420),{1,2,3,4,5,6,7,8})),CU421)","v":17.100000000000001},{"$f":"IF(CW420>0,AVERAGE(SMALL(IF(CD420:CW420>0,CD420:CW420),{1,2,3,4,5,6,7,8})),CV421)","v":17.100000000000001}]
[null,null,null,null,null,null,null,null,"Low Hcap",null,null,null,null,null,null,null,null,null,null,null,null,null,null,null,null,null,null,null,{"$f":"MIN($J421:AC421)","v":17.100000000000001},{"$f":"MIN($J421:AD421)","v":17.100000000000001},{"$f":"MIN($J421:AE421)","v":17.100000000000001},{"$f":"MIN($J421:AF421)","v":17.100000000000001},{"$f":"MIN($J421:AG421)","v":17.100000000000001},{"$f":"MIN($J421:AH421)","v":17.100000000000001},{"$f":"MIN($J421:AI421)","v":17.100000000000001},{"$f":"MIN($J421:AJ421)","v":17.100000000000001},{"$f":"MIN($J421:AK421)","v":17.100000000000001},{"$f":"MIN($J421:AL421)","v":17.100000000000001},{"$f":"MIN($J421:AM421)","v":17.100000000000001},{"$f":"MIN($J421:AN421)","v":17.100000000000001},{"$f":"MIN($J421:AO421)","v":17.100000000000001},{"$f":"MIN($J421:AP421)","v":17.100000000000001},{"$f":"MIN($J421:AQ421)","v":17.100000000000001},{"$f":"MIN($J421:AR421)","v":17.100000000000001},{"$f":"MIN($J421:AS421)","v":17.100000000000001},{"$f":"MIN($J421:AT421)","v":17.100000000000001},{"$f":"MIN($J421:AU421)","v":17.100000000000001},{"$f":"MIN($J421:AV421)","v":17.100000000000001},{"$f":"MIN($J421:AW421)","v":17.100000000000001},{"$f":"MIN($J421:AX421)","v":17.100000000000001},{"$f":"MIN($J421:AY421)","v":17.100000000000001},{"$f":"MIN($J421:AZ421)","v":17.100000000000001},{"$f":"MIN($J421:BA421)","v":17.100000000000001},{"$f":"MIN($J421:BB421)","v":17.100000000000001},{"$f":"MIN($J421:BC421)","v":17.100000000000001},{"$f":"MIN($J421:BD421)","v":17.100000000000001},{"$f":"MIN($J421:BE421)","v":17.100000000000001},{"$f":"MIN($J421:BF421)","v":17.100000000000001},{"$f":"MIN($J421:BG421)","v":17.100000000000001},{"$f":"MIN($J421:BH421)","v":17.100000000000001},{"$f":"MIN($J421:BI421)","v":17.100000000000001},{"$f":"MIN($J421:BJ421)","v":17.100000000000001},{"$f":"MIN($J421:BK421)","v":17.100000000000001},{"$f":"MIN($J421:BL421)","v":17.100000000000001},{"$f":"MIN($J421:BM421)","v":17.100000000000001},{"$f":"MIN($J421:BN421)","v":17.100000000000001},{"$f":"MIN($J421:BO421)","v":17.100000000000001},{"$f":"MIN($J421:BP421)","v":17.100000000000001},{"$f":"MIN($J421:BQ421)","v":17.100000000000001},{"$f":"MIN($J421:BR421)","v":17.100000000000001},{"$f":"MIN($J421:BS421)","v":17.100000000000001},{"$f":"MIN($J421:BT421)","v":17.100000000000001},{"$f":"MIN($J421:BU421)","v":17.100000000000001},{"$f":"MIN($J421:BV421)","v":17.100000000000001},{"$f":"MIN($J421:BW421)","v":17.100000000000001},{"$f":"MIN($J421:BX421)","v":17.100000000000001},{"$f":"MIN($J421:BY421)","v":17.100000000000001},{"$f":"MIN($J421:BZ421)","v":17.100000000000001},{"$f":"MIN($J421:CA421)","v":17.100000000000001},{"$f":"MIN($J421:CB421)","v":17.100000000000001},{"$f":"MIN($J421:CC421)","v":17.100000000000001},{"$f":"MIN($J421:CD421)","v":17.100000000000001},{"$f":"MIN($J421:CE421)","v":17.100000000000001},{"$f":"MIN($J421:CF421)","v":17.100000000000001},{"$f":"MIN($J421:CG421)","v":17.100000000000001},{"$f":"MIN($J421:CH421)","v":17.100000000000001},{"$f":"MIN($J421:CI421)","v":17.100000000000001},{"$f":"MIN($J421:CJ421)","v":17.100000000000001},{"$f":"MIN($J421:CK421)","v":17.100000000000001},{"$f":"MIN($J421:CL421)","v":17.100000000000001},{"$f":"MIN($J421:CM421)","v":17.100000000000001},{"$f":"MIN($J421:CN421)","v":17.100000000000001},{"$f":"MIN($J421:CO421)","v":17.100000000000001},{"$f":"MIN($J421:CP421)","v":17.100000000000001},{"$f":"MIN($J421:CQ421)","v":17.100000000000001},{"$f":"MIN($J421:CR421)","v":17.100000000000001},{"$f":"MIN($J421:CS421)","v":17.100000000000001},{"$f":"MIN($J421:CT421)","v":17.100000000000001},{"$f":"MIN($J421:CU421)","v":17.100000000000001},{"$f":"MIN($J421:CV421)","v":17.100000000000001},{"$f":"MIN($J421:CW421)","v":17.100000000000001}]
[null,"Portisch","Eva",31.3,null,{"$f":"IF(H423<4,\"Y\",)","v":"Y"},2000,{"$f":"COUNT(J423:CX423)","v":0},"Date",null,null,null,null,null,null,null,null,null,null,null,null,null,null,null,null,null,null,null,null,null,null,null,null,null,null,null,null,null,null,null,null,null,null,null,null,null,null,null,null,null,null,null,null,null,null,null,null,null,null,null,null,null,null,null,null,null,null,null,null,null,null,null,null,null,null,null,null,null,null,null,null,null,null,null,null,null,null,null,null,null,null,null,null,null,null,null,null,null,null,null,null,null,{"$f":"IF(CW427>$DD$1,36,CW427)","v":29.3},29.3,{"$f":"CZ423-CY423","v":0}]
[null,null,null,null,null,null,null,null,"Course"]
[null,null,null,null,null,null,null,null,"Ad Gr"]
[null,null,null,null,null,null,null,null,"SD",{"$f":"D423","v":31.3},{"$f":"IF(K425=\"\",0,(K425-INDIRECT(CONCATENATE(K424,\"CR\")))*113/INDIRECT(CONCATENATE(K424,\"SR\")))","v":0},0,0,0,0,0,0,0,0,0,0,0,0,0,0,0,0,0,0,0,0,0,0,0,0,0,0,0,0,0,0,0,0,0,0,0,0,0,0,0,0,0,0,0,0,0,0,0,0,0,0,0,0,0,0,0,0,0,0,0,0,0,0,0,{"$f":"IF(BW425=\"\",0,(BW425-INDIRECT(CONCATENATE(BW424,\"CR\")))*113/INDIRECT(CONCATENATE(BW424,\"SR\")))","v":0},0,0,0,0,0,0,0,0,0,0,0,0,0,0,0,{"$f":"IF(CM425=\"\",0,(CM425-INDIRECT(CONCATENATE(CM424,\"CR\")))*113/INDIRECT(CONCATENATE(CM424,\"SR\")))","v":0},0,{"$f":"IF(CO425=\"\",0,(CO425-INDIRECT(CONCATENATE(CO424,\"CR\")))*113/INDIRECT(CONCATENATE(CO424,\"SR\")))","v":0},0,{"$f":"IF(CQ425=\"\",0,(CQ425-INDIRECT(CONCATENATE(CQ424,\"CR\")))*113/INDIRECT(CONCATENATE(CQ424,\"SR\")))","v":0},0,{"$f":"IF(CS425=\"\",0,(CS425-INDIRECT(CONCATENATE(CS424,\"CR\")))*113/INDIRECT(CONCATENATE(CS424,\"SR\")))","v":0},0,{"$f":"IF(CU425=\"\",0,(CU425-INDIRECT(CONCATENATE(CU424,\"CR\")))*113/INDIRECT(CONCATENATE(CU424,\"SR\")))","v":0},0,{"$f":"IF(CW425=\"\",0,(CW425-INDIRECT(CONCATENATE(CW424,\"CR\")))*113/INDIRECT(CONCATENATE(CW424,\"SR\")))","v":0}]
[null,null,null,null,null,null,null,null,"New Hcap",{"$f":"J426-2","v":29.3},{"$f":"IF(K426>0,MIN(J426:K426)-2,J427)","v":29.3},{"$f":"IF(L426>0,MIN(J426:L426)-2,K427)","v":29.3},{"$f":"IF(M426>0,MIN(J426:M426)-1,L427)","v":29.3},{"$f":"IF(N426>0,MIN(J426:N426),M427)","v":29.3},{"$f":"IF(O426>0,AVERAGE(SMALL(IF(J426:O426>0,J426:O426),{1,2}))-1,N427)","v":29.3},{"$f":"IF(P426>0,AVERAGE(SMALL(IF(J426:P426>0,J426:P426),{1,2})),O427)","v":29.3},{"$f":"IF(Q426>0,AVERAGE(SMALL(IF(J426:Q426>0,J426:Q426),{1,2})),P427)","v":29.3},{"$f":"IF(R426>0,AVERAGE(SMALL(IF(J426:R426>0,J426:R426),{1,2,3})),Q427)","v":29.3},{"$f":"IF(S426>0,AVERAGE(SMALL(IF(J426:S426>0,J426:S426),{1,2,3})),R427)","v":29.3},{"$f":"IF(T426>0,AVERAGE(SMALL(IF(J426:T426>0,J426:T426),{1,2,3})),S427)","v":29.3},{"$f":"IF(U426>0,AVERAGE(SMALL(IF(J426:U426>0,J426:U426),{1,2,3,4})),T427)","v":29.3},{"$f":"IF(V426>0,AVERAGE(SMALL(IF(J426:V426>0,J426:V426),{1,2,3,4})),U427)","v":29.3},{"$f":"IF(W426>0,AVERAGE(SMALL(IF(J426:W426>0,J426:W426),{1,2,3,4})),V427)","v":29.3},{"$f":"IF(X426>0,AVERAGE(SMALL(IF(J426:X426>0,J426:X426),{1,2,3,4,5})),W427)","v":29.3},{"$f":"IF(Y426>0,AVERAGE(SMALL(IF(J426:Y426>0,J426:Y426),{1,2,3,4,5})),X427)","v":29.3},{"$f":"IF(Z426>0,AVERAGE(SMALL(IF(J426:Z426>0,J426:Z426),{1,2,3,4,5,6})),Y427)","v":29.3},{"$f":"IF(AA426>0,AVERAGE(SMALL(IF(J426:AA426>0,J426:AA426),{1,2,3,4,5,6})),Z427)","v":29.3},{"$f":"IF(AB426>0,AVERAGE(SMALL(IF(J426:AB426>0,J426:AB426),{1,2,3,4,5,6,7})),AA427)","v":29.3},{"$f":"IF(AC426>0,AVERAGE(SMALL(IF(J426:AC426>0,J426:AC426),{1,2,3,4,5,6,7,8})),AB427)","v":29.3},{"$f":"IF(AD426>0,AVERAGE(SMALL(IF(K426:AD426>0,K426:AD426),{1,2,3,4,5,6,7,8})),AC427)","v":29.3},{"$f":"IF(AE426>0,AVERAGE(SMALL(IF(L426:AE426>0,L426:AE426),{1,2,3,4,5,6,7,8})),AD427)","v":29.3},{"$f":"IF(AF426>0,AVERAGE(SMALL(IF(M426:AF426>0,M426:AF426),{1,2,3,4,5,6,7,8})),AE427)","v":29.3},{"$f":"IF(AG426>0,AVERAGE(SMALL(IF(N426:AG426>0,N426:AG426),{1,2,3,4,5,6,7,8})),AF427)","v":29.3},{"$f":"IF(AH426>0,AVERAGE(SMALL(IF(O426:AH426>0,O426:AH426),{1,2,3,4,5,6,7,8})),AG427)","v":29.3},{"$f":"IF(AI426>0,AVERAGE(SMALL(IF(P426:AI426>0,P426:AI426),{1,2,3,4,5,6,7,8})),AH427)","v":29.3},{"$f":"IF(AJ426>0,AVERAGE(SMALL(IF(Q426:AJ426>0,Q426:AJ426),{1,2,3,4,5,6,7,8})),AI427)","v":29.3},{"$f":"IF(AK426>0,AVERAGE(SMALL(IF(R426:AK426>0,R426:AK426),{1,2,3,4,5,6,7,8})),AJ427)","v":29.3},{"$f":"IF(AL426>0,AVERAGE(SMALL(IF(S426:AL426>0,S426:AL426),{1,2,3,4,5,6,7,8})),AK427)","v":29.3},{"$f":"IF(AM426>0,AVERAGE(SMALL(IF(T426:AM426>0,T426:AM426),{1,2,3,4,5,6,7,8})),AL427)","v":29.3},{"$f":"IF(AN426>0,AVERAGE(SMALL(IF(U426:AN426>0,U426:AN426),{1,2,3,4,5,6,7,8})),AM427)","v":29.3},{"$f":"IF(AO426>0,AVERAGE(SMALL(IF(V426:AO426>0,V426:AO426),{1,2,3,4,5,6,7,8})),AN427)","v":29.3},{"$f":"IF(AP426>0,AVERAGE(SMALL(IF(W426:AP426>0,W426:AP426),{1,2,3,4,5,6,7,8})),AO427)","v":29.3},{"$f":"IF(AQ426>0,AVERAGE(SMALL(IF(X426:AQ426>0,X426:AQ426),{1,2,3,4,5,6,7,8})),AP427)","v":29.3},{"$f":"IF(AR426>0,AVERAGE(SMALL(IF(Y426:AR426>0,Y426:AR426),{1,2,3,4,5,6,7,8})),AQ427)","v":29.3},{"$f":"IF(AS426>0,AVERAGE(SMALL(IF(Z426:AS426>0,Z426:AS426),{1,2,3,4,5,6,7,8})),AR427)","v":29.3},{"$f":"IF(AT426>0,AVERAGE(SMALL(IF(AA426:AT426>0,AA426:AT426),{1,2,3,4,5,6,7,8})),AS427)","v":29.3},{"$f":"IF(AU426>0,AVERAGE(SMALL(IF(AB426:AU426>0,AB426:AU426),{1,2,3,4,5,6,7,8})),AT427)","v":29.3},{"$f":"IF(AV426>0,AVERAGE(SMALL(IF(AC426:AV426>0,AC426:AV426),{1,2,3,4,5,6,7,8})),AU427)","v":29.3},{"$f":"IF(AW426>0,AVERAGE(SMALL(IF(AD426:AW426>0,AD426:AW426),{1,2,3,4,5,6,7,8})),AV427)","v":29.3},{"$f":"IF(AX426>0,AVERAGE(SMALL(IF(AE426:AX426>0,AE426:AX426),{1,2,3,4,5,6,7,8})),AW427)","v":29.3},{"$f":"IF(AY426>0,AVERAGE(SMALL(IF(AF426:AY426>0,AF426:AY426),{1,2,3,4,5,6,7,8})),AX427)","v":29.3},{"$f":"IF(AZ426>0,AVERAGE(SMALL(IF(AG426:AZ426>0,AG426:AZ426),{1,2,3,4,5,6,7,8})),AY427)","v":29.3},{"$f":"IF(BA426>0,AVERAGE(SMALL(IF(AH426:BA426>0,AH426:BA426),{1,2,3,4,5,6,7,8})),AZ427)","v":29.3},{"$f":"IF(BB426>0,AVERAGE(SMALL(IF(AI426:BB426>0,AI426:BB426),{1,2,3,4,5,6,7,8})),BA427)","v":29.3},{"$f":"IF(BC426>0,AVERAGE(SMALL(IF(AJ426:BC426>0,AJ426:BC426),{1,2,3,4,5,6,7,8})),BB427)","v":29.3},{"$f":"IF(BD426>0,AVERAGE(SMALL(IF(AK426:BD426>0,AK426:BD426),{1,2,3,4,5,6,7,8})),BC427)","v":29.3},{"$f":"IF(BE426>0,AVERAGE(SMALL(IF(AL426:BE426>0,AL426:BE426),{1,2,3,4,5,6,7,8})),BD427)","v":29.3},{"$f":"IF(BF426>0,AVERAGE(SMALL(IF(AM426:BF426>0,AM426:BF426),{1,2,3,4,5,6,7,8})),BE427)","v":29.3},{"$f":"IF(BG426>0,AVERAGE(SMALL(IF(AN426:BG426>0,AN426:BG426),{1,2,3,4,5,6,7,8})),BF427)","v":29.3},{"$f":"IF(BH426>0,AVERAGE(SMALL(IF(AO426:BH426>0,AO426:BH426),{1,2,3,4,5,6,7,8})),BG427)","v":29.3},{"$f":"IF(BI426>0,AVERAGE(SMALL(IF(AP426:BI426>0,AP426:BI426),{1,2,3,4,5,6,7,8})),BH427)","v":29.3},{"$f":"IF(BJ426>0,AVERAGE(SMALL(IF(AQ426:BJ426>0,AQ426:BJ426),{1,2,3,4,5,6,7,8})),BI427)","v":29.3},{"$f":"IF(BK426>0,AVERAGE(SMALL(IF(AR426:BK426>0,AR426:BK426),{1,2,3,4,5,6,7,8})),BJ427)","v":29.3},{"$f":"IF(BL426>0,AVERAGE(SMALL(IF(AS426:BL426>0,AS426:BL426),{1,2,3,4,5,6,7,8})),BK427)","v":29.3},{"$f":"IF(BM426>0,AVERAGE(SMALL(IF(AT426:BM426>0,AT426:BM426),{1,2,3,4,5,6,7,8})),BL427)","v":29.3},{"$f":"IF(BN426>0,AVERAGE(SMALL(IF(AU426:BN426>0,AU426:BN426),{1,2,3,4,5,6,7,8})),BM427)","v":29.3},{"$f":"IF(BO426>0,AVERAGE(SMALL(IF(AV426:BO426>0,AV426:BO426),{1,2,3,4,5,6,7,8})),BN427)","v":29.3},{"$f":"IF(BP426>0,AVERAGE(SMALL(IF(AW426:BP426>0,AW426:BP426),{1,2,3,4,5,6,7,8})),BO427)","v":29.3},{"$f":"IF(BQ426>0,AVERAGE(SMALL(IF(AX426:BQ426>0,AX426:BQ426),{1,2,3,4,5,6,7,8})),BP427)","v":29.3},{"$f":"IF(BR426>0,AVERAGE(SMALL(IF(AY426:BR426>0,AY426:BR426),{1,2,3,4,5,6,7,8})),BQ427)","v":29.3},{"$f":"IF(BS426>0,AVERAGE(SMALL(IF(AZ426:BS426>0,AZ426:BS426),{1,2,3,4,5,6,7,8})),BR427)","v":29.3},{"$f":"IF(BT426>0,AVERAGE(SMALL(IF(BA426:BT426>0,BA426:BT426),{1,2,3,4,5,6,7,8})),BS427)","v":29.3},{"$f":"IF(BU426>0,AVERAGE(SMALL(IF(BB426:BU426>0,BB426:BU426),{1,2,3,4,5,6,7,8})),BT427)","v":29.3},{"$f":"IF(BV426>0,AVERAGE(SMALL(IF(BC426:BV426>0,BC426:BV426),{1,2,3,4,5,6,7,8})),BU427)","v":29.3},{"$f":"IF(BW426>0,AVERAGE(SMALL(IF(BD426:BW426>0,BD426:BW426),{1,2,3,4,5,6,7,8})),BV427)","v":29.3},{"$f":"IF(BX426>0,AVERAGE(SMALL(IF(BE426:BX426>0,BE426:BX426),{1,2,3,4,5,6,7,8})),BW427)","v":29.3},{"$f":"IF(BY426>0,AVERAGE(SMALL(IF(BF426:BY426>0,BF426:BY426),{1,2,3,4,5,6,7,8})),BX427)","v":29.3},{"$f":"IF(BZ426>0,AVERAGE(SMALL(IF(BG426:BZ426>0,BG426:BZ426),{1,2,3,4,5,6,7,8})),BY427)","v":29.3},{"$f":"IF(CA426>0,AVERAGE(SMALL(IF(BH426:CA426>0,BH426:CA426),{1,2,3,4,5,6,7,8})),BZ427)","v":29.3},{"$f":"IF(CB426>0,AVERAGE(SMALL(IF(BI426:CB426>0,BI426:CB426),{1,2,3,4,5,6,7,8})),CA427)","v":29.3},{"$f":"IF(CC426>0,AVERAGE(SMALL(IF(BJ426:CC426>0,BJ426:CC426),{1,2,3,4,5,6,7,8})),CB427)","v":29.3},{"$f":"IF(CD426>0,AVERAGE(SMALL(IF(BK426:CD426>0,BK426:CD426),{1,2,3,4,5,6,7,8})),CC427)","v":29.3},{"$f":"IF(CE426>0,AVERAGE(SMALL(IF(BL426:CE426>0,BL426:CE426),{1,2,3,4,5,6,7,8})),CD427)","v":29.3},{"$f":"IF(CF426>0,AVERAGE(SMALL(IF(BM426:CF426>0,BM426:CF426),{1,2,3,4,5,6,7,8})),CE427)","v":29.3},{"$f":"IF(CG426>0,AVERAGE(SMALL(IF(BN426:CG426>0,BN426:CG426),{1,2,3,4,5,6,7,8})),CF427)","v":29.3},{"$f":"IF(CH426>0,AVERAGE(SMALL(IF(BO426:CH426>0,BO426:CH426),{1,2,3,4,5,6,7,8})),CG427)","v":29.3},{"$f":"IF(CI426>0,AVERAGE(SMALL(IF(BP426:CI426>0,BP426:CI426),{1,2,3,4,5,6,7,8})),CH427)","v":29.3},{"$f":"IF(CJ426>0,AVERAGE(SMALL(IF(BQ426:CJ426>0,BQ426:CJ426),{1,2,3,4,5,6,7,8})),CI427)","v":29.3},{"$f":"IF(CK426>0,AVERAGE(SMALL(IF(BR426:CK426>0,BR426:CK426),{1,2,3,4,5,6,7,8})),CJ427)","v":29.3},{"$f":"IF(CL426>0,AVERAGE(SMALL(IF(BS426:CL426>0,BS426:CL426),{1,2,3,4,5,6,7,8})),CK427)","v":29.3},{"$f":"IF(CM426>0,AVERAGE(SMALL(IF(BT426:CM426>0,BT426:CM426),{1,2,3,4,5,6,7,8})),CL427)","v":29.3},{"$f":"IF(CN426>0,AVERAGE(SMALL(IF(BU426:CN426>0,BU426:CN426),{1,2,3,4,5,6,7,8})),CM427)","v":29.3},{"$f":"IF(CO426>0,AVERAGE(SMALL(IF(BV426:CO426>0,BV426:CO426),{1,2,3,4,5,6,7,8})),CN427)","v":29.3},{"$f":"IF(CP426>0,AVERAGE(SMALL(IF(BW426:CP426>0,BW426:CP426),{1,2,3,4,5,6,7,8})),CO427)","v":29.3},{"$f":"IF(CQ426>0,AVERAGE(SMALL(IF(BX426:CQ426>0,BX426:CQ426),{1,2,3,4,5,6,7,8})),CP427)","v":29.3},{"$f":"IF(CR426>0,AVERAGE(SMALL(IF(BY426:CR426>0,BY426:CR426),{1,2,3,4,5,6,7,8})),CQ427)","v":29.3},{"$f":"IF(CS426>0,AVERAGE(SMALL(IF(BZ426:CS426>0,BZ426:CS426),{1,2,3,4,5,6,7,8})),CR427)","v":29.3},{"$f":"IF(CT426>0,AVERAGE(SMALL(IF(CA426:CT426>0,CA426:CT426),{1,2,3,4,5,6,7,8})),CS427)","v":29.3},{"$f":"IF(CU426>0,AVERAGE(SMALL(IF(CB426:CU426>0,CB426:CU426),{1,2,3,4,5,6,7,8})),CT427)","v":29.3},{"$f":"IF(CV426>0,AVERAGE(SMALL(IF(CC426:CV426>0,CC426:CV426),{1,2,3,4,5,6,7,8})),CU427)","v":29.3},{"$f":"IF(CW426>0,AVERAGE(SMALL(IF(CD426:CW426>0,CD426:CW426),{1,2,3,4,5,6,7,8})),CV427)","v":29.3}]
[null,null,null,null,null,null,null,null,"Low Hcap",null,null,null,null,null,null,null,null,null,null,null,null,null,null,null,null,null,null,null,{"$f":"MIN($J427:AC427)","v":29.3},{"$f":"MIN($J427:AD427)","v":29.3},{"$f":"MIN($J427:AE427)","v":29.3},{"$f":"MIN($J427:AF427)","v":29.3},{"$f":"MIN($J427:AG427)","v":29.3},{"$f":"MIN($J427:AH427)","v":29.3},{"$f":"MIN($J427:AI427)","v":29.3},{"$f":"MIN($J427:AJ427)","v":29.3},{"$f":"MIN($J427:AK427)","v":29.3},{"$f":"MIN($J427:AL427)","v":29.3},{"$f":"MIN($J427:AM427)","v":29.3},{"$f":"MIN($J427:AN427)","v":29.3},{"$f":"MIN($J427:AO427)","v":29.3},{"$f":"MIN($J427:AP427)","v":29.3},{"$f":"MIN($J427:AQ427)","v":29.3},{"$f":"MIN($J427:AR427)","v":29.3},{"$f":"MIN($J427:AS427)","v":29.3},{"$f":"MIN($J427:AT427)","v":29.3},{"$f":"MIN($J427:AU427)","v":29.3},{"$f":"MIN($J427:AV427)","v":29.3},{"$f":"MIN($J427:AW427)","v":29.3},{"$f":"MIN($J427:AX427)","v":29.3},{"$f":"MIN($J427:AY427)","v":29.3},{"$f":"MIN($J427:AZ427)","v":29.3},{"$f":"MIN($J427:BA427)","v":29.3},{"$f":"MIN($J427:BB427)","v":29.3},{"$f":"MIN($J427:BC427)","v":29.3},{"$f":"MIN($J427:BD427)","v":29.3},{"$f":"MIN($J427:BE427)","v":29.3},{"$f":"MIN($J427:BF427)","v":29.3},{"$f":"MIN($J427:BG427)","v":29.3},{"$f":"MIN($J427:BH427)","v":29.3},{"$f":"MIN($J427:BI427)","v":29.3},{"$f":"MIN($J427:BJ427)","v":29.3},{"$f":"MIN($J427:BK427)","v":29.3},{"$f":"MIN($J427:BL427)","v":29.3},{"$f":"MIN($J427:BM427)","v":29.3},{"$f":"MIN($J427:BN427)","v":29.3},{"$f":"MIN($J427:BO427)","v":29.3},{"$f":"MIN($J427:BP427)","v":29.3},{"$f":"MIN($J427:BQ427)","v":29.3},{"$f":"MIN($J427:BR427)","v":29.3},{"$f":"MIN($J427:BS427)","v":29.3},{"$f":"MIN($J427:BT427)","v":29.3},{"$f":"MIN($J427:BU427)","v":29.3},{"$f":"MIN($J427:BV427)","v":29.3},{"$f":"MIN($J427:BW427)","v":29.3},{"$f":"MIN($J427:BX427)","v":29.3},{"$f":"MIN($J427:BY427)","v":29.3},{"$f":"MIN($J427:BZ427)","v":29.3},{"$f":"MIN($J427:CA427)","v":29.3},{"$f":"MIN($J427:CB427)","v":29.3},{"$f":"MIN($J427:CC427)","v":29.3},{"$f":"MIN($J427:CD427)","v":29.3},{"$f":"MIN($J427:CE427)","v":29.3},{"$f":"MIN($J427:CF427)","v":29.3},{"$f":"MIN($J427:CG427)","v":29.3},{"$f":"MIN($J427:CH427)","v":29.3},{"$f":"MIN($J427:CI427)","v":29.3},{"$f":"MIN($J427:CJ427)","v":29.3},{"$f":"MIN($J427:CK427)","v":29.3},{"$f":"MIN($J427:CL427)","v":29.3},{"$f":"MIN($J427:CM427)","v":29.3},{"$f":"MIN($J427:CN427)","v":29.3},{"$f":"MIN($J427:CO427)","v":29.3},{"$f":"MIN($J427:CP427)","v":29.3},{"$f":"MIN($J427:CQ427)","v":29.3},{"$f":"MIN($J427:CR427)","v":29.3},{"$f":"MIN($J427:CS427)","v":29.3},{"$f":"MIN($J427:CT427)","v":29.3},{"$f":"MIN($J427:CU427)","v":29.3},{"$f":"MIN($J427:CV427)","v":29.3},{"$f":"MIN($J427:CW427)","v":29.3}]
[null,"Pritchard","Alena",36,null,{"$f":"IF(H429<4,\"Y\",)","v":"Y"},2016,{"$f":"COUNT(J429:CX429)","v":0},"Date",null,null,null,null,null,null,null,null,null,null,null,null,null,null,null,null,null,null,null,null,null,null,null,null,null,null,null,null,null,null,null,null,null,null,null,null,null,null,null,null,null,null,null,null,null,null,null,null,null,null,null,null,null,null,null,null,null,null,null,null,null,null,null,null,null,null,null,null,null,null,null,null,null,null,null,null,null,null,null,null,null,null,null,null,null,null,null,null,null,null,null,null,null,{"$f":"IF(CW433>$DD$1,36,CW433)","v":34},34,{"$f":"CZ429-CY429","v":0}]
[null,null,null,null,null,null,null,null,"Course"]
[null,null,null,null,null,null,null,null,"Ad Gr"]
[null,null,null,null,null,null,null,null,"SD",{"$f":"D429","v":36},{"$f":"IF(K431=\"\",0,(K431-INDIRECT(CONCATENATE(K430,\"CR\")))*113/INDIRECT(CONCATENATE(K430,\"SR\")))","v":0},0,0,0,0,0,0,0,0,0,0,0,0,0,0,0,0,0,0,0,0,0,0,0,0,0,0,0,0,0,0,0,0,0,0,0,0,0,0,0,0,0,0,0,0,0,0,0,0,0,0,0,0,0,0,0,0,0,0,0,0,0,0,0,{"$f":"IF(BW431=\"\",0,(BW431-INDIRECT(CONCATENATE(BW430,\"CR\")))*113/INDIRECT(CONCATENATE(BW430,\"SR\")))","v":0},0,0,0,0,0,0,0,0,0,0,0,0,0,0,0,{"$f":"IF(CM431=\"\",0,(CM431-INDIRECT(CONCATENATE(CM430,\"CR\")))*113/INDIRECT(CONCATENATE(CM430,\"SR\")))","v":0},0,{"$f":"IF(CO431=\"\",0,(CO431-INDIRECT(CONCATENATE(CO430,\"CR\")))*113/INDIRECT(CONCATENATE(CO430,\"SR\")))","v":0},0,{"$f":"IF(CQ431=\"\",0,(CQ431-INDIRECT(CONCATENATE(CQ430,\"CR\")))*113/INDIRECT(CONCATENATE(CQ430,\"SR\")))","v":0},0,{"$f":"IF(CS431=\"\",0,(CS431-INDIRECT(CONCATENATE(CS430,\"CR\")))*113/INDIRECT(CONCATENATE(CS430,\"SR\")))","v":0},0,{"$f":"IF(CU431=\"\",0,(CU431-INDIRECT(CONCATENATE(CU430,\"CR\")))*113/INDIRECT(CONCATENATE(CU430,\"SR\")))","v":0},0,{"$f":"IF(CW431=\"\",0,(CW431-INDIRECT(CONCATENATE(CW430,\"CR\")))*113/INDIRECT(CONCATENATE(CW430,\"SR\")))","v":0}]
[null,null,null,null,null,null,null,null,"New Hcap",{"$f":"J432-2","v":34},{"$f":"IF(K432>0,MIN(J432:K432)-2,J433)","v":34},{"$f":"IF(L432>0,MIN(J432:L432)-2,K433)","v":34},{"$f":"IF(M432>0,MIN(J432:M432)-1,L433)","v":34},{"$f":"IF(N432>0,MIN(J432:N432),M433)","v":34},{"$f":"IF(O432>0,AVERAGE(SMALL(IF(J432:O432>0,J432:O432),{1,2}))-1,N433)","v":34},{"$f":"IF(P432>0,AVERAGE(SMALL(IF(J432:P432>0,J432:P432),{1,2})),O433)","v":34},{"$f":"IF(Q432>0,AVERAGE(SMALL(IF(J432:Q432>0,J432:Q432),{1,2})),P433)","v":34},{"$f":"IF(R432>0,AVERAGE(SMALL(IF(J432:R432>0,J432:R432),{1,2,3})),Q433)","v":34},{"$f":"IF(S432>0,AVERAGE(SMALL(IF(J432:S432>0,J432:S432),{1,2,3})),R433)","v":34},{"$f":"IF(T432>0,AVERAGE(SMALL(IF(J432:T432>0,J432:T432),{1,2,3})),S433)","v":34},{"$f":"IF(U432>0,AVERAGE(SMALL(IF(J432:U432>0,J432:U432),{1,2,3,4})),T433)","v":34},{"$f":"IF(V432>0,AVERAGE(SMALL(IF(J432:V432>0,J432:V432),{1,2,3,4})),U433)","v":34},{"$f":"IF(W432>0,AVERAGE(SMALL(IF(J432:W432>0,J432:W432),{1,2,3,4})),V433)","v":34},{"$f":"IF(X432>0,AVERAGE(SMALL(IF(J432:X432>0,J432:X432),{1,2,3,4,5})),W433)","v":34},{"$f":"IF(Y432>0,AVERAGE(SMALL(IF(J432:Y432>0,J432:Y432),{1,2,3,4,5})),X433)","v":34},{"$f":"IF(Z432>0,AVERAGE(SMALL(IF(J432:Z432>0,J432:Z432),{1,2,3,4,5,6})),Y433)","v":34},{"$f":"IF(AA432>0,AVERAGE(SMALL(IF(J432:AA432>0,J432:AA432),{1,2,3,4,5,6})),Z433)","v":34},{"$f":"IF(AB432>0,AVERAGE(SMALL(IF(J432:AB432>0,J432:AB432),{1,2,3,4,5,6,7})),AA433)","v":34},{"$f":"IF(AC432>0,AVERAGE(SMALL(IF(J432:AC432>0,J432:AC432),{1,2,3,4,5,6,7,8})),AB433)","v":34},{"$f":"IF(AD432>0,AVERAGE(SMALL(IF(K432:AD432>0,K432:AD432),{1,2,3,4,5,6,7,8})),AC433)","v":34},{"$f":"IF(AE432>0,AVERAGE(SMALL(IF(L432:AE432>0,L432:AE432),{1,2,3,4,5,6,7,8})),AD433)","v":34},{"$f":"IF(AF432>0,AVERAGE(SMALL(IF(M432:AF432>0,M432:AF432),{1,2,3,4,5,6,7,8})),AE433)","v":34},{"$f":"IF(AG432>0,AVERAGE(SMALL(IF(N432:AG432>0,N432:AG432),{1,2,3,4,5,6,7,8})),AF433)","v":34},{"$f":"IF(AH432>0,AVERAGE(SMALL(IF(O432:AH432>0,O432:AH432),{1,2,3,4,5,6,7,8})),AG433)","v":34},{"$f":"IF(AI432>0,AVERAGE(SMALL(IF(P432:AI432>0,P432:AI432),{1,2,3,4,5,6,7,8})),AH433)","v":34},{"$f":"IF(AJ432>0,AVERAGE(SMALL(IF(Q432:AJ432>0,Q432:AJ432),{1,2,3,4,5,6,7,8})),AI433)","v":34},{"$f":"IF(AK432>0,AVERAGE(SMALL(IF(R432:AK432>0,R432:AK432),{1,2,3,4,5,6,7,8})),AJ433)","v":34},{"$f":"IF(AL432>0,AVERAGE(SMALL(IF(S432:AL432>0,S432:AL432),{1,2,3,4,5,6,7,8})),AK433)","v":34},{"$f":"IF(AM432>0,AVERAGE(SMALL(IF(T432:AM432>0,T432:AM432),{1,2,3,4,5,6,7,8})),AL433)","v":34},{"$f":"IF(AN432>0,AVERAGE(SMALL(IF(U432:AN432>0,U432:AN432),{1,2,3,4,5,6,7,8})),AM433)","v":34},{"$f":"IF(AO432>0,AVERAGE(SMALL(IF(V432:AO432>0,V432:AO432),{1,2,3,4,5,6,7,8})),AN433)","v":34},{"$f":"IF(AP432>0,AVERAGE(SMALL(IF(W432:AP432>0,W432:AP432),{1,2,3,4,5,6,7,8})),AO433)","v":34},{"$f":"IF(AQ432>0,AVERAGE(SMALL(IF(X432:AQ432>0,X432:AQ432),{1,2,3,4,5,6,7,8})),AP433)","v":34},{"$f":"IF(AR432>0,AVERAGE(SMALL(IF(Y432:AR432>0,Y432:AR432),{1,2,3,4,5,6,7,8})),AQ433)","v":34},{"$f":"IF(AS432>0,AVERAGE(SMALL(IF(Z432:AS432>0,Z432:AS432),{1,2,3,4,5,6,7,8})),AR433)","v":34},{"$f":"IF(AT432>0,AVERAGE(SMALL(IF(AA432:AT432>0,AA432:AT432),{1,2,3,4,5,6,7,8})),AS433)","v":34},{"$f":"IF(AU432>0,AVERAGE(SMALL(IF(AB432:AU432>0,AB432:AU432),{1,2,3,4,5,6,7,8})),AT433)","v":34},{"$f":"IF(AV432>0,AVERAGE(SMALL(IF(AC432:AV432>0,AC432:AV432),{1,2,3,4,5,6,7,8})),AU433)","v":34},{"$f":"IF(AW432>0,AVERAGE(SMALL(IF(AD432:AW432>0,AD432:AW432),{1,2,3,4,5,6,7,8})),AV433)","v":34},{"$f":"IF(AX432>0,AVERAGE(SMALL(IF(AE432:AX432>0,AE432:AX432),{1,2,3,4,5,6,7,8})),AW433)","v":34},{"$f":"IF(AY432>0,AVERAGE(SMALL(IF(AF432:AY432>0,AF432:AY432),{1,2,3,4,5,6,7,8})),AX433)","v":34},{"$f":"IF(AZ432>0,AVERAGE(SMALL(IF(AG432:AZ432>0,AG432:AZ432),{1,2,3,4,5,6,7,8})),AY433)","v":34},{"$f":"IF(BA432>0,AVERAGE(SMALL(IF(AH432:BA432>0,AH432:BA432),{1,2,3,4,5,6,7,8})),AZ433)","v":34},{"$f":"IF(BB432>0,AVERAGE(SMALL(IF(AI432:BB432>0,AI432:BB432),{1,2,3,4,5,6,7,8})),BA433)","v":34},{"$f":"IF(BC432>0,AVERAGE(SMALL(IF(AJ432:BC432>0,AJ432:BC432),{1,2,3,4,5,6,7,8})),BB433)","v":34},{"$f":"IF(BD432>0,AVERAGE(SMALL(IF(AK432:BD432>0,AK432:BD432),{1,2,3,4,5,6,7,8})),BC433)","v":34},{"$f":"IF(BE432>0,AVERAGE(SMALL(IF(AL432:BE432>0,AL432:BE432),{1,2,3,4,5,6,7,8})),BD433)","v":34},{"$f":"IF(BF432>0,AVERAGE(SMALL(IF(AM432:BF432>0,AM432:BF432),{1,2,3,4,5,6,7,8})),BE433)","v":34},{"$f":"IF(BG432>0,AVERAGE(SMALL(IF(AN432:BG432>0,AN432:BG432),{1,2,3,4,5,6,7,8})),BF433)","v":34},{"$f":"IF(BH432>0,AVERAGE(SMALL(IF(AO432:BH432>0,AO432:BH432),{1,2,3,4,5,6,7,8})),BG433)","v":34},{"$f":"IF(BI432>0,AVERAGE(SMALL(IF(AP432:BI432>0,AP432:BI432),{1,2,3,4,5,6,7,8})),BH433)","v":34},{"$f":"IF(BJ432>0,AVERAGE(SMALL(IF(AQ432:BJ432>0,AQ432:BJ432),{1,2,3,4,5,6,7,8})),BI433)","v":34},{"$f":"IF(BK432>0,AVERAGE(SMALL(IF(AR432:BK432>0,AR432:BK432),{1,2,3,4,5,6,7,8})),BJ433)","v":34},{"$f":"IF(BL432>0,AVERAGE(SMALL(IF(AS432:BL432>0,AS432:BL432),{1,2,3,4,5,6,7,8})),BK433)","v":34},{"$f":"IF(BM432>0,AVERAGE(SMALL(IF(AT432:BM432>0,AT432:BM432),{1,2,3,4,5,6,7,8})),BL433)","v":34},{"$f":"IF(BN432>0,AVERAGE(SMALL(IF(AU432:BN432>0,AU432:BN432),{1,2,3,4,5,6,7,8})),BM433)","v":34},{"$f":"IF(BO432>0,AVERAGE(SMALL(IF(AV432:BO432>0,AV432:BO432),{1,2,3,4,5,6,7,8})),BN433)","v":34},{"$f":"IF(BP432>0,AVERAGE(SMALL(IF(AW432:BP432>0,AW432:BP432),{1,2,3,4,5,6,7,8})),BO433)","v":34},{"$f":"IF(BQ432>0,AVERAGE(SMALL(IF(AX432:BQ432>0,AX432:BQ432),{1,2,3,4,5,6,7,8})),BP433)","v":34},{"$f":"IF(BR432>0,AVERAGE(SMALL(IF(AY432:BR432>0,AY432:BR432),{1,2,3,4,5,6,7,8})),BQ433)","v":34},{"$f":"IF(BS432>0,AVERAGE(SMALL(IF(AZ432:BS432>0,AZ432:BS432),{1,2,3,4,5,6,7,8})),BR433)","v":34},{"$f":"IF(BT432>0,AVERAGE(SMALL(IF(BA432:BT432>0,BA432:BT432),{1,2,3,4,5,6,7,8})),BS433)","v":34},{"$f":"IF(BU432>0,AVERAGE(SMALL(IF(BB432:BU432>0,BB432:BU432),{1,2,3,4,5,6,7,8})),BT433)","v":34},{"$f":"IF(BV432>0,AVERAGE(SMALL(IF(BC432:BV432>0,BC432:BV432),{1,2,3,4,5,6,7,8})),BU433)","v":34},{"$f":"IF(BW432>0,AVERAGE(SMALL(IF(BD432:BW432>0,BD432:BW432),{1,2,3,4,5,6,7,8})),BV433)","v":34},{"$f":"IF(BX432>0,AVERAGE(SMALL(IF(BE432:BX432>0,BE432:BX432),{1,2,3,4,5,6,7,8})),BW433)","v":34},{"$f":"IF(BY432>0,AVERAGE(SMALL(IF(BF432:BY432>0,BF432:BY432),{1,2,3,4,5,6,7,8})),BX433)","v":34},{"$f":"IF(BZ432>0,AVERAGE(SMALL(IF(BG432:BZ432>0,BG432:BZ432),{1,2,3,4,5,6,7,8})),BY433)","v":34},{"$f":"IF(CA432>0,AVERAGE(SMALL(IF(BH432:CA432>0,BH432:CA432),{1,2,3,4,5,6,7,8})),BZ433)","v":34},{"$f":"IF(CB432>0,AVERAGE(SMALL(IF(BI432:CB432>0,BI432:CB432),{1,2,3,4,5,6,7,8})),CA433)","v":34},{"$f":"IF(CC432>0,AVERAGE(SMALL(IF(BJ432:CC432>0,BJ432:CC432),{1,2,3,4,5,6,7,8})),CB433)","v":34},{"$f":"IF(CD432>0,AVERAGE(SMALL(IF(BK432:CD432>0,BK432:CD432),{1,2,3,4,5,6,7,8})),CC433)","v":34},{"$f":"IF(CE432>0,AVERAGE(SMALL(IF(BL432:CE432>0,BL432:CE432),{1,2,3,4,5,6,7,8})),CD433)","v":34},{"$f":"IF(CF432>0,AVERAGE(SMALL(IF(BM432:CF432>0,BM432:CF432),{1,2,3,4,5,6,7,8})),CE433)","v":34},{"$f":"IF(CG432>0,AVERAGE(SMALL(IF(BN432:CG432>0,BN432:CG432),{1,2,3,4,5,6,7,8})),CF433)","v":34},{"$f":"IF(CH432>0,AVERAGE(SMALL(IF(BO432:CH432>0,BO432:CH432),{1,2,3,4,5,6,7,8})),CG433)","v":34},{"$f":"IF(CI432>0,AVERAGE(SMALL(IF(BP432:CI432>0,BP432:CI432),{1,2,3,4,5,6,7,8})),CH433)","v":34},{"$f":"IF(CJ432>0,AVERAGE(SMALL(IF(BQ432:CJ432>0,BQ432:CJ432),{1,2,3,4,5,6,7,8})),CI433)","v":34},{"$f":"IF(CK432>0,AVERAGE(SMALL(IF(BR432:CK432>0,BR432:CK432),{1,2,3,4,5,6,7,8})),CJ433)","v":34},{"$f":"IF(CL432>0,AVERAGE(SMALL(IF(BS432:CL432>0,BS432:CL432),{1,2,3,4,5,6,7,8})),CK433)","v":34},{"$f":"IF(CM432>0,AVERAGE(SMALL(IF(BT432:CM432>0,BT432:CM432),{1,2,3,4,5,6,7,8})),CL433)","v":34},{"$f":"IF(CN432>0,AVERAGE(SMALL(IF(BU432:CN432>0,BU432:CN432),{1,2,3,4,5,6,7,8})),CM433)","v":34},{"$f":"IF(CO432>0,AVERAGE(SMALL(IF(BV432:CO432>0,BV432:CO432),{1,2,3,4,5,6,7,8})),CN433)","v":34},{"$f":"IF(CP432>0,AVERAGE(SMALL(IF(BW432:CP432>0,BW432:CP432),{1,2,3,4,5,6,7,8})),CO433)","v":34},{"$f":"IF(CQ432>0,AVERAGE(SMALL(IF(BX432:CQ432>0,BX432:CQ432),{1,2,3,4,5,6,7,8})),CP433)","v":34},{"$f":"IF(CR432>0,AVERAGE(SMALL(IF(BY432:CR432>0,BY432:CR432),{1,2,3,4,5,6,7,8})),CQ433)","v":34},{"$f":"IF(CS432>0,AVERAGE(SMALL(IF(BZ432:CS432>0,BZ432:CS432),{1,2,3,4,5,6,7,8})),CR433)","v":34},{"$f":"IF(CT432>0,AVERAGE(SMALL(IF(CA432:CT432>0,CA432:CT432),{1,2,3,4,5,6,7,8})),CS433)","v":34},{"$f":"IF(CU432>0,AVERAGE(SMALL(IF(CB432:CU432>0,CB432:CU432),{1,2,3,4,5,6,7,8})),CT433)","v":34},{"$f":"IF(CV432>0,AVERAGE(SMALL(IF(CC432:CV432>0,CC432:CV432),{1,2,3,4,5,6,7,8})),CU433)","v":34},{"$f":"IF(CW432>0,AVERAGE(SMALL(IF(CD432:CW432>0,CD432:CW432),{1,2,3,4,5,6,7,8})),CV433)","v":34}]
[null,null,null,null,null,null,null,null,"Low Hcap",null,null,null,null,null,null,null,null,null,null,null,null,null,null,null,null,null,null,null,{"$f":"MIN($J433:AC433)","v":34},{"$f":"MIN($J433:AD433)","v":34},{"$f":"MIN($J433:AE433)","v":34},{"$f":"MIN($J433:AF433)","v":34},{"$f":"MIN($J433:AG433)","v":34},{"$f":"MIN($J433:AH433)","v":34},{"$f":"MIN($J433:AI433)","v":34},{"$f":"MIN($J433:AJ433)","v":34},{"$f":"MIN($J433:AK433)","v":34},{"$f":"MIN($J433:AL433)","v":34},{"$f":"MIN($J433:AM433)","v":34},{"$f":"MIN($J433:AN433)","v":34},{"$f":"MIN($J433:AO433)","v":34},{"$f":"MIN($J433:AP433)","v":34},{"$f":"MIN($J433:AQ433)","v":34},{"$f":"MIN($J433:AR433)","v":34},{"$f":"MIN($J433:AS433)","v":34},{"$f":"MIN($J433:AT433)","v":34},{"$f":"MIN($J433:AU433)","v":34},{"$f":"MIN($J433:AV433)","v":34},{"$f":"MIN($J433:AW433)","v":34},{"$f":"MIN($J433:AX433)","v":34},{"$f":"MIN($J433:AY433)","v":34},{"$f":"MIN($J433:AZ433)","v":34},{"$f":"MIN($J433:BA433)","v":34},{"$f":"MIN($J433:BB433)","v":34},{"$f":"MIN($J433:BC433)","v":34},{"$f":"MIN($J433:BD433)","v":34},{"$f":"MIN($J433:BE433)","v":34},{"$f":"MIN($J433:BF433)","v":34},{"$f":"MIN($J433:BG433)","v":34},{"$f":"MIN($J433:BH433)","v":34},{"$f":"MIN($J433:BI433)","v":34},{"$f":"MIN($J433:BJ433)","v":34},{"$f":"MIN($J433:BK433)","v":34},{"$f":"MIN($J433:BL433)","v":34},{"$f":"MIN($J433:BM433)","v":34},{"$f":"MIN($J433:BN433)","v":34},{"$f":"MIN($J433:BO433)","v":34},{"$f":"MIN($J433:BP433)","v":34},{"$f":"MIN($J433:BQ433)","v":34},{"$f":"MIN($J433:BR433)","v":34},{"$f":"MIN($J433:BS433)","v":34},{"$f":"MIN($J433:BT433)","v":34},{"$f":"MIN($J433:BU433)","v":34},{"$f":"MIN($J433:BV433)","v":34},{"$f":"MIN($J433:BW433)","v":34},{"$f":"MIN($J433:BX433)","v":34},{"$f":"MIN($J433:BY433)","v":34},{"$f":"MIN($J433:BZ433)","v":34},{"$f":"MIN($J433:CA433)","v":34},{"$f":"MIN($J433:CB433)","v":34},{"$f":"MIN($J433:CC433)","v":34},{"$f":"MIN($J433:CD433)","v":34},{"$f":"MIN($J433:CE433)","v":34},{"$f":"MIN($J433:CF433)","v":34},{"$f":"MIN($J433:CG433)","v":34},{"$f":"MIN($J433:CH433)","v":34},{"$f":"MIN($J433:CI433)","v":34},{"$f":"MIN($J433:CJ433)","v":34},{"$f":"MIN($J433:CK433)","v":34},{"$f":"MIN($J433:CL433)","v":34},{"$f":"MIN($J433:CM433)","v":34},{"$f":"MIN($J433:CN433)","v":34},{"$f":"MIN($J433:CO433)","v":34},{"$f":"MIN($J433:CP433)","v":34},{"$f":"MIN($J433:CQ433)","v":34},{"$f":"MIN($J433:CR433)","v":34},{"$f":"MIN($J433:CS433)","v":34},{"$f":"MIN($J433:CT433)","v":34},{"$f":"MIN($J433:CU433)","v":34},{"$f":"MIN($J433:CV433)","v":34},{"$f":"MIN($J433:CW433)","v":34}]
[null,"Pritchard","Steve",9.6,null,{"$f":"IF(H435<4,\"Y\",)","v":0},null,{"$f":"COUNT(J435:CX435)","v":30},"Date","2018-07-08","2018-08-05","2018-08-08","2018-10-12","2019-09-29","2019-10-04","2019-10-13","2019-10-23","2019-11-10","2019-11-20","2020-05-24","2020-05-31","2020-06-10","2020-06-28","2020-07-12","2020-07-15","2020-08-23","2020-08-26","2020-09-16","2021-05-09","2021-06-13","2021-07-11","2021-07-21","2021-07-25","2021-08-22","2021-09-19","2022-07-03","2022-07-24","2022-07-31","2022-09-11",null,null,null,null,null,null,null,null,null,null,null,null,null,null,null,null,null,null,null,null,null,null,null,null,null,null,null,null,null,null,null,null,null,null,null,null,null,null,null,null,null,null,null,null,null,null,null,null,null,null,null,null,null,null,null,null,null,null,null,null,null,null,null,{"$f":"IF(CW439>$DD$1,36,CW439)","v":9.3060775102759834},9.3060775102759834,{"$f":"CZ435-CY435","v":0}]
[null,null,null,null,null,null,null,null,"Course","PfaffingHG","ErdingHG","GutThailingHG","ErdingHG","TegernbachHG","ErdingHG","PfaffingHG","GutThailingHG","TegernbachHG","GutThailingHG","PfaffingHG","ErdingHG","GutThailingHG","ErdingHG","PfaffingHG","GutThailingHG","PfaffingHG","GutThailingHG","GutThailingHG","ErdingHG","PfaffingHG","PfaffingHG","GutThailingHG","OdelzhausenHG","PfaffingHG","ErdingHG","Pfaffing2022HG","Pfaffing2022HG","HohenpaehlHG","Pfaffing2022HG"]
[null,null,null,null,null,null,null,null,"Ad Gr",91,81,88,86,87,90,80,84,87,86,86,82,82,81,89,82,86,87,82,80,87,88,82,94,91,81,89,93,89,95]
[null,null,null,null,null,null,null,null,"SD",{"$f":"IF(J437=\"\",0,(J437-INDIRECT(CONCATENATE(J436,\"CR\")))*113/INDIRECT(CONCATENATE(J436,\"SR\")))","v":16.515384615384615},{"$f":"IF(K437=\"\",0,(K437-INDIRECT(CONCATENATE(K436,\"CR\")))*113/INDIRECT(CONCATENATE(K436,\"SR\")))","v":8.6923076923076916},15.095419847328245,13.038461538461538,13.097727272727269,16.515384615384615,6.953846153846154,11.645038167938932,13.097727272727269,13.370229007633588,12.169230769230769,9.5615384615384613,9.9198473282442752,8.6923076923076916,14.776923076923078,9.9198473282442752,12.169230769230769,14.232824427480915,9.9198473282442752,7.8230769230769228,13.038461538461538,13.907692307692308,9.9198473282442752,19.752755905511815,16.515384615384615,8.6923076923076916,14.168461538461536,17.645384615384614,15.785496183206105,19.38384615384615,0,0,0,0,0,0,0,0,0,0,0,0,0,0,0,0,0,0,0,0,0,0,0,0,0,0,0,0,0,0,0,0,0,0,0,{"$f":"IF(BW437=\"\",0,(BW437-INDIRECT(CONCATENATE(BW436,\"CR\")))*113/INDIRECT(CONCATENATE(BW436,\"SR\")))","v":0},0,0,0,0,0,0,0,0,0,0,0,0,0,0,0,{"$f":"IF(CM437=\"\",0,(CM437-INDIRECT(CONCATENATE(CM436,\"CR\")))*113/INDIRECT(CONCATENATE(CM436,\"SR\")))","v":0},0,{"$f":"IF(CO437=\"\",0,(CO437-INDIRECT(CONCATENATE(CO436,\"CR\")))*113/INDIRECT(CONCATENATE(CO436,\"SR\")))","v":0},0,{"$f":"IF(CQ437=\"\",0,(CQ437-INDIRECT(CONCATENATE(CQ436,\"CR\")))*113/INDIRECT(CONCATENATE(CQ436,\"SR\")))","v":0},0,{"$f":"IF(CS437=\"\",0,(CS437-INDIRECT(CONCATENATE(CS436,\"CR\")))*113/INDIRECT(CONCATENATE(CS436,\"SR\")))","v":0},0,{"$f":"IF(CU437=\"\",0,(CU437-INDIRECT(CONCATENATE(CU436,\"CR\")))*113/INDIRECT(CONCATENATE(CU436,\"SR\")))","v":0},0,{"$f":"IF(CW437=\"\",0,(CW437-INDIRECT(CONCATENATE(CW436,\"CR\")))*113/INDIRECT(CONCATENATE(CW436,\"SR\")))","v":0}]
[null,null,null,null,null,null,null,null,"New Hcap",{"$f":"J438-2","v":14.515384615384615},{"$f":"IF(K438>0,MIN(J438:K438)-2,J439)","v":6.6923076923076916},{"$f":"IF(L438>0,MIN(J438:L438)-2,K439)","v":6.6923076923076916},{"$f":"IF(M438>0,MIN(J438:M438)-1,L439)","v":7.6923076923076916},{"$f":"IF(N438>0,MIN(J438:N438),M439)","v":8.6923076923076916},{"$f":"IF(O438>0,AVERAGE(SMALL(IF(J438:O438>0,J438:O438),{1,2}))-1,N439)","v":9.865384615384615},{"$f":"IF(P438>0,AVERAGE(SMALL(IF(J438:P438>0,J438:P438),{1,2})),O439)","v":7.8230769230769228},{"$f":"IF(Q438>0,AVERAGE(SMALL(IF(J438:Q438>0,J438:Q438),{1,2})),P439)","v":7.8230769230769228},{"$f":"IF(R438>0,AVERAGE(SMALL(IF(J438:R438>0,J438:R438),{1,2,3})),Q439)","v":9.097064004697593},{"$f":"IF(S438>0,AVERAGE(SMALL(IF(J438:S438>0,J438:S438),{1,2,3})),R439)","v":9.097064004697593},{"$f":"IF(T438>0,AVERAGE(SMALL(IF(J438:T438>0,J438:T438),{1,2,3})),S439)","v":9.097064004697593},{"$f":"IF(U438>0,AVERAGE(SMALL(IF(J438:U438>0,J438:U438),{1,2,3,4})),T439)","v":9.2131826189078083},{"$f":"IF(V438>0,AVERAGE(SMALL(IF(J438:V438>0,J438:V438),{1,2,3,4})),U439)","v":8.7818849089841446},{"$f":"IF(W438>0,AVERAGE(SMALL(IF(J438:W438>0,J438:W438),{1,2,3,4})),V439)","v":8.4749999999999996},{"$f":"IF(X438>0,AVERAGE(SMALL(IF(J438:X438>0,J438:X438),{1,2,3,4,5})),W439)","v":8.763969465648854},{"$f":"IF(Y438>0,AVERAGE(SMALL(IF(J438:Y438>0,J438:Y438),{1,2,3,4,5})),X439)","v":8.763969465648854},{"$f":"IF(Z438>0,AVERAGE(SMALL(IF(J438:Z438>0,J438:Z438),{1,2,3,4,5,6})),Y439)","v":8.9566157760814242},{"$f":"IF(AA438>0,AVERAGE(SMALL(IF(J438:AA438>0,J438:AA438),{1,2,3,4,5,6})),Z439)","v":8.9566157760814242},{"$f":"IF(AB438>0,AVERAGE(SMALL(IF(J438:AB438>0,J438:AB438),{1,2,3,4,5,6,7})),AA439)","v":9.0942202835332591},{"$f":"IF(AC438>0,AVERAGE(SMALL(IF(J438:AC438>0,J438:AC438),{1,2,3,4,5,6,7,8})),AB439)","v":8.9353273634762189},{"$f":"IF(AD438>0,AVERAGE(SMALL(IF(K438:AD438>0,K438:AD438),{1,2,3,4,5,6,7,8})),AC439)","v":8.9353273634762189},{"$f":"IF(AE438>0,AVERAGE(SMALL(IF(L438:AE438>0,L438:AE438),{1,2,3,4,5,6,7,8})),AD439)","v":9.3044186729301224},{"$f":"IF(AF438>0,AVERAGE(SMALL(IF(M438:AF438>0,M438:AF438),{1,2,3,4,5,6,7,8})),AE439)","v":9.0887698179682914},{"$f":"IF(AG438>0,AVERAGE(SMALL(IF(N438:AG438>0,N438:AG438),{1,2,3,4,5,6,7,8})),AF439)","v":9.0887698179682914},{"$f":"IF(AH438>0,AVERAGE(SMALL(IF(O438:AH438>0,O438:AH438),{1,2,3,4,5,6,7,8})),AG439)","v":9.0887698179682914},{"$f":"IF(AI438>0,AVERAGE(SMALL(IF(P438:AI438>0,P438:AI438),{1,2,3,4,5,6,7,8})),AH439)","v":8.9353273634762189},{"$f":"IF(AJ438>0,AVERAGE(SMALL(IF(Q438:AJ438>0,Q438:AJ438),{1,2,3,4,5,6,7,8})),AI439)","v":9.3060775102759834},{"$f":"IF(AK438>0,AVERAGE(SMALL(IF(R438:AK438>0,R438:AK438),{1,2,3,4,5,6,7,8})),AJ439)","v":9.3060775102759834},{"$f":"IF(AL438>0,AVERAGE(SMALL(IF(S438:AL438>0,S438:AL438),{1,2,3,4,5,6,7,8})),AK439)","v":9.3060775102759834},{"$f":"IF(AM438>0,AVERAGE(SMALL(IF(T438:AM438>0,T438:AM438),{1,2,3,4,5,6,7,8})),AL439)","v":9.3060775102759834},{"$f":"IF(AN438>0,AVERAGE(SMALL(IF(U438:AN438>0,U438:AN438),{1,2,3,4,5,6,7,8})),AM439)","v":9.3060775102759834},{"$f":"IF(AO438>0,AVERAGE(SMALL(IF(V438:AO438>0,V438:AO438),{1,2,3,4,5,6,7,8})),AN439)","v":9.3060775102759834},{"$f":"IF(AP438>0,AVERAGE(SMALL(IF(W438:AP438>0,W438:AP438),{1,2,3,4,5,6,7,8})),AO439)","v":9.3060775102759834},{"$f":"IF(AQ438>0,AVERAGE(SMALL(IF(X438:AQ438>0,X438:AQ438),{1,2,3,4,5,6,7,8})),AP439)","v":9.3060775102759834},{"$f":"IF(AR438>0,AVERAGE(SMALL(IF(Y438:AR438>0,Y438:AR438),{1,2,3,4,5,6,7,8})),AQ439)","v":9.3060775102759834},{"$f":"IF(AS438>0,AVERAGE(SMALL(IF(Z438:AS438>0,Z438:AS438),{1,2,3,4,5,6,7,8})),AR439)","v":9.3060775102759834},{"$f":"IF(AT438>0,AVERAGE(SMALL(IF(AA438:AT438>0,AA438:AT438),{1,2,3,4,5,6,7,8})),AS439)","v":9.3060775102759834},{"$f":"IF(AU438>0,AVERAGE(SMALL(IF(AB438:AU438>0,AB438:AU438),{1,2,3,4,5,6,7,8})),AT439)","v":9.3060775102759834},{"$f":"IF(AV438>0,AVERAGE(SMALL(IF(AC438:AV438>0,AC438:AV438),{1,2,3,4,5,6,7,8})),AU439)","v":9.3060775102759834},{"$f":"IF(AW438>0,AVERAGE(SMALL(IF(AD438:AW438>0,AD438:AW438),{1,2,3,4,5,6,7,8})),AV439)","v":9.3060775102759834},{"$f":"IF(AX438>0,AVERAGE(SMALL(IF(AE438:AX438>0,AE438:AX438),{1,2,3,4,5,6,7,8})),AW439)","v":9.3060775102759834},{"$f":"IF(AY438>0,AVERAGE(SMALL(IF(AF438:AY438>0,AF438:AY438),{1,2,3,4,5,6,7,8})),AX439)","v":9.3060775102759834},{"$f":"IF(AZ438>0,AVERAGE(SMALL(IF(AG438:AZ438>0,AG438:AZ438),{1,2,3,4,5,6,7,8})),AY439)","v":9.3060775102759834},{"$f":"IF(BA438>0,AVERAGE(SMALL(IF(AH438:BA438>0,AH438:BA438),{1,2,3,4,5,6,7,8})),AZ439)","v":9.3060775102759834},{"$f":"IF(BB438>0,AVERAGE(SMALL(IF(AI438:BB438>0,AI438:BB438),{1,2,3,4,5,6,7,8})),BA439)","v":9.3060775102759834},{"$f":"IF(BC438>0,AVERAGE(SMALL(IF(AJ438:BC438>0,AJ438:BC438),{1,2,3,4,5,6,7,8})),BB439)","v":9.3060775102759834},{"$f":"IF(BD438>0,AVERAGE(SMALL(IF(AK438:BD438>0,AK438:BD438),{1,2,3,4,5,6,7,8})),BC439)","v":9.3060775102759834},{"$f":"IF(BE438>0,AVERAGE(SMALL(IF(AL438:BE438>0,AL438:BE438),{1,2,3,4,5,6,7,8})),BD439)","v":9.3060775102759834},{"$f":"IF(BF438>0,AVERAGE(SMALL(IF(AM438:BF438>0,AM438:BF438),{1,2,3,4,5,6,7,8})),BE439)","v":9.3060775102759834},{"$f":"IF(BG438>0,AVERAGE(SMALL(IF(AN438:BG438>0,AN438:BG438),{1,2,3,4,5,6,7,8})),BF439)","v":9.3060775102759834},{"$f":"IF(BH438>0,AVERAGE(SMALL(IF(AO438:BH438>0,AO438:BH438),{1,2,3,4,5,6,7,8})),BG439)","v":9.3060775102759834},{"$f":"IF(BI438>0,AVERAGE(SMALL(IF(AP438:BI438>0,AP438:BI438),{1,2,3,4,5,6,7,8})),BH439)","v":9.3060775102759834},{"$f":"IF(BJ438>0,AVERAGE(SMALL(IF(AQ438:BJ438>0,AQ438:BJ438),{1,2,3,4,5,6,7,8})),BI439)","v":9.3060775102759834},{"$f":"IF(BK438>0,AVERAGE(SMALL(IF(AR438:BK438>0,AR438:BK438),{1,2,3,4,5,6,7,8})),BJ439)","v":9.3060775102759834},{"$f":"IF(BL438>0,AVERAGE(SMALL(IF(AS438:BL438>0,AS438:BL438),{1,2,3,4,5,6,7,8})),BK439)","v":9.3060775102759834},{"$f":"IF(BM438>0,AVERAGE(SMALL(IF(AT438:BM438>0,AT438:BM438),{1,2,3,4,5,6,7,8})),BL439)","v":9.3060775102759834},{"$f":"IF(BN438>0,AVERAGE(SMALL(IF(AU438:BN438>0,AU438:BN438),{1,2,3,4,5,6,7,8})),BM439)","v":9.3060775102759834},{"$f":"IF(BO438>0,AVERAGE(SMALL(IF(AV438:BO438>0,AV438:BO438),{1,2,3,4,5,6,7,8})),BN439)","v":9.3060775102759834},{"$f":"IF(BP438>0,AVERAGE(SMALL(IF(AW438:BP438>0,AW438:BP438),{1,2,3,4,5,6,7,8})),BO439)","v":9.3060775102759834},{"$f":"IF(BQ438>0,AVERAGE(SMALL(IF(AX438:BQ438>0,AX438:BQ438),{1,2,3,4,5,6,7,8})),BP439)","v":9.3060775102759834},{"$f":"IF(BR438>0,AVERAGE(SMALL(IF(AY438:BR438>0,AY438:BR438),{1,2,3,4,5,6,7,8})),BQ439)","v":9.3060775102759834},{"$f":"IF(BS438>0,AVERAGE(SMALL(IF(AZ438:BS438>0,AZ438:BS438),{1,2,3,4,5,6,7,8})),BR439)","v":9.3060775102759834},{"$f":"IF(BT438>0,AVERAGE(SMALL(IF(BA438:BT438>0,BA438:BT438),{1,2,3,4,5,6,7,8})),BS439)","v":9.3060775102759834},{"$f":"IF(BU438>0,AVERAGE(SMALL(IF(BB438:BU438>0,BB438:BU438),{1,2,3,4,5,6,7,8})),BT439)","v":9.3060775102759834},{"$f":"IF(BV438>0,AVERAGE(SMALL(IF(BC438:BV438>0,BC438:BV438),{1,2,3,4,5,6,7,8})),BU439)","v":9.3060775102759834},{"$f":"IF(BW438>0,AVERAGE(SMALL(IF(BD438:BW438>0,BD438:BW438),{1,2,3,4,5,6,7,8})),BV439)","v":9.3060775102759834},{"$f":"IF(BX438>0,AVERAGE(SMALL(IF(BE438:BX438>0,BE438:BX438),{1,2,3,4,5,6,7,8})),BW439)","v":9.3060775102759834},{"$f":"IF(BY438>0,AVERAGE(SMALL(IF(BF438:BY438>0,BF438:BY438),{1,2,3,4,5,6,7,8})),BX439)","v":9.3060775102759834},{"$f":"IF(BZ438>0,AVERAGE(SMALL(IF(BG438:BZ438>0,BG438:BZ438),{1,2,3,4,5,6,7,8})),BY439)","v":9.3060775102759834},{"$f":"IF(CA438>0,AVERAGE(SMALL(IF(BH438:CA438>0,BH438:CA438),{1,2,3,4,5,6,7,8})),BZ439)","v":9.3060775102759834},{"$f":"IF(CB438>0,AVERAGE(SMALL(IF(BI438:CB438>0,BI438:CB438),{1,2,3,4,5,6,7,8})),CA439)","v":9.3060775102759834},{"$f":"IF(CC438>0,AVERAGE(SMALL(IF(BJ438:CC438>0,BJ438:CC438),{1,2,3,4,5,6,7,8})),CB439)","v":9.3060775102759834},{"$f":"IF(CD438>0,AVERAGE(SMALL(IF(BK438:CD438>0,BK438:CD438),{1,2,3,4,5,6,7,8})),CC439)","v":9.3060775102759834},{"$f":"IF(CE438>0,AVERAGE(SMALL(IF(BL438:CE438>0,BL438:CE438),{1,2,3,4,5,6,7,8})),CD439)","v":9.3060775102759834},{"$f":"IF(CF438>0,AVERAGE(SMALL(IF(BM438:CF438>0,BM438:CF438),{1,2,3,4,5,6,7,8})),CE439)","v":9.3060775102759834},{"$f":"IF(CG438>0,AVERAGE(SMALL(IF(BN438:CG438>0,BN438:CG438),{1,2,3,4,5,6,7,8})),CF439)","v":9.3060775102759834},{"$f":"IF(CH438>0,AVERAGE(SMALL(IF(BO438:CH438>0,BO438:CH438),{1,2,3,4,5,6,7,8})),CG439)","v":9.3060775102759834},{"$f":"IF(CI438>0,AVERAGE(SMALL(IF(BP438:CI438>0,BP438:CI438),{1,2,3,4,5,6,7,8})),CH439)","v":9.3060775102759834},{"$f":"IF(CJ438>0,AVERAGE(SMALL(IF(BQ438:CJ438>0,BQ438:CJ438),{1,2,3,4,5,6,7,8})),CI439)","v":9.3060775102759834},{"$f":"IF(CK438>0,AVERAGE(SMALL(IF(BR438:CK438>0,BR438:CK438),{1,2,3,4,5,6,7,8})),CJ439)","v":9.3060775102759834},{"$f":"IF(CL438>0,AVERAGE(SMALL(IF(BS438:CL438>0,BS438:CL438),{1,2,3,4,5,6,7,8})),CK439)","v":9.3060775102759834},{"$f":"IF(CM438>0,AVERAGE(SMALL(IF(BT438:CM438>0,BT438:CM438),{1,2,3,4,5,6,7,8})),CL439)","v":9.3060775102759834},{"$f":"IF(CN438>0,AVERAGE(SMALL(IF(BU438:CN438>0,BU438:CN438),{1,2,3,4,5,6,7,8})),CM439)","v":9.3060775102759834},{"$f":"IF(CO438>0,AVERAGE(SMALL(IF(BV438:CO438>0,BV438:CO438),{1,2,3,4,5,6,7,8})),CN439)","v":9.3060775102759834},{"$f":"IF(CP438>0,AVERAGE(SMALL(IF(BW438:CP438>0,BW438:CP438),{1,2,3,4,5,6,7,8})),CO439)","v":9.3060775102759834},{"$f":"IF(CQ438>0,AVERAGE(SMALL(IF(BX438:CQ438>0,BX438:CQ438),{1,2,3,4,5,6,7,8})),CP439)","v":9.3060775102759834},{"$f":"IF(CR438>0,AVERAGE(SMALL(IF(BY438:CR438>0,BY438:CR438),{1,2,3,4,5,6,7,8})),CQ439)","v":9.3060775102759834},{"$f":"IF(CS438>0,AVERAGE(SMALL(IF(BZ438:CS438>0,BZ438:CS438),{1,2,3,4,5,6,7,8})),CR439)","v":9.3060775102759834},{"$f":"IF(CT438>0,AVERAGE(SMALL(IF(CA438:CT438>0,CA438:CT438),{1,2,3,4,5,6,7,8})),CS439)","v":9.3060775102759834},{"$f":"IF(CU438>0,AVERAGE(SMALL(IF(CB438:CU438>0,CB438:CU438),{1,2,3,4,5,6,7,8})),CT439)","v":9.3060775102759834},{"$f":"IF(CV438>0,AVERAGE(SMALL(IF(CC438:CV438>0,CC438:CV438),{1,2,3,4,5,6,7,8})),CU439)","v":9.3060775102759834},{"$f":"IF(CW438>0,AVERAGE(SMALL(IF(CD438:CW438>0,CD438:CW438),{1,2,3,4,5,6,7,8})),CV439)","v":9.3060775102759834}]
[null,null,null,null,null,null,null,null,"Low Hcap",null,null,null,null,null,null,null,null,null,null,null,null,null,null,null,null,null,null,null,{"$f":"MIN($T439:AC439)","v":8.4749999999999996},{"$f":"MIN($W439:AD439)","v":8.4749999999999996},{"$f":"MIN($W439:AE439)","v":8.4749999999999996},{"$f":"MIN($Z439:AF439)","v":8.9353273634762189},{"$f":"MIN($Z439:AG439)","v":8.9353273634762189},{"$f":"MIN($Z439:AH439)","v":8.9353273634762189},{"$f":"MIN($AC439:AI439)","v":8.9353273634762189},{"$f":"MIN($AE439:AJ439)","v":8.9353273634762189},{"$f":"MIN($AG439:AK439)","v":8.9353273634762189},{"$f":"MIN($AH439:AL439)","v":8.9353273634762189},{"$f":"MIN($AI439:AM439)","v":8.9353273634762189},{"$f":"MIN($AI439:AN439)","v":8.9353273634762189},{"$f":"MIN($AI439:AO439)","v":8.9353273634762189},{"$f":"MIN($AI439:AP439)","v":8.9353273634762189},{"$f":"MIN($AI439:AQ439)","v":8.9353273634762189},{"$f":"MIN($AI439:AR439)","v":8.9353273634762189},{"$f":"MIN($AI439:AS439)","v":8.9353273634762189},{"$f":"MIN($AI439:AT439)","v":8.9353273634762189},{"$f":"MIN($AI439:AU439)","v":8.9353273634762189},{"$f":"MIN($AI439:AV439)","v":8.9353273634762189},{"$f":"MIN($AI439:AW439)","v":8.9353273634762189},{"$f":"MIN($AI439:AX439)","v":8.9353273634762189},{"$f":"MIN($AI439:AY439)","v":8.9353273634762189},{"$f":"MIN($AI439:AZ439)","v":8.9353273634762189},{"$f":"MIN($AI439:BA439)","v":8.9353273634762189},{"$f":"MIN($AI439:BB439)","v":8.9353273634762189},{"$f":"MIN($AI439:BC439)","v":8.9353273634762189},{"$f":"MIN($AI439:BD439)","v":8.9353273634762189},{"$f":"MIN($AI439:BE439)","v":8.9353273634762189},{"$f":"MIN($AI439:BF439)","v":8.9353273634762189},{"$f":"MIN($AI439:BG439)","v":8.9353273634762189},{"$f":"MIN($AI439:BH439)","v":8.9353273634762189},{"$f":"MIN($AI439:BI439)","v":8.9353273634762189},{"$f":"MIN($AI439:BJ439)","v":8.9353273634762189},{"$f":"MIN($AI439:BK439)","v":8.9353273634762189},{"$f":"MIN($AI439:BL439)","v":8.9353273634762189},{"$f":"MIN($AI439:BM439)","v":8.9353273634762189},{"$f":"MIN($AI439:BN439)","v":8.9353273634762189},{"$f":"MIN($AI439:BO439)","v":8.9353273634762189},{"$f":"MIN($AI439:BP439)","v":8.9353273634762189},{"$f":"MIN($AI439:BQ439)","v":8.9353273634762189},{"$f":"MIN($AI439:BR439)","v":8.9353273634762189},{"$f":"MIN($AI439:BS439)","v":8.9353273634762189},{"$f":"MIN($AI439:BT439)","v":8.9353273634762189},{"$f":"MIN($AI439:BU439)","v":8.9353273634762189},{"$f":"MIN($AI439:BV439)","v":8.9353273634762189},{"$f":"MIN($AI439:BW439)","v":8.9353273634762189},{"$f":"MIN($AI439:BX439)","v":8.9353273634762189},{"$f":"MIN($AI439:BY439)","v":8.9353273634762189},{"$f":"MIN($AI439:BZ439)","v":8.9353273634762189},{"$f":"MIN($AI439:CA439)","v":8.9353273634762189},{"$f":"MIN($AI439:CB439)","v":8.9353273634762189},{"$f":"MIN($AI439:CC439)","v":8.9353273634762189},{"$f":"MIN($AI439:CD439)","v":8.9353273634762189},{"$f":"MIN($AI439:CE439)","v":8.9353273634762189},{"$f":"MIN($AI439:CF439)","v":8.9353273634762189},{"$f":"MIN($AI439:CG439)","v":8.9353273634762189},{"$f":"MIN($AI439:CH439)","v":8.9353273634762189},{"$f":"MIN($AI439:CI439)","v":8.9353273634762189},{"$f":"MIN($AI439:CJ439)","v":8.9353273634762189},{"$f":"MIN($AI439:CK439)","v":8.9353273634762189},{"$f":"MIN($AI439:CL439)","v":8.9353273634762189},{"$f":"MIN($AI439:CM439)","v":8.9353273634762189},{"$f":"MIN($AI439:CN439)","v":8.9353273634762189},{"$f":"MIN($AI439:CO439)","v":8.9353273634762189},{"$f":"MIN($AI439:CP439)","v":8.9353273634762189},{"$f":"MIN($AI439:CQ439)","v":8.9353273634762189},{"$f":"MIN($AI439:CR439)","v":8.9353273634762189},{"$f":"MIN($AI439:CS439)","v":8.9353273634762189},{"$f":"MIN($AI439:CT439)","v":8.9353273634762189},{"$f":"MIN($AI439:CU439)","v":8.9353273634762189},{"$f":"MIN($AI439:CV439)","v":8.9353273634762189},{"$f":"MIN($AI439:CW439)","v":8.9353273634762189}]
[null,"Ptok","Daniela",32.6,"Y",{"$f":"IF(H441<4,\"Y\",)","v":0},null,{"$f":"COUNT(J441:CX441)","v":7},"Date",null,"2021-03-28","2021-04-11","2021-05-30","2021-08-08","2022-06-05","2022-06-25","2022-06-26",null,null,null,null,null,null,null,null,null,null,null,null,null,null,null,null,null,null,null,null,null,null,null,null,null,null,null,null,null,null,null,null,null,null,null,null,null,null,null,null,null,null,null,null,null,null,null,null,null,null,null,null,null,null,null,null,null,null,null,null,null,null,null,null,null,null,null,null,null,null,null,null,null,null,null,null,null,null,null,null,null,null,null,null,null,{"$f":"IF(CW445>$DD$1,36,CW445)","v":36},36,{"$f":"CZ441-CY441","v":0}]
[null,null,null,null,null,null,null,null,"Course",null,"OdelzhausenDR","ErdingDR","IffeldorfDR","IffeldorfDR","IffeldorfDR","AlgaeuerDR","AlgaeuerDR"]
[null,null,null,null,null,null,null,null,"Ad Gr",null,117,117,128,121,119,121,119]
[null,null,null,null,null,null,null,null,"SD",32.6,{"$f":"IF(K443=\"\",0,(K443-INDIRECT(CONCATENATE(K442,\"CR\")))*113/INDIRECT(CONCATENATE(K442,\"SR\")))","v":40.383606557377043},40.499199999999995,49.025984251968495,42.797637795275584,41.018110236220465,41.792063492063484,39.998412698412693,0,0,0,0,0,0,0,0,0,0,0,0,0,0,0,0,0,0,0,0,0,0,0,0,0,0,0,0,0,0,0,0,0,0,0,0,0,0,0,0,0,0,0,0,0,0,0,0,0,0,0,0,0,0,0,0,0,{"$f":"IF(BW443=\"\",0,(BW443-INDIRECT(CONCATENATE(BW442,\"CR\")))*113/INDIRECT(CONCATENATE(BW442,\"SR\")))","v":0},0,0,0,0,0,0,0,0,0,0,0,0,0,0,0,{"$f":"IF(CM443=\"\",0,(CM443-INDIRECT(CONCATENATE(CM442,\"CR\")))*113/INDIRECT(CONCATENATE(CM442,\"SR\")))","v":0},0,{"$f":"IF(CO443=\"\",0,(CO443-INDIRECT(CONCATENATE(CO442,\"CR\")))*113/INDIRECT(CONCATENATE(CO442,\"SR\")))","v":0},0,{"$f":"IF(CQ443=\"\",0,(CQ443-INDIRECT(CONCATENATE(CQ442,\"CR\")))*113/INDIRECT(CONCATENATE(CQ442,\"SR\")))","v":0},0,{"$f":"IF(CS443=\"\",0,(CS443-INDIRECT(CONCATENATE(CS442,\"CR\")))*113/INDIRECT(CONCATENATE(CS442,\"SR\")))","v":0},0,{"$f":"IF(CU443=\"\",0,(CU443-INDIRECT(CONCATENATE(CU442,\"CR\")))*113/INDIRECT(CONCATENATE(CU442,\"SR\")))","v":0},0,{"$f":"IF(CW443=\"\",0,(CW443-INDIRECT(CONCATENATE(CW442,\"CR\")))*113/INDIRECT(CONCATENATE(CW442,\"SR\")))","v":0}]
[null,null,null,null,null,null,null,null,"New Hcap",{"$f":"J444-2","v":30.6},{"$f":"IF(K444>0,MIN(J444:K444)-2,J445)","v":30.6},{"$f":"IF(L444>0,MIN(J444:L444)-2,K445)","v":30.6},{"$f":"IF(M444>0,MIN(J444:M444)-1,L445)","v":31.6},{"$f":"IF(N444>0,MIN(J444:N444),M445)","v":32.6},{"$f":"IF(O444>0,AVERAGE(SMALL(IF(J444:O444>0,J444:O444),{1,2}))-1,N445)","v":35.491803278688522},{"$f":"IF(P444>0,AVERAGE(SMALL(IF(J444:P444>0,J444:P444),{1,2})),O445)","v":36.491803278688522},{"$f":"IF(Q444>0,AVERAGE(SMALL(IF(J444:Q444>0,J444:Q444),{1,2})),P445)","v":36.299206349206344},{"$f":"IF(R444>0,AVERAGE(SMALL(IF(J444:R444>0,J444:R444),{1,2,3})),Q445)","v":36.299206349206344},{"$f":"IF(S444>0,AVERAGE(SMALL(IF(J444:S444>0,J444:S444),{1,2,3})),R445)","v":36.299206349206344},{"$f":"IF(T444>0,AVERAGE(SMALL(IF(J444:T444>0,J444:T444),{1,2,3})),S445)","v":36.299206349206344},{"$f":"IF(U444>0,AVERAGE(SMALL(IF(J444:U444>0,J444:U444),{1,2,3,4})),T445)","v":36.299206349206344},{"$f":"IF(V444>0,AVERAGE(SMALL(IF(J444:V444>0,J444:V444),{1,2,3,4})),U445)","v":36.299206349206344},{"$f":"IF(W444>0,AVERAGE(SMALL(IF(J444:W444>0,J444:W444),{1,2,3,4})),V445)","v":36.299206349206344},{"$f":"IF(X444>0,AVERAGE(SMALL(IF(J444:X444>0,J444:X444),{1,2,3,4,5})),W445)","v":36.299206349206344},{"$f":"IF(Y444>0,AVERAGE(SMALL(IF(J444:Y444>0,J444:Y444),{1,2,3,4,5})),X445)","v":36.299206349206344},{"$f":"IF(Z444>0,AVERAGE(SMALL(IF(J444:Z444>0,J444:Z444),{1,2,3,4,5,6})),Y445)","v":36.299206349206344},{"$f":"IF(AA444>0,AVERAGE(SMALL(IF(J444:AA444>0,J444:AA444),{1,2,3,4,5,6})),Z445)","v":36.299206349206344},{"$f":"IF(AB444>0,AVERAGE(SMALL(IF(J444:AB444>0,J444:AB444),{1,2,3,4,5,6,7})),AA445)","v":36.299206349206344},{"$f":"IF(AC444>0,AVERAGE(SMALL(IF(J444:AC444>0,J444:AC444),{1,2,3,4,5,6,7,8})),AB445)","v":36.299206349206344},{"$f":"IF(AD444>0,AVERAGE(SMALL(IF(K444:AD444>0,K444:AD444),{1,2,3,4,5,6,7,8})),AC445)","v":36.299206349206344},{"$f":"IF(AE444>0,AVERAGE(SMALL(IF(L444:AE444>0,L444:AE444),{1,2,3,4,5,6,7,8})),AD445)","v":36.299206349206344},{"$f":"IF(AF444>0,AVERAGE(SMALL(IF(M444:AF444>0,M444:AF444),{1,2,3,4,5,6,7,8})),AE445)","v":36.299206349206344},{"$f":"IF(AG444>0,AVERAGE(SMALL(IF(N444:AG444>0,N444:AG444),{1,2,3,4,5,6,7,8})),AF445)","v":36.299206349206344},{"$f":"IF(AH444>0,AVERAGE(SMALL(IF(O444:AH444>0,O444:AH444),{1,2,3,4,5,6,7,8})),AG445)","v":36.299206349206344},{"$f":"IF(AI444>0,AVERAGE(SMALL(IF(P444:AI444>0,P444:AI444),{1,2,3,4,5,6,7,8})),AH445)","v":36.299206349206344},{"$f":"IF(AJ444>0,AVERAGE(SMALL(IF(Q444:AJ444>0,Q444:AJ444),{1,2,3,4,5,6,7,8})),AI445)","v":36.299206349206344},{"$f":"IF(AK444>0,AVERAGE(SMALL(IF(R444:AK444>0,R444:AK444),{1,2,3,4,5,6,7,8})),AJ445)","v":36.299206349206344},{"$f":"IF(AL444>0,AVERAGE(SMALL(IF(S444:AL444>0,S444:AL444),{1,2,3,4,5,6,7,8})),AK445)","v":36.299206349206344},{"$f":"IF(AM444>0,AVERAGE(SMALL(IF(T444:AM444>0,T444:AM444),{1,2,3,4,5,6,7,8})),AL445)","v":36.299206349206344},{"$f":"IF(AN444>0,AVERAGE(SMALL(IF(U444:AN444>0,U444:AN444),{1,2,3,4,5,6,7,8})),AM445)","v":36.299206349206344},{"$f":"IF(AO444>0,AVERAGE(SMALL(IF(V444:AO444>0,V444:AO444),{1,2,3,4,5,6,7,8})),AN445)","v":36.299206349206344},{"$f":"IF(AP444>0,AVERAGE(SMALL(IF(W444:AP444>0,W444:AP444),{1,2,3,4,5,6,7,8})),AO445)","v":36.299206349206344},{"$f":"IF(AQ444>0,AVERAGE(SMALL(IF(X444:AQ444>0,X444:AQ444),{1,2,3,4,5,6,7,8})),AP445)","v":36.299206349206344},{"$f":"IF(AR444>0,AVERAGE(SMALL(IF(Y444:AR444>0,Y444:AR444),{1,2,3,4,5,6,7,8})),AQ445)","v":36.299206349206344},{"$f":"IF(AS444>0,AVERAGE(SMALL(IF(Z444:AS444>0,Z444:AS444),{1,2,3,4,5,6,7,8})),AR445)","v":36.299206349206344},{"$f":"IF(AT444>0,AVERAGE(SMALL(IF(AA444:AT444>0,AA444:AT444),{1,2,3,4,5,6,7,8})),AS445)","v":36.299206349206344},{"$f":"IF(AU444>0,AVERAGE(SMALL(IF(AB444:AU444>0,AB444:AU444),{1,2,3,4,5,6,7,8})),AT445)","v":36.299206349206344},{"$f":"IF(AV444>0,AVERAGE(SMALL(IF(AC444:AV444>0,AC444:AV444),{1,2,3,4,5,6,7,8})),AU445)","v":36.299206349206344},{"$f":"IF(AW444>0,AVERAGE(SMALL(IF(AD444:AW444>0,AD444:AW444),{1,2,3,4,5,6,7,8})),AV445)","v":36.299206349206344},{"$f":"IF(AX444>0,AVERAGE(SMALL(IF(AE444:AX444>0,AE444:AX444),{1,2,3,4,5,6,7,8})),AW445)","v":36.299206349206344},{"$f":"IF(AY444>0,AVERAGE(SMALL(IF(AF444:AY444>0,AF444:AY444),{1,2,3,4,5,6,7,8})),AX445)","v":36.299206349206344},{"$f":"IF(AZ444>0,AVERAGE(SMALL(IF(AG444:AZ444>0,AG444:AZ444),{1,2,3,4,5,6,7,8})),AY445)","v":36.299206349206344},{"$f":"IF(BA444>0,AVERAGE(SMALL(IF(AH444:BA444>0,AH444:BA444),{1,2,3,4,5,6,7,8})),AZ445)","v":36.299206349206344},{"$f":"IF(BB444>0,AVERAGE(SMALL(IF(AI444:BB444>0,AI444:BB444),{1,2,3,4,5,6,7,8})),BA445)","v":36.299206349206344},{"$f":"IF(BC444>0,AVERAGE(SMALL(IF(AJ444:BC444>0,AJ444:BC444),{1,2,3,4,5,6,7,8})),BB445)","v":36.299206349206344},{"$f":"IF(BD444>0,AVERAGE(SMALL(IF(AK444:BD444>0,AK444:BD444),{1,2,3,4,5,6,7,8})),BC445)","v":36.299206349206344},{"$f":"IF(BE444>0,AVERAGE(SMALL(IF(AL444:BE444>0,AL444:BE444),{1,2,3,4,5,6,7,8})),BD445)","v":36.299206349206344},{"$f":"IF(BF444>0,AVERAGE(SMALL(IF(AM444:BF444>0,AM444:BF444),{1,2,3,4,5,6,7,8})),BE445)","v":36.299206349206344},{"$f":"IF(BG444>0,AVERAGE(SMALL(IF(AN444:BG444>0,AN444:BG444),{1,2,3,4,5,6,7,8})),BF445)","v":36.299206349206344},{"$f":"IF(BH444>0,AVERAGE(SMALL(IF(AO444:BH444>0,AO444:BH444),{1,2,3,4,5,6,7,8})),BG445)","v":36.299206349206344},{"$f":"IF(BI444>0,AVERAGE(SMALL(IF(AP444:BI444>0,AP444:BI444),{1,2,3,4,5,6,7,8})),BH445)","v":36.299206349206344},{"$f":"IF(BJ444>0,AVERAGE(SMALL(IF(AQ444:BJ444>0,AQ444:BJ444),{1,2,3,4,5,6,7,8})),BI445)","v":36.299206349206344},{"$f":"IF(BK444>0,AVERAGE(SMALL(IF(AR444:BK444>0,AR444:BK444),{1,2,3,4,5,6,7,8})),BJ445)","v":36.299206349206344},{"$f":"IF(BL444>0,AVERAGE(SMALL(IF(AS444:BL444>0,AS444:BL444),{1,2,3,4,5,6,7,8})),BK445)","v":36.299206349206344},{"$f":"IF(BM444>0,AVERAGE(SMALL(IF(AT444:BM444>0,AT444:BM444),{1,2,3,4,5,6,7,8})),BL445)","v":36.299206349206344},{"$f":"IF(BN444>0,AVERAGE(SMALL(IF(AU444:BN444>0,AU444:BN444),{1,2,3,4,5,6,7,8})),BM445)","v":36.299206349206344},{"$f":"IF(BO444>0,AVERAGE(SMALL(IF(AV444:BO444>0,AV444:BO444),{1,2,3,4,5,6,7,8})),BN445)","v":36.299206349206344},{"$f":"IF(BP444>0,AVERAGE(SMALL(IF(AW444:BP444>0,AW444:BP444),{1,2,3,4,5,6,7,8})),BO445)","v":36.299206349206344},{"$f":"IF(BQ444>0,AVERAGE(SMALL(IF(AX444:BQ444>0,AX444:BQ444),{1,2,3,4,5,6,7,8})),BP445)","v":36.299206349206344},{"$f":"IF(BR444>0,AVERAGE(SMALL(IF(AY444:BR444>0,AY444:BR444),{1,2,3,4,5,6,7,8})),BQ445)","v":36.299206349206344},{"$f":"IF(BS444>0,AVERAGE(SMALL(IF(AZ444:BS444>0,AZ444:BS444),{1,2,3,4,5,6,7,8})),BR445)","v":36.299206349206344},{"$f":"IF(BT444>0,AVERAGE(SMALL(IF(BA444:BT444>0,BA444:BT444),{1,2,3,4,5,6,7,8})),BS445)","v":36.299206349206344},{"$f":"IF(BU444>0,AVERAGE(SMALL(IF(BB444:BU444>0,BB444:BU444),{1,2,3,4,5,6,7,8})),BT445)","v":36.299206349206344},{"$f":"IF(BV444>0,AVERAGE(SMALL(IF(BC444:BV444>0,BC444:BV444),{1,2,3,4,5,6,7,8})),BU445)","v":36.299206349206344},{"$f":"IF(BW444>0,AVERAGE(SMALL(IF(BD444:BW444>0,BD444:BW444),{1,2,3,4,5,6,7,8})),BV445)","v":36.299206349206344},{"$f":"IF(BX444>0,AVERAGE(SMALL(IF(BE444:BX444>0,BE444:BX444),{1,2,3,4,5,6,7,8})),BW445)","v":36.299206349206344},{"$f":"IF(BY444>0,AVERAGE(SMALL(IF(BF444:BY444>0,BF444:BY444),{1,2,3,4,5,6,7,8})),BX445)","v":36.299206349206344},{"$f":"IF(BZ444>0,AVERAGE(SMALL(IF(BG444:BZ444>0,BG444:BZ444),{1,2,3,4,5,6,7,8})),BY445)","v":36.299206349206344},{"$f":"IF(CA444>0,AVERAGE(SMALL(IF(BH444:CA444>0,BH444:CA444),{1,2,3,4,5,6,7,8})),BZ445)","v":36.299206349206344},{"$f":"IF(CB444>0,AVERAGE(SMALL(IF(BI444:CB444>0,BI444:CB444),{1,2,3,4,5,6,7,8})),CA445)","v":36.299206349206344},{"$f":"IF(CC444>0,AVERAGE(SMALL(IF(BJ444:CC444>0,BJ444:CC444),{1,2,3,4,5,6,7,8})),CB445)","v":36.299206349206344},{"$f":"IF(CD444>0,AVERAGE(SMALL(IF(BK444:CD444>0,BK444:CD444),{1,2,3,4,5,6,7,8})),CC445)","v":36.299206349206344},{"$f":"IF(CE444>0,AVERAGE(SMALL(IF(BL444:CE444>0,BL444:CE444),{1,2,3,4,5,6,7,8})),CD445)","v":36.299206349206344},{"$f":"IF(CF444>0,AVERAGE(SMALL(IF(BM444:CF444>0,BM444:CF444),{1,2,3,4,5,6,7,8})),CE445)","v":36.299206349206344},{"$f":"IF(CG444>0,AVERAGE(SMALL(IF(BN444:CG444>0,BN444:CG444),{1,2,3,4,5,6,7,8})),CF445)","v":36.299206349206344},{"$f":"IF(CH444>0,AVERAGE(SMALL(IF(BO444:CH444>0,BO444:CH444),{1,2,3,4,5,6,7,8})),CG445)","v":36.299206349206344},{"$f":"IF(CI444>0,AVERAGE(SMALL(IF(BP444:CI444>0,BP444:CI444),{1,2,3,4,5,6,7,8})),CH445)","v":36.299206349206344},{"$f":"IF(CJ444>0,AVERAGE(SMALL(IF(BQ444:CJ444>0,BQ444:CJ444),{1,2,3,4,5,6,7,8})),CI445)","v":36.299206349206344},{"$f":"IF(CK444>0,AVERAGE(SMALL(IF(BR444:CK444>0,BR444:CK444),{1,2,3,4,5,6,7,8})),CJ445)","v":36.299206349206344},{"$f":"IF(CL444>0,AVERAGE(SMALL(IF(BS444:CL444>0,BS444:CL444),{1,2,3,4,5,6,7,8})),CK445)","v":36.299206349206344},{"$f":"IF(CM444>0,AVERAGE(SMALL(IF(BT444:CM444>0,BT444:CM444),{1,2,3,4,5,6,7,8})),CL445)","v":36.299206349206344},{"$f":"IF(CN444>0,AVERAGE(SMALL(IF(BU444:CN444>0,BU444:CN444),{1,2,3,4,5,6,7,8})),CM445)","v":36.299206349206344},{"$f":"IF(CO444>0,AVERAGE(SMALL(IF(BV444:CO444>0,BV444:CO444),{1,2,3,4,5,6,7,8})),CN445)","v":36.299206349206344},{"$f":"IF(CP444>0,AVERAGE(SMALL(IF(BW444:CP444>0,BW444:CP444),{1,2,3,4,5,6,7,8})),CO445)","v":36.299206349206344},{"$f":"IF(CQ444>0,AVERAGE(SMALL(IF(BX444:CQ444>0,BX444:CQ444),{1,2,3,4,5,6,7,8})),CP445)","v":36.299206349206344},{"$f":"IF(CR444>0,AVERAGE(SMALL(IF(BY444:CR444>0,BY444:CR444),{1,2,3,4,5,6,7,8})),CQ445)","v":36.299206349206344},{"$f":"IF(CS444>0,AVERAGE(SMALL(IF(BZ444:CS444>0,BZ444:CS444),{1,2,3,4,5,6,7,8})),CR445)","v":36.299206349206344},{"$f":"IF(CT444>0,AVERAGE(SMALL(IF(CA444:CT444>0,CA444:CT444),{1,2,3,4,5,6,7,8})),CS445)","v":36.299206349206344},{"$f":"IF(CU444>0,AVERAGE(SMALL(IF(CB444:CU444>0,CB444:CU444),{1,2,3,4,5,6,7,8})),CT445)","v":36.299206349206344},{"$f":"IF(CV444>0,AVERAGE(SMALL(IF(CC444:CV444>0,CC444:CV444),{1,2,3,4,5,6,7,8})),CU445)","v":36.299206349206344},{"$f":"IF(CW444>0,AVERAGE(SMALL(IF(CD444:CW444>0,CD444:CW444),{1,2,3,4,5,6,7,8})),CV445)","v":36.299206349206344}]
[null,null,null,null,null,null,null,null,"Low Hcap",null,null,null,null,null,null,null,null,null,null,null,null,null,null,null,null,null,null,null,{"$f":"MIN($J445:AC445)","v":30.6},{"$f":"MIN($J445:AD445)","v":30.6},{"$f":"MIN($J445:AE445)","v":30.6},{"$f":"MIN($J445:AF445)","v":30.6},{"$f":"MIN($J445:AG445)","v":30.6},{"$f":"MIN($J445:AH445)","v":30.6},{"$f":"MIN($J445:AI445)","v":30.6},{"$f":"MIN($J445:AJ445)","v":30.6},{"$f":"MIN($J445:AK445)","v":30.6},{"$f":"MIN($J445:AL445)","v":30.6},{"$f":"MIN($J445:AM445)","v":30.6},{"$f":"MIN($J445:AN445)","v":30.6},{"$f":"MIN($J445:AO445)","v":30.6},{"$f":"MIN($J445:AP445)","v":30.6},{"$f":"MIN($J445:AQ445)","v":30.6},{"$f":"MIN($J445:AR445)","v":30.6},{"$f":"MIN($J445:AS445)","v":30.6},{"$f":"MIN($J445:AT445)","v":30.6},{"$f":"MIN($J445:AU445)","v":30.6},{"$f":"MIN($J445:AV445)","v":30.6},{"$f":"MIN($J445:AW445)","v":30.6},{"$f":"MIN($J445:AX445)","v":30.6},{"$f":"MIN($J445:AY445)","v":30.6},{"$f":"MIN($J445:AZ445)","v":30.6},{"$f":"MIN($J445:BA445)","v":30.6},{"$f":"MIN($J445:BB445)","v":30.6},{"$f":"MIN($J445:BC445)","v":30.6},{"$f":"MIN($J445:BD445)","v":30.6},{"$f":"MIN($J445:BE445)","v":30.6},{"$f":"MIN($J445:BF445)","v":30.6},{"$f":"MIN($J445:BG445)","v":30.6},{"$f":"MIN($J445:BH445)","v":30.6},{"$f":"MIN($J445:BI445)","v":30.6},{"$f":"MIN($J445:BJ445)","v":30.6},{"$f":"MIN($J445:BK445)","v":30.6},{"$f":"MIN($J445:BL445)","v":30.6},{"$f":"MIN($J445:BM445)","v":30.6},{"$f":"MIN($J445:BN445)","v":30.6},{"$f":"MIN($J445:BO445)","v":30.6},{"$f":"MIN($J445:BP445)","v":30.6},{"$f":"MIN($J445:BQ445)","v":30.6},{"$f":"MIN($J445:BR445)","v":30.6},{"$f":"MIN($J445:BS445)","v":30.6},{"$f":"MIN($J445:BT445)","v":30.6},{"$f":"MIN($J445:BU445)","v":30.6},{"$f":"MIN($J445:BV445)","v":30.6},{"$f":"MIN($J445:BW445)","v":30.6},{"$f":"MIN($J445:BX445)","v":30.6},{"$f":"MIN($J445:BY445)","v":30.6},{"$f":"MIN($J445:BZ445)","v":30.6},{"$f":"MIN($J445:CA445)","v":30.6},{"$f":"MIN($J445:CB445)","v":30.6},{"$f":"MIN($J445:CC445)","v":30.6},{"$f":"MIN($J445:CD445)","v":30.6},{"$f":"MIN($J445:CE445)","v":30.6},{"$f":"MIN($J445:CF445)","v":30.6},{"$f":"MIN($J445:CG445)","v":30.6},{"$f":"MIN($J445:CH445)","v":30.6},{"$f":"MIN($J445:CI445)","v":30.6},{"$f":"MIN($J445:CJ445)","v":30.6},{"$f":"MIN($J445:CK445)","v":30.6},{"$f":"MIN($J445:CL445)","v":30.6},{"$f":"MIN($J445:CM445)","v":30.6},{"$f":"MIN($J445:CN445)","v":30.6},{"$f":"MIN($J445:CO445)","v":30.6},{"$f":"MIN($J445:CP445)","v":30.6},{"$f":"MIN($J445:CQ445)","v":30.6},{"$f":"MIN($J445:CR445)","v":30.6},{"$f":"MIN($J445:CS445)","v":30.6},{"$f":"MIN($J445:CT445)","v":30.6},{"$f":"MIN($J445:CU445)","v":30.6},{"$f":"MIN($J445:CV445)","v":30.6},{"$f":"MIN($J445:CW445)","v":30.6}]
[null,"Reilly","Martin",18.100000000000001,"Y",{"$f":"IF(H447<4,\"Y\",)","v":0},null,{"$f":"COUNT(J447:CX447)","v":75},"Date","2019-09-08","2019-09-29","2019-10-13","2019-11-01","2019-11-10","2019-11-24","2020-05-24","2020-05-31","2020-06-05","2020-06-14","2020-06-19","2020-06-28","2020-07-03","2020-07-12","2020-07-15","2020-07-26","2020-07-31","2020-08-09","2020-09-06","2020-10-21","2020-11-01","2020-11-06","2020-11-15","2021-03-28","2021-04-11","2021-04-16","2021-04-25","2021-04-30","2021-05-09","2021-05-14","2021-05-23","2021-05-30","2021-06-04","2021-06-13","2021-06-19","2021-07-11","2021-07-16","2021-07-21","2021-07-30","2021-08-08","2021-08-15","2021-09-19","2021-09-24","2021-10-03","2021-10-31","2021-11-14","2021-11-19","2022-04-15","2022-05-15","2022-05-29","2022-06-05","2022-06-12","2022-06-17","2022-06-22","2022-06-25","2022-06-26","2022-07-03","2022-07-10","2022-07-24","2022-07-31","2022-08-17","2022-09-23","2022-10-21","2022-10-30","2022-11-04","2022-11-13","2022-11-18","2023-03-26","2023-04-02","2023-04-14","2023-05-07","2023-05-10","2023-05-19","2023-06-04","2023-06-09",null,null,null,null,null,null,null,null,null,null,null,null,null,null,null,null,null,null,{"$f":"IF(CW451>$DD$1,36,CW451)","v":15.352062037576305},14.901104579978069,{"$f":"CZ447-CY447","v":-0.45095745759823558}]
[null,null,null,null,null,null,null,null,"Course","OdelzhausenHG","TegernbachHG","PfaffingHG","ErdingHG","TegernbachHG","PfaffingHG","PfaffingHG","ErdingHG","ErdingHG","OdelzhausenHG","StEurachHG","ErdingHG","TegernbachHG","PfaffingHG","GutThailingHG","OdelzhausenHG","StEurachHG","ErdingHG","OdelzhausenHG","GutThailingHG","ErdingHG","TegernbachHG","OdelzhausenHG","OdelzhausenHG","ErdingHR","TegernbachHG","PfaffingHG","TegernbachHG","ErdingHG","StEurachHG","OdelzhausenHG","IffeldorfHG","EgmatingHG","PfaffingHG","TegernbachHG","PfaffingHG","MaxlrainHG","GutThailingHG","MangfalltalHG","IffeldorfHG","ErdingHG","ErdingHG","TegernbachHG","OdelzhausenHB","ErdingHG","OdelzhausenHG","TegernbachHG","ReichertshausenHG","OdelzhausenHG","OdelzhausenHG","IffeldorfHG","ErdingHG","StEurachHG","GutThailing2022HG","AlgaeuerHG","AlgaeuerHG","Pfaffing2022HG","IffeldorfHG","Pfaffing2022HG","HohenpaehlHG","GutThailing2022HG","ReichertshausenHG","TegernbachHG","OdelzhausenHB","ReichertshausenHG","ErdingHG","TegernbachHG","Pfaffing2023HG","ErdingHG","TegernbachHG","Odelzhausen2023HG","AschheimHG","GarmischHG","IffeldorfHG","TegernbachHG"]
[null,null,null,null,null,null,null,null,"Ad Gr",96,93,98,96,94,94,101,95,95,100,99,95,89,93,92,103,95,88,99,94,96,92,99,96,94,94,87,95,88,96,91,92,103,92,88,88,94,94,88,95,88,98,92,96,99,89,94,93,90,87,99,95,86,91,93,92,101,88,92,92,85,89,93,88,92,95,106,101,87,96,101,91,101,88,96]
[null,null,null,null,null,null,null,null,"SD",{"$f":"IF(J449=\"\",0,(J449-INDIRECT(CONCATENATE(J448,\"CR\")))*113/INDIRECT(CONCATENATE(J448,\"SR\")))","v":21.53228346456693},{"$f":"IF(K449=\"\",0,(K449-INDIRECT(CONCATENATE(K448,\"CR\")))*113/INDIRECT(CONCATENATE(K448,\"SR\")))","v":18.234090909090906},22.6,21.73076923076923,19.090151515151511,19.123076923076923,25.207692307692309,20.861538461538462,20.861538461538462,25.091338582677167,23.376335877862591,20.861538461538462,14.809848484848482,18.253846153846155,18.545801526717558,27.760629921259845,19.925954198473278,14.776923076923078,24.201574803149608,20.270992366412212,21.73076923076923,17.3780303030303,24.201574803149608,21.53228346456693,25.733613445378147,19.090151515151511,13.038461538461538,19.946212121212117,14.776923076923078,20.788549618320605,17.083464566929138,18.220155038759685,26.48167938931298,17.384615384615383,13.953787878787876,13.907692307692308,17.53161764705882,20.270992366412212,14.084057971014495,20.848062015503874,14.776923076923078,23.469230769230769,17.3780303030303,27.429059829059835,24.338461538461537,15.303937007874019,19.090151515151511,19.999206349206347,16.193700787401578,13.524409448818901,24.351937984496121,20.861538461538462,12.162595419847323,17.7323076923077,17.769465648854958,16.906870229007627,24.599230769230765,14.716279069767438,16.776153846153843,18.373282442748089,12.516923076923083,16.411904761904758,18.234090909090906,19.702564102564107,19.102380952380951,{"$f":"IF(BW449=\"\",0,(BW449-INDIRECT(CONCATENATE(BW448,\"CR\")))*113/INDIRECT(CONCATENATE(BW448,\"SR\")))","v":20.861538461538462},29.362878787878785,23.688148148148144,13.907692307692308,20.802272727272726,26.791935483870972,16.864393939393942,26.337007874015743,14.716279069767438,20.802272727272726,0,0,0,0,0,0,{"$f":"IF(CM449=\"\",0,(CM449-INDIRECT(CONCATENATE(CM448,\"CR\")))*113/INDIRECT(CONCATENATE(CM448,\"SR\")))","v":0},0,{"$f":"IF(CO449=\"\",0,(CO449-INDIRECT(CONCATENATE(CO448,\"CR\")))*113/INDIRECT(CONCATENATE(CO448,\"SR\")))","v":0},0,{"$f":"IF(CQ449=\"\",0,(CQ449-INDIRECT(CONCATENATE(CQ448,\"CR\")))*113/INDIRECT(CONCATENATE(CQ448,\"SR\")))","v":0},0,{"$f":"IF(CS449=\"\",0,(CS449-INDIRECT(CONCATENATE(CS448,\"CR\")))*113/INDIRECT(CONCATENATE(CS448,\"SR\")))","v":0},0,{"$f":"IF(CU449=\"\",0,(CU449-INDIRECT(CONCATENATE(CU448,\"CR\")))*113/INDIRECT(CONCATENATE(CU448,\"SR\")))","v":0},0,{"$f":"IF(CW449=\"\",0,(CW449-INDIRECT(CONCATENATE(CW448,\"CR\")))*113/INDIRECT(CONCATENATE(CW448,\"SR\")))","v":0}]
[null,null,null,null,null,null,null,null,"New Hcap",{"$f":"J450-2","v":19.53228346456693},{"$f":"IF(K450>0,MIN(J450:K450)-2,J451)","v":16.234090909090906},{"$f":"IF(L450>0,MIN(J450:L450)-2,K451)","v":16.234090909090906},{"$f":"IF(M450>0,MIN(J450:M450)-1,L451)","v":17.234090909090906},{"$f":"IF(N450>0,MIN(J450:N450),M451)","v":18.234090909090906},{"$f":"IF(O450>0,AVERAGE(SMALL(IF(J450:O450>0,J450:O450),{1,2}))-1,N451)","v":17.662121212121207},{"$f":"IF(P450>0,AVERAGE(SMALL(IF(J450:P450>0,J450:P450),{1,2})),O451)","v":18.662121212121207},{"$f":"IF(Q450>0,AVERAGE(SMALL(IF(J450:Q450>0,J450:Q450),{1,2})),P451)","v":18.662121212121207},{"$f":"IF(R450>0,AVERAGE(SMALL(IF(J450:R450>0,J450:R450),{1,2,3})),Q451)","v":18.815773115773112},{"$f":"IF(S450>0,AVERAGE(SMALL(IF(J450:S450>0,J450:S450),{1,2,3})),R451)","v":18.815773115773112},{"$f":"IF(T450>0,AVERAGE(SMALL(IF(J450:T450>0,J450:T450),{1,2,3})),S451)","v":18.815773115773112},{"$f":"IF(U450>0,AVERAGE(SMALL(IF(J450:U450>0,J450:U450),{1,2,3,4})),T451)","v":19.327214452214449},{"$f":"IF(V450>0,AVERAGE(SMALL(IF(J450:V450>0,J450:V450),{1,2,3,4})),U451)","v":17.814291958041956},{"$f":"IF(W450>0,AVERAGE(SMALL(IF(J450:W450>0,J450:W450),{1,2,3,4})),V451)","v":17.596984265734264},{"$f":"IF(X450>0,AVERAGE(SMALL(IF(J450:X450>0,J450:X450),{1,2,3,4,5})),W451)","v":17.786747717930922},{"$f":"IF(Y450>0,AVERAGE(SMALL(IF(J450:Y450>0,J450:Y450),{1,2,3,4,5})),X451)","v":17.786747717930922},{"$f":"IF(Z450>0,AVERAGE(SMALL(IF(J450:Z450>0,J450:Z450),{1,2,3,4,5,6})),Y451)","v":18.009469252121921},{"$f":"IF(AA450>0,AVERAGE(SMALL(IF(J450:AA450>0,J450:AA450),{1,2,3,4,5,6})),Z451)","v":17.28511027776295},{"$f":"IF(AB450>0,AVERAGE(SMALL(IF(J450:AB450>0,J450:AB450),{1,2,3,4,5,6,7})),AA451)","v":17.54767694137923},{"$f":"IF(AC450>0,AVERAGE(SMALL(IF(J450:AC450>0,J450:AC450),{1,2,3,4,5,6,7,8})),AB451)","v":17.844961598515987},{"$f":"IF(AD450>0,AVERAGE(SMALL(IF(K450:AD450>0,K450:AD450),{1,2,3,4,5,6,7,8})),AC451)","v":17.844961598515987},{"$f":"IF(AE450>0,AVERAGE(SMALL(IF(L450:AE450>0,L450:AE450),{1,2,3,4,5,6,7,8})),AD451)","v":17.737954022758409},{"$f":"IF(AF450>0,AVERAGE(SMALL(IF(M450:AF450>0,M450:AF450),{1,2,3,4,5,6,7,8})),AE451)","v":17.737954022758409},{"$f":"IF(AG450>0,AVERAGE(SMALL(IF(N450:AG450>0,N450:AG450),{1,2,3,4,5,6,7,8})),AF451)","v":17.737954022758409},{"$f":"IF(AH450>0,AVERAGE(SMALL(IF(O450:AH450>0,O450:AH450),{1,2,3,4,5,6,7,8})),AG451)","v":17.885559129165998},{"$f":"IF(AI450>0,AVERAGE(SMALL(IF(P450:AI450>0,P450:AI450),{1,2,3,4,5,6,7,8})),AH451)","v":17.881443453175319},{"$f":"IF(AJ450>0,AVERAGE(SMALL(IF(Q450:AJ450>0,Q450:AJ450),{1,2,3,4,5,6,7,8})),AI451)","v":16.977377099681487},{"$f":"IF(AK450>0,AVERAGE(SMALL(IF(R450:AK450>0,R450:AK450),{1,2,3,4,5,6,7,8})),AJ451)","v":16.977377099681487},{"$f":"IF(AL450>0,AVERAGE(SMALL(IF(S450:AL450>0,S450:AL450),{1,2,3,4,5,6,7,8})),AK451)","v":16.333748209487712},{"$f":"IF(AM450>0,AVERAGE(SMALL(IF(T450:AM450>0,T450:AM450),{1,2,3,4,5,6,7,8})),AL451)","v":16.333748209487712},{"$f":"IF(AN450>0,AVERAGE(SMALL(IF(U450:AN450>0,U450:AN450),{1,2,3,4,5,6,7,8})),AM451)","v":16.082912340959915},{"$f":"IF(AO450>0,AVERAGE(SMALL(IF(V450:AO450>0,V450:AO450),{1,2,3,4,5,6,7,8})),AN451)","v":16.042206529965181},{"$f":"IF(AP450>0,AVERAGE(SMALL(IF(W450:AP450>0,W450:AP450),{1,2,3,4,5,6,7,8})),AO451)","v":16.509200660198815},{"$f":"IF(AQ450>0,AVERAGE(SMALL(IF(X450:AQ450>0,X450:AQ450),{1,2,3,4,5,6,7,8})),AP451)","v":16.400546814044969},{"$f":"IF(AR450>0,AVERAGE(SMALL(IF(Y450:AR450>0,Y450:AR450),{1,2,3,4,5,6,7,8})),AQ451)","v":15.826545108053761},{"$f":"IF(AS450>0,AVERAGE(SMALL(IF(Z450:AS450>0,Z450:AS450),{1,2,3,4,5,6,7,8})),AR451)","v":15.287487266670338},{"$f":"IF(AT450>0,AVERAGE(SMALL(IF(AA450:AT450>0,AA450:AT450),{1,2,3,4,5,6,7,8})),AS451)","v":15.287487266670338},{"$f":"IF(AU450>0,AVERAGE(SMALL(IF(AB450:AU450>0,AB450:AU450),{1,2,3,4,5,6,7,8})),AT451)","v":15.631824087937307},{"$f":"IF(AV450>0,AVERAGE(SMALL(IF(AC450:AV450>0,AC450:AV450),{1,2,3,4,5,6,7,8})),AU451)","v":15.200879128431765},{"$f":"IF(AW450>0,AVERAGE(SMALL(IF(AD450:AW450>0,AD450:AW450),{1,2,3,4,5,6,7,8})),AV451)","v":15.200879128431765},{"$f":"IF(AX450>0,AVERAGE(SMALL(IF(AE450:AX450>0,AE450:AX450),{1,2,3,4,5,6,7,8})),AW451)","v":14.874917589970227},{"$f":"IF(AY450>0,AVERAGE(SMALL(IF(AF450:AY450>0,AF450:AY450),{1,2,3,4,5,6,7,8})),AX451)","v":14.875740725168363},{"$f":"IF(AZ450>0,AVERAGE(SMALL(IF(AG450:AZ450>0,AG450:AZ450),{1,2,3,4,5,6,7,8})),AY451)","v":14.874917589970227},{"$f":"IF(BA450>0,AVERAGE(SMALL(IF(AH450:BA450>0,AH450:BA450),{1,2,3,4,5,6,7,8})),AZ451)","v":14.874917589970227},{"$f":"IF(BB450>0,AVERAGE(SMALL(IF(AI450:BB450>0,AI450:BB450),{1,2,3,4,5,6,7,8})),BA451)","v":14.874917589970227},{"$f":"IF(BC450>0,AVERAGE(SMALL(IF(AJ450:BC450>0,AJ450:BC450),{1,2,3,4,5,6,7,8})),BB451)","v":14.615655928075693},{"$f":"IF(BD450>0,AVERAGE(SMALL(IF(AK450:BD450>0,AK450:BD450),{1,2,3,4,5,6,7,8})),BC451)","v":15.158102023646787},{"$f":"IF(BE450>0,AVERAGE(SMALL(IF(AL450:BE450>0,AL450:BE450),{1,2,3,4,5,6,7,8})),BD451)","v":15.158102023646787},{"$f":"IF(BF450>0,AVERAGE(SMALL(IF(AM450:BF450>0,AM450:BF450),{1,2,3,4,5,6,7,8})),BE451)","v":15.3351992374566},{"$f":"IF(BG450>0,AVERAGE(SMALL(IF(AN450:BG450>0,AN450:BG450),{1,2,3,4,5,6,7,8})),BF451)","v":14.853496630680176},{"$f":"IF(BH450>0,AVERAGE(SMALL(IF(AO450:BH450>0,AO450:BH450),{1,2,3,4,5,6,7,8})),BG451)","v":14.890317347692822},{"$f":"IF(BI450>0,AVERAGE(SMALL(IF(AP450:BI450>0,AP450:BI450),{1,2,3,4,5,6,7,8})),BH451)","v":14.890317347692822},{"$f":"IF(BJ450>0,AVERAGE(SMALL(IF(AQ450:BJ450>0,AQ450:BJ450),{1,2,3,4,5,6,7,8})),BI451)","v":14.238387987294949},{"$f":"IF(BK450>0,AVERAGE(SMALL(IF(AR450:BK450>0,AR450:BK450),{1,2,3,4,5,6,7,8})),BJ451)","v":14.238387987294949},{"$f":"IF(BL450>0,AVERAGE(SMALL(IF(AS450:BL450>0,AS450:BL450),{1,2,3,4,5,6,7,8})),BK451)","v":14.66641829032525},{"$f":"IF(BM450>0,AVERAGE(SMALL(IF(AT450:BM450>0,AT450:BM450),{1,2,3,4,5,6,7,8})),BL451)","v":15.041315530489664},{"$f":"IF(BN450>0,AVERAGE(SMALL(IF(AU450:BN450>0,AU450:BN450),{1,2,3,4,5,6,7,8})),BM451)","v":15.041315530489664},{"$f":"IF(BO450>0,AVERAGE(SMALL(IF(AV450:BO450>0,AV450:BO450),{1,2,3,4,5,6,7,8})),BN451)","v":14.708596626331806},{"$f":"IF(BP450>0,AVERAGE(SMALL(IF(AW450:BP450>0,AW450:BP450),{1,2,3,4,5,6,7,8})),BO451)","v":15.045108610724226},{"$f":"IF(BQ450>0,AVERAGE(SMALL(IF(AX450:BQ450>0,AX450:BQ450),{1,2,3,4,5,6,7,8})),BP451)","v":15.045108610724226},{"$f":"IF(BR450>0,AVERAGE(SMALL(IF(AY450:BR450>0,AY450:BR450),{1,2,3,4,5,6,7,8})),BQ451)","v":14.762608610724227},{"$f":"IF(BS450>0,AVERAGE(SMALL(IF(AZ450:BS450>0,AZ450:BS450),{1,2,3,4,5,6,7,8})),BR451)","v":14.70073792733637},{"$f":"IF(BT450>0,AVERAGE(SMALL(IF(BA450:BT450>0,BA450:BT450),{1,2,3,4,5,6,7,8})),BS451)","v":14.70073792733637},{"$f":"IF(BU450>0,AVERAGE(SMALL(IF(BB450:BU450>0,BB450:BU450),{1,2,3,4,5,6,7,8})),BT451)","v":14.70073792733637},{"$f":"IF(BV450>0,AVERAGE(SMALL(IF(BC450:BV450>0,BC450:BV450),{1,2,3,4,5,6,7,8})),BU451)","v":14.70073792733637},{"$f":"IF(BW450>0,AVERAGE(SMALL(IF(BD450:BW450>0,BD450:BW450),{1,2,3,4,5,6,7,8})),BV451)","v":14.901104579978069},{"$f":"IF(BX450>0,AVERAGE(SMALL(IF(BE450:BX450>0,BE450:BX450),{1,2,3,4,5,6,7,8})),BW451)","v":14.901104579978069},{"$f":"IF(BY450>0,AVERAGE(SMALL(IF(BF450:BY450>0,BF450:BY450),{1,2,3,4,5,6,7,8})),BX451)","v":14.901104579978069},{"$f":"IF(BZ450>0,AVERAGE(SMALL(IF(BG450:BZ450>0,BG450:BZ450),{1,2,3,4,5,6,7,8})),BY451)","v":14.615353520014411},{"$f":"IF(CA450>0,AVERAGE(SMALL(IF(BH450:CA450>0,BH450:CA450),{1,2,3,4,5,6,7,8})),BZ451)","v":15.141340800450509},{"$f":"IF(CB450>0,AVERAGE(SMALL(IF(BI450:CB450>0,BI450:CB450),{1,2,3,4,5,6,7,8})),CA451)","v":15.141340800450509},{"$f":"IF(CC450>0,AVERAGE(SMALL(IF(BJ450:CC450>0,BJ450:CC450),{1,2,3,4,5,6,7,8})),CB451)","v":15.03285158133629},{"$f":"IF(CD450>0,AVERAGE(SMALL(IF(BK450:CD450>0,BK450:CD450),{1,2,3,4,5,6,7,8})),CC451)","v":15.729065615393838},{"$f":"IF(CE450>0,AVERAGE(SMALL(IF(BL450:CE450>0,BL450:CE450),{1,2,3,4,5,6,7,8})),CD451)","v":15.352062037576305},{"$f":"IF(CF450>0,AVERAGE(SMALL(IF(BM450:CF450>0,BM450:CF450),{1,2,3,4,5,6,7,8})),CE451)","v":15.352062037576305},{"$f":"IF(CG450>0,AVERAGE(SMALL(IF(BN450:CG450>0,BN450:CG450),{1,2,3,4,5,6,7,8})),CF451)","v":15.352062037576305},{"$f":"IF(CH450>0,AVERAGE(SMALL(IF(BO450:CH450>0,BO450:CH450),{1,2,3,4,5,6,7,8})),CG451)","v":15.352062037576305},{"$f":"IF(CI450>0,AVERAGE(SMALL(IF(BP450:CI450>0,BP450:CI450),{1,2,3,4,5,6,7,8})),CH451)","v":15.352062037576305},{"$f":"IF(CJ450>0,AVERAGE(SMALL(IF(BQ450:CJ450>0,BQ450:CJ450),{1,2,3,4,5,6,7,8})),CI451)","v":15.352062037576305},{"$f":"IF(CK450>0,AVERAGE(SMALL(IF(BR450:CK450>0,BR450:CK450),{1,2,3,4,5,6,7,8})),CJ451)","v":15.352062037576305},{"$f":"IF(CL450>0,AVERAGE(SMALL(IF(BS450:CL450>0,BS450:CL450),{1,2,3,4,5,6,7,8})),CK451)","v":15.352062037576305},{"$f":"IF(CM450>0,AVERAGE(SMALL(IF(BT450:CM450>0,BT450:CM450),{1,2,3,4,5,6,7,8})),CL451)","v":15.352062037576305},{"$f":"IF(CN450>0,AVERAGE(SMALL(IF(BU450:CN450>0,BU450:CN450),{1,2,3,4,5,6,7,8})),CM451)","v":15.352062037576305},{"$f":"IF(CO450>0,AVERAGE(SMALL(IF(BV450:CO450>0,BV450:CO450),{1,2,3,4,5,6,7,8})),CN451)","v":15.352062037576305},{"$f":"IF(CP450>0,AVERAGE(SMALL(IF(BW450:CP450>0,BW450:CP450),{1,2,3,4,5,6,7,8})),CO451)","v":15.352062037576305},{"$f":"IF(CQ450>0,AVERAGE(SMALL(IF(BX450:CQ450>0,BX450:CQ450),{1,2,3,4,5,6,7,8})),CP451)","v":15.352062037576305},{"$f":"IF(CR450>0,AVERAGE(SMALL(IF(BY450:CR450>0,BY450:CR450),{1,2,3,4,5,6,7,8})),CQ451)","v":15.352062037576305},{"$f":"IF(CS450>0,AVERAGE(SMALL(IF(BZ450:CS450>0,BZ450:CS450),{1,2,3,4,5,6,7,8})),CR451)","v":15.352062037576305},{"$f":"IF(CT450>0,AVERAGE(SMALL(IF(CA450:CT450>0,CA450:CT450),{1,2,3,4,5,6,7,8})),CS451)","v":15.352062037576305},{"$f":"IF(CU450>0,AVERAGE(SMALL(IF(CB450:CU450>0,CB450:CU450),{1,2,3,4,5,6,7,8})),CT451)","v":15.352062037576305},{"$f":"IF(CV450>0,AVERAGE(SMALL(IF(CC450:CV450>0,CC450:CV450),{1,2,3,4,5,6,7,8})),CU451)","v":15.352062037576305},{"$f":"IF(CW450>0,AVERAGE(SMALL(IF(CD450:CW450>0,CD450:CW450),{1,2,3,4,5,6,7,8})),CV451)","v":15.352062037576305}]
[null,null,null,null,null,null,null,null,"Low Hcap",null,null,null,null,null,null,null,null,null,null,null,null,null,null,null,null,null,null,null,{"$f":"MIN($M451:AC451)","v":17.234090909090906},{"$f":"MIN($M451:AD451)","v":17.234090909090906},{"$f":"MIN($N451:AE451)","v":17.28511027776295},{"$f":"MIN($O451:AF451)","v":17.28511027776295},{"$f":"MIN($P451:AG451)","v":17.28511027776295},{"$f":"MIN($P451:AH451)","v":17.28511027776295},{"$f":"MIN($P451:AI451)","v":17.28511027776295},{"$f":"MIN($P451:AJ451)","v":16.977377099681487},{"$f":"MIN($P451:AK451)","v":16.977377099681487},{"$f":"MIN($P451:AL451)","v":16.333748209487712},{"$f":"MIN($P451:AM451)","v":16.333748209487712},{"$f":"MIN($P451:AN451)","v":16.082912340959915},{"$f":"MIN($P451:AO451)","v":16.042206529965181},{"$f":"MIN($R451:AP451)","v":16.042206529965181},{"$f":"MIN($S451:AQ451)","v":16.042206529965181},{"$f":"MIN($T451:AR451)","v":15.826545108053761},{"$f":"MIN($S451:AS451)","v":15.287487266670338},{"$f":"MIN($X451:AT451)","v":15.287487266670338},{"$f":"MIN($X451:AU451)","v":15.287487266670338},{"$f":"MIN($Z451:AV451)","v":15.200879128431765},{"$f":"MIN($AA451:AW451)","v":15.200879128431765},{"$f":"MIN($AB451:AX451)","v":14.874917589970227},{"$f":"MIN($AC451:AY451)","v":14.874917589970227},{"$f":"MIN($AC451:AZ451)","v":14.874917589970227},{"$f":"MIN($AC451:BA451)","v":14.874917589970227},{"$f":"MIN($AD451:BB451)","v":14.874917589970227},{"$f":"MIN($AE451:BC451)","v":14.615655928075693},{"$f":"MIN($AG451:BD451)","v":14.615655928075693},{"$f":"MIN($AI451:BE451)","v":14.615655928075693},{"$f":"MIN($AN451:BF451)","v":14.615655928075693},{"$f":"MIN($AO451:BG451)","v":14.615655928075693},{"$f":"MIN($AQ451:BH451)","v":14.615655928075693},{"$f":"MIN($AQ451:BI451)","v":14.615655928075693},{"$f":"MIN($AR451:BJ451)","v":14.238387987294949},{"$f":"MIN($AS451:BK451)","v":14.238387987294949},{"$f":"MIN($AS451:BL451)","v":14.238387987294949},{"$f":"MIN($AS451:BM451)","v":14.238387987294949},{"$f":"MIN($AS451:BN451)","v":14.238387987294949},{"$f":"MIN($AS451:BO451)","v":14.238387987294949},{"$f":"MIN($AV451:BP451)","v":14.238387987294949},{"$f":"MIN($AW451:BQ451)","v":14.238387987294949},{"$f":"MIN($AW451:BR451)","v":14.238387987294949},{"$f":"MIN($AZ451:BS451)","v":14.238387987294949},{"$f":"MIN($BB451:BT451)","v":14.238387987294949},{"$f":"MIN($BB451:BU451)","v":14.238387987294949},{"$f":"MIN($BC451:BV451)","v":14.238387987294949},{"$f":"MIN($BC451:BW451)","v":14.238387987294949},{"$f":"MIN($BD451:BX451)","v":14.238387987294949},{"$f":"MIN($BE451:BY451)","v":14.238387987294949},{"$f":"MIN($BE451:BZ451)","v":14.238387987294949},{"$f":"MIN($BE451:CA451)","v":14.238387987294949},{"$f":"MIN($BF451:CB451)","v":14.238387987294949},{"$f":"MIN($BF451:CC451)","v":14.238387987294949},{"$f":"MIN($BG451:CD451)","v":14.238387987294949},{"$f":"MIN($BH451:CE451)","v":14.238387987294949},{"$f":"MIN($BI451:CF451)","v":14.238387987294949},{"$f":"MIN($BI451:CG451)","v":14.238387987294949},{"$f":"MIN($BI451:CH451)","v":14.238387987294949},{"$f":"MIN($BI451:CI451)","v":14.238387987294949},{"$f":"MIN($BI451:CJ451)","v":14.238387987294949},{"$f":"MIN($BI451:CK451)","v":14.238387987294949},{"$f":"MIN($BI451:CL451)","v":14.238387987294949},{"$f":"MIN($BI451:CM451)","v":14.238387987294949},{"$f":"MIN($BI451:CN451)","v":14.238387987294949},{"$f":"MIN($BI451:CO451)","v":14.238387987294949},{"$f":"MIN($BI451:CP451)","v":14.238387987294949},{"$f":"MIN($BI451:CQ451)","v":14.238387987294949},{"$f":"MIN($BI451:CR451)","v":14.238387987294949},{"$f":"MIN($BI451:CS451)","v":14.238387987294949},{"$f":"MIN($BI451:CT451)","v":14.238387987294949},{"$f":"MIN($BI451:CU451)","v":14.238387987294949},{"$f":"MIN($BI451:CV451)","v":14.238387987294949},{"$f":"MIN($BI451:CW451)","v":14.238387987294949}]
[null,"Roe","Sean",28,null,{"$f":"IF(H453<4,\"Y\",)","v":0},2022,{"$f":"COUNT(J453:CX453)","v":8},"Date",null,"2022-07-15","2022-07-31","2022-08-12","2022-08-26","2022-09-02","2022-11-13","2022-11-27","2023-05-19",null,null,null,null,null,null,null,null,null,null,null,null,null,null,null,null,null,null,null,null,null,null,null,null,null,null,null,null,null,null,null,null,null,null,null,null,null,null,null,null,null,null,null,null,null,null,null,null,null,null,null,null,null,null,null,null,null,null,null,null,null,null,null,null,null,null,null,null,null,null,null,null,null,null,null,null,null,null,null,null,null,null,null,null,{"$f":"IF(CW457>$DD$1,36,CW457)","v":30.900367543115635},30.656106870229006,{"$f":"CZ453-CY453","v":-0.24426067288662878}]
[null,null,null,null,null,null,null,null,"Course",null,"MaxlrainHG","HohenpaehlHG","ValleyHG","EschenhofHG","StEurachHG","ErdingHG","OdelzhausenHB","GarmischHG"]
[null,null,null,null,null,null,null,null,"Ad Gr",null,122,107,111,110,118,116,109,113]
[null,null,null,null,null,null,null,null,"SD",{"$f":"D453+2","v":30},{"$f":"IF(K455=\"\",0,(K455-INDIRECT(CONCATENATE(K454,\"CR\")))*113/INDIRECT(CONCATENATE(K454,\"SR\")))","v":40.796323529411758},31.312213740458013,31.388888888888889,32.701515151515153,39.765648854961825,39.115384615384613,39.984615384615388,37.014173228346451,0,0,0,0,0,0,0,0,0,0,0,0,0,0,0,0,0,0,0,0,0,0,0,0,0,0,0,0,0,0,0,0,0,0,0,0,0,0,0,0,0,0,0,0,0,0,0,0,0,0,0,0,0,0,0,0,{"$f":"IF(BW455=\"\",0,(BW455-INDIRECT(CONCATENATE(BW454,\"CR\")))*113/INDIRECT(CONCATENATE(BW454,\"SR\")))","v":0},0,0,0,0,0,0,0,0,0,0,0,0,0,0,0,{"$f":"IF(CM455=\"\",0,(CM455-INDIRECT(CONCATENATE(CM454,\"CR\")))*113/INDIRECT(CONCATENATE(CM454,\"SR\")))","v":0},0,{"$f":"IF(CO455=\"\",0,(CO455-INDIRECT(CONCATENATE(CO454,\"CR\")))*113/INDIRECT(CONCATENATE(CO454,\"SR\")))","v":0},0,{"$f":"IF(CQ455=\"\",0,(CQ455-INDIRECT(CONCATENATE(CQ454,\"CR\")))*113/INDIRECT(CONCATENATE(CQ454,\"SR\")))","v":0},0,{"$f":"IF(CS455=\"\",0,(CS455-INDIRECT(CONCATENATE(CS454,\"CR\")))*113/INDIRECT(CONCATENATE(CS454,\"SR\")))","v":0},0,{"$f":"IF(CU455=\"\",0,(CU455-INDIRECT(CONCATENATE(CU454,\"CR\")))*113/INDIRECT(CONCATENATE(CU454,\"SR\")))","v":0},0,{"$f":"IF(CW455=\"\",0,(CW455-INDIRECT(CONCATENATE(CW454,\"CR\")))*113/INDIRECT(CONCATENATE(CW454,\"SR\")))","v":0}]
[null,null,null,null,null,null,null,null,"New Hcap",{"$f":"J456-2","v":28},{"$f":"IF(K456>0,MIN(J456:K456)-2,J457)","v":28},{"$f":"IF(L456>0,MIN(J456:L456)-2,K457)","v":28},{"$f":"IF(M456>0,MIN(J456:M456)-1,L457)","v":29},{"$f":"IF(N456>0,MIN(J456:N456),M457)","v":30},{"$f":"IF(O456>0,AVERAGE(SMALL(IF(J456:O456>0,J456:O456),{1,2}))-1,N457)","v":29.656106870229006},{"$f":"IF(P456>0,AVERAGE(SMALL(IF(J456:P456>0,J456:P456),{1,2})),O457)","v":30.656106870229006},{"$f":"IF(Q456>0,AVERAGE(SMALL(IF(J456:Q456>0,J456:Q456),{1,2})),P457)","v":30.656106870229006},{"$f":"IF(R456>0,AVERAGE(SMALL(IF(J456:R456>0,J456:R456),{1,2,3})),Q457)","v":30.900367543115635},{"$f":"IF(S456>0,AVERAGE(SMALL(IF(J456:S456>0,J456:S456),{1,2,3})),R457)","v":30.900367543115635},{"$f":"IF(T456>0,AVERAGE(SMALL(IF(J456:T456>0,J456:T456),{1,2,3})),S457)","v":30.900367543115635},{"$f":"IF(U456>0,AVERAGE(SMALL(IF(J456:U456>0,J456:U456),{1,2,3,4})),T457)","v":30.900367543115635},{"$f":"IF(V456>0,AVERAGE(SMALL(IF(J456:V456>0,J456:V456),{1,2,3,4})),U457)","v":30.900367543115635},{"$f":"IF(W456>0,AVERAGE(SMALL(IF(J456:W456>0,J456:W456),{1,2,3,4})),V457)","v":30.900367543115635},{"$f":"IF(X456>0,AVERAGE(SMALL(IF(J456:X456>0,J456:X456),{1,2,3,4,5})),W457)","v":30.900367543115635},{"$f":"IF(Y456>0,AVERAGE(SMALL(IF(J456:Y456>0,J456:Y456),{1,2,3,4,5})),X457)","v":30.900367543115635},{"$f":"IF(Z456>0,AVERAGE(SMALL(IF(J456:Z456>0,J456:Z456),{1,2,3,4,5,6})),Y457)","v":30.900367543115635},{"$f":"IF(AA456>0,AVERAGE(SMALL(IF(J456:AA456>0,J456:AA456),{1,2,3,4,5,6})),Z457)","v":30.900367543115635},{"$f":"IF(AB456>0,AVERAGE(SMALL(IF(J456:AB456>0,J456:AB456),{1,2,3,4,5,6,7})),AA457)","v":30.900367543115635},{"$f":"IF(AC456>0,AVERAGE(SMALL(IF(J456:AC456>0,J456:AC456),{1,2,3,4,5,6,7,8})),AB457)","v":30.900367543115635},{"$f":"IF(AD456>0,AVERAGE(SMALL(IF(K456:AD456>0,K456:AD456),{1,2,3,4,5,6,7,8})),AC457)","v":30.900367543115635},{"$f":"IF(AE456>0,AVERAGE(SMALL(IF(L456:AE456>0,L456:AE456),{1,2,3,4,5,6,7,8})),AD457)","v":30.900367543115635},{"$f":"IF(AF456>0,AVERAGE(SMALL(IF(M456:AF456>0,M456:AF456),{1,2,3,4,5,6,7,8})),AE457)","v":30.900367543115635},{"$f":"IF(AG456>0,AVERAGE(SMALL(IF(N456:AG456>0,N456:AG456),{1,2,3,4,5,6,7,8})),AF457)","v":30.900367543115635},{"$f":"IF(AH456>0,AVERAGE(SMALL(IF(O456:AH456>0,O456:AH456),{1,2,3,4,5,6,7,8})),AG457)","v":30.900367543115635},{"$f":"IF(AI456>0,AVERAGE(SMALL(IF(P456:AI456>0,P456:AI456),{1,2,3,4,5,6,7,8})),AH457)","v":30.900367543115635},{"$f":"IF(AJ456>0,AVERAGE(SMALL(IF(Q456:AJ456>0,Q456:AJ456),{1,2,3,4,5,6,7,8})),AI457)","v":30.900367543115635},{"$f":"IF(AK456>0,AVERAGE(SMALL(IF(R456:AK456>0,R456:AK456),{1,2,3,4,5,6,7,8})),AJ457)","v":30.900367543115635},{"$f":"IF(AL456>0,AVERAGE(SMALL(IF(S456:AL456>0,S456:AL456),{1,2,3,4,5,6,7,8})),AK457)","v":30.900367543115635},{"$f":"IF(AM456>0,AVERAGE(SMALL(IF(T456:AM456>0,T456:AM456),{1,2,3,4,5,6,7,8})),AL457)","v":30.900367543115635},{"$f":"IF(AN456>0,AVERAGE(SMALL(IF(U456:AN456>0,U456:AN456),{1,2,3,4,5,6,7,8})),AM457)","v":30.900367543115635},{"$f":"IF(AO456>0,AVERAGE(SMALL(IF(V456:AO456>0,V456:AO456),{1,2,3,4,5,6,7,8})),AN457)","v":30.900367543115635},{"$f":"IF(AP456>0,AVERAGE(SMALL(IF(W456:AP456>0,W456:AP456),{1,2,3,4,5,6,7,8})),AO457)","v":30.900367543115635},{"$f":"IF(AQ456>0,AVERAGE(SMALL(IF(X456:AQ456>0,X456:AQ456),{1,2,3,4,5,6,7,8})),AP457)","v":30.900367543115635},{"$f":"IF(AR456>0,AVERAGE(SMALL(IF(Y456:AR456>0,Y456:AR456),{1,2,3,4,5,6,7,8})),AQ457)","v":30.900367543115635},{"$f":"IF(AS456>0,AVERAGE(SMALL(IF(Z456:AS456>0,Z456:AS456),{1,2,3,4,5,6,7,8})),AR457)","v":30.900367543115635},{"$f":"IF(AT456>0,AVERAGE(SMALL(IF(AA456:AT456>0,AA456:AT456),{1,2,3,4,5,6,7,8})),AS457)","v":30.900367543115635},{"$f":"IF(AU456>0,AVERAGE(SMALL(IF(AB456:AU456>0,AB456:AU456),{1,2,3,4,5,6,7,8})),AT457)","v":30.900367543115635},{"$f":"IF(AV456>0,AVERAGE(SMALL(IF(AC456:AV456>0,AC456:AV456),{1,2,3,4,5,6,7,8})),AU457)","v":30.900367543115635},{"$f":"IF(AW456>0,AVERAGE(SMALL(IF(AD456:AW456>0,AD456:AW456),{1,2,3,4,5,6,7,8})),AV457)","v":30.900367543115635},{"$f":"IF(AX456>0,AVERAGE(SMALL(IF(AE456:AX456>0,AE456:AX456),{1,2,3,4,5,6,7,8})),AW457)","v":30.900367543115635},{"$f":"IF(AY456>0,AVERAGE(SMALL(IF(AF456:AY456>0,AF456:AY456),{1,2,3,4,5,6,7,8})),AX457)","v":30.900367543115635},{"$f":"IF(AZ456>0,AVERAGE(SMALL(IF(AG456:AZ456>0,AG456:AZ456),{1,2,3,4,5,6,7,8})),AY457)","v":30.900367543115635},{"$f":"IF(BA456>0,AVERAGE(SMALL(IF(AH456:BA456>0,AH456:BA456),{1,2,3,4,5,6,7,8})),AZ457)","v":30.900367543115635},{"$f":"IF(BB456>0,AVERAGE(SMALL(IF(AI456:BB456>0,AI456:BB456),{1,2,3,4,5,6,7,8})),BA457)","v":30.900367543115635},{"$f":"IF(BC456>0,AVERAGE(SMALL(IF(AJ456:BC456>0,AJ456:BC456),{1,2,3,4,5,6,7,8})),BB457)","v":30.900367543115635},{"$f":"IF(BD456>0,AVERAGE(SMALL(IF(AK456:BD456>0,AK456:BD456),{1,2,3,4,5,6,7,8})),BC457)","v":30.900367543115635},{"$f":"IF(BE456>0,AVERAGE(SMALL(IF(AL456:BE456>0,AL456:BE456),{1,2,3,4,5,6,7,8})),BD457)","v":30.900367543115635},{"$f":"IF(BF456>0,AVERAGE(SMALL(IF(AM456:BF456>0,AM456:BF456),{1,2,3,4,5,6,7,8})),BE457)","v":30.900367543115635},{"$f":"IF(BG456>0,AVERAGE(SMALL(IF(AN456:BG456>0,AN456:BG456),{1,2,3,4,5,6,7,8})),BF457)","v":30.900367543115635},{"$f":"IF(BH456>0,AVERAGE(SMALL(IF(AO456:BH456>0,AO456:BH456),{1,2,3,4,5,6,7,8})),BG457)","v":30.900367543115635},{"$f":"IF(BI456>0,AVERAGE(SMALL(IF(AP456:BI456>0,AP456:BI456),{1,2,3,4,5,6,7,8})),BH457)","v":30.900367543115635},{"$f":"IF(BJ456>0,AVERAGE(SMALL(IF(AQ456:BJ456>0,AQ456:BJ456),{1,2,3,4,5,6,7,8})),BI457)","v":30.900367543115635},{"$f":"IF(BK456>0,AVERAGE(SMALL(IF(AR456:BK456>0,AR456:BK456),{1,2,3,4,5,6,7,8})),BJ457)","v":30.900367543115635},{"$f":"IF(BL456>0,AVERAGE(SMALL(IF(AS456:BL456>0,AS456:BL456),{1,2,3,4,5,6,7,8})),BK457)","v":30.900367543115635},{"$f":"IF(BM456>0,AVERAGE(SMALL(IF(AT456:BM456>0,AT456:BM456),{1,2,3,4,5,6,7,8})),BL457)","v":30.900367543115635},{"$f":"IF(BN456>0,AVERAGE(SMALL(IF(AU456:BN456>0,AU456:BN456),{1,2,3,4,5,6,7,8})),BM457)","v":30.900367543115635},{"$f":"IF(BO456>0,AVERAGE(SMALL(IF(AV456:BO456>0,AV456:BO456),{1,2,3,4,5,6,7,8})),BN457)","v":30.900367543115635},{"$f":"IF(BP456>0,AVERAGE(SMALL(IF(AW456:BP456>0,AW456:BP456),{1,2,3,4,5,6,7,8})),BO457)","v":30.900367543115635},{"$f":"IF(BQ456>0,AVERAGE(SMALL(IF(AX456:BQ456>0,AX456:BQ456),{1,2,3,4,5,6,7,8})),BP457)","v":30.900367543115635},{"$f":"IF(BR456>0,AVERAGE(SMALL(IF(AY456:BR456>0,AY456:BR456),{1,2,3,4,5,6,7,8})),BQ457)","v":30.900367543115635},{"$f":"IF(BS456>0,AVERAGE(SMALL(IF(AZ456:BS456>0,AZ456:BS456),{1,2,3,4,5,6,7,8})),BR457)","v":30.900367543115635},{"$f":"IF(BT456>0,AVERAGE(SMALL(IF(BA456:BT456>0,BA456:BT456),{1,2,3,4,5,6,7,8})),BS457)","v":30.900367543115635},{"$f":"IF(BU456>0,AVERAGE(SMALL(IF(BB456:BU456>0,BB456:BU456),{1,2,3,4,5,6,7,8})),BT457)","v":30.900367543115635},{"$f":"IF(BV456>0,AVERAGE(SMALL(IF(BC456:BV456>0,BC456:BV456),{1,2,3,4,5,6,7,8})),BU457)","v":30.900367543115635},{"$f":"IF(BW456>0,AVERAGE(SMALL(IF(BD456:BW456>0,BD456:BW456),{1,2,3,4,5,6,7,8})),BV457)","v":30.900367543115635},{"$f":"IF(BX456>0,AVERAGE(SMALL(IF(BE456:BX456>0,BE456:BX456),{1,2,3,4,5,6,7,8})),BW457)","v":30.900367543115635},{"$f":"IF(BY456>0,AVERAGE(SMALL(IF(BF456:BY456>0,BF456:BY456),{1,2,3,4,5,6,7,8})),BX457)","v":30.900367543115635},{"$f":"IF(BZ456>0,AVERAGE(SMALL(IF(BG456:BZ456>0,BG456:BZ456),{1,2,3,4,5,6,7,8})),BY457)","v":30.900367543115635},{"$f":"IF(CA456>0,AVERAGE(SMALL(IF(BH456:CA456>0,BH456:CA456),{1,2,3,4,5,6,7,8})),BZ457)","v":30.900367543115635},{"$f":"IF(CB456>0,AVERAGE(SMALL(IF(BI456:CB456>0,BI456:CB456),{1,2,3,4,5,6,7,8})),CA457)","v":30.900367543115635},{"$f":"IF(CC456>0,AVERAGE(SMALL(IF(BJ456:CC456>0,BJ456:CC456),{1,2,3,4,5,6,7,8})),CB457)","v":30.900367543115635},{"$f":"IF(CD456>0,AVERAGE(SMALL(IF(BK456:CD456>0,BK456:CD456),{1,2,3,4,5,6,7,8})),CC457)","v":30.900367543115635},{"$f":"IF(CE456>0,AVERAGE(SMALL(IF(BL456:CE456>0,BL456:CE456),{1,2,3,4,5,6,7,8})),CD457)","v":30.900367543115635},{"$f":"IF(CF456>0,AVERAGE(SMALL(IF(BM456:CF456>0,BM456:CF456),{1,2,3,4,5,6,7,8})),CE457)","v":30.900367543115635},{"$f":"IF(CG456>0,AVERAGE(SMALL(IF(BN456:CG456>0,BN456:CG456),{1,2,3,4,5,6,7,8})),CF457)","v":30.900367543115635},{"$f":"IF(CH456>0,AVERAGE(SMALL(IF(BO456:CH456>0,BO456:CH456),{1,2,3,4,5,6,7,8})),CG457)","v":30.900367543115635},{"$f":"IF(CI456>0,AVERAGE(SMALL(IF(BP456:CI456>0,BP456:CI456),{1,2,3,4,5,6,7,8})),CH457)","v":30.900367543115635},{"$f":"IF(CJ456>0,AVERAGE(SMALL(IF(BQ456:CJ456>0,BQ456:CJ456),{1,2,3,4,5,6,7,8})),CI457)","v":30.900367543115635},{"$f":"IF(CK456>0,AVERAGE(SMALL(IF(BR456:CK456>0,BR456:CK456),{1,2,3,4,5,6,7,8})),CJ457)","v":30.900367543115635},{"$f":"IF(CL456>0,AVERAGE(SMALL(IF(BS456:CL456>0,BS456:CL456),{1,2,3,4,5,6,7,8})),CK457)","v":30.900367543115635},{"$f":"IF(CM456>0,AVERAGE(SMALL(IF(BT456:CM456>0,BT456:CM456),{1,2,3,4,5,6,7,8})),CL457)","v":30.900367543115635},{"$f":"IF(CN456>0,AVERAGE(SMALL(IF(BU456:CN456>0,BU456:CN456),{1,2,3,4,5,6,7,8})),CM457)","v":30.900367543115635},{"$f":"IF(CO456>0,AVERAGE(SMALL(IF(BV456:CO456>0,BV456:CO456),{1,2,3,4,5,6,7,8})),CN457)","v":30.900367543115635},{"$f":"IF(CP456>0,AVERAGE(SMALL(IF(BW456:CP456>0,BW456:CP456),{1,2,3,4,5,6,7,8})),CO457)","v":30.900367543115635},{"$f":"IF(CQ456>0,AVERAGE(SMALL(IF(BX456:CQ456>0,BX456:CQ456),{1,2,3,4,5,6,7,8})),CP457)","v":30.900367543115635},{"$f":"IF(CR456>0,AVERAGE(SMALL(IF(BY456:CR456>0,BY456:CR456),{1,2,3,4,5,6,7,8})),CQ457)","v":30.900367543115635},{"$f":"IF(CS456>0,AVERAGE(SMALL(IF(BZ456:CS456>0,BZ456:CS456),{1,2,3,4,5,6,7,8})),CR457)","v":30.900367543115635},{"$f":"IF(CT456>0,AVERAGE(SMALL(IF(CA456:CT456>0,CA456:CT456),{1,2,3,4,5,6,7,8})),CS457)","v":30.900367543115635},{"$f":"IF(CU456>0,AVERAGE(SMALL(IF(CB456:CU456>0,CB456:CU456),{1,2,3,4,5,6,7,8})),CT457)","v":30.900367543115635},{"$f":"IF(CV456>0,AVERAGE(SMALL(IF(CC456:CV456>0,CC456:CV456),{1,2,3,4,5,6,7,8})),CU457)","v":30.900367543115635},{"$f":"IF(CW456>0,AVERAGE(SMALL(IF(CD456:CW456>0,CD456:CW456),{1,2,3,4,5,6,7,8})),CV457)","v":30.900367543115635}]
[null,null,null,null,null,null,null,null,"Low Hcap",null,null,null,null,null,null,null,null,null,null,null,null,null,null,null,null,null,null,null,{"$f":"MIN($J457:AC457)","v":28},{"$f":"MIN($J457:AD457)","v":28},{"$f":"MIN($J457:AE457)","v":28},{"$f":"MIN($J457:AF457)","v":28},{"$f":"MIN($J457:AG457)","v":28},{"$f":"MIN($J457:AH457)","v":28},{"$f":"MIN($J457:AI457)","v":28},{"$f":"MIN($J457:AJ457)","v":28},{"$f":"MIN($J457:AK457)","v":28},{"$f":"MIN($J457:AL457)","v":28},{"$f":"MIN($J457:AM457)","v":28},{"$f":"MIN($J457:AN457)","v":28},{"$f":"MIN($J457:AO457)","v":28},{"$f":"MIN($J457:AP457)","v":28},{"$f":"MIN($J457:AQ457)","v":28},{"$f":"MIN($J457:AR457)","v":28},{"$f":"MIN($J457:AS457)","v":28},{"$f":"MIN($J457:AT457)","v":28},{"$f":"MIN($J457:AU457)","v":28},{"$f":"MIN($J457:AV457)","v":28},{"$f":"MIN($J457:AW457)","v":28},{"$f":"MIN($J457:AX457)","v":28},{"$f":"MIN($J457:AY457)","v":28},{"$f":"MIN($J457:AZ457)","v":28},{"$f":"MIN($J457:BA457)","v":28},{"$f":"MIN($J457:BB457)","v":28},{"$f":"MIN($J457:BC457)","v":28},{"$f":"MIN($J457:BD457)","v":28},{"$f":"MIN($J457:BE457)","v":28},{"$f":"MIN($J457:BF457)","v":28},{"$f":"MIN($J457:BG457)","v":28},{"$f":"MIN($J457:BH457)","v":28},{"$f":"MIN($J457:BI457)","v":28},{"$f":"MIN($J457:BJ457)","v":28},{"$f":"MIN($J457:BK457)","v":28},{"$f":"MIN($J457:BL457)","v":28},{"$f":"MIN($J457:BM457)","v":28},{"$f":"MIN($J457:BN457)","v":28},{"$f":"MIN($J457:BO457)","v":28},{"$f":"MIN($J457:BP457)","v":28},{"$f":"MIN($J457:BQ457)","v":28},{"$f":"MIN($J457:BR457)","v":28},{"$f":"MIN($J457:BS457)","v":28},{"$f":"MIN($J457:BT457)","v":28},{"$f":"MIN($J457:BU457)","v":28},{"$f":"MIN($J457:BV457)","v":28},{"$f":"MIN($J457:BW457)","v":28},{"$f":"MIN($J457:BX457)","v":28},{"$f":"MIN($J457:BY457)","v":28},{"$f":"MIN($J457:BZ457)","v":28},{"$f":"MIN($J457:CA457)","v":28},{"$f":"MIN($J457:CB457)","v":28},{"$f":"MIN($J457:CC457)","v":28},{"$f":"MIN($J457:CD457)","v":28},{"$f":"MIN($J457:CE457)","v":28},{"$f":"MIN($J457:CF457)","v":28},{"$f":"MIN($J457:CG457)","v":28},{"$f":"MIN($J457:CH457)","v":28},{"$f":"MIN($J457:CI457)","v":28},{"$f":"MIN($J457:CJ457)","v":28},{"$f":"MIN($J457:CK457)","v":28},{"$f":"MIN($J457:CL457)","v":28},{"$f":"MIN($J457:CM457)","v":28},{"$f":"MIN($J457:CN457)","v":28},{"$f":"MIN($J457:CO457)","v":28},{"$f":"MIN($J457:CP457)","v":28},{"$f":"MIN($J457:CQ457)","v":28},{"$f":"MIN($J457:CR457)","v":28},{"$f":"MIN($J457:CS457)","v":28},{"$f":"MIN($J457:CT457)","v":28},{"$f":"MIN($J457:CU457)","v":28},{"$f":"MIN($J457:CV457)","v":28},{"$f":"MIN($J457:CW457)","v":28}]
[null,"Roe","Sieglinde",34,null,{"$f":"IF(H459<4,\"Y\",)","v":"Y"},2023,{"$f":"COUNT(J459:CX459)","v":1},"Date",null,"2023-05-19",null,null,null,null,null,null,null,null,null,null,null,null,null,null,null,null,null,null,null,null,null,null,null,null,null,null,null,null,null,null,null,null,null,null,null,null,null,null,null,null,null,null,null,null,null,null,null,null,null,null,null,null,null,null,null,null,null,null,null,null,null,null,null,null,null,null,null,null,null,null,null,null,null,null,null,null,null,null,null,null,null,null,null,null,null,null,null,null,null,null,null,{"$f":"IF(CW463>$DD$1,36,CW463)","v":34},34,{"$f":"CZ459-CY459","v":0}]
[null,null,null,null,null,null,null,null,"Course",null,"GarmischDR"]
[null,null,null,null,null,null,null,null,"Ad Gr",null,126]
[null,null,null,null,null,null,null,null,"SD",36,{"$f":"IF(K461=\"\",0,(K461-INDIRECT(CONCATENATE(K460,\"CR\")))*113/INDIRECT(CONCATENATE(K460,\"SR\")))","v":47.550399999999996},0,0,0,0,0,0,0,0,0,0,0,0,0,0,0,0,0,0,0,0,0,0,0,0,0,0,0,0,0,0,0,0,0,0,0,0,0,0,0,0,0,0,0,0,0,0,0,0,0,0,0,0,0,0,0,0,0,0,0,0,0,0,0,{"$f":"IF(BW461=\"\",0,(BW461-INDIRECT(CONCATENATE(BW460,\"CR\")))*113/INDIRECT(CONCATENATE(BW460,\"SR\")))","v":0},0,0,0,0,0,0,0,0,0,0,0,0,0,0,0,{"$f":"IF(CM461=\"\",0,(CM461-INDIRECT(CONCATENATE(CM460,\"CR\")))*113/INDIRECT(CONCATENATE(CM460,\"SR\")))","v":0},0,{"$f":"IF(CO461=\"\",0,(CO461-INDIRECT(CONCATENATE(CO460,\"CR\")))*113/INDIRECT(CONCATENATE(CO460,\"SR\")))","v":0},0,{"$f":"IF(CQ461=\"\",0,(CQ461-INDIRECT(CONCATENATE(CQ460,\"CR\")))*113/INDIRECT(CONCATENATE(CQ460,\"SR\")))","v":0},0,{"$f":"IF(CS461=\"\",0,(CS461-INDIRECT(CONCATENATE(CS460,\"CR\")))*113/INDIRECT(CONCATENATE(CS460,\"SR\")))","v":0},0,{"$f":"IF(CU461=\"\",0,(CU461-INDIRECT(CONCATENATE(CU460,\"CR\")))*113/INDIRECT(CONCATENATE(CU460,\"SR\")))","v":0},0,{"$f":"IF(CW461=\"\",0,(CW461-INDIRECT(CONCATENATE(CW460,\"CR\")))*113/INDIRECT(CONCATENATE(CW460,\"SR\")))","v":0}]
[null,null,null,null,null,null,null,null,"New Hcap",{"$f":"J462-2","v":34},{"$f":"IF(K462>0,MIN(J462:K462)-2,J463)","v":34},{"$f":"IF(L462>0,MIN(J462:L462)-2,K463)","v":34},{"$f":"IF(M462>0,MIN(J462:M462)-1,L463)","v":34},{"$f":"IF(N462>0,MIN(J462:N462),M463)","v":34},{"$f":"IF(O462>0,AVERAGE(SMALL(IF(J462:O462>0,J462:O462),{1,2}))-1,N463)","v":34},{"$f":"IF(P462>0,AVERAGE(SMALL(IF(J462:P462>0,J462:P462),{1,2})),O463)","v":34},{"$f":"IF(Q462>0,AVERAGE(SMALL(IF(J462:Q462>0,J462:Q462),{1,2})),P463)","v":34},{"$f":"IF(R462>0,AVERAGE(SMALL(IF(J462:R462>0,J462:R462),{1,2,3})),Q463)","v":34},{"$f":"IF(S462>0,AVERAGE(SMALL(IF(J462:S462>0,J462:S462),{1,2,3})),R463)","v":34},{"$f":"IF(T462>0,AVERAGE(SMALL(IF(J462:T462>0,J462:T462),{1,2,3})),S463)","v":34},{"$f":"IF(U462>0,AVERAGE(SMALL(IF(J462:U462>0,J462:U462),{1,2,3,4})),T463)","v":34},{"$f":"IF(V462>0,AVERAGE(SMALL(IF(J462:V462>0,J462:V462),{1,2,3,4})),U463)","v":34},{"$f":"IF(W462>0,AVERAGE(SMALL(IF(J462:W462>0,J462:W462),{1,2,3,4})),V463)","v":34},{"$f":"IF(X462>0,AVERAGE(SMALL(IF(J462:X462>0,J462:X462),{1,2,3,4,5})),W463)","v":34},{"$f":"IF(Y462>0,AVERAGE(SMALL(IF(J462:Y462>0,J462:Y462),{1,2,3,4,5})),X463)","v":34},{"$f":"IF(Z462>0,AVERAGE(SMALL(IF(J462:Z462>0,J462:Z462),{1,2,3,4,5,6})),Y463)","v":34},{"$f":"IF(AA462>0,AVERAGE(SMALL(IF(J462:AA462>0,J462:AA462),{1,2,3,4,5,6})),Z463)","v":34},{"$f":"IF(AB462>0,AVERAGE(SMALL(IF(J462:AB462>0,J462:AB462),{1,2,3,4,5,6,7})),AA463)","v":34},{"$f":"IF(AC462>0,AVERAGE(SMALL(IF(J462:AC462>0,J462:AC462),{1,2,3,4,5,6,7,8})),AB463)","v":34},{"$f":"IF(AD462>0,AVERAGE(SMALL(IF(K462:AD462>0,K462:AD462),{1,2,3,4,5,6,7,8})),AC463)","v":34},{"$f":"IF(AE462>0,AVERAGE(SMALL(IF(L462:AE462>0,L462:AE462),{1,2,3,4,5,6,7,8})),AD463)","v":34},{"$f":"IF(AF462>0,AVERAGE(SMALL(IF(M462:AF462>0,M462:AF462),{1,2,3,4,5,6,7,8})),AE463)","v":34},{"$f":"IF(AG462>0,AVERAGE(SMALL(IF(N462:AG462>0,N462:AG462),{1,2,3,4,5,6,7,8})),AF463)","v":34},{"$f":"IF(AH462>0,AVERAGE(SMALL(IF(O462:AH462>0,O462:AH462),{1,2,3,4,5,6,7,8})),AG463)","v":34},{"$f":"IF(AI462>0,AVERAGE(SMALL(IF(P462:AI462>0,P462:AI462),{1,2,3,4,5,6,7,8})),AH463)","v":34},{"$f":"IF(AJ462>0,AVERAGE(SMALL(IF(Q462:AJ462>0,Q462:AJ462),{1,2,3,4,5,6,7,8})),AI463)","v":34},{"$f":"IF(AK462>0,AVERAGE(SMALL(IF(R462:AK462>0,R462:AK462),{1,2,3,4,5,6,7,8})),AJ463)","v":34},{"$f":"IF(AL462>0,AVERAGE(SMALL(IF(S462:AL462>0,S462:AL462),{1,2,3,4,5,6,7,8})),AK463)","v":34},{"$f":"IF(AM462>0,AVERAGE(SMALL(IF(T462:AM462>0,T462:AM462),{1,2,3,4,5,6,7,8})),AL463)","v":34},{"$f":"IF(AN462>0,AVERAGE(SMALL(IF(U462:AN462>0,U462:AN462),{1,2,3,4,5,6,7,8})),AM463)","v":34},{"$f":"IF(AO462>0,AVERAGE(SMALL(IF(V462:AO462>0,V462:AO462),{1,2,3,4,5,6,7,8})),AN463)","v":34},{"$f":"IF(AP462>0,AVERAGE(SMALL(IF(W462:AP462>0,W462:AP462),{1,2,3,4,5,6,7,8})),AO463)","v":34},{"$f":"IF(AQ462>0,AVERAGE(SMALL(IF(X462:AQ462>0,X462:AQ462),{1,2,3,4,5,6,7,8})),AP463)","v":34},{"$f":"IF(AR462>0,AVERAGE(SMALL(IF(Y462:AR462>0,Y462:AR462),{1,2,3,4,5,6,7,8})),AQ463)","v":34},{"$f":"IF(AS462>0,AVERAGE(SMALL(IF(Z462:AS462>0,Z462:AS462),{1,2,3,4,5,6,7,8})),AR463)","v":34},{"$f":"IF(AT462>0,AVERAGE(SMALL(IF(AA462:AT462>0,AA462:AT462),{1,2,3,4,5,6,7,8})),AS463)","v":34},{"$f":"IF(AU462>0,AVERAGE(SMALL(IF(AB462:AU462>0,AB462:AU462),{1,2,3,4,5,6,7,8})),AT463)","v":34},{"$f":"IF(AV462>0,AVERAGE(SMALL(IF(AC462:AV462>0,AC462:AV462),{1,2,3,4,5,6,7,8})),AU463)","v":34},{"$f":"IF(AW462>0,AVERAGE(SMALL(IF(AD462:AW462>0,AD462:AW462),{1,2,3,4,5,6,7,8})),AV463)","v":34},{"$f":"IF(AX462>0,AVERAGE(SMALL(IF(AE462:AX462>0,AE462:AX462),{1,2,3,4,5,6,7,8})),AW463)","v":34},{"$f":"IF(AY462>0,AVERAGE(SMALL(IF(AF462:AY462>0,AF462:AY462),{1,2,3,4,5,6,7,8})),AX463)","v":34},{"$f":"IF(AZ462>0,AVERAGE(SMALL(IF(AG462:AZ462>0,AG462:AZ462),{1,2,3,4,5,6,7,8})),AY463)","v":34},{"$f":"IF(BA462>0,AVERAGE(SMALL(IF(AH462:BA462>0,AH462:BA462),{1,2,3,4,5,6,7,8})),AZ463)","v":34},{"$f":"IF(BB462>0,AVERAGE(SMALL(IF(AI462:BB462>0,AI462:BB462),{1,2,3,4,5,6,7,8})),BA463)","v":34},{"$f":"IF(BC462>0,AVERAGE(SMALL(IF(AJ462:BC462>0,AJ462:BC462),{1,2,3,4,5,6,7,8})),BB463)","v":34},{"$f":"IF(BD462>0,AVERAGE(SMALL(IF(AK462:BD462>0,AK462:BD462),{1,2,3,4,5,6,7,8})),BC463)","v":34},{"$f":"IF(BE462>0,AVERAGE(SMALL(IF(AL462:BE462>0,AL462:BE462),{1,2,3,4,5,6,7,8})),BD463)","v":34},{"$f":"IF(BF462>0,AVERAGE(SMALL(IF(AM462:BF462>0,AM462:BF462),{1,2,3,4,5,6,7,8})),BE463)","v":34},{"$f":"IF(BG462>0,AVERAGE(SMALL(IF(AN462:BG462>0,AN462:BG462),{1,2,3,4,5,6,7,8})),BF463)","v":34},{"$f":"IF(BH462>0,AVERAGE(SMALL(IF(AO462:BH462>0,AO462:BH462),{1,2,3,4,5,6,7,8})),BG463)","v":34},{"$f":"IF(BI462>0,AVERAGE(SMALL(IF(AP462:BI462>0,AP462:BI462),{1,2,3,4,5,6,7,8})),BH463)","v":34},{"$f":"IF(BJ462>0,AVERAGE(SMALL(IF(AQ462:BJ462>0,AQ462:BJ462),{1,2,3,4,5,6,7,8})),BI463)","v":34},{"$f":"IF(BK462>0,AVERAGE(SMALL(IF(AR462:BK462>0,AR462:BK462),{1,2,3,4,5,6,7,8})),BJ463)","v":34},{"$f":"IF(BL462>0,AVERAGE(SMALL(IF(AS462:BL462>0,AS462:BL462),{1,2,3,4,5,6,7,8})),BK463)","v":34},{"$f":"IF(BM462>0,AVERAGE(SMALL(IF(AT462:BM462>0,AT462:BM462),{1,2,3,4,5,6,7,8})),BL463)","v":34},{"$f":"IF(BN462>0,AVERAGE(SMALL(IF(AU462:BN462>0,AU462:BN462),{1,2,3,4,5,6,7,8})),BM463)","v":34},{"$f":"IF(BO462>0,AVERAGE(SMALL(IF(AV462:BO462>0,AV462:BO462),{1,2,3,4,5,6,7,8})),BN463)","v":34},{"$f":"IF(BP462>0,AVERAGE(SMALL(IF(AW462:BP462>0,AW462:BP462),{1,2,3,4,5,6,7,8})),BO463)","v":34},{"$f":"IF(BQ462>0,AVERAGE(SMALL(IF(AX462:BQ462>0,AX462:BQ462),{1,2,3,4,5,6,7,8})),BP463)","v":34},{"$f":"IF(BR462>0,AVERAGE(SMALL(IF(AY462:BR462>0,AY462:BR462),{1,2,3,4,5,6,7,8})),BQ463)","v":34},{"$f":"IF(BS462>0,AVERAGE(SMALL(IF(AZ462:BS462>0,AZ462:BS462),{1,2,3,4,5,6,7,8})),BR463)","v":34},{"$f":"IF(BT462>0,AVERAGE(SMALL(IF(BA462:BT462>0,BA462:BT462),{1,2,3,4,5,6,7,8})),BS463)","v":34},{"$f":"IF(BU462>0,AVERAGE(SMALL(IF(BB462:BU462>0,BB462:BU462),{1,2,3,4,5,6,7,8})),BT463)","v":34},{"$f":"IF(BV462>0,AVERAGE(SMALL(IF(BC462:BV462>0,BC462:BV462),{1,2,3,4,5,6,7,8})),BU463)","v":34},{"$f":"IF(BW462>0,AVERAGE(SMALL(IF(BD462:BW462>0,BD462:BW462),{1,2,3,4,5,6,7,8})),BV463)","v":34},{"$f":"IF(BX462>0,AVERAGE(SMALL(IF(BE462:BX462>0,BE462:BX462),{1,2,3,4,5,6,7,8})),BW463)","v":34},{"$f":"IF(BY462>0,AVERAGE(SMALL(IF(BF462:BY462>0,BF462:BY462),{1,2,3,4,5,6,7,8})),BX463)","v":34},{"$f":"IF(BZ462>0,AVERAGE(SMALL(IF(BG462:BZ462>0,BG462:BZ462),{1,2,3,4,5,6,7,8})),BY463)","v":34},{"$f":"IF(CA462>0,AVERAGE(SMALL(IF(BH462:CA462>0,BH462:CA462),{1,2,3,4,5,6,7,8})),BZ463)","v":34},{"$f":"IF(CB462>0,AVERAGE(SMALL(IF(BI462:CB462>0,BI462:CB462),{1,2,3,4,5,6,7,8})),CA463)","v":34},{"$f":"IF(CC462>0,AVERAGE(SMALL(IF(BJ462:CC462>0,BJ462:CC462),{1,2,3,4,5,6,7,8})),CB463)","v":34},{"$f":"IF(CD462>0,AVERAGE(SMALL(IF(BK462:CD462>0,BK462:CD462),{1,2,3,4,5,6,7,8})),CC463)","v":34},{"$f":"IF(CE462>0,AVERAGE(SMALL(IF(BL462:CE462>0,BL462:CE462),{1,2,3,4,5,6,7,8})),CD463)","v":34},{"$f":"IF(CF462>0,AVERAGE(SMALL(IF(BM462:CF462>0,BM462:CF462),{1,2,3,4,5,6,7,8})),CE463)","v":34},{"$f":"IF(CG462>0,AVERAGE(SMALL(IF(BN462:CG462>0,BN462:CG462),{1,2,3,4,5,6,7,8})),CF463)","v":34},{"$f":"IF(CH462>0,AVERAGE(SMALL(IF(BO462:CH462>0,BO462:CH462),{1,2,3,4,5,6,7,8})),CG463)","v":34},{"$f":"IF(CI462>0,AVERAGE(SMALL(IF(BP462:CI462>0,BP462:CI462),{1,2,3,4,5,6,7,8})),CH463)","v":34},{"$f":"IF(CJ462>0,AVERAGE(SMALL(IF(BQ462:CJ462>0,BQ462:CJ462),{1,2,3,4,5,6,7,8})),CI463)","v":34},{"$f":"IF(CK462>0,AVERAGE(SMALL(IF(BR462:CK462>0,BR462:CK462),{1,2,3,4,5,6,7,8})),CJ463)","v":34},{"$f":"IF(CL462>0,AVERAGE(SMALL(IF(BS462:CL462>0,BS462:CL462),{1,2,3,4,5,6,7,8})),CK463)","v":34},{"$f":"IF(CM462>0,AVERAGE(SMALL(IF(BT462:CM462>0,BT462:CM462),{1,2,3,4,5,6,7,8})),CL463)","v":34},{"$f":"IF(CN462>0,AVERAGE(SMALL(IF(BU462:CN462>0,BU462:CN462),{1,2,3,4,5,6,7,8})),CM463)","v":34},{"$f":"IF(CO462>0,AVERAGE(SMALL(IF(BV462:CO462>0,BV462:CO462),{1,2,3,4,5,6,7,8})),CN463)","v":34},{"$f":"IF(CP462>0,AVERAGE(SMALL(IF(BW462:CP462>0,BW462:CP462),{1,2,3,4,5,6,7,8})),CO463)","v":34},{"$f":"IF(CQ462>0,AVERAGE(SMALL(IF(BX462:CQ462>0,BX462:CQ462),{1,2,3,4,5,6,7,8})),CP463)","v":34},{"$f":"IF(CR462>0,AVERAGE(SMALL(IF(BY462:CR462>0,BY462:CR462),{1,2,3,4,5,6,7,8})),CQ463)","v":34},{"$f":"IF(CS462>0,AVERAGE(SMALL(IF(BZ462:CS462>0,BZ462:CS462),{1,2,3,4,5,6,7,8})),CR463)","v":34},{"$f":"IF(CT462>0,AVERAGE(SMALL(IF(CA462:CT462>0,CA462:CT462),{1,2,3,4,5,6,7,8})),CS463)","v":34},{"$f":"IF(CU462>0,AVERAGE(SMALL(IF(CB462:CU462>0,CB462:CU462),{1,2,3,4,5,6,7,8})),CT463)","v":34},{"$f":"IF(CV462>0,AVERAGE(SMALL(IF(CC462:CV462>0,CC462:CV462),{1,2,3,4,5,6,7,8})),CU463)","v":34},{"$f":"IF(CW462>0,AVERAGE(SMALL(IF(CD462:CW462>0,CD462:CW462),{1,2,3,4,5,6,7,8})),CV463)","v":34}]
[null,null,null,null,null,null,null,null,"Low Hcap",null,null,null,null,null,null,null,null,null,null,null,null,null,null,null,null,null,null,null,{"$f":"MIN($J463:AC463)","v":34},{"$f":"MIN($J463:AD463)","v":34},{"$f":"MIN($J463:AE463)","v":34},{"$f":"MIN($J463:AF463)","v":34},{"$f":"MIN($J463:AG463)","v":34},{"$f":"MIN($J463:AH463)","v":34},{"$f":"MIN($J463:AI463)","v":34},{"$f":"MIN($J463:AJ463)","v":34},{"$f":"MIN($J463:AK463)","v":34},{"$f":"MIN($J463:AL463)","v":34},{"$f":"MIN($J463:AM463)","v":34},{"$f":"MIN($J463:AN463)","v":34},{"$f":"MIN($J463:AO463)","v":34},{"$f":"MIN($J463:AP463)","v":34},{"$f":"MIN($J463:AQ463)","v":34},{"$f":"MIN($J463:AR463)","v":34},{"$f":"MIN($J463:AS463)","v":34},{"$f":"MIN($J463:AT463)","v":34},{"$f":"MIN($J463:AU463)","v":34},{"$f":"MIN($J463:AV463)","v":34},{"$f":"MIN($J463:AW463)","v":34},{"$f":"MIN($J463:AX463)","v":34},{"$f":"MIN($J463:AY463)","v":34},{"$f":"MIN($J463:AZ463)","v":34},{"$f":"MIN($J463:BA463)","v":34},{"$f":"MIN($J463:BB463)","v":34},{"$f":"MIN($J463:BC463)","v":34},{"$f":"MIN($J463:BD463)","v":34},{"$f":"MIN($J463:BE463)","v":34},{"$f":"MIN($J463:BF463)","v":34},{"$f":"MIN($J463:BG463)","v":34},{"$f":"MIN($J463:BH463)","v":34},{"$f":"MIN($J463:BI463)","v":34},{"$f":"MIN($J463:BJ463)","v":34},{"$f":"MIN($J463:BK463)","v":34},{"$f":"MIN($J463:BL463)","v":34},{"$f":"MIN($J463:BM463)","v":34},{"$f":"MIN($J463:BN463)","v":34},{"$f":"MIN($J463:BO463)","v":34},{"$f":"MIN($J463:BP463)","v":34},{"$f":"MIN($J463:BQ463)","v":34},{"$f":"MIN($J463:BR463)","v":34},{"$f":"MIN($J463:BS463)","v":34},{"$f":"MIN($J463:BT463)","v":34},{"$f":"MIN($J463:BU463)","v":34},{"$f":"MIN($J463:BV463)","v":34},{"$f":"MIN($J463:BW463)","v":34},{"$f":"MIN($J463:BX463)","v":34},{"$f":"MIN($J463:BY463)","v":34},{"$f":"MIN($J463:BZ463)","v":34},{"$f":"MIN($J463:CA463)","v":34},{"$f":"MIN($J463:CB463)","v":34},{"$f":"MIN($J463:CC463)","v":34},{"$f":"MIN($J463:CD463)","v":34},{"$f":"MIN($J463:CE463)","v":34},{"$f":"MIN($J463:CF463)","v":34},{"$f":"MIN($J463:CG463)","v":34},{"$f":"MIN($J463:CH463)","v":34},{"$f":"MIN($J463:CI463)","v":34},{"$f":"MIN($J463:CJ463)","v":34},{"$f":"MIN($J463:CK463)","v":34},{"$f":"MIN($J463:CL463)","v":34},{"$f":"MIN($J463:CM463)","v":34},{"$f":"MIN($J463:CN463)","v":34},{"$f":"MIN($J463:CO463)","v":34},{"$f":"MIN($J463:CP463)","v":34},{"$f":"MIN($J463:CQ463)","v":34},{"$f":"MIN($J463:CR463)","v":34},{"$f":"MIN($J463:CS463)","v":34},{"$f":"MIN($J463:CT463)","v":34},{"$f":"MIN($J463:CU463)","v":34},{"$f":"MIN($J463:CV463)","v":34},{"$f":"MIN($J463:CW463)","v":34}]
[null,"Roeckl","Petra",20.7,"Y",{"$f":"IF(H465<4,\"Y\",)","v":0},null,{"$f":"COUNT(J465:CX465)","v":36},"Date",null,"2020-05-24","2020-05-31","2020-06-14","2020-06-28","2020-07-26","2020-07-31","2020-08-14","2020-09-06","2020-10-04","2020-11-15","2021-03-28","2021-04-11","2021-04-25","2021-05-09","2021-05-14","2021-05-30","2021-07-11","2021-08-15","2021-08-22","2021-09-24","2021-10-03","2021-10-31","2022-03-27","2022-06-25","2022-06-26","2022-07-03","2022-07-20","2022-07-24","2022-07-31","2022-08-03","2022-08-21","2022-08-26","2022-09-02","2022-09-23","2022-10-07","2023-06-04",null,null,null,null,null,null,null,null,null,null,null,null,null,null,null,null,null,null,null,null,null,null,null,null,null,null,null,null,null,null,null,null,null,null,null,null,null,null,null,null,null,null,null,null,null,null,null,null,null,null,null,null,null,null,null,null,{"$f":"IF(CW469>$DD$1,36,CW469)","v":18.490632096301553},18.522983223856166,{"$f":"CZ465-CY465","v":3.2351127554612447E-2}]
[null,null,null,null,null,null,null,null,"Course",null,"PfaffingDR","ErdingDR","OdelzhausenDR","ErdingDR","OdelzhausenDR","StEurachDR","EgmatingDR","OdelzhausenDR","OdelzhausenDR","OdelzhausenDR","OdelzhausenDR","ErdingDR","PfaffingDR","ErdingDR","StEurachDR","IffeldorfDR","PfaffingDR","ErdingDR","PfaffingDB","TegernbachDR","OdelzhausenDR","ErdingDR","OdelzhausenDR","AlgaeuerDR","AlgaeuerDR","Pfaffing2022DR","AschheimDR","Pfaffing2022DR","HohenpaehlDR","GutThailingDR","Pfaffing2022DR","EschenhofDR","StEurach2022DR","ReichertshausenDR","Egmating2022DR","IffeldorfDR"]
[null,null,null,null,null,null,null,null,"Ad Gr",null,113,111,100,97,101,100,98,108,104,101,102,101,100,99,103,100,104,93,103,98,98,105,108,93,93,96,94,105,101,107,96,93,101,105,108,102]
[null,null,null,null,null,null,null,null,"SD",20.7,{"$f":"IF(K467=\"\",0,(K467-INDIRECT(CONCATENATE(K466,\"CR\")))*113/INDIRECT(CONCATENATE(K466,\"SR\")))","v":35.334920634920643},{"$f":"IF(L467=\"\",0,(L467-INDIRECT(CONCATENATE(L466,\"CR\")))*113/INDIRECT(CONCATENATE(L466,\"SR\")))","v":35.075199999999995},24.637704918032782,22.419199999999996,25.563934426229501,23.323199999999996,21.967199999999998,32.047540983606552,28.342622950819667,25.563934426229501,26.490163934426224,26.035199999999996,23.676190476190481,24.227199999999996,26.035199999999996,24.112598425196843,27.26349206349207,18.803199999999997,21.750375939849619,22.162015503875967,22.785245901639339,29.651199999999996,32.047540983606552,16.680952380952377,16.680952380952377,19.307874015748034,18.745736434108533,27.315748031496067,24.877519379844966,31.64,19.307874015748034,16.648091603053434,23.934645669291346,28.967460317460315,30.916800000000002,25.892125984251962,0,0,0,0,0,0,0,0,0,0,0,0,0,0,0,0,0,0,0,0,0,0,0,0,0,0,0,0,0,{"$f":"IF(BX467=\"\",0,(BX467-INDIRECT(CONCATENATE(BX466,\"CR\")))*113/INDIRECT(CONCATENATE(BX466,\"SR\")))","v":0},0,0,0,0,0,0,0,0,0,0,0,0,0,0,{"$f":"IF(CM467=\"\",0,(CM467-INDIRECT(CONCATENATE(CM466,\"CR\")))*113/INDIRECT(CONCATENATE(CM466,\"SR\")))","v":0},0,{"$f":"IF(CO467=\"\",0,(CO467-INDIRECT(CONCATENATE(CO466,\"CR\")))*113/INDIRECT(CONCATENATE(CO466,\"SR\")))","v":0},0,{"$f":"IF(CQ467=\"\",0,(CQ467-INDIRECT(CONCATENATE(CQ466,\"CR\")))*113/INDIRECT(CONCATENATE(CQ466,\"SR\")))","v":0},0,{"$f":"IF(CS467=\"\",0,(CS467-INDIRECT(CONCATENATE(CS466,\"CR\")))*113/INDIRECT(CONCATENATE(CS466,\"SR\")))","v":0},0,{"$f":"IF(CU467=\"\",0,(CU467-INDIRECT(CONCATENATE(CU466,\"CR\")))*113/INDIRECT(CONCATENATE(CU466,\"SR\")))","v":0},0,{"$f":"IF(CW467=\"\",0,(CW467-INDIRECT(CONCATENATE(CW466,\"CR\")))*113/INDIRECT(CONCATENATE(CW466,\"SR\")))","v":0}]
[null,null,null,null,null,null,null,null,"New Hcap",{"$f":"J468-2","v":18.7},{"$f":"IF(K468>0,MIN(J468:K468)-2,J469)","v":18.7},{"$f":"IF(L468>0,MIN(J468:L468)-2,K469)","v":18.7},{"$f":"IF(M468>0,MIN(J468:M468)-1,L469)","v":19.7},{"$f":"IF(N468>0,MIN(J468:N468),M469)","v":20.7},{"$f":"IF(O468>0,AVERAGE(SMALL(IF(J468:O468>0,J468:O468),{1,2}))-1,N469)","v":20.559599999999996},{"$f":"IF(P468>0,AVERAGE(SMALL(IF(J468:P468>0,J468:P468),{1,2})),O469)","v":21.559599999999996},{"$f":"IF(Q468>0,AVERAGE(SMALL(IF(J468:Q468>0,J468:Q468),{1,2})),P469)","v":21.333599999999997},{"$f":"IF(R468>0,AVERAGE(SMALL(IF(J468:R468>0,J468:R468),{1,2,3})),Q469)","v":21.695466666666665},{"$f":"IF(S468>0,AVERAGE(SMALL(IF(J468:S468>0,J468:S468),{1,2,3})),R469)","v":21.695466666666665},{"$f":"IF(T468>0,AVERAGE(SMALL(IF(J468:T468>0,J468:T468),{1,2,3})),S469)","v":21.695466666666665},{"$f":"IF(U468>0,AVERAGE(SMALL(IF(J468:U468>0,J468:U468),{1,2,3,4})),T469)","v":22.102399999999999},{"$f":"IF(V468>0,AVERAGE(SMALL(IF(J468:V468>0,J468:V468),{1,2,3,4})),U469)","v":22.102399999999999},{"$f":"IF(W468>0,AVERAGE(SMALL(IF(J468:W468>0,J468:W468),{1,2,3,4})),V469)","v":22.102399999999999},{"$f":"IF(X468>0,AVERAGE(SMALL(IF(J468:X468>0,J468:X468),{1,2,3,4,5})),W469)","v":22.417158095238097},{"$f":"IF(Y468>0,AVERAGE(SMALL(IF(J468:Y468>0,J468:Y468),{1,2,3,4,5})),X469)","v":22.417158095238097},{"$f":"IF(Z468>0,AVERAGE(SMALL(IF(J468:Z468>0,J468:Z468),{1,2,3,4,5,6})),Y469)","v":22.699731483564552},{"$f":"IF(AA468>0,AVERAGE(SMALL(IF(J468:AA468>0,J468:AA468),{1,2,3,4,5,6})),Z469)","v":22.699731483564552},{"$f":"IF(AB468>0,AVERAGE(SMALL(IF(J468:AB468>0,J468:AB468),{1,2,3,4,5,6,7})),AA469)","v":22.143084128769612},{"$f":"IF(AC468>0,AVERAGE(SMALL(IF(J468:AC468>0,J468:AC468),{1,2,3,4,5,6,7,8})),AB469)","v":22.09399560515461},{"$f":"IF(AD468>0,AVERAGE(SMALL(IF(K468:AD468>0,K468:AD468),{1,2,3,4,5,6,7,8})),AC469)","v":22.276747543139109},{"$f":"IF(AE468>0,AVERAGE(SMALL(IF(L468:AE468>0,L468:AE468),{1,2,3,4,5,6,7,8})),AD469)","v":22.110828477694422},{"$f":"IF(AF468>0,AVERAGE(SMALL(IF(M468:AF468>0,M468:AF468),{1,2,3,4,5,6,7,8})),AE469)","v":22.110828477694422},{"$f":"IF(AG468>0,AVERAGE(SMALL(IF(N468:AG468>0,N468:AG468),{1,2,3,4,5,6,7,8})),AF469)","v":22.110828477694422},{"$f":"IF(AH468>0,AVERAGE(SMALL(IF(O468:AH468>0,O468:AH468),{1,2,3,4,5,6,7,8})),AG469)","v":21.393547525313469},{"$f":"IF(AI468>0,AVERAGE(SMALL(IF(P468:AI468>0,P468:AI468),{1,2,3,4,5,6,7,8})),AH469)","v":20.519142763408706},{"$f":"IF(AJ468>0,AVERAGE(SMALL(IF(Q468:AJ468>0,Q468:AJ468),{1,2,3,4,5,6,7,8})),AI469)","v":20.017227015377216},{"$f":"IF(AK468>0,AVERAGE(SMALL(IF(R468:AK468>0,R468:AK468),{1,2,3,4,5,6,7,8})),AJ469)","v":19.614544069640782},{"$f":"IF(AL468>0,AVERAGE(SMALL(IF(S468:AL468>0,S468:AL468),{1,2,3,4,5,6,7,8})),AK469)","v":19.614544069640782},{"$f":"IF(AM468>0,AVERAGE(SMALL(IF(T468:AM468>0,T468:AM468),{1,2,3,4,5,6,7,8})),AL469)","v":19.614544069640782},{"$f":"IF(AN468>0,AVERAGE(SMALL(IF(U468:AN468>0,U468:AN468),{1,2,3,4,5,6,7,8})),AM469)","v":19.614544069640782},{"$f":"IF(AO468>0,AVERAGE(SMALL(IF(V468:AO468>0,V468:AO468),{1,2,3,4,5,6,7,8})),AN469)","v":19.17987258390437},{"$f":"IF(AP468>0,AVERAGE(SMALL(IF(W468:AP468>0,W468:AP468),{1,2,3,4,5,6,7,8})),AO469)","v":18.490632096301553},{"$f":"IF(AQ468>0,AVERAGE(SMALL(IF(X468:AQ468>0,X468:AQ468),{1,2,3,4,5,6,7,8})),AP469)","v":18.490632096301553},{"$f":"IF(AR468>0,AVERAGE(SMALL(IF(Y468:AR468>0,Y468:AR468),{1,2,3,4,5,6,7,8})),AQ469)","v":18.490632096301553},{"$f":"IF(AS468>0,AVERAGE(SMALL(IF(Z468:AS468>0,Z468:AS468),{1,2,3,4,5,6,7,8})),AR469)","v":18.490632096301553},{"$f":"IF(AT468>0,AVERAGE(SMALL(IF(AA468:AT468>0,AA468:AT468),{1,2,3,4,5,6,7,8})),AS469)","v":18.490632096301553},{"$f":"IF(AU468>0,AVERAGE(SMALL(IF(AB468:AU468>0,AB468:AU468),{1,2,3,4,5,6,7,8})),AT469)","v":18.490632096301553},{"$f":"IF(AV468>0,AVERAGE(SMALL(IF(AC468:AV468>0,AC468:AV468),{1,2,3,4,5,6,7,8})),AU469)","v":18.490632096301553},{"$f":"IF(AW468>0,AVERAGE(SMALL(IF(AD468:AW468>0,AD468:AW468),{1,2,3,4,5,6,7,8})),AV469)","v":18.490632096301553},{"$f":"IF(AX468>0,AVERAGE(SMALL(IF(AE468:AX468>0,AE468:AX468),{1,2,3,4,5,6,7,8})),AW469)","v":18.490632096301553},{"$f":"IF(AY468>0,AVERAGE(SMALL(IF(AF468:AY468>0,AF468:AY468),{1,2,3,4,5,6,7,8})),AX469)","v":18.490632096301553},{"$f":"IF(AZ468>0,AVERAGE(SMALL(IF(AG468:AZ468>0,AG468:AZ468),{1,2,3,4,5,6,7,8})),AY469)","v":18.490632096301553},{"$f":"IF(BA468>0,AVERAGE(SMALL(IF(AH468:BA468>0,AH468:BA468),{1,2,3,4,5,6,7,8})),AZ469)","v":18.490632096301553},{"$f":"IF(BB468>0,AVERAGE(SMALL(IF(AI468:BB468>0,AI468:BB468),{1,2,3,4,5,6,7,8})),BA469)","v":18.490632096301553},{"$f":"IF(BC468>0,AVERAGE(SMALL(IF(AJ468:BC468>0,AJ468:BC468),{1,2,3,4,5,6,7,8})),BB469)","v":18.490632096301553},{"$f":"IF(BD468>0,AVERAGE(SMALL(IF(AK468:BD468>0,AK468:BD468),{1,2,3,4,5,6,7,8})),BC469)","v":18.490632096301553},{"$f":"IF(BE468>0,AVERAGE(SMALL(IF(AL468:BE468>0,AL468:BE468),{1,2,3,4,5,6,7,8})),BD469)","v":18.490632096301553},{"$f":"IF(BF468>0,AVERAGE(SMALL(IF(AM468:BF468>0,AM468:BF468),{1,2,3,4,5,6,7,8})),BE469)","v":18.490632096301553},{"$f":"IF(BG468>0,AVERAGE(SMALL(IF(AN468:BG468>0,AN468:BG468),{1,2,3,4,5,6,7,8})),BF469)","v":18.490632096301553},{"$f":"IF(BH468>0,AVERAGE(SMALL(IF(AO468:BH468>0,AO468:BH468),{1,2,3,4,5,6,7,8})),BG469)","v":18.490632096301553},{"$f":"IF(BI468>0,AVERAGE(SMALL(IF(AP468:BI468>0,AP468:BI468),{1,2,3,4,5,6,7,8})),BH469)","v":18.490632096301553},{"$f":"IF(BJ468>0,AVERAGE(SMALL(IF(AQ468:BJ468>0,AQ468:BJ468),{1,2,3,4,5,6,7,8})),BI469)","v":18.490632096301553},{"$f":"IF(BK468>0,AVERAGE(SMALL(IF(AR468:BK468>0,AR468:BK468),{1,2,3,4,5,6,7,8})),BJ469)","v":18.490632096301553},{"$f":"IF(BL468>0,AVERAGE(SMALL(IF(AS468:BL468>0,AS468:BL468),{1,2,3,4,5,6,7,8})),BK469)","v":18.490632096301553},{"$f":"IF(BM468>0,AVERAGE(SMALL(IF(AT468:BM468>0,AT468:BM468),{1,2,3,4,5,6,7,8})),BL469)","v":18.490632096301553},{"$f":"IF(BN468>0,AVERAGE(SMALL(IF(AU468:BN468>0,AU468:BN468),{1,2,3,4,5,6,7,8})),BM469)","v":18.490632096301553},{"$f":"IF(BO468>0,AVERAGE(SMALL(IF(AV468:BO468>0,AV468:BO468),{1,2,3,4,5,6,7,8})),BN469)","v":18.490632096301553},{"$f":"IF(BP468>0,AVERAGE(SMALL(IF(AW468:BP468>0,AW468:BP468),{1,2,3,4,5,6,7,8})),BO469)","v":18.490632096301553},{"$f":"IF(BQ468>0,AVERAGE(SMALL(IF(AX468:BQ468>0,AX468:BQ468),{1,2,3,4,5,6,7,8})),BP469)","v":18.490632096301553},{"$f":"IF(BR468>0,AVERAGE(SMALL(IF(AY468:BR468>0,AY468:BR468),{1,2,3,4,5,6,7,8})),BQ469)","v":18.490632096301553},{"$f":"IF(BS468>0,AVERAGE(SMALL(IF(AZ468:BS468>0,AZ468:BS468),{1,2,3,4,5,6,7,8})),BR469)","v":18.490632096301553},{"$f":"IF(BT468>0,AVERAGE(SMALL(IF(BA468:BT468>0,BA468:BT468),{1,2,3,4,5,6,7,8})),BS469)","v":18.490632096301553},{"$f":"IF(BU468>0,AVERAGE(SMALL(IF(BB468:BU468>0,BB468:BU468),{1,2,3,4,5,6,7,8})),BT469)","v":18.490632096301553},{"$f":"IF(BV468>0,AVERAGE(SMALL(IF(BC468:BV468>0,BC468:BV468),{1,2,3,4,5,6,7,8})),BU469)","v":18.490632096301553},{"$f":"IF(BW468>0,AVERAGE(SMALL(IF(BD468:BW468>0,BD468:BW468),{1,2,3,4,5,6,7,8})),BV469)","v":18.490632096301553},{"$f":"IF(BX468>0,AVERAGE(SMALL(IF(BE468:BX468>0,BE468:BX468),{1,2,3,4,5,6,7,8})),BW469)","v":18.490632096301553},{"$f":"IF(BY468>0,AVERAGE(SMALL(IF(BF468:BY468>0,BF468:BY468),{1,2,3,4,5,6,7,8})),BX469)","v":18.490632096301553},{"$f":"IF(BZ468>0,AVERAGE(SMALL(IF(BG468:BZ468>0,BG468:BZ468),{1,2,3,4,5,6,7,8})),BY469)","v":18.490632096301553},{"$f":"IF(CA468>0,AVERAGE(SMALL(IF(BH468:CA468>0,BH468:CA468),{1,2,3,4,5,6,7,8})),BZ469)","v":18.490632096301553},{"$f":"IF(CB468>0,AVERAGE(SMALL(IF(BI468:CB468>0,BI468:CB468),{1,2,3,4,5,6,7,8})),CA469)","v":18.490632096301553},{"$f":"IF(CC468>0,AVERAGE(SMALL(IF(BJ468:CC468>0,BJ468:CC468),{1,2,3,4,5,6,7,8})),CB469)","v":18.490632096301553},{"$f":"IF(CD468>0,AVERAGE(SMALL(IF(BK468:CD468>0,BK468:CD468),{1,2,3,4,5,6,7,8})),CC469)","v":18.490632096301553},{"$f":"IF(CE468>0,AVERAGE(SMALL(IF(BL468:CE468>0,BL468:CE468),{1,2,3,4,5,6,7,8})),CD469)","v":18.490632096301553},{"$f":"IF(CF468>0,AVERAGE(SMALL(IF(BM468:CF468>0,BM468:CF468),{1,2,3,4,5,6,7,8})),CE469)","v":18.490632096301553},{"$f":"IF(CG468>0,AVERAGE(SMALL(IF(BN468:CG468>0,BN468:CG468),{1,2,3,4,5,6,7,8})),CF469)","v":18.490632096301553},{"$f":"IF(CH468>0,AVERAGE(SMALL(IF(BO468:CH468>0,BO468:CH468),{1,2,3,4,5,6,7,8})),CG469)","v":18.490632096301553},{"$f":"IF(CI468>0,AVERAGE(SMALL(IF(BP468:CI468>0,BP468:CI468),{1,2,3,4,5,6,7,8})),CH469)","v":18.490632096301553},{"$f":"IF(CJ468>0,AVERAGE(SMALL(IF(BQ468:CJ468>0,BQ468:CJ468),{1,2,3,4,5,6,7,8})),CI469)","v":18.490632096301553},{"$f":"IF(CK468>0,AVERAGE(SMALL(IF(BR468:CK468>0,BR468:CK468),{1,2,3,4,5,6,7,8})),CJ469)","v":18.490632096301553},{"$f":"IF(CL468>0,AVERAGE(SMALL(IF(BS468:CL468>0,BS468:CL468),{1,2,3,4,5,6,7,8})),CK469)","v":18.490632096301553},{"$f":"IF(CM468>0,AVERAGE(SMALL(IF(BT468:CM468>0,BT468:CM468),{1,2,3,4,5,6,7,8})),CL469)","v":18.490632096301553},{"$f":"IF(CN468>0,AVERAGE(SMALL(IF(BU468:CN468>0,BU468:CN468),{1,2,3,4,5,6,7,8})),CM469)","v":18.490632096301553},{"$f":"IF(CO468>0,AVERAGE(SMALL(IF(BV468:CO468>0,BV468:CO468),{1,2,3,4,5,6,7,8})),CN469)","v":18.490632096301553},{"$f":"IF(CP468>0,AVERAGE(SMALL(IF(BW468:CP468>0,BW468:CP468),{1,2,3,4,5,6,7,8})),CO469)","v":18.490632096301553},{"$f":"IF(CQ468>0,AVERAGE(SMALL(IF(BX468:CQ468>0,BX468:CQ468),{1,2,3,4,5,6,7,8})),CP469)","v":18.490632096301553},{"$f":"IF(CR468>0,AVERAGE(SMALL(IF(BY468:CR468>0,BY468:CR468),{1,2,3,4,5,6,7,8})),CQ469)","v":18.490632096301553},{"$f":"IF(CS468>0,AVERAGE(SMALL(IF(BZ468:CS468>0,BZ468:CS468),{1,2,3,4,5,6,7,8})),CR469)","v":18.490632096301553},{"$f":"IF(CT468>0,AVERAGE(SMALL(IF(CA468:CT468>0,CA468:CT468),{1,2,3,4,5,6,7,8})),CS469)","v":18.490632096301553},{"$f":"IF(CU468>0,AVERAGE(SMALL(IF(CB468:CU468>0,CB468:CU468),{1,2,3,4,5,6,7,8})),CT469)","v":18.490632096301553},{"$f":"IF(CV468>0,AVERAGE(SMALL(IF(CC468:CV468>0,CC468:CV468),{1,2,3,4,5,6,7,8})),CU469)","v":18.490632096301553},{"$f":"IF(CW468>0,AVERAGE(SMALL(IF(CD468:CW468>0,CD468:CW468),{1,2,3,4,5,6,7,8})),CV469)","v":18.490632096301553}]
[null,null,null,null,null,null,null,null,"Low Hcap",null,null,null,null,null,null,null,null,null,null,null,null,null,null,null,null,null,null,null,{"$f":"MIN($R469:AC469)","v":21.695466666666665},{"$f":"MIN($S469:AD469)","v":21.695466666666665},{"$f":"MIN($S469:AE469)","v":21.695466666666665},{"$f":"MIN($T469:AF469)","v":21.695466666666665},{"$f":"MIN($U469:AG469)","v":22.09399560515461},{"$f":"MIN($AA469:AH469)","v":21.393547525313469},{"$f":"MIN($AA469:AI469)","v":20.519142763408706},{"$f":"MIN($AA469:AJ469)","v":20.017227015377216},{"$f":"MIN($AB469:AK469)","v":19.614544069640782},{"$f":"MIN($AB469:AL469)","v":19.614544069640782},{"$f":"MIN($AB469:AM469)","v":19.614544069640782},{"$f":"MIN($AB469:AN469)","v":19.614544069640782},{"$f":"MIN($AB469:AO469)","v":19.17987258390437},{"$f":"MIN($AD469:AP469)","v":18.490632096301553},{"$f":"MIN($AD469:AQ469)","v":18.490632096301553},{"$f":"MIN($AD469:AR469)","v":18.490632096301553},{"$f":"MIN($AF469:AS469)","v":18.490632096301553},{"$f":"MIN($AH469:AT469)","v":18.490632096301553},{"$f":"MIN($AH469:AU469)","v":18.490632096301553},{"$f":"MIN($AH469:AV469)","v":18.490632096301553},{"$f":"MIN($AH469:AW469)","v":18.490632096301553},{"$f":"MIN($AH469:AX469)","v":18.490632096301553},{"$f":"MIN($AH469:AY469)","v":18.490632096301553},{"$f":"MIN($AH469:AZ469)","v":18.490632096301553},{"$f":"MIN($AH469:BA469)","v":18.490632096301553},{"$f":"MIN($AH469:BB469)","v":18.490632096301553},{"$f":"MIN($AH469:BC469)","v":18.490632096301553},{"$f":"MIN($AH469:BD469)","v":18.490632096301553},{"$f":"MIN($AH469:BE469)","v":18.490632096301553},{"$f":"MIN($AH469:BF469)","v":18.490632096301553},{"$f":"MIN($AH469:BG469)","v":18.490632096301553},{"$f":"MIN($AH469:BH469)","v":18.490632096301553},{"$f":"MIN($AH469:BI469)","v":18.490632096301553},{"$f":"MIN($AH469:BJ469)","v":18.490632096301553},{"$f":"MIN($AH469:BK469)","v":18.490632096301553},{"$f":"MIN($AH469:BL469)","v":18.490632096301553},{"$f":"MIN($AH469:BM469)","v":18.490632096301553},{"$f":"MIN($AH469:BN469)","v":18.490632096301553},{"$f":"MIN($AH469:BO469)","v":18.490632096301553},{"$f":"MIN($AH469:BP469)","v":18.490632096301553},{"$f":"MIN($AH469:BQ469)","v":18.490632096301553},{"$f":"MIN($AH469:BR469)","v":18.490632096301553},{"$f":"MIN($AH469:BS469)","v":18.490632096301553},{"$f":"MIN($AH469:BT469)","v":18.490632096301553},{"$f":"MIN($AH469:BU469)","v":18.490632096301553},{"$f":"MIN($AH469:BV469)","v":18.490632096301553},{"$f":"MIN($AH469:BW469)","v":18.490632096301553},{"$f":"MIN($AH469:BX469)","v":18.490632096301553},{"$f":"MIN($AH469:BY469)","v":18.490632096301553},{"$f":"MIN($AH469:BZ469)","v":18.490632096301553},{"$f":"MIN($AH469:CA469)","v":18.490632096301553},{"$f":"MIN($AH469:CB469)","v":18.490632096301553},{"$f":"MIN($AH469:CC469)","v":18.490632096301553},{"$f":"MIN($AH469:CD469)","v":18.490632096301553},{"$f":"MIN($AH469:CE469)","v":18.490632096301553},{"$f":"MIN($AH469:CF469)","v":18.490632096301553},{"$f":"MIN($AH469:CG469)","v":18.490632096301553},{"$f":"MIN($AH469:CH469)","v":18.490632096301553},{"$f":"MIN($AH469:CI469)","v":18.490632096301553},{"$f":"MIN($AH469:CJ469)","v":18.490632096301553},{"$f":"MIN($AH469:CK469)","v":18.490632096301553},{"$f":"MIN($AH469:CL469)","v":18.490632096301553},{"$f":"MIN($AH469:CM469)","v":18.490632096301553},{"$f":"MIN($AH469:CN469)","v":18.490632096301553},{"$f":"MIN($AH469:CO469)","v":18.490632096301553},{"$f":"MIN($AH469:CP469)","v":18.490632096301553},{"$f":"MIN($AH469:CQ469)","v":18.490632096301553},{"$f":"MIN($AH469:CR469)","v":18.490632096301553},{"$f":"MIN($AH469:CS469)","v":18.490632096301553},{"$f":"MIN($AH469:CT469)","v":18.490632096301553},{"$f":"MIN($AH469:CU469)","v":18.490632096301553},{"$f":"MIN($AH469:CV469)","v":18.490632096301553},{"$f":"MIN($AH469:CW469)","v":18.490632096301553}]
[null,"Ruppli","Andrew",18,null,{"$f":"IF(H471<4,\"Y\",)","v":0},2021,{"$f":"COUNT(J471:CX471)","v":19},"Date",null,"2021-08-22","2021-08-27","2021-09-03","2021-10-03","2021-11-14","2022-03-27","2022-05-01","2022-05-06","2022-05-15","2022-05-20","2022-07-15","2022-07-31","2022-08-07","2022-09-02","2022-09-11","2022-09-23","2022-11-13","2023-05-07","2023-05-28",null,null,null,null,null,null,null,null,null,null,null,null,null,null,null,null,null,null,null,null,null,null,null,null,null,null,null,null,null,null,null,null,null,null,null,null,null,null,null,null,null,null,null,null,null,null,null,null,null,null,null,null,null,null,null,null,null,null,null,null,null,null,null,null,null,null,null,null,null,null,null,null,null,{"$f":"IF(CW475>$DD$1,36,CW475)","v":11.841639147523704},11.071963442407942,{"$f":"CZ471-CY471","v":-0.76967570511576255}]
[null,null,null,null,null,null,null,null,"Course",null,"PfaffingHG","AschheimHG","StEurachHG","OdelzhausenHG","OdelzhausenHG","OdelzhausenHG","ErdingHG","TegernbachHG","OdelzhausenHG","GutHaeusenHG","MaxlrainHG","HohenpaehlHG","IffeldorfHG","StEurachHG","Pfaffing2022HG","ReichertshausenHG","ErdingHG","Odelzhausen2023HG","ErdingHG"]
[null,null,null,null,null,null,null,null,"Ad Gr",null,97,97,87,87,91,91,89,81,85,90,87,88,90,86,84,89,106,93,88]
[null,null,null,null,null,null,null,null,"SD",{"$f":"D471+2","v":20},{"$f":"IF(K473=\"\",0,(K473-INDIRECT(CONCATENATE(K472,\"CR\")))*113/INDIRECT(CONCATENATE(K472,\"SR\")))","v":21.73076923076923},{"$f":"IF(L473=\"\",0,(L473-INDIRECT(CONCATENATE(L472,\"CR\")))*113/INDIRECT(CONCATENATE(L472,\"SR\")))","v":22.000757575757579},13.02519083969465,13.524409448818901,17.083464566929138,17.083464566929138,15.646153846153846,7.9613636363636333,11.744881889763782,16.193700787401578,11.715441176470582,14.922900763358776,16.468217054263562,12.162595419847323,9.8223076923076889,16.411904761904758,30.423076923076923,19.501612903225812,14.776923076923078,0,0,0,0,0,0,0,0,0,0,0,0,0,0,0,0,0,0,0,0,0,0,0,0,0,0,0,0,0,0,0,0,0,0,0,0,0,0,0,0,0,0,0,0,0,0,{"$f":"IF(BX473=\"\",0,(BX473-INDIRECT(CONCATENATE(BX472,\"CR\")))*113/INDIRECT(CONCATENATE(BX472,\"SR\")))","v":0},0,0,0,0,0,0,0,0,0,0,0,0,0,0,{"$f":"IF(CM473=\"\",0,(CM473-INDIRECT(CONCATENATE(CM472,\"CR\")))*113/INDIRECT(CONCATENATE(CM472,\"SR\")))","v":0},0,{"$f":"IF(CO473=\"\",0,(CO473-INDIRECT(CONCATENATE(CO472,\"CR\")))*113/INDIRECT(CONCATENATE(CO472,\"SR\")))","v":0},0,{"$f":"IF(CQ473=\"\",0,(CQ473-INDIRECT(CONCATENATE(CQ472,\"CR\")))*113/INDIRECT(CONCATENATE(CQ472,\"SR\")))","v":0},0,{"$f":"IF(CS473=\"\",0,(CS473-INDIRECT(CONCATENATE(CS472,\"CR\")))*113/INDIRECT(CONCATENATE(CS472,\"SR\")))","v":0},0,{"$f":"IF(CU473=\"\",0,(CU473-INDIRECT(CONCATENATE(CU472,\"CR\")))*113/INDIRECT(CONCATENATE(CU472,\"SR\")))","v":0},0,{"$f":"IF(CW473=\"\",0,(CW473-INDIRECT(CONCATENATE(CW472,\"CR\")))*113/INDIRECT(CONCATENATE(CW472,\"SR\")))","v":0}]
[null,null,null,null,null,null,null,null,"New Hcap",{"$f":"J474-2","v":18},{"$f":"IF(K474>0,MIN(J474:K474)-2,J475)","v":18},{"$f":"IF(L474>0,MIN(J474:L474)-2,K475)","v":18},{"$f":"IF(M474>0,MIN(J474:M474)-1,L475)","v":12.02519083969465},{"$f":"IF(N474>0,MIN(J474:N474),M475)","v":13.02519083969465},{"$f":"IF(O474>0,AVERAGE(SMALL(IF(J474:O474>0,J474:O474),{1,2}))-1,N475)","v":12.274800144256776},{"$f":"IF(P474>0,AVERAGE(SMALL(IF(J474:P474>0,J474:P474),{1,2})),O475)","v":13.274800144256776},{"$f":"IF(Q474>0,AVERAGE(SMALL(IF(J474:Q474>0,J474:Q474),{1,2})),P475)","v":13.274800144256776},{"$f":"IF(R474>0,AVERAGE(SMALL(IF(J474:R474>0,J474:R474),{1,2,3})),Q475)","v":11.503654641625729},{"$f":"IF(S474>0,AVERAGE(SMALL(IF(J474:S474>0,J474:S474),{1,2,3})),R475)","v":10.910478788607355},{"$f":"IF(T474>0,AVERAGE(SMALL(IF(J474:T474>0,J474:T474),{1,2,3})),S475)","v":10.910478788607355},{"$f":"IF(U474>0,AVERAGE(SMALL(IF(J474:U474>0,J474:U474),{1,2,3,4})),T475)","v":11.111719385573162},{"$f":"IF(V474>0,AVERAGE(SMALL(IF(J474:V474>0,J474:V474),{1,2,3,4})),U475)","v":11.111719385573162},{"$f":"IF(W474>0,AVERAGE(SMALL(IF(J474:W474>0,J474:W474),{1,2,3,4})),V475)","v":11.111719385573162},{"$f":"IF(X474>0,AVERAGE(SMALL(IF(J474:X474>0,J474:X474),{1,2,3,4,5})),W475)","v":11.321894592427995},{"$f":"IF(Y474>0,AVERAGE(SMALL(IF(J474:Y474>0,J474:Y474),{1,2,3,4,5})),X475)","v":10.681317962950601},{"$f":"IF(Z474>0,AVERAGE(SMALL(IF(J474:Z474>0,J474:Z474),{1,2,3,4,5,6})),Y475)","v":11.071963442407942},{"$f":"IF(AA474>0,AVERAGE(SMALL(IF(J474:AA474>0,J474:AA474),{1,2,3,4,5,6})),Z475)","v":11.071963442407942},{"$f":"IF(AB474>0,AVERAGE(SMALL(IF(J474:AB474>0,J474:AB474),{1,2,3,4,5,6,7})),AA475)","v":11.422312871895221},{"$f":"IF(AC474>0,AVERAGE(SMALL(IF(J474:AC474>0,J474:AC474),{1,2,3,4,5,6,7,8})),AB475)","v":11.841639147523704},{"$f":"IF(AD474>0,AVERAGE(SMALL(IF(K474:AD474>0,K474:AD474),{1,2,3,4,5,6,7,8})),AC475)","v":11.841639147523704},{"$f":"IF(AE474>0,AVERAGE(SMALL(IF(L474:AE474>0,L474:AE474),{1,2,3,4,5,6,7,8})),AD475)","v":11.841639147523704},{"$f":"IF(AF474>0,AVERAGE(SMALL(IF(M474:AF474>0,M474:AF474),{1,2,3,4,5,6,7,8})),AE475)","v":11.841639147523704},{"$f":"IF(AG474>0,AVERAGE(SMALL(IF(N474:AG474>0,N474:AG474),{1,2,3,4,5,6,7,8})),AF475)","v":11.841639147523704},{"$f":"IF(AH474>0,AVERAGE(SMALL(IF(O474:AH474>0,O474:AH474),{1,2,3,4,5,6,7,8})),AG475)","v":11.841639147523704},{"$f":"IF(AI474>0,AVERAGE(SMALL(IF(P474:AI474>0,P474:AI474),{1,2,3,4,5,6,7,8})),AH475)","v":11.841639147523704},{"$f":"IF(AJ474>0,AVERAGE(SMALL(IF(Q474:AJ474>0,Q474:AJ474),{1,2,3,4,5,6,7,8})),AI475)","v":11.841639147523704},{"$f":"IF(AK474>0,AVERAGE(SMALL(IF(R474:AK474>0,R474:AK474),{1,2,3,4,5,6,7,8})),AJ475)","v":11.841639147523704},{"$f":"IF(AL474>0,AVERAGE(SMALL(IF(S474:AL474>0,S474:AL474),{1,2,3,4,5,6,7,8})),AK475)","v":11.841639147523704},{"$f":"IF(AM474>0,AVERAGE(SMALL(IF(T474:AM474>0,T474:AM474),{1,2,3,4,5,6,7,8})),AL475)","v":11.841639147523704},{"$f":"IF(AN474>0,AVERAGE(SMALL(IF(U474:AN474>0,U474:AN474),{1,2,3,4,5,6,7,8})),AM475)","v":11.841639147523704},{"$f":"IF(AO474>0,AVERAGE(SMALL(IF(V474:AO474>0,V474:AO474),{1,2,3,4,5,6,7,8})),AN475)","v":11.841639147523704},{"$f":"IF(AP474>0,AVERAGE(SMALL(IF(W474:AP474>0,W474:AP474),{1,2,3,4,5,6,7,8})),AO475)","v":11.841639147523704},{"$f":"IF(AQ474>0,AVERAGE(SMALL(IF(X474:AQ474>0,X474:AQ474),{1,2,3,4,5,6,7,8})),AP475)","v":11.841639147523704},{"$f":"IF(AR474>0,AVERAGE(SMALL(IF(Y474:AR474>0,Y474:AR474),{1,2,3,4,5,6,7,8})),AQ475)","v":11.841639147523704},{"$f":"IF(AS474>0,AVERAGE(SMALL(IF(Z474:AS474>0,Z474:AS474),{1,2,3,4,5,6,7,8})),AR475)","v":11.841639147523704},{"$f":"IF(AT474>0,AVERAGE(SMALL(IF(AA474:AT474>0,AA474:AT474),{1,2,3,4,5,6,7,8})),AS475)","v":11.841639147523704},{"$f":"IF(AU474>0,AVERAGE(SMALL(IF(AB474:AU474>0,AB474:AU474),{1,2,3,4,5,6,7,8})),AT475)","v":11.841639147523704},{"$f":"IF(AV474>0,AVERAGE(SMALL(IF(AC474:AV474>0,AC474:AV474),{1,2,3,4,5,6,7,8})),AU475)","v":11.841639147523704},{"$f":"IF(AW474>0,AVERAGE(SMALL(IF(AD474:AW474>0,AD474:AW474),{1,2,3,4,5,6,7,8})),AV475)","v":11.841639147523704},{"$f":"IF(AX474>0,AVERAGE(SMALL(IF(AE474:AX474>0,AE474:AX474),{1,2,3,4,5,6,7,8})),AW475)","v":11.841639147523704},{"$f":"IF(AY474>0,AVERAGE(SMALL(IF(AF474:AY474>0,AF474:AY474),{1,2,3,4,5,6,7,8})),AX475)","v":11.841639147523704},{"$f":"IF(AZ474>0,AVERAGE(SMALL(IF(AG474:AZ474>0,AG474:AZ474),{1,2,3,4,5,6,7,8})),AY475)","v":11.841639147523704},{"$f":"IF(BA474>0,AVERAGE(SMALL(IF(AH474:BA474>0,AH474:BA474),{1,2,3,4,5,6,7,8})),AZ475)","v":11.841639147523704},{"$f":"IF(BB474>0,AVERAGE(SMALL(IF(AI474:BB474>0,AI474:BB474),{1,2,3,4,5,6,7,8})),BA475)","v":11.841639147523704},{"$f":"IF(BC474>0,AVERAGE(SMALL(IF(AJ474:BC474>0,AJ474:BC474),{1,2,3,4,5,6,7,8})),BB475)","v":11.841639147523704},{"$f":"IF(BD474>0,AVERAGE(SMALL(IF(AK474:BD474>0,AK474:BD474),{1,2,3,4,5,6,7,8})),BC475)","v":11.841639147523704},{"$f":"IF(BE474>0,AVERAGE(SMALL(IF(AL474:BE474>0,AL474:BE474),{1,2,3,4,5,6,7,8})),BD475)","v":11.841639147523704},{"$f":"IF(BF474>0,AVERAGE(SMALL(IF(AM474:BF474>0,AM474:BF474),{1,2,3,4,5,6,7,8})),BE475)","v":11.841639147523704},{"$f":"IF(BG474>0,AVERAGE(SMALL(IF(AN474:BG474>0,AN474:BG474),{1,2,3,4,5,6,7,8})),BF475)","v":11.841639147523704},{"$f":"IF(BH474>0,AVERAGE(SMALL(IF(AO474:BH474>0,AO474:BH474),{1,2,3,4,5,6,7,8})),BG475)","v":11.841639147523704},{"$f":"IF(BI474>0,AVERAGE(SMALL(IF(AP474:BI474>0,AP474:BI474),{1,2,3,4,5,6,7,8})),BH475)","v":11.841639147523704},{"$f":"IF(BJ474>0,AVERAGE(SMALL(IF(AQ474:BJ474>0,AQ474:BJ474),{1,2,3,4,5,6,7,8})),BI475)","v":11.841639147523704},{"$f":"IF(BK474>0,AVERAGE(SMALL(IF(AR474:BK474>0,AR474:BK474),{1,2,3,4,5,6,7,8})),BJ475)","v":11.841639147523704},{"$f":"IF(BL474>0,AVERAGE(SMALL(IF(AS474:BL474>0,AS474:BL474),{1,2,3,4,5,6,7,8})),BK475)","v":11.841639147523704},{"$f":"IF(BM474>0,AVERAGE(SMALL(IF(AT474:BM474>0,AT474:BM474),{1,2,3,4,5,6,7,8})),BL475)","v":11.841639147523704},{"$f":"IF(BN474>0,AVERAGE(SMALL(IF(AU474:BN474>0,AU474:BN474),{1,2,3,4,5,6,7,8})),BM475)","v":11.841639147523704},{"$f":"IF(BO474>0,AVERAGE(SMALL(IF(AV474:BO474>0,AV474:BO474),{1,2,3,4,5,6,7,8})),BN475)","v":11.841639147523704},{"$f":"IF(BP474>0,AVERAGE(SMALL(IF(AW474:BP474>0,AW474:BP474),{1,2,3,4,5,6,7,8})),BO475)","v":11.841639147523704},{"$f":"IF(BQ474>0,AVERAGE(SMALL(IF(AX474:BQ474>0,AX474:BQ474),{1,2,3,4,5,6,7,8})),BP475)","v":11.841639147523704},{"$f":"IF(BR474>0,AVERAGE(SMALL(IF(AY474:BR474>0,AY474:BR474),{1,2,3,4,5,6,7,8})),BQ475)","v":11.841639147523704},{"$f":"IF(BS474>0,AVERAGE(SMALL(IF(AZ474:BS474>0,AZ474:BS474),{1,2,3,4,5,6,7,8})),BR475)","v":11.841639147523704},{"$f":"IF(BT474>0,AVERAGE(SMALL(IF(BA474:BT474>0,BA474:BT474),{1,2,3,4,5,6,7,8})),BS475)","v":11.841639147523704},{"$f":"IF(BU474>0,AVERAGE(SMALL(IF(BB474:BU474>0,BB474:BU474),{1,2,3,4,5,6,7,8})),BT475)","v":11.841639147523704},{"$f":"IF(BV474>0,AVERAGE(SMALL(IF(BC474:BV474>0,BC474:BV474),{1,2,3,4,5,6,7,8})),BU475)","v":11.841639147523704},{"$f":"IF(BW474>0,AVERAGE(SMALL(IF(BD474:BW474>0,BD474:BW474),{1,2,3,4,5,6,7,8})),BV475)","v":11.841639147523704},{"$f":"IF(BX474>0,AVERAGE(SMALL(IF(BE474:BX474>0,BE474:BX474),{1,2,3,4,5,6,7,8})),BW475)","v":11.841639147523704},{"$f":"IF(BY474>0,AVERAGE(SMALL(IF(BF474:BY474>0,BF474:BY474),{1,2,3,4,5,6,7,8})),BX475)","v":11.841639147523704},{"$f":"IF(BZ474>0,AVERAGE(SMALL(IF(BG474:BZ474>0,BG474:BZ474),{1,2,3,4,5,6,7,8})),BY475)","v":11.841639147523704},{"$f":"IF(CA474>0,AVERAGE(SMALL(IF(BH474:CA474>0,BH474:CA474),{1,2,3,4,5,6,7,8})),BZ475)","v":11.841639147523704},{"$f":"IF(CB474>0,AVERAGE(SMALL(IF(BI474:CB474>0,BI474:CB474),{1,2,3,4,5,6,7,8})),CA475)","v":11.841639147523704},{"$f":"IF(CC474>0,AVERAGE(SMALL(IF(BJ474:CC474>0,BJ474:CC474),{1,2,3,4,5,6,7,8})),CB475)","v":11.841639147523704},{"$f":"IF(CD474>0,AVERAGE(SMALL(IF(BK474:CD474>0,BK474:CD474),{1,2,3,4,5,6,7,8})),CC475)","v":11.841639147523704},{"$f":"IF(CE474>0,AVERAGE(SMALL(IF(BL474:CE474>0,BL474:CE474),{1,2,3,4,5,6,7,8})),CD475)","v":11.841639147523704},{"$f":"IF(CF474>0,AVERAGE(SMALL(IF(BM474:CF474>0,BM474:CF474),{1,2,3,4,5,6,7,8})),CE475)","v":11.841639147523704},{"$f":"IF(CG474>0,AVERAGE(SMALL(IF(BN474:CG474>0,BN474:CG474),{1,2,3,4,5,6,7,8})),CF475)","v":11.841639147523704},{"$f":"IF(CH474>0,AVERAGE(SMALL(IF(BO474:CH474>0,BO474:CH474),{1,2,3,4,5,6,7,8})),CG475)","v":11.841639147523704},{"$f":"IF(CI474>0,AVERAGE(SMALL(IF(BP474:CI474>0,BP474:CI474),{1,2,3,4,5,6,7,8})),CH475)","v":11.841639147523704},{"$f":"IF(CJ474>0,AVERAGE(SMALL(IF(BQ474:CJ474>0,BQ474:CJ474),{1,2,3,4,5,6,7,8})),CI475)","v":11.841639147523704},{"$f":"IF(CK474>0,AVERAGE(SMALL(IF(BR474:CK474>0,BR474:CK474),{1,2,3,4,5,6,7,8})),CJ475)","v":11.841639147523704},{"$f":"IF(CL474>0,AVERAGE(SMALL(IF(BS474:CL474>0,BS474:CL474),{1,2,3,4,5,6,7,8})),CK475)","v":11.841639147523704},{"$f":"IF(CM474>0,AVERAGE(SMALL(IF(BT474:CM474>0,BT474:CM474),{1,2,3,4,5,6,7,8})),CL475)","v":11.841639147523704},{"$f":"IF(CN474>0,AVERAGE(SMALL(IF(BU474:CN474>0,BU474:CN474),{1,2,3,4,5,6,7,8})),CM475)","v":11.841639147523704},{"$f":"IF(CO474>0,AVERAGE(SMALL(IF(BV474:CO474>0,BV474:CO474),{1,2,3,4,5,6,7,8})),CN475)","v":11.841639147523704},{"$f":"IF(CP474>0,AVERAGE(SMALL(IF(BW474:CP474>0,BW474:CP474),{1,2,3,4,5,6,7,8})),CO475)","v":11.841639147523704},{"$f":"IF(CQ474>0,AVERAGE(SMALL(IF(BX474:CQ474>0,BX474:CQ474),{1,2,3,4,5,6,7,8})),CP475)","v":11.841639147523704},{"$f":"IF(CR474>0,AVERAGE(SMALL(IF(BY474:CR474>0,BY474:CR474),{1,2,3,4,5,6,7,8})),CQ475)","v":11.841639147523704},{"$f":"IF(CS474>0,AVERAGE(SMALL(IF(BZ474:CS474>0,BZ474:CS474),{1,2,3,4,5,6,7,8})),CR475)","v":11.841639147523704},{"$f":"IF(CT474>0,AVERAGE(SMALL(IF(CA474:CT474>0,CA474:CT474),{1,2,3,4,5,6,7,8})),CS475)","v":11.841639147523704},{"$f":"IF(CU474>0,AVERAGE(SMALL(IF(CB474:CU474>0,CB474:CU474),{1,2,3,4,5,6,7,8})),CT475)","v":11.841639147523704},{"$f":"IF(CV474>0,AVERAGE(SMALL(IF(CC474:CV474>0,CC474:CV474),{1,2,3,4,5,6,7,8})),CU475)","v":11.841639147523704},{"$f":"IF(CW474>0,AVERAGE(SMALL(IF(CD474:CW474>0,CD474:CW474),{1,2,3,4,5,6,7,8})),CV475)","v":11.841639147523704}]
[null,null,null,null,null,null,null,null,"Low Hcap",null,null,null,null,null,null,null,null,null,null,null,null,null,null,null,null,null,null,null,{"$f":"MIN($K475:AC475)","v":10.681317962950601},{"$f":"MIN($K475:AD475)","v":10.681317962950601},{"$f":"MIN($K475:AE475)","v":10.681317962950601},{"$f":"MIN($K475:AF475)","v":10.681317962950601},{"$f":"MIN($K475:AG475)","v":10.681317962950601},{"$f":"MIN($K475:AH475)","v":10.681317962950601},{"$f":"MIN($K475:AI475)","v":10.681317962950601},{"$f":"MIN($K475:AJ475)","v":10.681317962950601},{"$f":"MIN($K475:AK475)","v":10.681317962950601},{"$f":"MIN($K475:AL475)","v":10.681317962950601},{"$f":"MIN($K475:AM475)","v":10.681317962950601},{"$f":"MIN($K475:AN475)","v":10.681317962950601},{"$f":"MIN($K475:AO475)","v":10.681317962950601},{"$f":"MIN($K475:AP475)","v":10.681317962950601},{"$f":"MIN($K475:AQ475)","v":10.681317962950601},{"$f":"MIN($K475:AR475)","v":10.681317962950601},{"$f":"MIN($K475:AS475)","v":10.681317962950601},{"$f":"MIN($K475:AT475)","v":10.681317962950601},{"$f":"MIN($K475:AU475)","v":10.681317962950601},{"$f":"MIN($K475:AV475)","v":10.681317962950601},{"$f":"MIN($K475:AW475)","v":10.681317962950601},{"$f":"MIN($K475:AX475)","v":10.681317962950601},{"$f":"MIN($K475:AY475)","v":10.681317962950601},{"$f":"MIN($K475:AZ475)","v":10.681317962950601},{"$f":"MIN($K475:BA475)","v":10.681317962950601},{"$f":"MIN($K475:BB475)","v":10.681317962950601},{"$f":"MIN($K475:BC475)","v":10.681317962950601},{"$f":"MIN($K475:BD475)","v":10.681317962950601},{"$f":"MIN($K475:BE475)","v":10.681317962950601},{"$f":"MIN($K475:BF475)","v":10.681317962950601},{"$f":"MIN($K475:BG475)","v":10.681317962950601},{"$f":"MIN($K475:BH475)","v":10.681317962950601},{"$f":"MIN($K475:BI475)","v":10.681317962950601},{"$f":"MIN($K475:BJ475)","v":10.681317962950601},{"$f":"MIN($K475:BK475)","v":10.681317962950601},{"$f":"MIN($K475:BL475)","v":10.681317962950601},{"$f":"MIN($K475:BM475)","v":10.681317962950601},{"$f":"MIN($K475:BN475)","v":10.681317962950601},{"$f":"MIN($K475:BO475)","v":10.681317962950601},{"$f":"MIN($K475:BP475)","v":10.681317962950601},{"$f":"MIN($K475:BQ475)","v":10.681317962950601},{"$f":"MIN($K475:BR475)","v":10.681317962950601},{"$f":"MIN($K475:BS475)","v":10.681317962950601},{"$f":"MIN($K475:BT475)","v":10.681317962950601},{"$f":"MIN($K475:BU475)","v":10.681317962950601},{"$f":"MIN($K475:BV475)","v":10.681317962950601},{"$f":"MIN($K475:BW475)","v":10.681317962950601},{"$f":"MIN($K475:BX475)","v":10.681317962950601},{"$f":"MIN($K475:BY475)","v":10.681317962950601},{"$f":"MIN($K475:BZ475)","v":10.681317962950601},{"$f":"MIN($K475:CA475)","v":10.681317962950601},{"$f":"MIN($K475:CB475)","v":10.681317962950601},{"$f":"MIN($K475:CC475)","v":10.681317962950601},{"$f":"MIN($K475:CD475)","v":10.681317962950601},{"$f":"MIN($K475:CE475)","v":10.681317962950601},{"$f":"MIN($K475:CF475)","v":10.681317962950601},{"$f":"MIN($K475:CG475)","v":10.681317962950601},{"$f":"MIN($K475:CH475)","v":10.681317962950601},{"$f":"MIN($K475:CI475)","v":10.681317962950601},{"$f":"MIN($K475:CJ475)","v":10.681317962950601},{"$f":"MIN($K475:CK475)","v":10.681317962950601},{"$f":"MIN($K475:CL475)","v":10.681317962950601},{"$f":"MIN($K475:CM475)","v":10.681317962950601},{"$f":"MIN($K475:CN475)","v":10.681317962950601},{"$f":"MIN($K475:CO475)","v":10.681317962950601},{"$f":"MIN($K475:CP475)","v":10.681317962950601},{"$f":"MIN($K475:CQ475)","v":10.681317962950601},{"$f":"MIN($K475:CR475)","v":10.681317962950601},{"$f":"MIN($K475:CS475)","v":10.681317962950601},{"$f":"MIN($K475:CT475)","v":10.681317962950601},{"$f":"MIN($K475:CU475)","v":10.681317962950601},{"$f":"MIN($K475:CV475)","v":10.681317962950601},{"$f":"MIN($K475:CW475)","v":10.681317962950601}]
[null,"Singh","Vijay",15,null,{"$f":"IF(H477<4,\"Y\",)","v":"Y"},2023,{"$f":"COUNT(K477:CX477)","v":3},"Date",null,"2023-04-07","2023-05-19","2023-05-28",null,null,null,null,null,null,null,null,null,null,null,null,null,null,null,null,null,null,null,null,null,null,null,null,null,null,null,null,null,null,null,null,null,null,null,null,null,null,null,null,null,null,null,null,null,null,null,null,null,null,null,null,null,null,null,null,null,null,null,null,null,null,null,null,null,null,null,null,null,null,null,null,null,null,null,null,null,null,null,null,null,null,null,null,null,null,null,null,null,{"$f":"IF(CW481>$DD$1,36,CW481)","v":16},15,{"$f":"CZ477-CY477","v":-1}]
[null,null,null,null,null,null,null,null,"Course",null,"Reichertshausen2023HG","GarmischHG","ErdingHG"]
[null,null,null,null,null,null,null,null,"Ad Gr",null,106,106,103]
[null,null,null,null,null,null,null,null,"SD",{"$f":"D477+2","v":17},{"$f":"IF(K479=\"\",0,(K479-INDIRECT(CONCATENATE(K478,\"CR\")))*113/INDIRECT(CONCATENATE(K478,\"SR\")))","v":29.790909090909089},{"$f":"IF(L479=\"\",0,(L479-INDIRECT(CONCATENATE(L478,\"CR\")))*113/INDIRECT(CONCATENATE(L478,\"SR\")))","v":30.785826771653536},{"$f":"IF(M479=\"\",0,(M479-INDIRECT(CONCATENATE(M478,\"CR\")))*113/INDIRECT(CONCATENATE(M478,\"SR\")))","v":27.815384615384616},{"$f":"IF(N479=\"\",0,(N479-INDIRECT(CONCATENATE(N478,\"CR\")))*113/INDIRECT(CONCATENATE(N478,\"SR\")))","v":0},0,0,0,0,0,0,0,0,0,0,0,0,0,0,0,0,0,0,0,0,0,0,0,0,0,0,0,0,0,0,0,0,0,0,0,0,0,0,0,0,0,0,0,0,0,0,0,0,0,0,0,0,0,0,0,0,0,0,0,0,{"$f":"IF(BW479=\"\",0,(BW479-INDIRECT(CONCATENATE(BW478,\"CR\")))*113/INDIRECT(CONCATENATE(BW478,\"SR\")))","v":0},0,0,0,0,0,0,0,0,0,0,0,0,0,0,0,{"$f":"IF(CM479=\"\",0,(CM479-INDIRECT(CONCATENATE(CM478,\"CR\")))*113/INDIRECT(CONCATENATE(CM478,\"SR\")))","v":0},0,{"$f":"IF(CO479=\"\",0,(CO479-INDIRECT(CONCATENATE(CO478,\"CR\")))*113/INDIRECT(CONCATENATE(CO478,\"SR\")))","v":0},0,{"$f":"IF(CQ479=\"\",0,(CQ479-INDIRECT(CONCATENATE(CQ478,\"CR\")))*113/INDIRECT(CONCATENATE(CQ478,\"SR\")))","v":0},0,{"$f":"IF(CS479=\"\",0,(CS479-INDIRECT(CONCATENATE(CS478,\"CR\")))*113/INDIRECT(CONCATENATE(CS478,\"SR\")))","v":0},0,{"$f":"IF(CU479=\"\",0,(CU479-INDIRECT(CONCATENATE(CU478,\"CR\")))*113/INDIRECT(CONCATENATE(CU478,\"SR\")))","v":0},0,{"$f":"IF(CW479=\"\",0,(CW479-INDIRECT(CONCATENATE(CW478,\"CR\")))*113/INDIRECT(CONCATENATE(CW478,\"SR\")))","v":0}]
[null,null,null,null,null,null,null,null,"New Hcap",{"$f":"J480-2","v":15},{"$f":"IF(K480>0,MIN(J480:K480)-2,J481)","v":15},{"$f":"IF(L480>0,MIN(J480:L480)-2,J481)","v":15},{"$f":"IF(M480>0,MIN(J480:M480)-1,L481)","v":16},{"$f":"IF(N480>0,MIN(K480:N480),M481)","v":16},{"$f":"IF(O480>0,AVERAGE(SMALL(IF(K480:O480>0,K480:O480),{1,2}))-1,N481)","v":16},{"$f":"IF(P480>0,AVERAGE(SMALL(IF(K480:P480>0,K480:P480),{1,2})),O481)","v":16},{"$f":"IF(Q480>0,AVERAGE(SMALL(IF(K480:Q480>0,K480:Q480),{1,2})),P481)","v":16},{"$f":"IF(R480>0,AVERAGE(SMALL(IF(K480:R480>0,K480:R480),{1,2,3})),Q481)","v":16},{"$f":"IF(S480>0,AVERAGE(SMALL(IF(K480:S480>0,K480:S480),{1,2,3})),R481)","v":16},{"$f":"IF(T480>0,AVERAGE(SMALL(IF(K480:T480>0,K480:T480),{1,2,3})),S481)","v":16},{"$f":"IF(U480>0,AVERAGE(SMALL(IF(K480:U480>0,K480:U480),{1,2,3,4})),T481)","v":16},{"$f":"IF(V480>0,AVERAGE(SMALL(IF(K480:V480>0,K480:V480),{1,2,3,4})),U481)","v":16},{"$f":"IF(W480>0,AVERAGE(SMALL(IF(K480:W480>0,K480:W480),{1,2,3,4})),V481)","v":16},{"$f":"IF(X480>0,AVERAGE(SMALL(IF(K480:X480>0,K480:X480),{1,2,3,4,5})),W481)","v":16},{"$f":"IF(Y480>0,AVERAGE(SMALL(IF(K480:Y480>0,K480:Y480),{1,2,3,4,5})),X481)","v":16},{"$f":"IF(Z480>0,AVERAGE(SMALL(IF(K480:Z480>0,K480:Z480),{1,2,3,4,5,6})),Y481)","v":16},{"$f":"IF(AA480>0,AVERAGE(SMALL(IF(K480:AA480>0,K480:AA480),{1,2,3,4,5,6})),Z481)","v":16},{"$f":"IF(AB480>0,AVERAGE(SMALL(IF(K480:AB480>0,K480:AB480),{1,2,3,4,5,6,7})),AA481)","v":16},{"$f":"IF(AC480>0,AVERAGE(SMALL(IF(K480:AC480>0,K480:AC480),{1,2,3,4,5,6,7,8})),AB481)","v":16},{"$f":"IF(AD480>0,AVERAGE(SMALL(IF(L480:AD480>0,L480:AD480),{1,2,3,4,5,6,7,8})),AC481)","v":16},{"$f":"IF(AE480>0,AVERAGE(SMALL(IF(M480:AE480>0,M480:AE480),{1,2,3,4,5,6,7,8})),AD481)","v":16},{"$f":"IF(AF480>0,AVERAGE(SMALL(IF(M480:AF480>0,M480:AF480),{1,2,3,4,5,6,7,8})),AE481)","v":16},{"$f":"IF(AG480>0,AVERAGE(SMALL(IF(N480:AG480>0,N480:AG480),{1,2,3,4,5,6,7,8})),AF481)","v":16},{"$f":"IF(AH480>0,AVERAGE(SMALL(IF(O480:AH480>0,O480:AH480),{1,2,3,4,5,6,7,8})),AG481)","v":16},{"$f":"IF(AI480>0,AVERAGE(SMALL(IF(P480:AI480>0,P480:AI480),{1,2,3,4,5,6,7,8})),AH481)","v":16},{"$f":"IF(AJ480>0,AVERAGE(SMALL(IF(Q480:AJ480>0,Q480:AJ480),{1,2,3,4,5,6,7,8})),AI481)","v":16},{"$f":"IF(AK480>0,AVERAGE(SMALL(IF(R480:AK480>0,R480:AK480),{1,2,3,4,5,6,7,8})),AJ481)","v":16},{"$f":"IF(AL480>0,AVERAGE(SMALL(IF(S480:AL480>0,S480:AL480),{1,2,3,4,5,6,7,8})),AK481)","v":16},{"$f":"IF(AM480>0,AVERAGE(SMALL(IF(T480:AM480>0,T480:AM480),{1,2,3,4,5,6,7,8})),AL481)","v":16},{"$f":"IF(AN480>0,AVERAGE(SMALL(IF(U480:AN480>0,U480:AN480),{1,2,3,4,5,6,7,8})),AM481)","v":16},{"$f":"IF(AO480>0,AVERAGE(SMALL(IF(V480:AO480>0,V480:AO480),{1,2,3,4,5,6,7,8})),AN481)","v":16},{"$f":"IF(AP480>0,AVERAGE(SMALL(IF(W480:AP480>0,W480:AP480),{1,2,3,4,5,6,7,8})),AO481)","v":16},{"$f":"IF(AQ480>0,AVERAGE(SMALL(IF(X480:AQ480>0,X480:AQ480),{1,2,3,4,5,6,7,8})),AP481)","v":16},{"$f":"IF(AR480>0,AVERAGE(SMALL(IF(Y480:AR480>0,Y480:AR480),{1,2,3,4,5,6,7,8})),AQ481)","v":16},{"$f":"IF(AS480>0,AVERAGE(SMALL(IF(Z480:AS480>0,Z480:AS480),{1,2,3,4,5,6,7,8})),AR481)","v":16},{"$f":"IF(AT480>0,AVERAGE(SMALL(IF(AA480:AT480>0,AA480:AT480),{1,2,3,4,5,6,7,8})),AS481)","v":16},{"$f":"IF(AU480>0,AVERAGE(SMALL(IF(AB480:AU480>0,AB480:AU480),{1,2,3,4,5,6,7,8})),AT481)","v":16},{"$f":"IF(AV480>0,AVERAGE(SMALL(IF(AC480:AV480>0,AC480:AV480),{1,2,3,4,5,6,7,8})),AU481)","v":16},{"$f":"IF(AW480>0,AVERAGE(SMALL(IF(AD480:AW480>0,AD480:AW480),{1,2,3,4,5,6,7,8})),AV481)","v":16},{"$f":"IF(AX480>0,AVERAGE(SMALL(IF(AE480:AX480>0,AE480:AX480),{1,2,3,4,5,6,7,8})),AW481)","v":16},{"$f":"IF(AY480>0,AVERAGE(SMALL(IF(AF480:AY480>0,AF480:AY480),{1,2,3,4,5,6,7,8})),AX481)","v":16},{"$f":"IF(AZ480>0,AVERAGE(SMALL(IF(AG480:AZ480>0,AG480:AZ480),{1,2,3,4,5,6,7,8})),AY481)","v":16},{"$f":"IF(BA480>0,AVERAGE(SMALL(IF(AH480:BA480>0,AH480:BA480),{1,2,3,4,5,6,7,8})),AZ481)","v":16},{"$f":"IF(BB480>0,AVERAGE(SMALL(IF(AI480:BB480>0,AI480:BB480),{1,2,3,4,5,6,7,8})),BA481)","v":16},{"$f":"IF(BC480>0,AVERAGE(SMALL(IF(AJ480:BC480>0,AJ480:BC480),{1,2,3,4,5,6,7,8})),BB481)","v":16},{"$f":"IF(BD480>0,AVERAGE(SMALL(IF(AK480:BD480>0,AK480:BD480),{1,2,3,4,5,6,7,8})),BC481)","v":16},{"$f":"IF(BE480>0,AVERAGE(SMALL(IF(AL480:BE480>0,AL480:BE480),{1,2,3,4,5,6,7,8})),BD481)","v":16},{"$f":"IF(BF480>0,AVERAGE(SMALL(IF(AM480:BF480>0,AM480:BF480),{1,2,3,4,5,6,7,8})),BE481)","v":16},{"$f":"IF(BG480>0,AVERAGE(SMALL(IF(AN480:BG480>0,AN480:BG480),{1,2,3,4,5,6,7,8})),BF481)","v":16},{"$f":"IF(BH480>0,AVERAGE(SMALL(IF(AO480:BH480>0,AO480:BH480),{1,2,3,4,5,6,7,8})),BG481)","v":16},{"$f":"IF(BI480>0,AVERAGE(SMALL(IF(AP480:BI480>0,AP480:BI480),{1,2,3,4,5,6,7,8})),BH481)","v":16},{"$f":"IF(BJ480>0,AVERAGE(SMALL(IF(AQ480:BJ480>0,AQ480:BJ480),{1,2,3,4,5,6,7,8})),BI481)","v":16},{"$f":"IF(BK480>0,AVERAGE(SMALL(IF(AR480:BK480>0,AR480:BK480),{1,2,3,4,5,6,7,8})),BJ481)","v":16},{"$f":"IF(BL480>0,AVERAGE(SMALL(IF(AS480:BL480>0,AS480:BL480),{1,2,3,4,5,6,7,8})),BK481)","v":16},{"$f":"IF(BM480>0,AVERAGE(SMALL(IF(AT480:BM480>0,AT480:BM480),{1,2,3,4,5,6,7,8})),BL481)","v":16},{"$f":"IF(BN480>0,AVERAGE(SMALL(IF(AU480:BN480>0,AU480:BN480),{1,2,3,4,5,6,7,8})),BM481)","v":16},{"$f":"IF(BO480>0,AVERAGE(SMALL(IF(AV480:BO480>0,AV480:BO480),{1,2,3,4,5,6,7,8})),BN481)","v":16},{"$f":"IF(BP480>0,AVERAGE(SMALL(IF(AW480:BP480>0,AW480:BP480),{1,2,3,4,5,6,7,8})),BO481)","v":16},{"$f":"IF(BQ480>0,AVERAGE(SMALL(IF(AX480:BQ480>0,AX480:BQ480),{1,2,3,4,5,6,7,8})),BP481)","v":16},{"$f":"IF(BR480>0,AVERAGE(SMALL(IF(AY480:BR480>0,AY480:BR480),{1,2,3,4,5,6,7,8})),BQ481)","v":16},{"$f":"IF(BS480>0,AVERAGE(SMALL(IF(AZ480:BS480>0,AZ480:BS480),{1,2,3,4,5,6,7,8})),BR481)","v":16},{"$f":"IF(BT480>0,AVERAGE(SMALL(IF(BA480:BT480>0,BA480:BT480),{1,2,3,4,5,6,7,8})),BS481)","v":16},{"$f":"IF(BU480>0,AVERAGE(SMALL(IF(BB480:BU480>0,BB480:BU480),{1,2,3,4,5,6,7,8})),BT481)","v":16},{"$f":"IF(BV480>0,AVERAGE(SMALL(IF(BC480:BV480>0,BC480:BV480),{1,2,3,4,5,6,7,8})),BU481)","v":16},{"$f":"IF(BW480>0,AVERAGE(SMALL(IF(BD480:BW480>0,BD480:BW480),{1,2,3,4,5,6,7,8})),BV481)","v":16},{"$f":"IF(BX480>0,AVERAGE(SMALL(IF(BE480:BX480>0,BE480:BX480),{1,2,3,4,5,6,7,8})),BW481)","v":16},{"$f":"IF(BY480>0,AVERAGE(SMALL(IF(BF480:BY480>0,BF480:BY480),{1,2,3,4,5,6,7,8})),BX481)","v":16},{"$f":"IF(BZ480>0,AVERAGE(SMALL(IF(BG480:BZ480>0,BG480:BZ480),{1,2,3,4,5,6,7,8})),BY481)","v":16},{"$f":"IF(CA480>0,AVERAGE(SMALL(IF(BH480:CA480>0,BH480:CA480),{1,2,3,4,5,6,7,8})),BZ481)","v":16},{"$f":"IF(CB480>0,AVERAGE(SMALL(IF(BI480:CB480>0,BI480:CB480),{1,2,3,4,5,6,7,8})),CA481)","v":16},{"$f":"IF(CC480>0,AVERAGE(SMALL(IF(BJ480:CC480>0,BJ480:CC480),{1,2,3,4,5,6,7,8})),CB481)","v":16},{"$f":"IF(CD480>0,AVERAGE(SMALL(IF(BK480:CD480>0,BK480:CD480),{1,2,3,4,5,6,7,8})),CC481)","v":16},{"$f":"IF(CE480>0,AVERAGE(SMALL(IF(BL480:CE480>0,BL480:CE480),{1,2,3,4,5,6,7,8})),CD481)","v":16},{"$f":"IF(CF480>0,AVERAGE(SMALL(IF(BM480:CF480>0,BM480:CF480),{1,2,3,4,5,6,7,8})),CE481)","v":16},{"$f":"IF(CG480>0,AVERAGE(SMALL(IF(BN480:CG480>0,BN480:CG480),{1,2,3,4,5,6,7,8})),CF481)","v":16},{"$f":"IF(CH480>0,AVERAGE(SMALL(IF(BO480:CH480>0,BO480:CH480),{1,2,3,4,5,6,7,8})),CG481)","v":16},{"$f":"IF(CI480>0,AVERAGE(SMALL(IF(BP480:CI480>0,BP480:CI480),{1,2,3,4,5,6,7,8})),CH481)","v":16},{"$f":"IF(CJ480>0,AVERAGE(SMALL(IF(BQ480:CJ480>0,BQ480:CJ480),{1,2,3,4,5,6,7,8})),CI481)","v":16},{"$f":"IF(CK480>0,AVERAGE(SMALL(IF(BR480:CK480>0,BR480:CK480),{1,2,3,4,5,6,7,8})),CJ481)","v":16},{"$f":"IF(CL480>0,AVERAGE(SMALL(IF(BS480:CL480>0,BS480:CL480),{1,2,3,4,5,6,7,8})),CK481)","v":16},{"$f":"IF(CM480>0,AVERAGE(SMALL(IF(BT480:CM480>0,BT480:CM480),{1,2,3,4,5,6,7,8})),CL481)","v":16},{"$f":"IF(CN480>0,AVERAGE(SMALL(IF(BU480:CN480>0,BU480:CN480),{1,2,3,4,5,6,7,8})),CM481)","v":16},{"$f":"IF(CO480>0,AVERAGE(SMALL(IF(BV480:CO480>0,BV480:CO480),{1,2,3,4,5,6,7,8})),CN481)","v":16},{"$f":"IF(CP480>0,AVERAGE(SMALL(IF(BW480:CP480>0,BW480:CP480),{1,2,3,4,5,6,7,8})),CO481)","v":16},{"$f":"IF(CQ480>0,AVERAGE(SMALL(IF(BX480:CQ480>0,BX480:CQ480),{1,2,3,4,5,6,7,8})),CP481)","v":16},{"$f":"IF(CR480>0,AVERAGE(SMALL(IF(BY480:CR480>0,BY480:CR480),{1,2,3,4,5,6,7,8})),CQ481)","v":16},{"$f":"IF(CS480>0,AVERAGE(SMALL(IF(BZ480:CS480>0,BZ480:CS480),{1,2,3,4,5,6,7,8})),CR481)","v":16},{"$f":"IF(CT480>0,AVERAGE(SMALL(IF(CA480:CT480>0,CA480:CT480),{1,2,3,4,5,6,7,8})),CS481)","v":16},{"$f":"IF(CU480>0,AVERAGE(SMALL(IF(CB480:CU480>0,CB480:CU480),{1,2,3,4,5,6,7,8})),CT481)","v":16},{"$f":"IF(CV480>0,AVERAGE(SMALL(IF(CC480:CV480>0,CC480:CV480),{1,2,3,4,5,6,7,8})),CU481)","v":16},{"$f":"IF(CW480>0,AVERAGE(SMALL(IF(CD480:CW480>0,CD480:CW480),{1,2,3,4,5,6,7,8})),CV481)","v":16}]
[null,null,null,null,null,null,null,null,"Low Hcap",null,null,null,null,null,null,null,null,null,null,null,null,null,null,null,null,null,null,null,{"$f":"MIN($J481:AC481)","v":15},{"$f":"MIN($J481:AD481)","v":15},{"$f":"MIN($J481:AE481)","v":15},{"$f":"MIN($J481:AF481)","v":15},{"$f":"MIN($J481:AG481)","v":15},{"$f":"MIN($J481:AH481)","v":15},{"$f":"MIN($J481:AI481)","v":15},{"$f":"MIN($J481:AJ481)","v":15},{"$f":"MIN($J481:AK481)","v":15},{"$f":"MIN($J481:AL481)","v":15},{"$f":"MIN($J481:AM481)","v":15},{"$f":"MIN($J481:AN481)","v":15},{"$f":"MIN($J481:AO481)","v":15},{"$f":"MIN($J481:AP481)","v":15},{"$f":"MIN($J481:AQ481)","v":15},{"$f":"MIN($J481:AR481)","v":15},{"$f":"MIN($J481:AS481)","v":15},{"$f":"MIN($J481:AT481)","v":15},{"$f":"MIN($J481:AU481)","v":15},{"$f":"MIN($J481:AV481)","v":15},{"$f":"MIN($J481:AW481)","v":15},{"$f":"MIN($J481:AX481)","v":15},{"$f":"MIN($J481:AY481)","v":15},{"$f":"MIN($J481:AZ481)","v":15},{"$f":"MIN($J481:BA481)","v":15},{"$f":"MIN($J481:BB481)","v":15},{"$f":"MIN($J481:BC481)","v":15},{"$f":"MIN($J481:BD481)","v":15},{"$f":"MIN($J481:BE481)","v":15},{"$f":"MIN($J481:BF481)","v":15},{"$f":"MIN($J481:BG481)","v":15},{"$f":"MIN($J481:BH481)","v":15},{"$f":"MIN($J481:BI481)","v":15},{"$f":"MIN($J481:BJ481)","v":15},{"$f":"MIN($J481:BK481)","v":15},{"$f":"MIN($J481:BL481)","v":15},{"$f":"MIN($J481:BM481)","v":15},{"$f":"MIN($J481:BN481)","v":15},{"$f":"MIN($J481:BO481)","v":15},{"$f":"MIN($J481:BP481)","v":15},{"$f":"MIN($J481:BQ481)","v":15},{"$f":"MIN($J481:BR481)","v":15},{"$f":"MIN($J481:BS481)","v":15},{"$f":"MIN($J481:BT481)","v":15},{"$f":"MIN($J481:BU481)","v":15},{"$f":"MIN($J481:BV481)","v":15},{"$f":"MIN($J481:BW481)","v":15},{"$f":"MIN($J481:BX481)","v":15},{"$f":"MIN($J481:BY481)","v":15},{"$f":"MIN($J481:BZ481)","v":15},{"$f":"MIN($J481:CA481)","v":15},{"$f":"MIN($J481:CB481)","v":15},{"$f":"MIN($J481:CC481)","v":15},{"$f":"MIN($J481:CD481)","v":15},{"$f":"MIN($J481:CE481)","v":15},{"$f":"MIN($J481:CF481)","v":15},{"$f":"MIN($J481:CG481)","v":15},{"$f":"MIN($J481:CH481)","v":15},{"$f":"MIN($J481:CI481)","v":15},{"$f":"MIN($J481:CJ481)","v":15},{"$f":"MIN($J481:CK481)","v":15},{"$f":"MIN($J481:CL481)","v":15},{"$f":"MIN($J481:CM481)","v":15},{"$f":"MIN($J481:CN481)","v":15},{"$f":"MIN($J481:CO481)","v":15},{"$f":"MIN($J481:CP481)","v":15},{"$f":"MIN($J481:CQ481)","v":15},{"$f":"MIN($J481:CR481)","v":15},{"$f":"MIN($J481:CS481)","v":15},{"$f":"MIN($J481:CT481)","v":15},{"$f":"MIN($J481:CU481)","v":15},{"$f":"MIN($J481:CV481)","v":15},{"$f":"MIN($J481:CW481)","v":15}]
[null,"Skelton","Nick",38,null,{"$f":"IF(H483<4,\"Y\",)","v":"Y"},2022,{"$f":"COUNT(J483:CX483)","v":3},"Date",null,"2022-10-30","2022-11-09","2022-11-13",null,null,null,null,null,null,null,null,null,null,null,null,null,null,null,null,null,null,null,null,null,null,null,null,null,null,null,null,null,null,null,null,null,null,null,null,null,null,null,null,null,null,null,null,null,null,null,null,null,null,null,null,null,null,null,null,null,null,null,null,null,null,null,null,null,null,null,null,null,null,null,null,null,null,null,null,null,null,null,null,null,null,null,null,null,null,null,null,null,{"$f":"IF(CW487>$DD$1,36,CW487)","v":34.155555555555559},34.155555555555559,{"$f":"CZ483-CY483","v":0}]
[null,null,null,null,null,null,null,null,"Course",null,"OdelzhausenHB","GutThailing2022HG","ErdingHG"]
[null,null,null,null,null,null,null,null,"Ad Gr",null,104,113,119]
[null,null,null,null,null,null,null,null,"SD",{"$f":"D483","v":38},{"$f":"IF(K485=\"\",0,(K485-INDIRECT(CONCATENATE(K484,\"CR\")))*113/INDIRECT(CONCATENATE(K484,\"SR\")))","v":35.155555555555559},36.855384615384622,41.723076923076924,0,0,0,0,0,0,0,0,0,0,0,0,0,0,0,0,0,0,0,0,0,0,0,0,0,0,0,0,0,0,0,0,0,0,0,0,0,0,0,0,0,0,0,0,0,0,0,0,0,0,0,0,0,0,0,0,0,0,0,0,0,{"$f":"IF(BW485=\"\",0,(BW485-INDIRECT(CONCATENATE(BW484,\"CR\")))*113/INDIRECT(CONCATENATE(BW484,\"SR\")))","v":0},0,0,0,0,0,0,0,0,0,0,0,0,0,0,0,{"$f":"IF(CM485=\"\",0,(CM485-INDIRECT(CONCATENATE(CM484,\"CR\")))*113/INDIRECT(CONCATENATE(CM484,\"SR\")))","v":0},0,{"$f":"IF(CO485=\"\",0,(CO485-INDIRECT(CONCATENATE(CO484,\"CR\")))*113/INDIRECT(CONCATENATE(CO484,\"SR\")))","v":0},0,{"$f":"IF(CQ485=\"\",0,(CQ485-INDIRECT(CONCATENATE(CQ484,\"CR\")))*113/INDIRECT(CONCATENATE(CQ484,\"SR\")))","v":0},0,{"$f":"IF(CS485=\"\",0,(CS485-INDIRECT(CONCATENATE(CS484,\"CR\")))*113/INDIRECT(CONCATENATE(CS484,\"SR\")))","v":0},0,{"$f":"IF(CU485=\"\",0,(CU485-INDIRECT(CONCATENATE(CU484,\"CR\")))*113/INDIRECT(CONCATENATE(CU484,\"SR\")))","v":0},0,{"$f":"IF(CW485=\"\",0,(CW485-INDIRECT(CONCATENATE(CW484,\"CR\")))*113/INDIRECT(CONCATENATE(CW484,\"SR\")))","v":0}]
[null,null,null,null,null,null,null,null,"New Hcap",{"$f":"J486-2","v":36},{"$f":"IF(K486>0,MIN(J486:K486)-2,J487)","v":33.155555555555559},{"$f":"IF(L486>0,MIN(J486:L486)-2,K487)","v":33.155555555555559},{"$f":"IF(M486>0,MIN(J486:M486)-1,L487)","v":34.155555555555559},{"$f":"IF(N486>0,MIN(J486:N486),M487)","v":34.155555555555559},{"$f":"IF(O486>0,AVERAGE(SMALL(IF(J486:O486>0,J486:O486),{1,2}))-1,N487)","v":34.155555555555559},{"$f":"IF(P486>0,AVERAGE(SMALL(IF(J486:P486>0,J486:P486),{1,2})),O487)","v":34.155555555555559},{"$f":"IF(Q486>0,AVERAGE(SMALL(IF(J486:Q486>0,J486:Q486),{1,2})),P487)","v":34.155555555555559},{"$f":"IF(R486>0,AVERAGE(SMALL(IF(J486:R486>0,J486:R486),{1,2,3})),Q487)","v":34.155555555555559},{"$f":"IF(S486>0,AVERAGE(SMALL(IF(J486:S486>0,J486:S486),{1,2,3})),R487)","v":34.155555555555559},{"$f":"IF(T486>0,AVERAGE(SMALL(IF(J486:T486>0,J486:T486),{1,2,3})),S487)","v":34.155555555555559},{"$f":"IF(U486>0,AVERAGE(SMALL(IF(J486:U486>0,J486:U486),{1,2,3,4})),T487)","v":34.155555555555559},{"$f":"IF(V486>0,AVERAGE(SMALL(IF(J486:V486>0,J486:V486),{1,2,3,4})),U487)","v":34.155555555555559},{"$f":"IF(W486>0,AVERAGE(SMALL(IF(J486:W486>0,J486:W486),{1,2,3,4})),V487)","v":34.155555555555559},{"$f":"IF(X486>0,AVERAGE(SMALL(IF(J486:X486>0,J486:X486),{1,2,3,4,5})),W487)","v":34.155555555555559},{"$f":"IF(Y486>0,AVERAGE(SMALL(IF(J486:Y486>0,J486:Y486),{1,2,3,4,5})),X487)","v":34.155555555555559},{"$f":"IF(Z486>0,AVERAGE(SMALL(IF(J486:Z486>0,J486:Z486),{1,2,3,4,5,6})),Y487)","v":34.155555555555559},{"$f":"IF(AA486>0,AVERAGE(SMALL(IF(J486:AA486>0,J486:AA486),{1,2,3,4,5,6})),Z487)","v":34.155555555555559},{"$f":"IF(AB486>0,AVERAGE(SMALL(IF(J486:AB486>0,J486:AB486),{1,2,3,4,5,6,7})),AA487)","v":34.155555555555559},{"$f":"IF(AC486>0,AVERAGE(SMALL(IF(J486:AC486>0,J486:AC486),{1,2,3,4,5,6,7,8})),AB487)","v":34.155555555555559},{"$f":"IF(AD486>0,AVERAGE(SMALL(IF(K486:AD486>0,K486:AD486),{1,2,3,4,5,6,7,8})),AC487)","v":34.155555555555559},{"$f":"IF(AE486>0,AVERAGE(SMALL(IF(L486:AE486>0,L486:AE486),{1,2,3,4,5,6,7,8})),AD487)","v":34.155555555555559},{"$f":"IF(AF486>0,AVERAGE(SMALL(IF(M486:AF486>0,M486:AF486),{1,2,3,4,5,6,7,8})),AE487)","v":34.155555555555559},{"$f":"IF(AG486>0,AVERAGE(SMALL(IF(N486:AG486>0,N486:AG486),{1,2,3,4,5,6,7,8})),AF487)","v":34.155555555555559},{"$f":"IF(AH486>0,AVERAGE(SMALL(IF(O486:AH486>0,O486:AH486),{1,2,3,4,5,6,7,8})),AG487)","v":34.155555555555559},{"$f":"IF(AI486>0,AVERAGE(SMALL(IF(P486:AI486>0,P486:AI486),{1,2,3,4,5,6,7,8})),AH487)","v":34.155555555555559},{"$f":"IF(AJ486>0,AVERAGE(SMALL(IF(Q486:AJ486>0,Q486:AJ486),{1,2,3,4,5,6,7,8})),AI487)","v":34.155555555555559},{"$f":"IF(AK486>0,AVERAGE(SMALL(IF(R486:AK486>0,R486:AK486),{1,2,3,4,5,6,7,8})),AJ487)","v":34.155555555555559},{"$f":"IF(AL486>0,AVERAGE(SMALL(IF(S486:AL486>0,S486:AL486),{1,2,3,4,5,6,7,8})),AK487)","v":34.155555555555559},{"$f":"IF(AM486>0,AVERAGE(SMALL(IF(T486:AM486>0,T486:AM486),{1,2,3,4,5,6,7,8})),AL487)","v":34.155555555555559},{"$f":"IF(AN486>0,AVERAGE(SMALL(IF(U486:AN486>0,U486:AN486),{1,2,3,4,5,6,7,8})),AM487)","v":34.155555555555559},{"$f":"IF(AO486>0,AVERAGE(SMALL(IF(V486:AO486>0,V486:AO486),{1,2,3,4,5,6,7,8})),AN487)","v":34.155555555555559},{"$f":"IF(AP486>0,AVERAGE(SMALL(IF(W486:AP486>0,W486:AP486),{1,2,3,4,5,6,7,8})),AO487)","v":34.155555555555559},{"$f":"IF(AQ486>0,AVERAGE(SMALL(IF(X486:AQ486>0,X486:AQ486),{1,2,3,4,5,6,7,8})),AP487)","v":34.155555555555559},{"$f":"IF(AR486>0,AVERAGE(SMALL(IF(Y486:AR486>0,Y486:AR486),{1,2,3,4,5,6,7,8})),AQ487)","v":34.155555555555559},{"$f":"IF(AS486>0,AVERAGE(SMALL(IF(Z486:AS486>0,Z486:AS486),{1,2,3,4,5,6,7,8})),AR487)","v":34.155555555555559},{"$f":"IF(AT486>0,AVERAGE(SMALL(IF(AA486:AT486>0,AA486:AT486),{1,2,3,4,5,6,7,8})),AS487)","v":34.155555555555559},{"$f":"IF(AU486>0,AVERAGE(SMALL(IF(AB486:AU486>0,AB486:AU486),{1,2,3,4,5,6,7,8})),AT487)","v":34.155555555555559},{"$f":"IF(AV486>0,AVERAGE(SMALL(IF(AC486:AV486>0,AC486:AV486),{1,2,3,4,5,6,7,8})),AU487)","v":34.155555555555559},{"$f":"IF(AW486>0,AVERAGE(SMALL(IF(AD486:AW486>0,AD486:AW486),{1,2,3,4,5,6,7,8})),AV487)","v":34.155555555555559},{"$f":"IF(AX486>0,AVERAGE(SMALL(IF(AE486:AX486>0,AE486:AX486),{1,2,3,4,5,6,7,8})),AW487)","v":34.155555555555559},{"$f":"IF(AY486>0,AVERAGE(SMALL(IF(AF486:AY486>0,AF486:AY486),{1,2,3,4,5,6,7,8})),AX487)","v":34.155555555555559},{"$f":"IF(AZ486>0,AVERAGE(SMALL(IF(AG486:AZ486>0,AG486:AZ486),{1,2,3,4,5,6,7,8})),AY487)","v":34.155555555555559},{"$f":"IF(BA486>0,AVERAGE(SMALL(IF(AH486:BA486>0,AH486:BA486),{1,2,3,4,5,6,7,8})),AZ487)","v":34.155555555555559},{"$f":"IF(BB486>0,AVERAGE(SMALL(IF(AI486:BB486>0,AI486:BB486),{1,2,3,4,5,6,7,8})),BA487)","v":34.155555555555559},{"$f":"IF(BC486>0,AVERAGE(SMALL(IF(AJ486:BC486>0,AJ486:BC486),{1,2,3,4,5,6,7,8})),BB487)","v":34.155555555555559},{"$f":"IF(BD486>0,AVERAGE(SMALL(IF(AK486:BD486>0,AK486:BD486),{1,2,3,4,5,6,7,8})),BC487)","v":34.155555555555559},{"$f":"IF(BE486>0,AVERAGE(SMALL(IF(AL486:BE486>0,AL486:BE486),{1,2,3,4,5,6,7,8})),BD487)","v":34.155555555555559},{"$f":"IF(BF486>0,AVERAGE(SMALL(IF(AM486:BF486>0,AM486:BF486),{1,2,3,4,5,6,7,8})),BE487)","v":34.155555555555559},{"$f":"IF(BG486>0,AVERAGE(SMALL(IF(AN486:BG486>0,AN486:BG486),{1,2,3,4,5,6,7,8})),BF487)","v":34.155555555555559},{"$f":"IF(BH486>0,AVERAGE(SMALL(IF(AO486:BH486>0,AO486:BH486),{1,2,3,4,5,6,7,8})),BG487)","v":34.155555555555559},{"$f":"IF(BI486>0,AVERAGE(SMALL(IF(AP486:BI486>0,AP486:BI486),{1,2,3,4,5,6,7,8})),BH487)","v":34.155555555555559},{"$f":"IF(BJ486>0,AVERAGE(SMALL(IF(AQ486:BJ486>0,AQ486:BJ486),{1,2,3,4,5,6,7,8})),BI487)","v":34.155555555555559},{"$f":"IF(BK486>0,AVERAGE(SMALL(IF(AR486:BK486>0,AR486:BK486),{1,2,3,4,5,6,7,8})),BJ487)","v":34.155555555555559},{"$f":"IF(BL486>0,AVERAGE(SMALL(IF(AS486:BL486>0,AS486:BL486),{1,2,3,4,5,6,7,8})),BK487)","v":34.155555555555559},{"$f":"IF(BM486>0,AVERAGE(SMALL(IF(AT486:BM486>0,AT486:BM486),{1,2,3,4,5,6,7,8})),BL487)","v":34.155555555555559},{"$f":"IF(BN486>0,AVERAGE(SMALL(IF(AU486:BN486>0,AU486:BN486),{1,2,3,4,5,6,7,8})),BM487)","v":34.155555555555559},{"$f":"IF(BO486>0,AVERAGE(SMALL(IF(AV486:BO486>0,AV486:BO486),{1,2,3,4,5,6,7,8})),BN487)","v":34.155555555555559},{"$f":"IF(BP486>0,AVERAGE(SMALL(IF(AW486:BP486>0,AW486:BP486),{1,2,3,4,5,6,7,8})),BO487)","v":34.155555555555559},{"$f":"IF(BQ486>0,AVERAGE(SMALL(IF(AX486:BQ486>0,AX486:BQ486),{1,2,3,4,5,6,7,8})),BP487)","v":34.155555555555559},{"$f":"IF(BR486>0,AVERAGE(SMALL(IF(AY486:BR486>0,AY486:BR486),{1,2,3,4,5,6,7,8})),BQ487)","v":34.155555555555559},{"$f":"IF(BS486>0,AVERAGE(SMALL(IF(AZ486:BS486>0,AZ486:BS486),{1,2,3,4,5,6,7,8})),BR487)","v":34.155555555555559},{"$f":"IF(BT486>0,AVERAGE(SMALL(IF(BA486:BT486>0,BA486:BT486),{1,2,3,4,5,6,7,8})),BS487)","v":34.155555555555559},{"$f":"IF(BU486>0,AVERAGE(SMALL(IF(BB486:BU486>0,BB486:BU486),{1,2,3,4,5,6,7,8})),BT487)","v":34.155555555555559},{"$f":"IF(BV486>0,AVERAGE(SMALL(IF(BC486:BV486>0,BC486:BV486),{1,2,3,4,5,6,7,8})),BU487)","v":34.155555555555559},{"$f":"IF(BW486>0,AVERAGE(SMALL(IF(BD486:BW486>0,BD486:BW486),{1,2,3,4,5,6,7,8})),BV487)","v":34.155555555555559},{"$f":"IF(BX486>0,AVERAGE(SMALL(IF(BE486:BX486>0,BE486:BX486),{1,2,3,4,5,6,7,8})),BW487)","v":34.155555555555559},{"$f":"IF(BY486>0,AVERAGE(SMALL(IF(BF486:BY486>0,BF486:BY486),{1,2,3,4,5,6,7,8})),BX487)","v":34.155555555555559},{"$f":"IF(BZ486>0,AVERAGE(SMALL(IF(BG486:BZ486>0,BG486:BZ486),{1,2,3,4,5,6,7,8})),BY487)","v":34.155555555555559},{"$f":"IF(CA486>0,AVERAGE(SMALL(IF(BH486:CA486>0,BH486:CA486),{1,2,3,4,5,6,7,8})),BZ487)","v":34.155555555555559},{"$f":"IF(CB486>0,AVERAGE(SMALL(IF(BI486:CB486>0,BI486:CB486),{1,2,3,4,5,6,7,8})),CA487)","v":34.155555555555559},{"$f":"IF(CC486>0,AVERAGE(SMALL(IF(BJ486:CC486>0,BJ486:CC486),{1,2,3,4,5,6,7,8})),CB487)","v":34.155555555555559},{"$f":"IF(CD486>0,AVERAGE(SMALL(IF(BK486:CD486>0,BK486:CD486),{1,2,3,4,5,6,7,8})),CC487)","v":34.155555555555559},{"$f":"IF(CE486>0,AVERAGE(SMALL(IF(BL486:CE486>0,BL486:CE486),{1,2,3,4,5,6,7,8})),CD487)","v":34.155555555555559},{"$f":"IF(CF486>0,AVERAGE(SMALL(IF(BM486:CF486>0,BM486:CF486),{1,2,3,4,5,6,7,8})),CE487)","v":34.155555555555559},{"$f":"IF(CG486>0,AVERAGE(SMALL(IF(BN486:CG486>0,BN486:CG486),{1,2,3,4,5,6,7,8})),CF487)","v":34.155555555555559},{"$f":"IF(CH486>0,AVERAGE(SMALL(IF(BO486:CH486>0,BO486:CH486),{1,2,3,4,5,6,7,8})),CG487)","v":34.155555555555559},{"$f":"IF(CI486>0,AVERAGE(SMALL(IF(BP486:CI486>0,BP486:CI486),{1,2,3,4,5,6,7,8})),CH487)","v":34.155555555555559},{"$f":"IF(CJ486>0,AVERAGE(SMALL(IF(BQ486:CJ486>0,BQ486:CJ486),{1,2,3,4,5,6,7,8})),CI487)","v":34.155555555555559},{"$f":"IF(CK486>0,AVERAGE(SMALL(IF(BR486:CK486>0,BR486:CK486),{1,2,3,4,5,6,7,8})),CJ487)","v":34.155555555555559},{"$f":"IF(CL486>0,AVERAGE(SMALL(IF(BS486:CL486>0,BS486:CL486),{1,2,3,4,5,6,7,8})),CK487)","v":34.155555555555559},{"$f":"IF(CM486>0,AVERAGE(SMALL(IF(BT486:CM486>0,BT486:CM486),{1,2,3,4,5,6,7,8})),CL487)","v":34.155555555555559},{"$f":"IF(CN486>0,AVERAGE(SMALL(IF(BU486:CN486>0,BU486:CN486),{1,2,3,4,5,6,7,8})),CM487)","v":34.155555555555559},{"$f":"IF(CO486>0,AVERAGE(SMALL(IF(BV486:CO486>0,BV486:CO486),{1,2,3,4,5,6,7,8})),CN487)","v":34.155555555555559},{"$f":"IF(CP486>0,AVERAGE(SMALL(IF(BW486:CP486>0,BW486:CP486),{1,2,3,4,5,6,7,8})),CO487)","v":34.155555555555559},{"$f":"IF(CQ486>0,AVERAGE(SMALL(IF(BX486:CQ486>0,BX486:CQ486),{1,2,3,4,5,6,7,8})),CP487)","v":34.155555555555559},{"$f":"IF(CR486>0,AVERAGE(SMALL(IF(BY486:CR486>0,BY486:CR486),{1,2,3,4,5,6,7,8})),CQ487)","v":34.155555555555559},{"$f":"IF(CS486>0,AVERAGE(SMALL(IF(BZ486:CS486>0,BZ486:CS486),{1,2,3,4,5,6,7,8})),CR487)","v":34.155555555555559},{"$f":"IF(CT486>0,AVERAGE(SMALL(IF(CA486:CT486>0,CA486:CT486),{1,2,3,4,5,6,7,8})),CS487)","v":34.155555555555559},{"$f":"IF(CU486>0,AVERAGE(SMALL(IF(CB486:CU486>0,CB486:CU486),{1,2,3,4,5,6,7,8})),CT487)","v":34.155555555555559},{"$f":"IF(CV486>0,AVERAGE(SMALL(IF(CC486:CV486>0,CC486:CV486),{1,2,3,4,5,6,7,8})),CU487)","v":34.155555555555559},{"$f":"IF(CW486>0,AVERAGE(SMALL(IF(CD486:CW486>0,CD486:CW486),{1,2,3,4,5,6,7,8})),CV487)","v":34.155555555555559}]
[null,null,null,null,null,null,null,null,"Low Hcap",null,null,null,null,null,null,null,null,null,null,null,null,null,null,null,null,null,null,null,{"$f":"MIN($J487:AC487)","v":33.155555555555559},{"$f":"MIN($J487:AD487)","v":33.155555555555559},{"$f":"MIN($J487:AE487)","v":33.155555555555559},{"$f":"MIN($J487:AF487)","v":33.155555555555559},{"$f":"MIN($J487:AG487)","v":33.155555555555559},{"$f":"MIN($J487:AH487)","v":33.155555555555559},{"$f":"MIN($J487:AI487)","v":33.155555555555559},{"$f":"MIN($J487:AJ487)","v":33.155555555555559},{"$f":"MIN($J487:AK487)","v":33.155555555555559},{"$f":"MIN($J487:AL487)","v":33.155555555555559},{"$f":"MIN($J487:AM487)","v":33.155555555555559},{"$f":"MIN($J487:AN487)","v":33.155555555555559},{"$f":"MIN($J487:AO487)","v":33.155555555555559},{"$f":"MIN($J487:AP487)","v":33.155555555555559},{"$f":"MIN($J487:AQ487)","v":33.155555555555559},{"$f":"MIN($J487:AR487)","v":33.155555555555559},{"$f":"MIN($J487:AS487)","v":33.155555555555559},{"$f":"MIN($J487:AT487)","v":33.155555555555559},{"$f":"MIN($J487:AU487)","v":33.155555555555559},{"$f":"MIN($J487:AV487)","v":33.155555555555559},{"$f":"MIN($J487:AW487)","v":33.155555555555559},{"$f":"MIN($J487:AX487)","v":33.155555555555559},{"$f":"MIN($J487:AY487)","v":33.155555555555559},{"$f":"MIN($J487:AZ487)","v":33.155555555555559},{"$f":"MIN($J487:BA487)","v":33.155555555555559},{"$f":"MIN($J487:BB487)","v":33.155555555555559},{"$f":"MIN($J487:BC487)","v":33.155555555555559},{"$f":"MIN($J487:BD487)","v":33.155555555555559},{"$f":"MIN($J487:BE487)","v":33.155555555555559},{"$f":"MIN($J487:BF487)","v":33.155555555555559},{"$f":"MIN($J487:BG487)","v":33.155555555555559},{"$f":"MIN($J487:BH487)","v":33.155555555555559},{"$f":"MIN($J487:BI487)","v":33.155555555555559},{"$f":"MIN($J487:BJ487)","v":33.155555555555559},{"$f":"MIN($J487:BK487)","v":33.155555555555559},{"$f":"MIN($J487:BL487)","v":33.155555555555559},{"$f":"MIN($J487:BM487)","v":33.155555555555559},{"$f":"MIN($J487:BN487)","v":33.155555555555559},{"$f":"MIN($J487:BO487)","v":33.155555555555559},{"$f":"MIN($J487:BP487)","v":33.155555555555559},{"$f":"MIN($J487:BQ487)","v":33.155555555555559},{"$f":"MIN($J487:BR487)","v":33.155555555555559},{"$f":"MIN($J487:BS487)","v":33.155555555555559},{"$f":"MIN($J487:BT487)","v":33.155555555555559},{"$f":"MIN($J487:BU487)","v":33.155555555555559},{"$f":"MIN($J487:BV487)","v":33.155555555555559},{"$f":"MIN($J487:BW487)","v":33.155555555555559},{"$f":"MIN($J487:BX487)","v":33.155555555555559},{"$f":"MIN($J487:BY487)","v":33.155555555555559},{"$f":"MIN($J487:BZ487)","v":33.155555555555559},{"$f":"MIN($J487:CA487)","v":33.155555555555559},{"$f":"MIN($J487:CB487)","v":33.155555555555559},{"$f":"MIN($J487:CC487)","v":33.155555555555559},{"$f":"MIN($J487:CD487)","v":33.155555555555559},{"$f":"MIN($J487:CE487)","v":33.155555555555559},{"$f":"MIN($J487:CF487)","v":33.155555555555559},{"$f":"MIN($J487:CG487)","v":33.155555555555559},{"$f":"MIN($J487:CH487)","v":33.155555555555559},{"$f":"MIN($J487:CI487)","v":33.155555555555559},{"$f":"MIN($J487:CJ487)","v":33.155555555555559},{"$f":"MIN($J487:CK487)","v":33.155555555555559},{"$f":"MIN($J487:CL487)","v":33.155555555555559},{"$f":"MIN($J487:CM487)","v":33.155555555555559},{"$f":"MIN($J487:CN487)","v":33.155555555555559},{"$f":"MIN($J487:CO487)","v":33.155555555555559},{"$f":"MIN($J487:CP487)","v":33.155555555555559},{"$f":"MIN($J487:CQ487)","v":33.155555555555559},{"$f":"MIN($J487:CR487)","v":33.155555555555559},{"$f":"MIN($J487:CS487)","v":33.155555555555559},{"$f":"MIN($J487:CT487)","v":33.155555555555559},{"$f":"MIN($J487:CU487)","v":33.155555555555559},{"$f":"MIN($J487:CV487)","v":33.155555555555559},{"$f":"MIN($J487:CW487)","v":33.155555555555559}]
[null,"Smith","Jonathan",13,null,{"$f":"IF(H489<4,\"Y\",)","v":"Y"},2023,{"$f":"COUNT(J489:CX489)","v":2},"Date",null,"2023-05-07","2023-06-04",null,null,null,null,null,null,null,null,null,null,null,null,null,null,null,null,null,null,null,null,null,null,null,null,null,null,null,null,null,null,null,null,null,null,null,null,null,null,null,null,null,null,null,null,null,null,null,null,null,null,null,null,null,null,null,null,null,null,null,null,null,null,null,null,null,null,null,null,null,null,null,null,null,null,null,null,null,null,null,null,null,null,null,null,null,null,null,null,null,null,{"$f":"IF(CW493>$DD$1,36,CW493)","v":13},13,{"$f":"CZ489-CY489","v":0}]
[null,null,null,null,null,null,null,null,"Course",null,"Odelzhausen2023HG","IffeldorfHG"]
[null,null,null,null,null,null,null,null,"Ad Gr",null,101,90]
[null,null,null,null,null,null,null,null,"SD",15,{"$f":"IF(K491=\"\",0,(K491-INDIRECT(CONCATENATE(K490,\"CR\")))*113/INDIRECT(CONCATENATE(K490,\"SR\")))","v":26.791935483870972},16.468217054263562,0,0,0,0,0,0,0,0,0,0,0,0,0,0,0,0,0,0,0,0,0,0,0,0,0,0,0,0,0,0,0,0,0,0,0,0,0,0,0,0,0,0,0,0,0,0,0,0,0,0,0,0,0,0,0,0,0,0,0,0,0,0,{"$f":"IF(BW491=\"\",0,(BW491-INDIRECT(CONCATENATE(BW490,\"CR\")))*113/INDIRECT(CONCATENATE(BW490,\"SR\")))","v":0},0,0,0,0,0,0,0,0,0,0,0,0,0,0,0,{"$f":"IF(CM491=\"\",0,(CM491-INDIRECT(CONCATENATE(CM490,\"CR\")))*113/INDIRECT(CONCATENATE(CM490,\"SR\")))","v":0},0,{"$f":"IF(CO491=\"\",0,(CO491-INDIRECT(CONCATENATE(CO490,\"CR\")))*113/INDIRECT(CONCATENATE(CO490,\"SR\")))","v":0},0,{"$f":"IF(CQ491=\"\",0,(CQ491-INDIRECT(CONCATENATE(CQ490,\"CR\")))*113/INDIRECT(CONCATENATE(CQ490,\"SR\")))","v":0},0,{"$f":"IF(CS491=\"\",0,(CS491-INDIRECT(CONCATENATE(CS490,\"CR\")))*113/INDIRECT(CONCATENATE(CS490,\"SR\")))","v":0},0,{"$f":"IF(CU491=\"\",0,(CU491-INDIRECT(CONCATENATE(CU490,\"CR\")))*113/INDIRECT(CONCATENATE(CU490,\"SR\")))","v":0},0,{"$f":"IF(CW491=\"\",0,(CW491-INDIRECT(CONCATENATE(CW490,\"CR\")))*113/INDIRECT(CONCATENATE(CW490,\"SR\")))","v":0}]
[null,null,null,null,null,null,null,null,"New Hcap",{"$f":"J492-2","v":13},{"$f":"IF(K492>0,MIN(J492:K492)-2,J493)","v":13},{"$f":"IF(L492>0,MIN(J492:L492)-2,K493)","v":13},{"$f":"IF(M492>0,MIN(J492:M492)-1,L493)","v":13},{"$f":"IF(N492>0,MIN(J492:N492),M493)","v":13},{"$f":"IF(O492>0,AVERAGE(SMALL(IF(J492:O492>0,J492:O492),{1,2}))-1,N493)","v":13},{"$f":"IF(P492>0,AVERAGE(SMALL(IF(J492:P492>0,J492:P492),{1,2})),O493)","v":13},{"$f":"IF(Q492>0,AVERAGE(SMALL(IF(J492:Q492>0,J492:Q492),{1,2})),P493)","v":13},{"$f":"IF(R492>0,AVERAGE(SMALL(IF(J492:R492>0,J492:R492),{1,2,3})),Q493)","v":13},{"$f":"IF(S492>0,AVERAGE(SMALL(IF(J492:S492>0,J492:S492),{1,2,3})),R493)","v":13},{"$f":"IF(T492>0,AVERAGE(SMALL(IF(J492:T492>0,J492:T492),{1,2,3})),S493)","v":13},{"$f":"IF(U492>0,AVERAGE(SMALL(IF(J492:U492>0,J492:U492),{1,2,3,4})),T493)","v":13},{"$f":"IF(V492>0,AVERAGE(SMALL(IF(J492:V492>0,J492:V492),{1,2,3,4})),U493)","v":13},{"$f":"IF(W492>0,AVERAGE(SMALL(IF(J492:W492>0,J492:W492),{1,2,3,4})),V493)","v":13},{"$f":"IF(X492>0,AVERAGE(SMALL(IF(J492:X492>0,J492:X492),{1,2,3,4,5})),W493)","v":13},{"$f":"IF(Y492>0,AVERAGE(SMALL(IF(J492:Y492>0,J492:Y492),{1,2,3,4,5})),X493)","v":13},{"$f":"IF(Z492>0,AVERAGE(SMALL(IF(J492:Z492>0,J492:Z492),{1,2,3,4,5,6})),Y493)","v":13},{"$f":"IF(AA492>0,AVERAGE(SMALL(IF(J492:AA492>0,J492:AA492),{1,2,3,4,5,6})),Z493)","v":13},{"$f":"IF(AB492>0,AVERAGE(SMALL(IF(J492:AB492>0,J492:AB492),{1,2,3,4,5,6,7})),AA493)","v":13},{"$f":"IF(AC492>0,AVERAGE(SMALL(IF(J492:AC492>0,J492:AC492),{1,2,3,4,5,6,7,8})),AB493)","v":13},{"$f":"IF(AD492>0,AVERAGE(SMALL(IF(K492:AD492>0,K492:AD492),{1,2,3,4,5,6,7,8})),AC493)","v":13},{"$f":"IF(AE492>0,AVERAGE(SMALL(IF(L492:AE492>0,L492:AE492),{1,2,3,4,5,6,7,8})),AD493)","v":13},{"$f":"IF(AF492>0,AVERAGE(SMALL(IF(M492:AF492>0,M492:AF492),{1,2,3,4,5,6,7,8})),AE493)","v":13},{"$f":"IF(AG492>0,AVERAGE(SMALL(IF(N492:AG492>0,N492:AG492),{1,2,3,4,5,6,7,8})),AF493)","v":13},{"$f":"IF(AH492>0,AVERAGE(SMALL(IF(O492:AH492>0,O492:AH492),{1,2,3,4,5,6,7,8})),AG493)","v":13},{"$f":"IF(AI492>0,AVERAGE(SMALL(IF(P492:AI492>0,P492:AI492),{1,2,3,4,5,6,7,8})),AH493)","v":13},{"$f":"IF(AJ492>0,AVERAGE(SMALL(IF(Q492:AJ492>0,Q492:AJ492),{1,2,3,4,5,6,7,8})),AI493)","v":13},{"$f":"IF(AK492>0,AVERAGE(SMALL(IF(R492:AK492>0,R492:AK492),{1,2,3,4,5,6,7,8})),AJ493)","v":13},{"$f":"IF(AL492>0,AVERAGE(SMALL(IF(S492:AL492>0,S492:AL492),{1,2,3,4,5,6,7,8})),AK493)","v":13},{"$f":"IF(AM492>0,AVERAGE(SMALL(IF(T492:AM492>0,T492:AM492),{1,2,3,4,5,6,7,8})),AL493)","v":13},{"$f":"IF(AN492>0,AVERAGE(SMALL(IF(U492:AN492>0,U492:AN492),{1,2,3,4,5,6,7,8})),AM493)","v":13},{"$f":"IF(AO492>0,AVERAGE(SMALL(IF(V492:AO492>0,V492:AO492),{1,2,3,4,5,6,7,8})),AN493)","v":13},{"$f":"IF(AP492>0,AVERAGE(SMALL(IF(W492:AP492>0,W492:AP492),{1,2,3,4,5,6,7,8})),AO493)","v":13},{"$f":"IF(AQ492>0,AVERAGE(SMALL(IF(X492:AQ492>0,X492:AQ492),{1,2,3,4,5,6,7,8})),AP493)","v":13},{"$f":"IF(AR492>0,AVERAGE(SMALL(IF(Y492:AR492>0,Y492:AR492),{1,2,3,4,5,6,7,8})),AQ493)","v":13},{"$f":"IF(AS492>0,AVERAGE(SMALL(IF(Z492:AS492>0,Z492:AS492),{1,2,3,4,5,6,7,8})),AR493)","v":13},{"$f":"IF(AT492>0,AVERAGE(SMALL(IF(AA492:AT492>0,AA492:AT492),{1,2,3,4,5,6,7,8})),AS493)","v":13},{"$f":"IF(AU492>0,AVERAGE(SMALL(IF(AB492:AU492>0,AB492:AU492),{1,2,3,4,5,6,7,8})),AT493)","v":13},{"$f":"IF(AV492>0,AVERAGE(SMALL(IF(AC492:AV492>0,AC492:AV492),{1,2,3,4,5,6,7,8})),AU493)","v":13},{"$f":"IF(AW492>0,AVERAGE(SMALL(IF(AD492:AW492>0,AD492:AW492),{1,2,3,4,5,6,7,8})),AV493)","v":13},{"$f":"IF(AX492>0,AVERAGE(SMALL(IF(AE492:AX492>0,AE492:AX492),{1,2,3,4,5,6,7,8})),AW493)","v":13},{"$f":"IF(AY492>0,AVERAGE(SMALL(IF(AF492:AY492>0,AF492:AY492),{1,2,3,4,5,6,7,8})),AX493)","v":13},{"$f":"IF(AZ492>0,AVERAGE(SMALL(IF(AG492:AZ492>0,AG492:AZ492),{1,2,3,4,5,6,7,8})),AY493)","v":13},{"$f":"IF(BA492>0,AVERAGE(SMALL(IF(AH492:BA492>0,AH492:BA492),{1,2,3,4,5,6,7,8})),AZ493)","v":13},{"$f":"IF(BB492>0,AVERAGE(SMALL(IF(AI492:BB492>0,AI492:BB492),{1,2,3,4,5,6,7,8})),BA493)","v":13},{"$f":"IF(BC492>0,AVERAGE(SMALL(IF(AJ492:BC492>0,AJ492:BC492),{1,2,3,4,5,6,7,8})),BB493)","v":13},{"$f":"IF(BD492>0,AVERAGE(SMALL(IF(AK492:BD492>0,AK492:BD492),{1,2,3,4,5,6,7,8})),BC493)","v":13},{"$f":"IF(BE492>0,AVERAGE(SMALL(IF(AL492:BE492>0,AL492:BE492),{1,2,3,4,5,6,7,8})),BD493)","v":13},{"$f":"IF(BF492>0,AVERAGE(SMALL(IF(AM492:BF492>0,AM492:BF492),{1,2,3,4,5,6,7,8})),BE493)","v":13},{"$f":"IF(BG492>0,AVERAGE(SMALL(IF(AN492:BG492>0,AN492:BG492),{1,2,3,4,5,6,7,8})),BF493)","v":13},{"$f":"IF(BH492>0,AVERAGE(SMALL(IF(AO492:BH492>0,AO492:BH492),{1,2,3,4,5,6,7,8})),BG493)","v":13},{"$f":"IF(BI492>0,AVERAGE(SMALL(IF(AP492:BI492>0,AP492:BI492),{1,2,3,4,5,6,7,8})),BH493)","v":13},{"$f":"IF(BJ492>0,AVERAGE(SMALL(IF(AQ492:BJ492>0,AQ492:BJ492),{1,2,3,4,5,6,7,8})),BI493)","v":13},{"$f":"IF(BK492>0,AVERAGE(SMALL(IF(AR492:BK492>0,AR492:BK492),{1,2,3,4,5,6,7,8})),BJ493)","v":13},{"$f":"IF(BL492>0,AVERAGE(SMALL(IF(AS492:BL492>0,AS492:BL492),{1,2,3,4,5,6,7,8})),BK493)","v":13},{"$f":"IF(BM492>0,AVERAGE(SMALL(IF(AT492:BM492>0,AT492:BM492),{1,2,3,4,5,6,7,8})),BL493)","v":13},{"$f":"IF(BN492>0,AVERAGE(SMALL(IF(AU492:BN492>0,AU492:BN492),{1,2,3,4,5,6,7,8})),BM493)","v":13},{"$f":"IF(BO492>0,AVERAGE(SMALL(IF(AV492:BO492>0,AV492:BO492),{1,2,3,4,5,6,7,8})),BN493)","v":13},{"$f":"IF(BP492>0,AVERAGE(SMALL(IF(AW492:BP492>0,AW492:BP492),{1,2,3,4,5,6,7,8})),BO493)","v":13},{"$f":"IF(BQ492>0,AVERAGE(SMALL(IF(AX492:BQ492>0,AX492:BQ492),{1,2,3,4,5,6,7,8})),BP493)","v":13},{"$f":"IF(BR492>0,AVERAGE(SMALL(IF(AY492:BR492>0,AY492:BR492),{1,2,3,4,5,6,7,8})),BQ493)","v":13},{"$f":"IF(BS492>0,AVERAGE(SMALL(IF(AZ492:BS492>0,AZ492:BS492),{1,2,3,4,5,6,7,8})),BR493)","v":13},{"$f":"IF(BT492>0,AVERAGE(SMALL(IF(BA492:BT492>0,BA492:BT492),{1,2,3,4,5,6,7,8})),BS493)","v":13},{"$f":"IF(BU492>0,AVERAGE(SMALL(IF(BB492:BU492>0,BB492:BU492),{1,2,3,4,5,6,7,8})),BT493)","v":13},{"$f":"IF(BV492>0,AVERAGE(SMALL(IF(BC492:BV492>0,BC492:BV492),{1,2,3,4,5,6,7,8})),BU493)","v":13},{"$f":"IF(BW492>0,AVERAGE(SMALL(IF(BD492:BW492>0,BD492:BW492),{1,2,3,4,5,6,7,8})),BV493)","v":13},{"$f":"IF(BX492>0,AVERAGE(SMALL(IF(BE492:BX492>0,BE492:BX492),{1,2,3,4,5,6,7,8})),BW493)","v":13},{"$f":"IF(BY492>0,AVERAGE(SMALL(IF(BF492:BY492>0,BF492:BY492),{1,2,3,4,5,6,7,8})),BX493)","v":13},{"$f":"IF(BZ492>0,AVERAGE(SMALL(IF(BG492:BZ492>0,BG492:BZ492),{1,2,3,4,5,6,7,8})),BY493)","v":13},{"$f":"IF(CA492>0,AVERAGE(SMALL(IF(BH492:CA492>0,BH492:CA492),{1,2,3,4,5,6,7,8})),BZ493)","v":13},{"$f":"IF(CB492>0,AVERAGE(SMALL(IF(BI492:CB492>0,BI492:CB492),{1,2,3,4,5,6,7,8})),CA493)","v":13},{"$f":"IF(CC492>0,AVERAGE(SMALL(IF(BJ492:CC492>0,BJ492:CC492),{1,2,3,4,5,6,7,8})),CB493)","v":13},{"$f":"IF(CD492>0,AVERAGE(SMALL(IF(BK492:CD492>0,BK492:CD492),{1,2,3,4,5,6,7,8})),CC493)","v":13},{"$f":"IF(CE492>0,AVERAGE(SMALL(IF(BL492:CE492>0,BL492:CE492),{1,2,3,4,5,6,7,8})),CD493)","v":13},{"$f":"IF(CF492>0,AVERAGE(SMALL(IF(BM492:CF492>0,BM492:CF492),{1,2,3,4,5,6,7,8})),CE493)","v":13},{"$f":"IF(CG492>0,AVERAGE(SMALL(IF(BN492:CG492>0,BN492:CG492),{1,2,3,4,5,6,7,8})),CF493)","v":13},{"$f":"IF(CH492>0,AVERAGE(SMALL(IF(BO492:CH492>0,BO492:CH492),{1,2,3,4,5,6,7,8})),CG493)","v":13},{"$f":"IF(CI492>0,AVERAGE(SMALL(IF(BP492:CI492>0,BP492:CI492),{1,2,3,4,5,6,7,8})),CH493)","v":13},{"$f":"IF(CJ492>0,AVERAGE(SMALL(IF(BQ492:CJ492>0,BQ492:CJ492),{1,2,3,4,5,6,7,8})),CI493)","v":13},{"$f":"IF(CK492>0,AVERAGE(SMALL(IF(BR492:CK492>0,BR492:CK492),{1,2,3,4,5,6,7,8})),CJ493)","v":13},{"$f":"IF(CL492>0,AVERAGE(SMALL(IF(BS492:CL492>0,BS492:CL492),{1,2,3,4,5,6,7,8})),CK493)","v":13},{"$f":"IF(CM492>0,AVERAGE(SMALL(IF(BT492:CM492>0,BT492:CM492),{1,2,3,4,5,6,7,8})),CL493)","v":13},{"$f":"IF(CN492>0,AVERAGE(SMALL(IF(BU492:CN492>0,BU492:CN492),{1,2,3,4,5,6,7,8})),CM493)","v":13},{"$f":"IF(CO492>0,AVERAGE(SMALL(IF(BV492:CO492>0,BV492:CO492),{1,2,3,4,5,6,7,8})),CN493)","v":13},{"$f":"IF(CP492>0,AVERAGE(SMALL(IF(BW492:CP492>0,BW492:CP492),{1,2,3,4,5,6,7,8})),CO493)","v":13},{"$f":"IF(CQ492>0,AVERAGE(SMALL(IF(BX492:CQ492>0,BX492:CQ492),{1,2,3,4,5,6,7,8})),CP493)","v":13},{"$f":"IF(CR492>0,AVERAGE(SMALL(IF(BY492:CR492>0,BY492:CR492),{1,2,3,4,5,6,7,8})),CQ493)","v":13},{"$f":"IF(CS492>0,AVERAGE(SMALL(IF(BZ492:CS492>0,BZ492:CS492),{1,2,3,4,5,6,7,8})),CR493)","v":13},{"$f":"IF(CT492>0,AVERAGE(SMALL(IF(CA492:CT492>0,CA492:CT492),{1,2,3,4,5,6,7,8})),CS493)","v":13},{"$f":"IF(CU492>0,AVERAGE(SMALL(IF(CB492:CU492>0,CB492:CU492),{1,2,3,4,5,6,7,8})),CT493)","v":13},{"$f":"IF(CV492>0,AVERAGE(SMALL(IF(CC492:CV492>0,CC492:CV492),{1,2,3,4,5,6,7,8})),CU493)","v":13},{"$f":"IF(CW492>0,AVERAGE(SMALL(IF(CD492:CW492>0,CD492:CW492),{1,2,3,4,5,6,7,8})),CV493)","v":13}]
[null,null,null,null,null,null,null,null,"Low Hcap",null,null,null,null,null,null,null,null,null,null,null,null,null,null,null,null,null,null,null,{"$f":"MIN($J493:AC493)","v":13},{"$f":"MIN($J493:AD493)","v":13},{"$f":"MIN($J493:AE493)","v":13},{"$f":"MIN($J493:AF493)","v":13},{"$f":"MIN($J493:AG493)","v":13},{"$f":"MIN($J493:AH493)","v":13},{"$f":"MIN($J493:AI493)","v":13},{"$f":"MIN($J493:AJ493)","v":13},{"$f":"MIN($J493:AK493)","v":13},{"$f":"MIN($J493:AL493)","v":13},{"$f":"MIN($J493:AM493)","v":13},{"$f":"MIN($J493:AN493)","v":13},{"$f":"MIN($J493:AO493)","v":13},{"$f":"MIN($J493:AP493)","v":13},{"$f":"MIN($J493:AQ493)","v":13},{"$f":"MIN($J493:AR493)","v":13},{"$f":"MIN($J493:AS493)","v":13},{"$f":"MIN($J493:AT493)","v":13},{"$f":"MIN($J493:AU493)","v":13},{"$f":"MIN($J493:AV493)","v":13},{"$f":"MIN($J493:AW493)","v":13},{"$f":"MIN($J493:AX493)","v":13},{"$f":"MIN($J493:AY493)","v":13},{"$f":"MIN($J493:AZ493)","v":13},{"$f":"MIN($J493:BA493)","v":13},{"$f":"MIN($J493:BB493)","v":13},{"$f":"MIN($J493:BC493)","v":13},{"$f":"MIN($J493:BD493)","v":13},{"$f":"MIN($J493:BE493)","v":13},{"$f":"MIN($J493:BF493)","v":13},{"$f":"MIN($J493:BG493)","v":13},{"$f":"MIN($J493:BH493)","v":13},{"$f":"MIN($J493:BI493)","v":13},{"$f":"MIN($J493:BJ493)","v":13},{"$f":"MIN($J493:BK493)","v":13},{"$f":"MIN($J493:BL493)","v":13},{"$f":"MIN($J493:BM493)","v":13},{"$f":"MIN($J493:BN493)","v":13},{"$f":"MIN($J493:BO493)","v":13},{"$f":"MIN($J493:BP493)","v":13},{"$f":"MIN($J493:BQ493)","v":13},{"$f":"MIN($J493:BR493)","v":13},{"$f":"MIN($J493:BS493)","v":13},{"$f":"MIN($J493:BT493)","v":13},{"$f":"MIN($J493:BU493)","v":13},{"$f":"MIN($J493:BV493)","v":13},{"$f":"MIN($J493:BW493)","v":13},{"$f":"MIN($J493:BX493)","v":13},{"$f":"MIN($J493:BY493)","v":13},{"$f":"MIN($J493:BZ493)","v":13},{"$f":"MIN($J493:CA493)","v":13},{"$f":"MIN($J493:CB493)","v":13},{"$f":"MIN($J493:CC493)","v":13},{"$f":"MIN($J493:CD493)","v":13},{"$f":"MIN($J493:CE493)","v":13},{"$f":"MIN($J493:CF493)","v":13},{"$f":"MIN($J493:CG493)","v":13},{"$f":"MIN($J493:CH493)","v":13},{"$f":"MIN($J493:CI493)","v":13},{"$f":"MIN($J493:CJ493)","v":13},{"$f":"MIN($J493:CK493)","v":13},{"$f":"MIN($J493:CL493)","v":13},{"$f":"MIN($J493:CM493)","v":13},{"$f":"MIN($J493:CN493)","v":13},{"$f":"MIN($J493:CO493)","v":13},{"$f":"MIN($J493:CP493)","v":13},{"$f":"MIN($J493:CQ493)","v":13},{"$f":"MIN($J493:CR493)","v":13},{"$f":"MIN($J493:CS493)","v":13},{"$f":"MIN($J493:CT493)","v":13},{"$f":"MIN($J493:CU493)","v":13},{"$f":"MIN($J493:CV493)","v":13},{"$f":"MIN($J493:CW493)","v":13}]
[null,"Storey","Carl",20.6,null,{"$f":"IF(H495<4,\"Y\",)","v":0},null,{"$f":"COUNT(J495:CX495)","v":18},"Date",null,"2018-07-29","2018-07-22","2018-08-05","2019-05-26","2019-06-23","2019-08-18","2020-05-31","2020-08-09","2021-03-28","2021-04-11","2021-05-09","2021-05-23","2021-05-30","2022-07-24","2022-07-31","2022-08-07","2022-09-11","2023-05-28",null,null,null,null,null,null,null,null,null,null,null,null,null,null,null,null,null,null,null,null,null,null,null,null,null,null,null,null,null,null,null,null,null,null,null,null,null,null,null,null,null,null,null,null,null,null,null,null,null,null,null,null,null,null,null,null,null,null,null,null,null,null,null,null,null,null,null,null,null,null,null,null,null,null,{"$f":"IF(CW499>$DD$1,36,CW499)","v":25.316771256733091},24.900335696957836,{"$f":"CZ495-CY495","v":-0.41643555977525537}]
[null,null,null,null,null,null,null,null,"Course",null,"TegernbachHG","TegernbachHG","ErdingHG","TegernbachHG","PfaffingHG","PfaffingHG","ErdingHG","ErdingHG","OdelzhausenHG","ErdingHR","ErdingHR","OdelzhausenHG","IffeldorfHG","Pfaffing2022HG","HohenpaehlHG","IffeldorfHG","Pfaffing2022HG","ErdingHG"]
[null,null,null,null,null,null,null,null,"Ad Gr",null,104,107,114,107,106,111,105,99,106,97,105,117,109,105,101,97,112,103]
[null,null,null,null,null,null,null,null,"SD",20.6,{"$f":"IF(K497=\"\",0,(K497-INDIRECT(CONCATENATE(K496,\"CR\")))*113/INDIRECT(CONCATENATE(K496,\"SR\")))","v":27.650757575757574},{"$f":"IF(L497=\"\",0,(L497-INDIRECT(CONCATENATE(L496,\"CR\")))*113/INDIRECT(CONCATENATE(L496,\"SR\")))","v":30.21893939393939},37.376923076923077,30.21893939393939,29.553846153846155,33.9,29.553846153846155,24.338461538461537,30.429921259842523,28.582352941176463,36.178991596638646,40.217322834645671,33.111627906976743,28.076153846153844,26.136641221374042,22.599999999999998,34.160769230769226,27.815384615384616,0,0,0,0,0,0,0,0,0,0,0,0,0,0,0,0,0,0,0,0,0,0,0,0,0,0,0,0,0,0,0,0,0,0,0,0,0,0,0,0,0,0,0,0,0,0,0,{"$f":"IF(BX497=\"\",0,(BX497-INDIRECT(CONCATENATE(BX496,\"CR\")))*113/INDIRECT(CONCATENATE(BX496,\"SR\")))","v":0},0,0,0,0,0,0,0,0,0,0,0,0,0,0,{"$f":"IF(CM497=\"\",0,(CM497-INDIRECT(CONCATENATE(CM496,\"CR\")))*113/INDIRECT(CONCATENATE(CM496,\"SR\")))","v":0},0,{"$f":"IF(CO497=\"\",0,(CO497-INDIRECT(CONCATENATE(CO496,\"CR\")))*113/INDIRECT(CONCATENATE(CO496,\"SR\")))","v":0},0,{"$f":"IF(CQ497=\"\",0,(CQ497-INDIRECT(CONCATENATE(CQ496,\"CR\")))*113/INDIRECT(CONCATENATE(CQ496,\"SR\")))","v":0},0,{"$f":"IF(CS497=\"\",0,(CS497-INDIRECT(CONCATENATE(CS496,\"CR\")))*113/INDIRECT(CONCATENATE(CS496,\"SR\")))","v":0},0,{"$f":"IF(CU497=\"\",0,(CU497-INDIRECT(CONCATENATE(CU496,\"CR\")))*113/INDIRECT(CONCATENATE(CU496,\"SR\")))","v":0},0,{"$f":"IF(CW497=\"\",0,(CW497-INDIRECT(CONCATENATE(CW496,\"CR\")))*113/INDIRECT(CONCATENATE(CW496,\"SR\")))","v":0}]
[null,null,null,null,null,null,null,null,"New Hcap",{"$f":"J498-2","v":18.600000000000001},{"$f":"IF(K498>0,MIN(J498:K498)-2,J499)","v":18.600000000000001},{"$f":"IF(L498>0,MIN(J498:L498)-2,K499)","v":18.600000000000001},{"$f":"IF(M498>0,MIN(J498:M498)-1,L499)","v":19.600000000000001},{"$f":"IF(N498>0,MIN(J498:N498),M499)","v":20.6},{"$f":"IF(O498>0,AVERAGE(SMALL(IF(J498:O498>0,J498:O498),{1,2}))-1,N499)","v":23.125378787878788},{"$f":"IF(P498>0,AVERAGE(SMALL(IF(J498:P498>0,J498:P498),{1,2})),O499)","v":24.125378787878788},{"$f":"IF(Q498>0,AVERAGE(SMALL(IF(J498:Q498>0,J498:Q498),{1,2})),P499)","v":24.125378787878788},{"$f":"IF(R498>0,AVERAGE(SMALL(IF(J498:R498>0,J498:R498),{1,2,3})),Q499)","v":24.196406371406368},{"$f":"IF(S498>0,AVERAGE(SMALL(IF(J498:S498>0,J498:S498),{1,2,3})),R499)","v":24.196406371406368},{"$f":"IF(T498>0,AVERAGE(SMALL(IF(J498:T498>0,J498:T498),{1,2,3})),S499)","v":24.196406371406368},{"$f":"IF(U498>0,AVERAGE(SMALL(IF(J498:U498>0,J498:U498),{1,2,3,4})),T499)","v":25.292893013848893},{"$f":"IF(V498>0,AVERAGE(SMALL(IF(J498:V498>0,J498:V498),{1,2,3,4})),U499)","v":25.292893013848893},{"$f":"IF(W498>0,AVERAGE(SMALL(IF(J498:W498>0,J498:W498),{1,2,3,4})),V499)","v":25.292893013848893},{"$f":"IF(X498>0,AVERAGE(SMALL(IF(J498:X498>0,J498:X498),{1,2,3,4,5})),W499)","v":25.849545180309882},{"$f":"IF(Y498>0,AVERAGE(SMALL(IF(J498:Y498>0,J498:Y498),{1,2,3,4,5})),X499)","v":25.360402836349401},{"$f":"IF(Z498>0,AVERAGE(SMALL(IF(J498:Z498>0,J498:Z498),{1,2,3,4,5,6})),Y499)","v":24.900335696957836},{"$f":"IF(AA498>0,AVERAGE(SMALL(IF(J498:AA498>0,J498:AA498),{1,2,3,4,5,6})),Z499)","v":24.900335696957836},{"$f":"IF(AB498>0,AVERAGE(SMALL(IF(J498:AB498>0,J498:AB498),{1,2,3,4,5,6,7})),AA499)","v":25.316771256733091},{"$f":"IF(AC498>0,AVERAGE(SMALL(IF(J498:AC498>0,J498:AC498),{1,2,3,4,5,6,7,8})),AB499)","v":25.316771256733091},{"$f":"IF(AD498>0,AVERAGE(SMALL(IF(K498:AD498>0,K498:AD498),{1,2,3,4,5,6,7,8})),AC499)","v":25.316771256733091},{"$f":"IF(AE498>0,AVERAGE(SMALL(IF(L498:AE498>0,L498:AE498),{1,2,3,4,5,6,7,8})),AD499)","v":25.316771256733091},{"$f":"IF(AF498>0,AVERAGE(SMALL(IF(M498:AF498>0,M498:AF498),{1,2,3,4,5,6,7,8})),AE499)","v":25.316771256733091},{"$f":"IF(AG498>0,AVERAGE(SMALL(IF(N498:AG498>0,N498:AG498),{1,2,3,4,5,6,7,8})),AF499)","v":25.316771256733091},{"$f":"IF(AH498>0,AVERAGE(SMALL(IF(O498:AH498>0,O498:AH498),{1,2,3,4,5,6,7,8})),AG499)","v":25.316771256733091},{"$f":"IF(AI498>0,AVERAGE(SMALL(IF(P498:AI498>0,P498:AI498),{1,2,3,4,5,6,7,8})),AH499)","v":25.316771256733091},{"$f":"IF(AJ498>0,AVERAGE(SMALL(IF(Q498:AJ498>0,Q498:AJ498),{1,2,3,4,5,6,7,8})),AI499)","v":25.316771256733091},{"$f":"IF(AK498>0,AVERAGE(SMALL(IF(R498:AK498>0,R498:AK498),{1,2,3,4,5,6,7,8})),AJ499)","v":25.316771256733091},{"$f":"IF(AL498>0,AVERAGE(SMALL(IF(S498:AL498>0,S498:AL498),{1,2,3,4,5,6,7,8})),AK499)","v":25.316771256733091},{"$f":"IF(AM498>0,AVERAGE(SMALL(IF(T498:AM498>0,T498:AM498),{1,2,3,4,5,6,7,8})),AL499)","v":25.316771256733091},{"$f":"IF(AN498>0,AVERAGE(SMALL(IF(U498:AN498>0,U498:AN498),{1,2,3,4,5,6,7,8})),AM499)","v":25.316771256733091},{"$f":"IF(AO498>0,AVERAGE(SMALL(IF(V498:AO498>0,V498:AO498),{1,2,3,4,5,6,7,8})),AN499)","v":25.316771256733091},{"$f":"IF(AP498>0,AVERAGE(SMALL(IF(W498:AP498>0,W498:AP498),{1,2,3,4,5,6,7,8})),AO499)","v":25.316771256733091},{"$f":"IF(AQ498>0,AVERAGE(SMALL(IF(X498:AQ498>0,X498:AQ498),{1,2,3,4,5,6,7,8})),AP499)","v":25.316771256733091},{"$f":"IF(AR498>0,AVERAGE(SMALL(IF(Y498:AR498>0,Y498:AR498),{1,2,3,4,5,6,7,8})),AQ499)","v":25.316771256733091},{"$f":"IF(AS498>0,AVERAGE(SMALL(IF(Z498:AS498>0,Z498:AS498),{1,2,3,4,5,6,7,8})),AR499)","v":25.316771256733091},{"$f":"IF(AT498>0,AVERAGE(SMALL(IF(AA498:AT498>0,AA498:AT498),{1,2,3,4,5,6,7,8})),AS499)","v":25.316771256733091},{"$f":"IF(AU498>0,AVERAGE(SMALL(IF(AB498:AU498>0,AB498:AU498),{1,2,3,4,5,6,7,8})),AT499)","v":25.316771256733091},{"$f":"IF(AV498>0,AVERAGE(SMALL(IF(AC498:AV498>0,AC498:AV498),{1,2,3,4,5,6,7,8})),AU499)","v":25.316771256733091},{"$f":"IF(AW498>0,AVERAGE(SMALL(IF(AD498:AW498>0,AD498:AW498),{1,2,3,4,5,6,7,8})),AV499)","v":25.316771256733091},{"$f":"IF(AX498>0,AVERAGE(SMALL(IF(AE498:AX498>0,AE498:AX498),{1,2,3,4,5,6,7,8})),AW499)","v":25.316771256733091},{"$f":"IF(AY498>0,AVERAGE(SMALL(IF(AF498:AY498>0,AF498:AY498),{1,2,3,4,5,6,7,8})),AX499)","v":25.316771256733091},{"$f":"IF(AZ498>0,AVERAGE(SMALL(IF(AG498:AZ498>0,AG498:AZ498),{1,2,3,4,5,6,7,8})),AY499)","v":25.316771256733091},{"$f":"IF(BA498>0,AVERAGE(SMALL(IF(AH498:BA498>0,AH498:BA498),{1,2,3,4,5,6,7,8})),AZ499)","v":25.316771256733091},{"$f":"IF(BB498>0,AVERAGE(SMALL(IF(AI498:BB498>0,AI498:BB498),{1,2,3,4,5,6,7,8})),BA499)","v":25.316771256733091},{"$f":"IF(BC498>0,AVERAGE(SMALL(IF(AJ498:BC498>0,AJ498:BC498),{1,2,3,4,5,6,7,8})),BB499)","v":25.316771256733091},{"$f":"IF(BD498>0,AVERAGE(SMALL(IF(AK498:BD498>0,AK498:BD498),{1,2,3,4,5,6,7,8})),BC499)","v":25.316771256733091},{"$f":"IF(BE498>0,AVERAGE(SMALL(IF(AL498:BE498>0,AL498:BE498),{1,2,3,4,5,6,7,8})),BD499)","v":25.316771256733091},{"$f":"IF(BF498>0,AVERAGE(SMALL(IF(AM498:BF498>0,AM498:BF498),{1,2,3,4,5,6,7,8})),BE499)","v":25.316771256733091},{"$f":"IF(BG498>0,AVERAGE(SMALL(IF(AN498:BG498>0,AN498:BG498),{1,2,3,4,5,6,7,8})),BF499)","v":25.316771256733091},{"$f":"IF(BH498>0,AVERAGE(SMALL(IF(AO498:BH498>0,AO498:BH498),{1,2,3,4,5,6,7,8})),BG499)","v":25.316771256733091},{"$f":"IF(BI498>0,AVERAGE(SMALL(IF(AP498:BI498>0,AP498:BI498),{1,2,3,4,5,6,7,8})),BH499)","v":25.316771256733091},{"$f":"IF(BJ498>0,AVERAGE(SMALL(IF(AQ498:BJ498>0,AQ498:BJ498),{1,2,3,4,5,6,7,8})),BI499)","v":25.316771256733091},{"$f":"IF(BK498>0,AVERAGE(SMALL(IF(AR498:BK498>0,AR498:BK498),{1,2,3,4,5,6,7,8})),BJ499)","v":25.316771256733091},{"$f":"IF(BL498>0,AVERAGE(SMALL(IF(AS498:BL498>0,AS498:BL498),{1,2,3,4,5,6,7,8})),BK499)","v":25.316771256733091},{"$f":"IF(BM498>0,AVERAGE(SMALL(IF(AT498:BM498>0,AT498:BM498),{1,2,3,4,5,6,7,8})),BL499)","v":25.316771256733091},{"$f":"IF(BN498>0,AVERAGE(SMALL(IF(AU498:BN498>0,AU498:BN498),{1,2,3,4,5,6,7,8})),BM499)","v":25.316771256733091},{"$f":"IF(BO498>0,AVERAGE(SMALL(IF(AV498:BO498>0,AV498:BO498),{1,2,3,4,5,6,7,8})),BN499)","v":25.316771256733091},{"$f":"IF(BP498>0,AVERAGE(SMALL(IF(AW498:BP498>0,AW498:BP498),{1,2,3,4,5,6,7,8})),BO499)","v":25.316771256733091},{"$f":"IF(BQ498>0,AVERAGE(SMALL(IF(AX498:BQ498>0,AX498:BQ498),{1,2,3,4,5,6,7,8})),BP499)","v":25.316771256733091},{"$f":"IF(BR498>0,AVERAGE(SMALL(IF(AY498:BR498>0,AY498:BR498),{1,2,3,4,5,6,7,8})),BQ499)","v":25.316771256733091},{"$f":"IF(BS498>0,AVERAGE(SMALL(IF(AZ498:BS498>0,AZ498:BS498),{1,2,3,4,5,6,7,8})),BR499)","v":25.316771256733091},{"$f":"IF(BT498>0,AVERAGE(SMALL(IF(BA498:BT498>0,BA498:BT498),{1,2,3,4,5,6,7,8})),BS499)","v":25.316771256733091},{"$f":"IF(BU498>0,AVERAGE(SMALL(IF(BB498:BU498>0,BB498:BU498),{1,2,3,4,5,6,7,8})),BT499)","v":25.316771256733091},{"$f":"IF(BV498>0,AVERAGE(SMALL(IF(BC498:BV498>0,BC498:BV498),{1,2,3,4,5,6,7,8})),BU499)","v":25.316771256733091},{"$f":"IF(BW498>0,AVERAGE(SMALL(IF(BD498:BW498>0,BD498:BW498),{1,2,3,4,5,6,7,8})),BV499)","v":25.316771256733091},{"$f":"IF(BX498>0,AVERAGE(SMALL(IF(BE498:BX498>0,BE498:BX498),{1,2,3,4,5,6,7,8})),BW499)","v":25.316771256733091},{"$f":"IF(BY498>0,AVERAGE(SMALL(IF(BF498:BY498>0,BF498:BY498),{1,2,3,4,5,6,7,8})),BX499)","v":25.316771256733091},{"$f":"IF(BZ498>0,AVERAGE(SMALL(IF(BG498:BZ498>0,BG498:BZ498),{1,2,3,4,5,6,7,8})),BY499)","v":25.316771256733091},{"$f":"IF(CA498>0,AVERAGE(SMALL(IF(BH498:CA498>0,BH498:CA498),{1,2,3,4,5,6,7,8})),BZ499)","v":25.316771256733091},{"$f":"IF(CB498>0,AVERAGE(SMALL(IF(BI498:CB498>0,BI498:CB498),{1,2,3,4,5,6,7,8})),CA499)","v":25.316771256733091},{"$f":"IF(CC498>0,AVERAGE(SMALL(IF(BJ498:CC498>0,BJ498:CC498),{1,2,3,4,5,6,7,8})),CB499)","v":25.316771256733091},{"$f":"IF(CD498>0,AVERAGE(SMALL(IF(BK498:CD498>0,BK498:CD498),{1,2,3,4,5,6,7,8})),CC499)","v":25.316771256733091},{"$f":"IF(CE498>0,AVERAGE(SMALL(IF(BL498:CE498>0,BL498:CE498),{1,2,3,4,5,6,7,8})),CD499)","v":25.316771256733091},{"$f":"IF(CF498>0,AVERAGE(SMALL(IF(BM498:CF498>0,BM498:CF498),{1,2,3,4,5,6,7,8})),CE499)","v":25.316771256733091},{"$f":"IF(CG498>0,AVERAGE(SMALL(IF(BN498:CG498>0,BN498:CG498),{1,2,3,4,5,6,7,8})),CF499)","v":25.316771256733091},{"$f":"IF(CH498>0,AVERAGE(SMALL(IF(BO498:CH498>0,BO498:CH498),{1,2,3,4,5,6,7,8})),CG499)","v":25.316771256733091},{"$f":"IF(CI498>0,AVERAGE(SMALL(IF(BP498:CI498>0,BP498:CI498),{1,2,3,4,5,6,7,8})),CH499)","v":25.316771256733091},{"$f":"IF(CJ498>0,AVERAGE(SMALL(IF(BQ498:CJ498>0,BQ498:CJ498),{1,2,3,4,5,6,7,8})),CI499)","v":25.316771256733091},{"$f":"IF(CK498>0,AVERAGE(SMALL(IF(BR498:CK498>0,BR498:CK498),{1,2,3,4,5,6,7,8})),CJ499)","v":25.316771256733091},{"$f":"IF(CL498>0,AVERAGE(SMALL(IF(BS498:CL498>0,BS498:CL498),{1,2,3,4,5,6,7,8})),CK499)","v":25.316771256733091},{"$f":"IF(CM498>0,AVERAGE(SMALL(IF(BT498:CM498>0,BT498:CM498),{1,2,3,4,5,6,7,8})),CL499)","v":25.316771256733091},{"$f":"IF(CN498>0,AVERAGE(SMALL(IF(BU498:CN498>0,BU498:CN498),{1,2,3,4,5,6,7,8})),CM499)","v":25.316771256733091},{"$f":"IF(CO498>0,AVERAGE(SMALL(IF(BV498:CO498>0,BV498:CO498),{1,2,3,4,5,6,7,8})),CN499)","v":25.316771256733091},{"$f":"IF(CP498>0,AVERAGE(SMALL(IF(BW498:CP498>0,BW498:CP498),{1,2,3,4,5,6,7,8})),CO499)","v":25.316771256733091},{"$f":"IF(CQ498>0,AVERAGE(SMALL(IF(BX498:CQ498>0,BX498:CQ498),{1,2,3,4,5,6,7,8})),CP499)","v":25.316771256733091},{"$f":"IF(CR498>0,AVERAGE(SMALL(IF(BY498:CR498>0,BY498:CR498),{1,2,3,4,5,6,7,8})),CQ499)","v":25.316771256733091},{"$f":"IF(CS498>0,AVERAGE(SMALL(IF(BZ498:CS498>0,BZ498:CS498),{1,2,3,4,5,6,7,8})),CR499)","v":25.316771256733091},{"$f":"IF(CT498>0,AVERAGE(SMALL(IF(CA498:CT498>0,CA498:CT498),{1,2,3,4,5,6,7,8})),CS499)","v":25.316771256733091},{"$f":"IF(CU498>0,AVERAGE(SMALL(IF(CB498:CU498>0,CB498:CU498),{1,2,3,4,5,6,7,8})),CT499)","v":25.316771256733091},{"$f":"IF(CV498>0,AVERAGE(SMALL(IF(CC498:CV498>0,CC498:CV498),{1,2,3,4,5,6,7,8})),CU499)","v":25.316771256733091},{"$f":"IF(CW498>0,AVERAGE(SMALL(IF(CD498:CW498>0,CD498:CW498),{1,2,3,4,5,6,7,8})),CV499)","v":25.316771256733091}]
[null,null,null,null,null,null,null,null,"Low Hcap",null,null,null,null,null,null,null,null,null,null,null,null,null,null,null,null,null,null,null,{"$f":"MIN($Q499:AC499)","v":24.125378787878788},{"$f":"MIN($Q499:AD499)","v":24.125378787878788},{"$f":"MIN($Q499:AE499)","v":24.125378787878788},{"$f":"MIN($Q499:AF499)","v":24.125378787878788},{"$f":"MIN($Q499:AG499)","v":24.125378787878788},{"$f":"MIN($Q499:AH499)","v":24.125378787878788},{"$f":"MIN($Q499:AI499)","v":24.125378787878788},{"$f":"MIN($Q499:AJ499)","v":24.125378787878788},{"$f":"MIN($Q499:AK499)","v":24.125378787878788},{"$f":"MIN($Q499:AL499)","v":24.125378787878788},{"$f":"MIN($Q499:AM499)","v":24.125378787878788},{"$f":"MIN($Q499:AN499)","v":24.125378787878788},{"$f":"MIN($Q499:AO499)","v":24.125378787878788},{"$f":"MIN($Q499:AP499)","v":24.125378787878788},{"$f":"MIN($Q499:AQ499)","v":24.125378787878788},{"$f":"MIN($Q499:AR499)","v":24.125378787878788},{"$f":"MIN($Q499:AS499)","v":24.125378787878788},{"$f":"MIN($Q499:AT499)","v":24.125378787878788},{"$f":"MIN($Q499:AU499)","v":24.125378787878788},{"$f":"MIN($Q499:AV499)","v":24.125378787878788},{"$f":"MIN($Q499:AW499)","v":24.125378787878788},{"$f":"MIN($Q499:AX499)","v":24.125378787878788},{"$f":"MIN($Q499:AY499)","v":24.125378787878788},{"$f":"MIN($Q499:AZ499)","v":24.125378787878788},{"$f":"MIN($Q499:BA499)","v":24.125378787878788},{"$f":"MIN($Q499:BB499)","v":24.125378787878788},{"$f":"MIN($Q499:BC499)","v":24.125378787878788},{"$f":"MIN($Q499:BD499)","v":24.125378787878788},{"$f":"MIN($Q499:BE499)","v":24.125378787878788},{"$f":"MIN($Q499:BF499)","v":24.125378787878788},{"$f":"MIN($Q499:BG499)","v":24.125378787878788},{"$f":"MIN($Q499:BH499)","v":24.125378787878788},{"$f":"MIN($Q499:BI499)","v":24.125378787878788},{"$f":"MIN($Q499:BJ499)","v":24.125378787878788},{"$f":"MIN($Q499:BK499)","v":24.125378787878788},{"$f":"MIN($Q499:BL499)","v":24.125378787878788},{"$f":"MIN($Q499:BM499)","v":24.125378787878788},{"$f":"MIN($Q499:BN499)","v":24.125378787878788},{"$f":"MIN($Q499:BO499)","v":24.125378787878788},{"$f":"MIN($Q499:BP499)","v":24.125378787878788},{"$f":"MIN($Q499:BQ499)","v":24.125378787878788},{"$f":"MIN($Q499:BR499)","v":24.125378787878788},{"$f":"MIN($Q499:BS499)","v":24.125378787878788},{"$f":"MIN($Q499:BT499)","v":24.125378787878788},{"$f":"MIN($Q499:BU499)","v":24.125378787878788},{"$f":"MIN($Q499:BV499)","v":24.125378787878788},{"$f":"MIN($Q499:BW499)","v":24.125378787878788},{"$f":"MIN($Q499:BX499)","v":24.125378787878788},{"$f":"MIN($Q499:BY499)","v":24.125378787878788},{"$f":"MIN($Q499:BZ499)","v":24.125378787878788},{"$f":"MIN($Q499:CA499)","v":24.125378787878788},{"$f":"MIN($Q499:CB499)","v":24.125378787878788},{"$f":"MIN($Q499:CC499)","v":24.125378787878788},{"$f":"MIN($Q499:CD499)","v":24.125378787878788},{"$f":"MIN($Q499:CE499)","v":24.125378787878788},{"$f":"MIN($Q499:CF499)","v":24.125378787878788},{"$f":"MIN($Q499:CG499)","v":24.125378787878788},{"$f":"MIN($Q499:CH499)","v":24.125378787878788},{"$f":"MIN($Q499:CI499)","v":24.125378787878788},{"$f":"MIN($Q499:CJ499)","v":24.125378787878788},{"$f":"MIN($Q499:CK499)","v":24.125378787878788},{"$f":"MIN($Q499:CL499)","v":24.125378787878788},{"$f":"MIN($Q499:CM499)","v":24.125378787878788},{"$f":"MIN($Q499:CN499)","v":24.125378787878788},{"$f":"MIN($Q499:CO499)","v":24.125378787878788},{"$f":"MIN($Q499:CP499)","v":24.125378787878788},{"$f":"MIN($Q499:CQ499)","v":24.125378787878788},{"$f":"MIN($Q499:CR499)","v":24.125378787878788},{"$f":"MIN($Q499:CS499)","v":24.125378787878788},{"$f":"MIN($Q499:CT499)","v":24.125378787878788},{"$f":"MIN($Q499:CU499)","v":24.125378787878788},{"$f":"MIN($Q499:CV499)","v":24.125378787878788},{"$f":"MIN($Q499:CW499)","v":24.125378787878788}]
[null,"Swanepoel","Bruwer",11.2,"Y",{"$f":"IF(H501<4,\"Y\",)","v":0},null,{"$f":"COUNT(J501:CX501)","v":44},"Date","2018-08-08","2019-08-04","2019-08-18","2019-08-28","2019-09-01","2019-09-25","2019-10-13","2020-05-20","2020-05-31","2020-06-19","2020-06-28","2020-07-03","2020-07-12","2020-07-15","2020-08-09","2020-08-14","2020-09-06","2020-09-16","2020-10-04","2020-10-21","2021-03-28","2021-04-11","2021-05-09","2021-05-14","2021-05-30","2021-06-13","2021-07-11","2021-07-16","2021-07-21","2021-08-15","2021-08-22","2021-09-08","2022-06-25","2022-06-26","2022-07-03","2022-07-15","2022-07-31","2022-08-07","2022-08-17","2022-08-26","2022-09-02","2023-05-07","2023-05-19","2023-06-09",null,null,null,null,null,null,null,null,null,null,null,null,null,null,null,null,null,null,null,null,null,null,null,null,null,null,null,null,null,null,null,null,null,null,null,null,null,null,null,null,null,null,null,null,null,null,null,null,null,{"$f":"IF(CW505>$DD$1,36,CW505)","v":15.146451122526743},15.146451122526743,{"$f":"CZ501-CY501","v":0}]
[null,null,null,null,null,null,null,null,"Course","GutThailingHG","TegernbachHG","PfaffingHG","GutThailingHG","ErdingHG","GutThailingHG","PfaffingHG","GutThailingHG","ErdingHG","StEurachHG","ErdingHG","TegernbachHG","PfaffingHG","GutThailingHG","ErdingHG","EgmatingHG","OdelzhausenHG","GutThailingHG","OdelzhausenHG","GutThailingHG","OdelzhausenHG","ErdingHR","ErdingHG","StEurachHG","IffeldorfHG","PfaffingHG","PfaffingHG","MaxlrainHG","GutThailingHG","ErdingHG","PfaffingHB","GutThailingHG","AlgaeuerHG","AlgaeuerHG","Pfaffing2022HG","MaxlrainHG","HohenpaehlHG","IffeldorfHG","GutThailing2022HG","EschenhofHG","StEurachHG","Odelzhausen2023HG","GarmischHG","TegernbachHG"]
[null,null,null,null,null,null,null,null,"Ad Gr",92,90,92,95,91,87,95,87,91,103,85,96,96,89,88,84,96,82,90,87,95,90,99,94,93,88,93,90,92,85,89,90,89,95,95,95,94,94,95,92,91,92,98,99]
[null,null,null,null,null,null,null,null,"SD",{"$f":"IF(J503=\"\",0,(J503-INDIRECT(CONCATENATE(J502,\"CR\")))*113/INDIRECT(CONCATENATE(J502,\"SR\")))","v":18.545801526717558},{"$f":"IF(K503=\"\",0,(K503-INDIRECT(CONCATENATE(K502,\"CR\")))*113/INDIRECT(CONCATENATE(K502,\"SR\")))","v":15.665909090909087},17.384615384615383,21.133587786259543,17.384615384615383,14.232824427480915,19.992307692307691,14.232824427480915,17.384615384615383,26.826717557251904,12.169230769230769,20.802272727272726,20.861538461538462,15.958015267175572,14.776923076923078,10.092366412213742,21.53228346456693,9.9198473282442752,16.193700787401578,14.232824427480915,20.642519685039375,21.935294117647054,24.338461538461537,19.06335877862595,19.096124031007751,13.907692307692308,18.253846153846155,14.208088235294113,18.545801526717558,12.169230769230769,15.978906249999994,16.820610687022899,14.319083969465643,19.494656488549612,19.38384615384615,18.362499999999994,20.098473282442747,19.972093023255812,21.209230769230775,17.292424242424246,16.475572519083965,18.590322580645168,23.667716535433065,23.370454545454542,0,0,0,0,0,0,0,0,0,0,0,0,0,0,0,0,0,0,0,0,0,{"$f":"IF(BW503=\"\",0,(BW503-INDIRECT(CONCATENATE(BW502,\"CR\")))*113/INDIRECT(CONCATENATE(BW502,\"SR\")))","v":0},0,0,0,0,0,0,0,0,0,0,0,0,0,0,0,{"$f":"IF(CM503=\"\",0,(CM503-INDIRECT(CONCATENATE(CM502,\"CR\")))*113/INDIRECT(CONCATENATE(CM502,\"SR\")))","v":0},0,{"$f":"IF(CO503=\"\",0,(CO503-INDIRECT(CONCATENATE(CO502,\"CR\")))*113/INDIRECT(CONCATENATE(CO502,\"SR\")))","v":0},0,{"$f":"IF(CQ503=\"\",0,(CQ503-INDIRECT(CONCATENATE(CQ502,\"CR\")))*113/INDIRECT(CONCATENATE(CQ502,\"SR\")))","v":0},0,{"$f":"IF(CS503=\"\",0,(CS503-INDIRECT(CONCATENATE(CS502,\"CR\")))*113/INDIRECT(CONCATENATE(CS502,\"SR\")))","v":0},0,{"$f":"IF(CU503=\"\",0,(CU503-INDIRECT(CONCATENATE(CU502,\"CR\")))*113/INDIRECT(CONCATENATE(CU502,\"SR\")))","v":0},0,{"$f":"IF(CW503=\"\",0,(CW503-INDIRECT(CONCATENATE(CW502,\"CR\")))*113/INDIRECT(CONCATENATE(CW502,\"SR\")))","v":0}]
[null,null,null,null,null,null,null,null,"New Hcap",{"$f":"J504-2","v":16.545801526717558},{"$f":"IF(K504>0,MIN(J504:K504)-2,J505)","v":13.665909090909087},{"$f":"IF(L504>0,MIN(J504:L504)-2,K505)","v":13.665909090909087},{"$f":"IF(M504>0,MIN(J504:M504)-1,L505)","v":14.665909090909087},{"$f":"IF(N504>0,MIN(J504:N504),M505)","v":15.665909090909087},{"$f":"IF(O504>0,AVERAGE(SMALL(IF(J504:O504>0,J504:O504),{1,2}))-1,N505)","v":13.949366759195001},{"$f":"IF(P504>0,AVERAGE(SMALL(IF(J504:P504>0,J504:P504),{1,2})),O505)","v":14.949366759195001},{"$f":"IF(Q504>0,AVERAGE(SMALL(IF(J504:Q504>0,J504:Q504),{1,2})),P505)","v":14.232824427480915},{"$f":"IF(R504>0,AVERAGE(SMALL(IF(J504:R504>0,J504:R504),{1,2,3})),Q505)","v":14.710519315290306},{"$f":"IF(S504>0,AVERAGE(SMALL(IF(J504:S504>0,J504:S504),{1,2,3})),R505)","v":14.710519315290306},{"$f":"IF(T504>0,AVERAGE(SMALL(IF(J504:T504>0,J504:T504),{1,2,3})),S505)","v":13.544959874730866},{"$f":"IF(U504>0,AVERAGE(SMALL(IF(J504:U504>0,J504:U504),{1,2,3,4})),T505)","v":14.075197178775422},{"$f":"IF(V504>0,AVERAGE(SMALL(IF(J504:V504>0,J504:V504),{1,2,3,4})),U505)","v":14.075197178775422},{"$f":"IF(W504>0,AVERAGE(SMALL(IF(J504:W504>0,J504:W504),{1,2,3,4})),V505)","v":14.075197178775422},{"$f":"IF(X504>0,AVERAGE(SMALL(IF(J504:X504>0,J504:X504),{1,2,3,4,5})),W505)","v":14.215542358404951},{"$f":"IF(Y504>0,AVERAGE(SMALL(IF(J504:Y504>0,J504:Y504),{1,2,3,4,5})),X505)","v":13.100833822665885},{"$f":"IF(Z504>0,AVERAGE(SMALL(IF(J504:Z504>0,J504:Z504),{1,2,3,4,5,6})),Y505)","v":13.528346367373084},{"$f":"IF(AA504>0,AVERAGE(SMALL(IF(J504:AA504>0,J504:AA504),{1,2,3,4,5,6})),Z505)","v":12.57066940692895},{"$f":"IF(AB504>0,AVERAGE(SMALL(IF(J504:AB504>0,J504:AB504),{1,2,3,4,5,6,7})),AA505)","v":13.012846504640397},{"$f":"IF(AC504>0,AVERAGE(SMALL(IF(J504:AC504>0,J504:AC504),{1,2,3,4,5,6,7,8})),AB505)","v":13.165343744995463},{"$f":"IF(AD504>0,AVERAGE(SMALL(IF(K504:AD504>0,K504:AD504),{1,2,3,4,5,6,7,8})),AC505)","v":13.165343744995463},{"$f":"IF(AE504>0,AVERAGE(SMALL(IF(L504:AE504>0,L504:AE504),{1,2,3,4,5,6,7,8})),AD505)","v":13.201857017028773},{"$f":"IF(AF504>0,AVERAGE(SMALL(IF(M504:AF504>0,M504:AF504),{1,2,3,4,5,6,7,8})),AE505)","v":13.201857017028773},{"$f":"IF(AG504>0,AVERAGE(SMALL(IF(N504:AG504>0,N504:AG504),{1,2,3,4,5,6,7,8})),AF505)","v":13.201857017028773},{"$f":"IF(AH504>0,AVERAGE(SMALL(IF(O504:AH504>0,O504:AH504),{1,2,3,4,5,6,7,8})),AG505)","v":13.201857017028773},{"$f":"IF(AI504>0,AVERAGE(SMALL(IF(P504:AI504>0,P504:AI504),{1,2,3,4,5,6,7,8})),AH505)","v":13.161215502055198},{"$f":"IF(AJ504>0,AVERAGE(SMALL(IF(Q504:AJ504>0,Q504:AJ504),{1,2,3,4,5,6,7,8})),AI505)","v":13.161215502055198},{"$f":"IF(AK504>0,AVERAGE(SMALL(IF(R504:AK504>0,R504:AK504),{1,2,3,4,5,6,7,8})),AJ505)","v":13.158123478031847},{"$f":"IF(AL504>0,AVERAGE(SMALL(IF(S504:AL504>0,S504:AL504),{1,2,3,4,5,6,7,8})),AK505)","v":13.158123478031847},{"$f":"IF(AM504>0,AVERAGE(SMALL(IF(T504:AM504>0,T504:AM504),{1,2,3,4,5,6,7,8})),AL505)","v":12.684525415788748},{"$f":"IF(AN504>0,AVERAGE(SMALL(IF(U504:AN504>0,U504:AN504),{1,2,3,4,5,6,7,8})),AM505)","v":13.158123478031847},{"$f":"IF(AO504>0,AVERAGE(SMALL(IF(V504:AO504>0,V504:AO504),{1,2,3,4,5,6,7,8})),AN505)","v":13.158123478031847},{"$f":"IF(AP504>0,AVERAGE(SMALL(IF(W504:AP504>0,W504:AP504),{1,2,3,4,5,6,7,8})),AO505)","v":12.953257065818105},{"$f":"IF(AQ504>0,AVERAGE(SMALL(IF(X504:AQ504>0,X504:AQ504),{1,2,3,4,5,6,7,8})),AP505)","v":12.953257065818105},{"$f":"IF(AR504>0,AVERAGE(SMALL(IF(Y504:AR504>0,Y504:AR504),{1,2,3,4,5,6,7,8})),AQ505)","v":13.103504962452719},{"$f":"IF(AS504>0,AVERAGE(SMALL(IF(Z504:AS504>0,Z504:AS504),{1,2,3,4,5,6,7,8})),AR505)","v":13.8661717593512},{"$f":"IF(AT504>0,AVERAGE(SMALL(IF(AA504:AT504>0,AA504:AT504),{1,2,3,4,5,6,7,8})),AS505)","v":13.8661717593512},{"$f":"IF(AU504>0,AVERAGE(SMALL(IF(AB504:AU504>0,AB504:AU504),{1,2,3,4,5,6,7,8})),AT505)","v":14.728767179198528},{"$f":"IF(AV504>0,AVERAGE(SMALL(IF(AC504:AV504>0,AC504:AV504),{1,2,3,4,5,6,7,8})),AU505)","v":14.986285350004099},{"$f":"IF(AW504>0,AVERAGE(SMALL(IF(AD504:AW504>0,AD504:AW504),{1,2,3,4,5,6,7,8})),AV505)","v":15.368735326872018},{"$f":"IF(AX504>0,AVERAGE(SMALL(IF(AE504:AX504>0,AE504:AX504),{1,2,3,4,5,6,7,8})),AW505)","v":15.146451122526743},{"$f":"IF(AY504>0,AVERAGE(SMALL(IF(AF504:AY504>0,AF504:AY504),{1,2,3,4,5,6,7,8})),AX505)","v":15.146451122526743},{"$f":"IF(AZ504>0,AVERAGE(SMALL(IF(AG504:AZ504>0,AG504:AZ504),{1,2,3,4,5,6,7,8})),AY505)","v":15.146451122526743},{"$f":"IF(BA504>0,AVERAGE(SMALL(IF(AH504:BA504>0,AH504:BA504),{1,2,3,4,5,6,7,8})),AZ505)","v":15.146451122526743},{"$f":"IF(BB504>0,AVERAGE(SMALL(IF(AI504:BB504>0,AI504:BB504),{1,2,3,4,5,6,7,8})),BA505)","v":15.146451122526743},{"$f":"IF(BC504>0,AVERAGE(SMALL(IF(AJ504:BC504>0,AJ504:BC504),{1,2,3,4,5,6,7,8})),BB505)","v":15.146451122526743},{"$f":"IF(BD504>0,AVERAGE(SMALL(IF(AK504:BD504>0,AK504:BD504),{1,2,3,4,5,6,7,8})),BC505)","v":15.146451122526743},{"$f":"IF(BE504>0,AVERAGE(SMALL(IF(AL504:BE504>0,AL504:BE504),{1,2,3,4,5,6,7,8})),BD505)","v":15.146451122526743},{"$f":"IF(BF504>0,AVERAGE(SMALL(IF(AM504:BF504>0,AM504:BF504),{1,2,3,4,5,6,7,8})),BE505)","v":15.146451122526743},{"$f":"IF(BG504>0,AVERAGE(SMALL(IF(AN504:BG504>0,AN504:BG504),{1,2,3,4,5,6,7,8})),BF505)","v":15.146451122526743},{"$f":"IF(BH504>0,AVERAGE(SMALL(IF(AO504:BH504>0,AO504:BH504),{1,2,3,4,5,6,7,8})),BG505)","v":15.146451122526743},{"$f":"IF(BI504>0,AVERAGE(SMALL(IF(AP504:BI504>0,AP504:BI504),{1,2,3,4,5,6,7,8})),BH505)","v":15.146451122526743},{"$f":"IF(BJ504>0,AVERAGE(SMALL(IF(AQ504:BJ504>0,AQ504:BJ504),{1,2,3,4,5,6,7,8})),BI505)","v":15.146451122526743},{"$f":"IF(BK504>0,AVERAGE(SMALL(IF(AR504:BK504>0,AR504:BK504),{1,2,3,4,5,6,7,8})),BJ505)","v":15.146451122526743},{"$f":"IF(BL504>0,AVERAGE(SMALL(IF(AS504:BL504>0,AS504:BL504),{1,2,3,4,5,6,7,8})),BK505)","v":15.146451122526743},{"$f":"IF(BM504>0,AVERAGE(SMALL(IF(AT504:BM504>0,AT504:BM504),{1,2,3,4,5,6,7,8})),BL505)","v":15.146451122526743},{"$f":"IF(BN504>0,AVERAGE(SMALL(IF(AU504:BN504>0,AU504:BN504),{1,2,3,4,5,6,7,8})),BM505)","v":15.146451122526743},{"$f":"IF(BO504>0,AVERAGE(SMALL(IF(AV504:BO504>0,AV504:BO504),{1,2,3,4,5,6,7,8})),BN505)","v":15.146451122526743},{"$f":"IF(BP504>0,AVERAGE(SMALL(IF(AW504:BP504>0,AW504:BP504),{1,2,3,4,5,6,7,8})),BO505)","v":15.146451122526743},{"$f":"IF(BQ504>0,AVERAGE(SMALL(IF(AX504:BQ504>0,AX504:BQ504),{1,2,3,4,5,6,7,8})),BP505)","v":15.146451122526743},{"$f":"IF(BR504>0,AVERAGE(SMALL(IF(AY504:BR504>0,AY504:BR504),{1,2,3,4,5,6,7,8})),BQ505)","v":15.146451122526743},{"$f":"IF(BS504>0,AVERAGE(SMALL(IF(AZ504:BS504>0,AZ504:BS504),{1,2,3,4,5,6,7,8})),BR505)","v":15.146451122526743},{"$f":"IF(BT504>0,AVERAGE(SMALL(IF(BA504:BT504>0,BA504:BT504),{1,2,3,4,5,6,7,8})),BS505)","v":15.146451122526743},{"$f":"IF(BU504>0,AVERAGE(SMALL(IF(BB504:BU504>0,BB504:BU504),{1,2,3,4,5,6,7,8})),BT505)","v":15.146451122526743},{"$f":"IF(BV504>0,AVERAGE(SMALL(IF(BC504:BV504>0,BC504:BV504),{1,2,3,4,5,6,7,8})),BU505)","v":15.146451122526743},{"$f":"IF(BW504>0,AVERAGE(SMALL(IF(BD504:BW504>0,BD504:BW504),{1,2,3,4,5,6,7,8})),BV505)","v":15.146451122526743},{"$f":"IF(BX504>0,AVERAGE(SMALL(IF(BE504:BX504>0,BE504:BX504),{1,2,3,4,5,6,7,8})),BW505)","v":15.146451122526743},{"$f":"IF(BY504>0,AVERAGE(SMALL(IF(BF504:BY504>0,BF504:BY504),{1,2,3,4,5,6,7,8})),BX505)","v":15.146451122526743},{"$f":"IF(BZ504>0,AVERAGE(SMALL(IF(BG504:BZ504>0,BG504:BZ504),{1,2,3,4,5,6,7,8})),BY505)","v":15.146451122526743},{"$f":"IF(CA504>0,AVERAGE(SMALL(IF(BH504:CA504>0,BH504:CA504),{1,2,3,4,5,6,7,8})),BZ505)","v":15.146451122526743},{"$f":"IF(CB504>0,AVERAGE(SMALL(IF(BI504:CB504>0,BI504:CB504),{1,2,3,4,5,6,7,8})),CA505)","v":15.146451122526743},{"$f":"IF(CC504>0,AVERAGE(SMALL(IF(BJ504:CC504>0,BJ504:CC504),{1,2,3,4,5,6,7,8})),CB505)","v":15.146451122526743},{"$f":"IF(CD504>0,AVERAGE(SMALL(IF(BK504:CD504>0,BK504:CD504),{1,2,3,4,5,6,7,8})),CC505)","v":15.146451122526743},{"$f":"IF(CE504>0,AVERAGE(SMALL(IF(BL504:CE504>0,BL504:CE504),{1,2,3,4,5,6,7,8})),CD505)","v":15.146451122526743},{"$f":"IF(CF504>0,AVERAGE(SMALL(IF(BM504:CF504>0,BM504:CF504),{1,2,3,4,5,6,7,8})),CE505)","v":15.146451122526743},{"$f":"IF(CG504>0,AVERAGE(SMALL(IF(BN504:CG504>0,BN504:CG504),{1,2,3,4,5,6,7,8})),CF505)","v":15.146451122526743},{"$f":"IF(CH504>0,AVERAGE(SMALL(IF(BO504:CH504>0,BO504:CH504),{1,2,3,4,5,6,7,8})),CG505)","v":15.146451122526743},{"$f":"IF(CI504>0,AVERAGE(SMALL(IF(BP504:CI504>0,BP504:CI504),{1,2,3,4,5,6,7,8})),CH505)","v":15.146451122526743},{"$f":"IF(CJ504>0,AVERAGE(SMALL(IF(BQ504:CJ504>0,BQ504:CJ504),{1,2,3,4,5,6,7,8})),CI505)","v":15.146451122526743},{"$f":"IF(CK504>0,AVERAGE(SMALL(IF(BR504:CK504>0,BR504:CK504),{1,2,3,4,5,6,7,8})),CJ505)","v":15.146451122526743},{"$f":"IF(CL504>0,AVERAGE(SMALL(IF(BS504:CL504>0,BS504:CL504),{1,2,3,4,5,6,7,8})),CK505)","v":15.146451122526743},{"$f":"IF(CM504>0,AVERAGE(SMALL(IF(BT504:CM504>0,BT504:CM504),{1,2,3,4,5,6,7,8})),CL505)","v":15.146451122526743},{"$f":"IF(CN504>0,AVERAGE(SMALL(IF(BU504:CN504>0,BU504:CN504),{1,2,3,4,5,6,7,8})),CM505)","v":15.146451122526743},{"$f":"IF(CO504>0,AVERAGE(SMALL(IF(BV504:CO504>0,BV504:CO504),{1,2,3,4,5,6,7,8})),CN505)","v":15.146451122526743},{"$f":"IF(CP504>0,AVERAGE(SMALL(IF(BW504:CP504>0,BW504:CP504),{1,2,3,4,5,6,7,8})),CO505)","v":15.146451122526743},{"$f":"IF(CQ504>0,AVERAGE(SMALL(IF(BX504:CQ504>0,BX504:CQ504),{1,2,3,4,5,6,7,8})),CP505)","v":15.146451122526743},{"$f":"IF(CR504>0,AVERAGE(SMALL(IF(BY504:CR504>0,BY504:CR504),{1,2,3,4,5,6,7,8})),CQ505)","v":15.146451122526743},{"$f":"IF(CS504>0,AVERAGE(SMALL(IF(BZ504:CS504>0,BZ504:CS504),{1,2,3,4,5,6,7,8})),CR505)","v":15.146451122526743},{"$f":"IF(CT504>0,AVERAGE(SMALL(IF(CA504:CT504>0,CA504:CT504),{1,2,3,4,5,6,7,8})),CS505)","v":15.146451122526743},{"$f":"IF(CU504>0,AVERAGE(SMALL(IF(CB504:CU504>0,CB504:CU504),{1,2,3,4,5,6,7,8})),CT505)","v":15.146451122526743},{"$f":"IF(CV504>0,AVERAGE(SMALL(IF(CC504:CV504>0,CC504:CV504),{1,2,3,4,5,6,7,8})),CU505)","v":15.146451122526743},{"$f":"IF(CW504>0,AVERAGE(SMALL(IF(CD504:CW504>0,CD504:CW504),{1,2,3,4,5,6,7,8})),CV505)","v":15.146451122526743}]
[null,null,null,null,null,null,null,null,"Low Hcap",null,null,null,null,null,null,null,null,null,null,null,null,null,null,null,null,null,null,null,{"$f":"MIN($Q505:AC505)","v":12.57066940692895},{"$f":"MIN($Q505:AD505)","v":12.57066940692895},{"$f":"MIN($Q505:AE505)","v":12.57066940692895},{"$f":"MIN($Q505:AF505)","v":12.57066940692895},{"$f":"MIN($Q505:AG505)","v":12.57066940692895},{"$f":"MIN($Q505:AH505)","v":12.57066940692895},{"$f":"MIN($S505:AI505)","v":12.57066940692895},{"$f":"MIN($S505:AJ505)","v":12.57066940692895},{"$f":"MIN($W505:AK505)","v":12.57066940692895},{"$f":"MIN($W505:AL505)","v":12.57066940692895},{"$f":"MIN($Z505:AM505)","v":12.57066940692895},{"$f":"MIN($Z505:AN505)","v":12.57066940692895},{"$f":"MIN($AA505:AO505)","v":12.57066940692895},{"$f":"MIN($AJ505:AP505)","v":12.684525415788748},{"$f":"MIN($AJ505:AQ505)","v":12.684525415788748},{"$f":"MIN($AJ505:AR505)","v":12.684525415788748},{"$f":"MIN($AK505:AS505)","v":12.684525415788748},{"$f":"MIN($AM505:AT505)","v":12.684525415788748},{"$f":"MIN($AM505:AU505)","v":12.684525415788748},{"$f":"MIN($AM505:AV505)","v":12.684525415788748},{"$f":"MIN($AO505:AW505)","v":12.953257065818105},{"$f":"MIN($AO505:AX505)","v":12.953257065818105},{"$f":"MIN($AP505:AY505)","v":12.953257065818105},{"$f":"MIN($AP505:AZ505)","v":12.953257065818105},{"$f":"MIN($AP505:BA505)","v":12.953257065818105},{"$f":"MIN($AP505:BB505)","v":12.953257065818105},{"$f":"MIN($AP505:BC505)","v":12.953257065818105},{"$f":"MIN($AP505:BD505)","v":12.953257065818105},{"$f":"MIN($AP505:BE505)","v":12.953257065818105},{"$f":"MIN($AP505:BF505)","v":12.953257065818105},{"$f":"MIN($AP505:BG505)","v":12.953257065818105},{"$f":"MIN($AP505:BH505)","v":12.953257065818105},{"$f":"MIN($AP505:BI505)","v":12.953257065818105},{"$f":"MIN($AP505:BJ505)","v":12.953257065818105},{"$f":"MIN($AP505:BK505)","v":12.953257065818105},{"$f":"MIN($AP505:BL505)","v":12.953257065818105},{"$f":"MIN($AP505:BM505)","v":12.953257065818105},{"$f":"MIN($AP505:BN505)","v":12.953257065818105},{"$f":"MIN($AP505:BO505)","v":12.953257065818105},{"$f":"MIN($AP505:BP505)","v":12.953257065818105},{"$f":"MIN($AP505:BQ505)","v":12.953257065818105},{"$f":"MIN($AP505:BR505)","v":12.953257065818105},{"$f":"MIN($AP505:BS505)","v":12.953257065818105},{"$f":"MIN($AP505:BT505)","v":12.953257065818105},{"$f":"MIN($AP505:BU505)","v":12.953257065818105},{"$f":"MIN($AP505:BV505)","v":12.953257065818105},{"$f":"MIN($AP505:BW505)","v":12.953257065818105},{"$f":"MIN($AP505:BX505)","v":12.953257065818105},{"$f":"MIN($AP505:BY505)","v":12.953257065818105},{"$f":"MIN($AP505:BZ505)","v":12.953257065818105},{"$f":"MIN($AP505:CA505)","v":12.953257065818105},{"$f":"MIN($AP505:CB505)","v":12.953257065818105},{"$f":"MIN($AP505:CC505)","v":12.953257065818105},{"$f":"MIN($AP505:CD505)","v":12.953257065818105},{"$f":"MIN($AP505:CE505)","v":12.953257065818105},{"$f":"MIN($AP505:CF505)","v":12.953257065818105},{"$f":"MIN($AP505:CG505)","v":12.953257065818105},{"$f":"MIN($AP505:CH505)","v":12.953257065818105},{"$f":"MIN($AP505:CI505)","v":12.953257065818105},{"$f":"MIN($AP505:CJ505)","v":12.953257065818105},{"$f":"MIN($AP505:CK505)","v":12.953257065818105},{"$f":"MIN($AP505:CL505)","v":12.953257065818105},{"$f":"MIN($AP505:CM505)","v":12.953257065818105},{"$f":"MIN($AP505:CN505)","v":12.953257065818105},{"$f":"MIN($AP505:CO505)","v":12.953257065818105},{"$f":"MIN($AP505:CP505)","v":12.953257065818105},{"$f":"MIN($AP505:CQ505)","v":12.953257065818105},{"$f":"MIN($AP505:CR505)","v":12.953257065818105},{"$f":"MIN($AP505:CS505)","v":12.953257065818105},{"$f":"MIN($AP505:CT505)","v":12.953257065818105},{"$f":"MIN($AP505:CU505)","v":12.953257065818105},{"$f":"MIN($AP505:CV505)","v":12.953257065818105},{"$f":"MIN($AP505:CW505)","v":12.953257065818105}]
[null,"Swanepoel","Elvira",36,null,{"$f":"IF(H507<4,\"Y\",)","v":0},null,{"$f":"COUNT(J507:CX507)","v":30},"Date","2018-08-08","2019-08-04","2019-08-18","2019-08-28","2019-09-25","2019-10-13","2020-05-20","2020-05-31","2020-06-19","2020-06-28","2020-07-03","2020-07-15","2020-08-09","2020-08-14","2020-09-06","2020-10-21","2021-03-28","2021-04-11","2021-04-25","2021-05-23","2021-05-30","2021-06-13","2021-07-11","2021-07-16","2021-07-21","2022-06-25","2022-07-03","2022-07-15","2022-07-31","2023-05-19",null,null,null,null,null,null,null,null,null,null,null,null,null,null,null,null,null,null,null,null,null,null,null,null,null,null,null,null,null,null,null,null,null,null,null,null,null,null,null,null,null,null,null,null,null,null,null,null,null,null,null,null,null,null,null,null,null,null,null,null,null,null,null,{"$f":"IF(CW511>$DD$1,36,CW511)","v":36},36,{"$f":"CZ507-CY507","v":0}]
[null,null,null,null,null,null,null,null,"Course","GutThailingDR","TegernbachDR","PfaffingDR","GutThailingDR","GutThailingDR","PfaffingDR","GutThailingDR","ErdingDR","StEurachDR","ErdingDR","TegernbachDR","GutThailingDR","ErdingDR","EgmatingDR","OdelzhausenDR","GutThailingDR","OdelzhausenDR","ErdingDR","PfaffingDR","OdelzhausenDR","IffeldorfDR","PfaffingDR","PfaffingDR","MaxlrainDR","GutThailingDR","AlgaeuerDR","Pfaffing2022DR","MaxlrainDR","HohenpaehlDR","GarmischDR"]
[null,null,null,null,null,null,null,null,"Ad Gr",126,131,132,134,128,132,128,128,140,124,130,124,118,134,123,127,137,120,123,130,130,126,122,127,127,136,124,112,135,144]
[null,null,null,null,null,null,null,null,"SD",{"$f":"IF(J509=\"\",0,(J509-INDIRECT(CONCATENATE(J508,\"CR\")))*113/INDIRECT(CONCATENATE(J508,\"SR\")))","v":48.816000000000003},{"$f":"IF(K509=\"\",0,(K509-INDIRECT(CONCATENATE(K508,\"CR\")))*113/INDIRECT(CONCATENATE(K508,\"SR\")))","v":51.06899224806201},52.37460317460318,56.048000000000002,50.624000000000002,52.37460317460318,50.624000000000002,50.443199999999997,59.483199999999997,46.827199999999998,50.193023255813948,47.008000000000003,41.403199999999998,54.511199999999995,45.940983606557374,49.72,58.908196721311469,43.211199999999998,44.303174603174611,52.424590163934418,50.805511811023614,46.993650793650801,43.406349206349212,44.600757575757569,49.72,55.24444444444444,44.221259842519686,31.759848484848479,54.660465116279077,63.822399999999995,0,0,0,0,0,0,0,0,0,0,0,0,0,0,0,0,0,0,0,0,0,0,0,0,0,0,0,0,0,0,0,0,0,0,0,{"$f":"IF(BW509=\"\",0,(BW509-INDIRECT(CONCATENATE(BW508,\"CR\")))*113/INDIRECT(CONCATENATE(BW508,\"SR\")))","v":0},0,0,0,0,0,0,0,0,0,0,0,0,0,0,0,{"$f":"IF(CM509=\"\",0,(CM509-INDIRECT(CONCATENATE(CM508,\"CR\")))*113/INDIRECT(CONCATENATE(CM508,\"SR\")))","v":0},0,{"$f":"IF(CO509=\"\",0,(CO509-INDIRECT(CONCATENATE(CO508,\"CR\")))*113/INDIRECT(CONCATENATE(CO508,\"SR\")))","v":0},0,{"$f":"IF(CQ509=\"\",0,(CQ509-INDIRECT(CONCATENATE(CQ508,\"CR\")))*113/INDIRECT(CONCATENATE(CQ508,\"SR\")))","v":0},0,{"$f":"IF(CS509=\"\",0,(CS509-INDIRECT(CONCATENATE(CS508,\"CR\")))*113/INDIRECT(CONCATENATE(CS508,\"SR\")))","v":0},0,{"$f":"IF(CU509=\"\",0,(CU509-INDIRECT(CONCATENATE(CU508,\"CR\")))*113/INDIRECT(CONCATENATE(CU508,\"SR\")))","v":0},0,{"$f":"IF(CW509=\"\",0,(CW509-INDIRECT(CONCATENATE(CW508,\"CR\")))*113/INDIRECT(CONCATENATE(CW508,\"SR\")))","v":0}]
[null,null,null,null,null,null,null,null,"New Hcap",{"$f":"J510-2","v":46.816000000000003},{"$f":"IF(K510>0,MIN(J510:K510)-2,J511)","v":46.816000000000003},{"$f":"IF(L510>0,MIN(J510:L510)-2,K511)","v":46.816000000000003},{"$f":"IF(M510>0,MIN(J510:M510)-1,L511)","v":47.816000000000003},{"$f":"IF(N510>0,MIN(J510:N510),M511)","v":48.816000000000003},{"$f":"IF(O510>0,AVERAGE(SMALL(IF(J510:O510>0,J510:O510),{1,2}))-1,N511)","v":48.72},{"$f":"IF(P510>0,AVERAGE(SMALL(IF(J510:P510>0,J510:P510),{1,2})),O511)","v":49.72},{"$f":"IF(Q510>0,AVERAGE(SMALL(IF(J510:Q510>0,J510:Q510),{1,2})),P511)","v":49.629599999999996},{"$f":"IF(R510>0,AVERAGE(SMALL(IF(J510:R510>0,J510:R510),{1,2,3})),Q511)","v":49.96106666666666},{"$f":"IF(S510>0,AVERAGE(SMALL(IF(J510:S510>0,J510:S510),{1,2,3})),R511)","v":48.695466666666668},{"$f":"IF(T510>0,AVERAGE(SMALL(IF(J510:T510>0,J510:T510),{1,2,3})),S511)","v":48.612074418604657},{"$f":"IF(U510>0,AVERAGE(SMALL(IF(J510:U510>0,J510:U510),{1,2,3,4})),T511)","v":48.211055813953493},{"$f":"IF(V510>0,AVERAGE(SMALL(IF(J510:V510>0,J510:V510),{1,2,3,4})),U511)","v":46.013600000000004},{"$f":"IF(W510>0,AVERAGE(SMALL(IF(J510:W510>0,J510:W510),{1,2,3,4})),V511)","v":46.013600000000004},{"$f":"IF(X510>0,AVERAGE(SMALL(IF(J510:X510>0,J510:X510),{1,2,3,4,5})),W511)","v":45.999076721311482},{"$f":"IF(Y510>0,AVERAGE(SMALL(IF(J510:Y510>0,J510:Y510),{1,2,3,4,5})),X511)","v":45.999076721311482},{"$f":"IF(Z510>0,AVERAGE(SMALL(IF(J510:Z510>0,J510:Z510),{1,2,3,4,5,6})),Y511)","v":46.619230601092902},{"$f":"IF(AA510>0,AVERAGE(SMALL(IF(J510:AA510>0,J510:AA510),{1,2,3,4,5,6})),Z511)","v":45.5344306010929},{"$f":"IF(AB510>0,AVERAGE(SMALL(IF(J510:AB510>0,J510:AB510),{1,2,3,4,5,6,7})),AA511)","v":45.35853688710457},{"$f":"IF(AC510>0,AVERAGE(SMALL(IF(J510:AC510>0,J510:AC510),{1,2,3,4,5,6,7,8})),AB511)","v":45.903719776216505},{"$f":"IF(AD510>0,AVERAGE(SMALL(IF(K510:AD510>0,K510:AD510),{1,2,3,4,5,6,7,8})),AC511)","v":46.075847683193246},{"$f":"IF(AE510>0,AVERAGE(SMALL(IF(L510:AE510>0,L510:AE510),{1,2,3,4,5,6,7,8})),AD511)","v":45.675926125422848},{"$f":"IF(AF510>0,AVERAGE(SMALL(IF(M510:AF510>0,M510:AF510),{1,2,3,4,5,6,7,8})),AE511)","v":44.886719776216502},{"$f":"IF(AG510>0,AVERAGE(SMALL(IF(N510:AG510>0,N510:AG510),{1,2,3,4,5,6,7,8})),AF511)","v":44.58581447318619},{"$f":"IF(AH510>0,AVERAGE(SMALL(IF(O510:AH510>0,O510:AH510),{1,2,3,4,5,6,7,8})),AG511)","v":44.58581447318619},{"$f":"IF(AI510>0,AVERAGE(SMALL(IF(P510:AI510>0,P510:AI510),{1,2,3,4,5,6,7,8})),AH511)","v":44.58581447318619},{"$f":"IF(AJ510>0,AVERAGE(SMALL(IF(Q510:AJ510>0,Q510:AJ510),{1,2,3,4,5,6,7,8})),AI511)","v":44.2392656042948},{"$f":"IF(AK510>0,AVERAGE(SMALL(IF(R510:AK510>0,R510:AK510),{1,2,3,4,5,6,7,8})),AJ511)","v":42.355846664900859},{"$f":"IF(AL510>0,AVERAGE(SMALL(IF(S510:AL510>0,S510:AL510),{1,2,3,4,5,6,7,8})),AK511)","v":42.355846664900859},{"$f":"IF(AM510>0,AVERAGE(SMALL(IF(T510:AM510>0,T510:AM510),{1,2,3,4,5,6,7,8})),AL511)","v":42.355846664900859},{"$f":"IF(AN510>0,AVERAGE(SMALL(IF(U510:AN510>0,U510:AN510),{1,2,3,4,5,6,7,8})),AM511)","v":42.355846664900859},{"$f":"IF(AO510>0,AVERAGE(SMALL(IF(V510:AO510>0,V510:AO510),{1,2,3,4,5,6,7,8})),AN511)","v":42.355846664900859},{"$f":"IF(AP510>0,AVERAGE(SMALL(IF(W510:AP510>0,W510:AP510),{1,2,3,4,5,6,7,8})),AO511)","v":42.355846664900859},{"$f":"IF(AQ510>0,AVERAGE(SMALL(IF(X510:AQ510>0,X510:AQ510),{1,2,3,4,5,6,7,8})),AP511)","v":42.355846664900859},{"$f":"IF(AR510>0,AVERAGE(SMALL(IF(Y510:AR510>0,Y510:AR510),{1,2,3,4,5,6,7,8})),AQ511)","v":42.355846664900859},{"$f":"IF(AS510>0,AVERAGE(SMALL(IF(Z510:AS510>0,Z510:AS510),{1,2,3,4,5,6,7,8})),AR511)","v":42.355846664900859},{"$f":"IF(AT510>0,AVERAGE(SMALL(IF(AA510:AT510>0,AA510:AT510),{1,2,3,4,5,6,7,8})),AS511)","v":42.355846664900859},{"$f":"IF(AU510>0,AVERAGE(SMALL(IF(AB510:AU510>0,AB510:AU510),{1,2,3,4,5,6,7,8})),AT511)","v":42.355846664900859},{"$f":"IF(AV510>0,AVERAGE(SMALL(IF(AC510:AV510>0,AC510:AV510),{1,2,3,4,5,6,7,8})),AU511)","v":42.355846664900859},{"$f":"IF(AW510>0,AVERAGE(SMALL(IF(AD510:AW510>0,AD510:AW510),{1,2,3,4,5,6,7,8})),AV511)","v":42.355846664900859},{"$f":"IF(AX510>0,AVERAGE(SMALL(IF(AE510:AX510>0,AE510:AX510),{1,2,3,4,5,6,7,8})),AW511)","v":42.355846664900859},{"$f":"IF(AY510>0,AVERAGE(SMALL(IF(AF510:AY510>0,AF510:AY510),{1,2,3,4,5,6,7,8})),AX511)","v":42.355846664900859},{"$f":"IF(AZ510>0,AVERAGE(SMALL(IF(AG510:AZ510>0,AG510:AZ510),{1,2,3,4,5,6,7,8})),AY511)","v":42.355846664900859},{"$f":"IF(BA510>0,AVERAGE(SMALL(IF(AH510:BA510>0,AH510:BA510),{1,2,3,4,5,6,7,8})),AZ511)","v":42.355846664900859},{"$f":"IF(BB510>0,AVERAGE(SMALL(IF(AI510:BB510>0,AI510:BB510),{1,2,3,4,5,6,7,8})),BA511)","v":42.355846664900859},{"$f":"IF(BC510>0,AVERAGE(SMALL(IF(AJ510:BC510>0,AJ510:BC510),{1,2,3,4,5,6,7,8})),BB511)","v":42.355846664900859},{"$f":"IF(BD510>0,AVERAGE(SMALL(IF(AK510:BD510>0,AK510:BD510),{1,2,3,4,5,6,7,8})),BC511)","v":42.355846664900859},{"$f":"IF(BE510>0,AVERAGE(SMALL(IF(AL510:BE510>0,AL510:BE510),{1,2,3,4,5,6,7,8})),BD511)","v":42.355846664900859},{"$f":"IF(BF510>0,AVERAGE(SMALL(IF(AM510:BF510>0,AM510:BF510),{1,2,3,4,5,6,7,8})),BE511)","v":42.355846664900859},{"$f":"IF(BG510>0,AVERAGE(SMALL(IF(AN510:BG510>0,AN510:BG510),{1,2,3,4,5,6,7,8})),BF511)","v":42.355846664900859},{"$f":"IF(BH510>0,AVERAGE(SMALL(IF(AO510:BH510>0,AO510:BH510),{1,2,3,4,5,6,7,8})),BG511)","v":42.355846664900859},{"$f":"IF(BI510>0,AVERAGE(SMALL(IF(AP510:BI510>0,AP510:BI510),{1,2,3,4,5,6,7,8})),BH511)","v":42.355846664900859},{"$f":"IF(BJ510>0,AVERAGE(SMALL(IF(AQ510:BJ510>0,AQ510:BJ510),{1,2,3,4,5,6,7,8})),BI511)","v":42.355846664900859},{"$f":"IF(BK510>0,AVERAGE(SMALL(IF(AR510:BK510>0,AR510:BK510),{1,2,3,4,5,6,7,8})),BJ511)","v":42.355846664900859},{"$f":"IF(BL510>0,AVERAGE(SMALL(IF(AS510:BL510>0,AS510:BL510),{1,2,3,4,5,6,7,8})),BK511)","v":42.355846664900859},{"$f":"IF(BM510>0,AVERAGE(SMALL(IF(AT510:BM510>0,AT510:BM510),{1,2,3,4,5,6,7,8})),BL511)","v":42.355846664900859},{"$f":"IF(BN510>0,AVERAGE(SMALL(IF(AU510:BN510>0,AU510:BN510),{1,2,3,4,5,6,7,8})),BM511)","v":42.355846664900859},{"$f":"IF(BO510>0,AVERAGE(SMALL(IF(AV510:BO510>0,AV510:BO510),{1,2,3,4,5,6,7,8})),BN511)","v":42.355846664900859},{"$f":"IF(BP510>0,AVERAGE(SMALL(IF(AW510:BP510>0,AW510:BP510),{1,2,3,4,5,6,7,8})),BO511)","v":42.355846664900859},{"$f":"IF(BQ510>0,AVERAGE(SMALL(IF(AX510:BQ510>0,AX510:BQ510),{1,2,3,4,5,6,7,8})),BP511)","v":42.355846664900859},{"$f":"IF(BR510>0,AVERAGE(SMALL(IF(AY510:BR510>0,AY510:BR510),{1,2,3,4,5,6,7,8})),BQ511)","v":42.355846664900859},{"$f":"IF(BS510>0,AVERAGE(SMALL(IF(AZ510:BS510>0,AZ510:BS510),{1,2,3,4,5,6,7,8})),BR511)","v":42.355846664900859},{"$f":"IF(BT510>0,AVERAGE(SMALL(IF(BA510:BT510>0,BA510:BT510),{1,2,3,4,5,6,7,8})),BS511)","v":42.355846664900859},{"$f":"IF(BU510>0,AVERAGE(SMALL(IF(BB510:BU510>0,BB510:BU510),{1,2,3,4,5,6,7,8})),BT511)","v":42.355846664900859},{"$f":"IF(BV510>0,AVERAGE(SMALL(IF(BC510:BV510>0,BC510:BV510),{1,2,3,4,5,6,7,8})),BU511)","v":42.355846664900859},{"$f":"IF(BW510>0,AVERAGE(SMALL(IF(BD510:BW510>0,BD510:BW510),{1,2,3,4,5,6,7,8})),BV511)","v":42.355846664900859},{"$f":"IF(BX510>0,AVERAGE(SMALL(IF(BE510:BX510>0,BE510:BX510),{1,2,3,4,5,6,7,8})),BW511)","v":42.355846664900859},{"$f":"IF(BY510>0,AVERAGE(SMALL(IF(BF510:BY510>0,BF510:BY510),{1,2,3,4,5,6,7,8})),BX511)","v":42.355846664900859},{"$f":"IF(BZ510>0,AVERAGE(SMALL(IF(BG510:BZ510>0,BG510:BZ510),{1,2,3,4,5,6,7,8})),BY511)","v":42.355846664900859},{"$f":"IF(CA510>0,AVERAGE(SMALL(IF(BH510:CA510>0,BH510:CA510),{1,2,3,4,5,6,7,8})),BZ511)","v":42.355846664900859},{"$f":"IF(CB510>0,AVERAGE(SMALL(IF(BI510:CB510>0,BI510:CB510),{1,2,3,4,5,6,7,8})),CA511)","v":42.355846664900859},{"$f":"IF(CC510>0,AVERAGE(SMALL(IF(BJ510:CC510>0,BJ510:CC510),{1,2,3,4,5,6,7,8})),CB511)","v":42.355846664900859},{"$f":"IF(CD510>0,AVERAGE(SMALL(IF(BK510:CD510>0,BK510:CD510),{1,2,3,4,5,6,7,8})),CC511)","v":42.355846664900859},{"$f":"IF(CE510>0,AVERAGE(SMALL(IF(BL510:CE510>0,BL510:CE510),{1,2,3,4,5,6,7,8})),CD511)","v":42.355846664900859},{"$f":"IF(CF510>0,AVERAGE(SMALL(IF(BM510:CF510>0,BM510:CF510),{1,2,3,4,5,6,7,8})),CE511)","v":42.355846664900859},{"$f":"IF(CG510>0,AVERAGE(SMALL(IF(BN510:CG510>0,BN510:CG510),{1,2,3,4,5,6,7,8})),CF511)","v":42.355846664900859},{"$f":"IF(CH510>0,AVERAGE(SMALL(IF(BO510:CH510>0,BO510:CH510),{1,2,3,4,5,6,7,8})),CG511)","v":42.355846664900859},{"$f":"IF(CI510>0,AVERAGE(SMALL(IF(BP510:CI510>0,BP510:CI510),{1,2,3,4,5,6,7,8})),CH511)","v":42.355846664900859},{"$f":"IF(CJ510>0,AVERAGE(SMALL(IF(BQ510:CJ510>0,BQ510:CJ510),{1,2,3,4,5,6,7,8})),CI511)","v":42.355846664900859},{"$f":"IF(CK510>0,AVERAGE(SMALL(IF(BR510:CK510>0,BR510:CK510),{1,2,3,4,5,6,7,8})),CJ511)","v":42.355846664900859},{"$f":"IF(CL510>0,AVERAGE(SMALL(IF(BS510:CL510>0,BS510:CL510),{1,2,3,4,5,6,7,8})),CK511)","v":42.355846664900859},{"$f":"IF(CM510>0,AVERAGE(SMALL(IF(BT510:CM510>0,BT510:CM510),{1,2,3,4,5,6,7,8})),CL511)","v":42.355846664900859},{"$f":"IF(CN510>0,AVERAGE(SMALL(IF(BU510:CN510>0,BU510:CN510),{1,2,3,4,5,6,7,8})),CM511)","v":42.355846664900859},{"$f":"IF(CO510>0,AVERAGE(SMALL(IF(BV510:CO510>0,BV510:CO510),{1,2,3,4,5,6,7,8})),CN511)","v":42.355846664900859},{"$f":"IF(CP510>0,AVERAGE(SMALL(IF(BW510:CP510>0,BW510:CP510),{1,2,3,4,5,6,7,8})),CO511)","v":42.355846664900859},{"$f":"IF(CQ510>0,AVERAGE(SMALL(IF(BX510:CQ510>0,BX510:CQ510),{1,2,3,4,5,6,7,8})),CP511)","v":42.355846664900859},{"$f":"IF(CR510>0,AVERAGE(SMALL(IF(BY510:CR510>0,BY510:CR510),{1,2,3,4,5,6,7,8})),CQ511)","v":42.355846664900859},{"$f":"IF(CS510>0,AVERAGE(SMALL(IF(BZ510:CS510>0,BZ510:CS510),{1,2,3,4,5,6,7,8})),CR511)","v":42.355846664900859},{"$f":"IF(CT510>0,AVERAGE(SMALL(IF(CA510:CT510>0,CA510:CT510),{1,2,3,4,5,6,7,8})),CS511)","v":42.355846664900859},{"$f":"IF(CU510>0,AVERAGE(SMALL(IF(CB510:CU510>0,CB510:CU510),{1,2,3,4,5,6,7,8})),CT511)","v":42.355846664900859},{"$f":"IF(CV510>0,AVERAGE(SMALL(IF(CC510:CV510>0,CC510:CV510),{1,2,3,4,5,6,7,8})),CU511)","v":42.355846664900859},{"$f":"IF(CW510>0,AVERAGE(SMALL(IF(CD510:CW510>0,CD510:CW510),{1,2,3,4,5,6,7,8})),CV511)","v":42.355846664900859}]
[null,null,null,null,null,null,null,null,"Low Hcap",null,null,null,null,null,null,null,null,null,null,null,null,null,null,null,null,null,null,null,{"$f":"MIN($P511:AC511)","v":45.35853688710457},{"$f":"MIN($P511:AD511)","v":45.35853688710457},{"$f":"MIN($R511:AE511)","v":45.35853688710457},{"$f":"MIN($R511:AF511)","v":44.886719776216502},{"$f":"MIN($V511:AG511)","v":44.58581447318619},{"$f":"MIN($V511:AH511)","v":44.58581447318619},{"$f":"MIN($AF511:AI511)","v":44.58581447318619},{"$f":"MIN($AF511:AJ511)","v":44.2392656042948},{"$f":"MIN($AG511:AK511)","v":42.355846664900859},{"$f":"MIN($AI511:AL511)","v":42.355846664900859},{"$f":"MIN($AI511:AM511)","v":42.355846664900859},{"$f":"MIN($AI511:AN511)","v":42.355846664900859},{"$f":"MIN($AI511:AO511)","v":42.355846664900859},{"$f":"MIN($AI511:AP511)","v":42.355846664900859},{"$f":"MIN($AI511:AQ511)","v":42.355846664900859},{"$f":"MIN($AI511:AR511)","v":42.355846664900859},{"$f":"MIN($AI511:AS511)","v":42.355846664900859},{"$f":"MIN($AI511:AT511)","v":42.355846664900859},{"$f":"MIN($AI511:AU511)","v":42.355846664900859},{"$f":"MIN($AI511:AV511)","v":42.355846664900859},{"$f":"MIN($AI511:AW511)","v":42.355846664900859},{"$f":"MIN($AI511:AX511)","v":42.355846664900859},{"$f":"MIN($AI511:AY511)","v":42.355846664900859},{"$f":"MIN($AI511:AZ511)","v":42.355846664900859},{"$f":"MIN($AI511:BA511)","v":42.355846664900859},{"$f":"MIN($AI511:BB511)","v":42.355846664900859},{"$f":"MIN($AI511:BC511)","v":42.355846664900859},{"$f":"MIN($AI511:BD511)","v":42.355846664900859},{"$f":"MIN($AI511:BE511)","v":42.355846664900859},{"$f":"MIN($AI511:BF511)","v":42.355846664900859},{"$f":"MIN($AI511:BG511)","v":42.355846664900859},{"$f":"MIN($AI511:BH511)","v":42.355846664900859},{"$f":"MIN($AI511:BI511)","v":42.355846664900859},{"$f":"MIN($AI511:BJ511)","v":42.355846664900859},{"$f":"MIN($AI511:BK511)","v":42.355846664900859},{"$f":"MIN($AI511:BL511)","v":42.355846664900859},{"$f":"MIN($AI511:BM511)","v":42.355846664900859},{"$f":"MIN($AI511:BN511)","v":42.355846664900859},{"$f":"MIN($AI511:BO511)","v":42.355846664900859},{"$f":"MIN($AI511:BP511)","v":42.355846664900859},{"$f":"MIN($AI511:BQ511)","v":42.355846664900859},{"$f":"MIN($AI511:BR511)","v":42.355846664900859},{"$f":"MIN($AI511:BS511)","v":42.355846664900859},{"$f":"MIN($AI511:BT511)","v":42.355846664900859},{"$f":"MIN($AI511:BU511)","v":42.355846664900859},{"$f":"MIN($AI511:BV511)","v":42.355846664900859},{"$f":"MIN($AI511:BW511)","v":42.355846664900859},{"$f":"MIN($AI511:BX511)","v":42.355846664900859},{"$f":"MIN($AI511:BY511)","v":42.355846664900859},{"$f":"MIN($AI511:BZ511)","v":42.355846664900859},{"$f":"MIN($AI511:CA511)","v":42.355846664900859},{"$f":"MIN($AI511:CB511)","v":42.355846664900859},{"$f":"MIN($AI511:CC511)","v":42.355846664900859},{"$f":"MIN($AI511:CD511)","v":42.355846664900859},{"$f":"MIN($AI511:CE511)","v":42.355846664900859},{"$f":"MIN($AI511:CF511)","v":42.355846664900859},{"$f":"MIN($AI511:CG511)","v":42.355846664900859},{"$f":"MIN($AI511:CH511)","v":42.355846664900859},{"$f":"MIN($AI511:CI511)","v":42.355846664900859},{"$f":"MIN($AI511:CJ511)","v":42.355846664900859},{"$f":"MIN($AI511:CK511)","v":42.355846664900859},{"$f":"MIN($AI511:CL511)","v":42.355846664900859},{"$f":"MIN($AI511:CM511)","v":42.355846664900859},{"$f":"MIN($AI511:CN511)","v":42.355846664900859},{"$f":"MIN($AI511:CO511)","v":42.355846664900859},{"$f":"MIN($AI511:CP511)","v":42.355846664900859},{"$f":"MIN($AI511:CQ511)","v":42.355846664900859},{"$f":"MIN($AI511:CR511)","v":42.355846664900859},{"$f":"MIN($AI511:CS511)","v":42.355846664900859},{"$f":"MIN($AI511:CT511)","v":42.355846664900859},{"$f":"MIN($AI511:CU511)","v":42.355846664900859},{"$f":"MIN($AI511:CV511)","v":42.355846664900859},{"$f":"MIN($AI511:CW511)","v":42.355846664900859}]
[null,"Synnott","Paul",22.7,"Y",{"$f":"IF(H513<4,\"Y\",)","v":0},null,{"$f":"COUNT(J513:CX513)","v":48},"Date",null,"2020-06-05","2020-06-19","2020-07-31","2020-08-14","2020-10-09","2021-04-16","2021-04-30","2021-05-14","2021-06-04","2021-06-19","2021-07-02","2021-07-16","2021-07-30","2021-08-08","2021-09-03","2021-10-22","2021-11-14","2021-11-19","2022-04-15","2022-04-30","2022-05-06","2022-05-07","2022-05-14","2022-05-15","2022-05-20","2022-05-28","2022-05-29","2022-06-04","2022-06-11","2022-06-17","2022-07-01","2022-07-02","2022-07-08","2022-07-15","2022-08-06","2022-08-20","2022-08-21","2022-08-26","2022-09-17","2022-10-15","2022-10-21","2022-10-29","2022-11-05","2022-11-12","2022-11-19","2023-04-07","2023-04-14","2023-05-19",null,null,null,null,null,null,null,null,null,null,null,null,null,null,null,null,null,null,null,null,null,null,null,null,null,null,null,null,null,null,null,null,null,null,null,null,null,null,null,null,null,null,null,null,{"$f":"IF(CW517>$DD$1,36,CW517)","v":19.83806818181818},20.399999999999999,{"$f":"CZ513-CY513","v":0.5619318181818187}]
[null,null,null,null,null,null,null,null,"Course",null,"ErdingHG","StEurachHG","StEurachHG","EgmatingHG","TegernbachHG","TegernbachHG","TegernbachHG","StEurachHG","EgmatingHG","TegernbachHG","TegernbachHG","MaxlrainHG","MangfalltalHG","IffeldorfHG","StEurachHG","TegernbachHG","OdelzhausenHG","TegernbachHG","ReichertshausenHG","DGV","TegernbachHG","DGV","DGV","DGV","GutHaeusenHG","DGV","OdelzhausenHG","DGV","DGV","StEurachHG","DGV","DGV","DGV","MaxlrainHG","DGV","DGV","DGV","DGV","DGV","DGV","TegernbachHG","DGV","DGV","DGV","DGV","Reichertshausen2023HG","TegernbachHG","GarmischHG"]
[null,null,null,null,null,null,null,null,"Ad Gr",null,100,117,114,113,113,107,100,102,96,103,100,107,105,108,101,106,99,105,108,null,95,null,null,null,110,null,103,null,null,102,null,null,null,103,null,null,null,null,null,null,102,null,null,null,null,104,97,98]
[null,null,null,null,null,null,null,null,"SD",22.7,{"$f":"IF(K515=\"\",0,(K515-INDIRECT(CONCATENATE(K514,\"CR\")))*113/INDIRECT(CONCATENATE(K514,\"SR\")))","v":25.207692307692309},38.903053435114501,36.315267175572515,35.10763358778626,35.355303030303027,30.21893939393939,24.226515151515148,25.964122137404576,20.443511450381681,26.794696969696968,24.226515151515148,28.333088235294113,28.00434782608696,32.235658914728681,25.101526717557245,29.362878787878785,24.201574803149608,28.506818181818179,33.451587301587296,21.3,19.946212121212117,25.4,21.5,27.5,33.98897637795276,26.2,27.760629921259845,29.7,24.9,25.964122137404576,22,28.2,18.2,25.009558823529407,17.8,22.3,21.4,22.5,27.3,25.4,25.938636363636363,22.2,35,23.3,16.899999999999999,28.078787878787875,21.658333333333331,23.667716535433065,0,0,0,0,0,0,0,0,0,0,0,0,0,0,0,0,0,0,0,0,0,0,0,0,0,0,0,0,0,0,0,0,{"$f":"IF(CM515=\"\",0,(CM515-INDIRECT(CONCATENATE(CM514,\"CR\")))*113/INDIRECT(CONCATENATE(CM514,\"SR\")))","v":0},0,{"$f":"IF(CO515=\"\",0,(CO515-INDIRECT(CONCATENATE(CO514,\"CR\")))*113/INDIRECT(CONCATENATE(CO514,\"SR\")))","v":0},0,{"$f":"IF(CQ515=\"\",0,(CQ515-INDIRECT(CONCATENATE(CQ514,\"CR\")))*113/INDIRECT(CONCATENATE(CQ514,\"SR\")))","v":0},0,{"$f":"IF(CS515=\"\",0,(CS515-INDIRECT(CONCATENATE(CS514,\"CR\")))*113/INDIRECT(CONCATENATE(CS514,\"SR\")))","v":0},0,{"$f":"IF(CU515=\"\",0,(CU515-INDIRECT(CONCATENATE(CU514,\"CR\")))*113/INDIRECT(CONCATENATE(CU514,\"SR\")))","v":0},0,{"$f":"IF(CW515=\"\",0,(CW515-INDIRECT(CONCATENATE(CW514,\"CR\")))*113/INDIRECT(CONCATENATE(CW514,\"SR\")))","v":0}]
[null,null,null,null,20.2,null,null,null,"New Hcap",{"$f":"J516-2","v":20.7},{"$f":"IF(K516>0,MIN(J516:K516)-2,J517)","v":20.7},{"$f":"IF(L516>0,MIN(J516:L516)-2,K517)","v":20.7},{"$f":"IF(M516>0,MIN(J516:M516)-1,L517)","v":21.7},{"$f":"IF(N516>0,MIN(J516:N516),M517)","v":22.7},{"$f":"IF(O516>0,AVERAGE(SMALL(IF(J516:O516>0,J516:O516),{1,2}))-1,N517)","v":22.953846153846154},{"$f":"IF(P516>0,AVERAGE(SMALL(IF(J516:P516>0,J516:P516),{1,2})),O517)","v":23.953846153846154},{"$f":"IF(Q516>0,AVERAGE(SMALL(IF(J516:Q516>0,J516:Q516),{1,2})),P517)","v":23.463257575757574},{"$f":"IF(R516>0,AVERAGE(SMALL(IF(J516:R516>0,J516:R516),{1,2,3})),Q517)","v":24.04473581973582},{"$f":"IF(S516>0,AVERAGE(SMALL(IF(J516:S516>0,J516:S516),{1,2,3})),R517)","v":22.456675533965608},{"$f":"IF(T516>0,AVERAGE(SMALL(IF(J516:T516>0,J516:T516),{1,2,3})),S517)","v":22.456675533965608},{"$f":"IF(U516>0,AVERAGE(SMALL(IF(J516:U516>0,J516:U516),{1,2,3,4})),T517)","v":22.899135438352992},{"$f":"IF(V516>0,AVERAGE(SMALL(IF(J516:V516>0,J516:V516),{1,2,3,4})),U517)","v":22.899135438352992},{"$f":"IF(W516>0,AVERAGE(SMALL(IF(J516:W516>0,J516:W516),{1,2,3,4})),V517)","v":22.899135438352992},{"$f":"IF(X516>0,AVERAGE(SMALL(IF(J516:X516>0,J516:X516),{1,2,3,4,5})),W517)","v":23.360846812220856},{"$f":"IF(Y516>0,AVERAGE(SMALL(IF(J516:Y516>0,J516:Y516),{1,2,3,4,5})),X517)","v":23.339613694193844},{"$f":"IF(Z516>0,AVERAGE(SMALL(IF(J516:Z516>0,J516:Z516),{1,2,3,4,5,6})),Y517)","v":23.650960129776919},{"$f":"IF(AA516>0,AVERAGE(SMALL(IF(J516:AA516>0,J516:AA516),{1,2,3,4,5,6})),Z517)","v":23.483273879019805},{"$f":"IF(AB516>0,AVERAGE(SMALL(IF(J516:AB516>0,J516:AB516),{1,2,3,4,5,6,7})),AA517)","v":23.729619368830161},{"$f":"IF(AC516>0,AVERAGE(SMALL(IF(J516:AC516>0,J516:AC516),{1,2,3,4,5,6,7,8})),AB517)","v":24.008932214901964},{"$f":"IF(AD516>0,AVERAGE(SMALL(IF(K516:AD516>0,K516:AD516),{1,2,3,4,5,6,7,8})),AC517)","v":23.833932214901964},{"$f":"IF(AE516>0,AVERAGE(SMALL(IF(L516:AE516>0,L516:AE516),{1,2,3,4,5,6,7,8})),AD517)","v":23.176247191591944},{"$f":"IF(AF516>0,AVERAGE(SMALL(IF(M516:AF516>0,M516:AF516),{1,2,3,4,5,6,7,8})),AE517)","v":23.105731924416371},{"$f":"IF(AG516>0,AVERAGE(SMALL(IF(N516:AG516>0,N516:AG516),{1,2,3,4,5,6,7,8})),AF517)","v":22.618231924416371},{"$f":"IF(AH516>0,AVERAGE(SMALL(IF(O516:AH516>0,O516:AH516),{1,2,3,4,5,6,7,8})),AG517)","v":22.618231924416371},{"$f":"IF(AI516>0,AVERAGE(SMALL(IF(P516:AI516>0,P516:AI516),{1,2,3,4,5,6,7,8})),AH517)","v":22.618231924416371},{"$f":"IF(AJ516>0,AVERAGE(SMALL(IF(Q516:AJ516>0,Q516:AJ516),{1,2,3,4,5,6,7,8})),AI517)","v":22.618231924416371},{"$f":"IF(AK516>0,AVERAGE(SMALL(IF(R516:AK516>0,R516:AK516),{1,2,3,4,5,6,7,8})),AJ517)","v":22.764917530476978},{"$f":"IF(AL516>0,AVERAGE(SMALL(IF(S516:AL516>0,S516:AL516),{1,2,3,4,5,6,7,8})),AK517)","v":22.764917530476978},{"$f":"IF(AM516>0,AVERAGE(SMALL(IF(T516:AM516>0,T516:AM516),{1,2,3,4,5,6,7,8})),AL517)","v":23.321978599179264},{"$f":"IF(AN516>0,AVERAGE(SMALL(IF(U516:AN516>0,U516:AN516),{1,2,3,4,5,6,7,8})),AM517)","v":23.321978599179264},{"$f":"IF(AO516>0,AVERAGE(SMALL(IF(V516:AO516>0,V516:AO516),{1,2,3,4,5,6,7,8})),AN517)","v":23.043664205239875},{"$f":"IF(AP516>0,AVERAGE(SMALL(IF(W516:AP516>0,W516:AP516),{1,2,3,4,5,6,7,8})),AO517)","v":23.043664205239875},{"$f":"IF(AQ516>0,AVERAGE(SMALL(IF(X516:AQ516>0,X516:AQ516),{1,2,3,4,5,6,7,8})),AP517)","v":22.143664205239872},{"$f":"IF(AR516>0,AVERAGE(SMALL(IF(Y516:AR516>0,Y516:AR516),{1,2,3,4,5,6,7,8})),AQ517)","v":22.132168218486392},{"$f":"IF(AS516>0,AVERAGE(SMALL(IF(Z516:AS516>0,Z516:AS516),{1,2,3,4,5,6,7,8})),AR517)","v":21.230973365545214},{"$f":"IF(AT516>0,AVERAGE(SMALL(IF(AA516:AT516>0,AA516:AT516),{1,2,3,4,5,6,7,8})),AS517)","v":20.905973365545215},{"$f":"IF(AU516>0,AVERAGE(SMALL(IF(AB516:AU516>0,AB516:AU516),{1,2,3,4,5,6,7,8})),AT517)","v":20.555776515151514},{"$f":"IF(AV516>0,AVERAGE(SMALL(IF(AC516:AV516>0,AC516:AV516),{1,2,3,4,5,6,7,8})),AU517)","v":20.555776515151514},{"$f":"IF(AW516>0,AVERAGE(SMALL(IF(AD516:AW516>0,AD516:AW516),{1,2,3,4,5,6,7,8})),AV517)","v":20.555776515151514},{"$f":"IF(AX516>0,AVERAGE(SMALL(IF(AE516:AX516>0,AE516:AX516),{1,2,3,4,5,6,7,8})),AW517)","v":20.705776515151516},{"$f":"IF(AY516>0,AVERAGE(SMALL(IF(AF516:AY516>0,AF516:AY516),{1,2,3,4,5,6,7,8})),AX517)","v":21.324999999999999},{"$f":"IF(AZ516>0,AVERAGE(SMALL(IF(AG516:AZ516>0,AG516:AZ516),{1,2,3,4,5,6,7,8})),AY517)","v":20.987500000000001},{"$f":"IF(BA516>0,AVERAGE(SMALL(IF(AH516:BA516>0,AH516:BA516),{1,2,3,4,5,6,7,8})),AZ517)","v":21.412500000000001},{"$f":"IF(BB516>0,AVERAGE(SMALL(IF(AI516:BB516>0,AI516:BB516),{1,2,3,4,5,6,7,8})),BA517)","v":21.212500000000002},{"$f":"IF(BC516>0,AVERAGE(SMALL(IF(AJ516:BC516>0,AJ516:BC516),{1,2,3,4,5,6,7,8})),BB517)","v":20.412500000000001},{"$f":"IF(BD516>0,AVERAGE(SMALL(IF(U516:BD516>0,U516:BD516),{1,2,3,4,5,6,7,8})),BC517)","v":19.880776515151513},{"$f":"IF(BE516>0,AVERAGE(SMALL(IF(V516:BE516>0,V516:BE516),{1,2,3,4,5,6,7,8})),BD517)","v":19.83806818181818},{"$f":"IF(BF516>0,AVERAGE(SMALL(IF(W516:BF516>0,W516:BF516),{1,2,3,4,5,6,7,8})),BE517)","v":19.83806818181818},{"$f":"IF(BG516>0,AVERAGE(SMALL(IF(X516:BG516>0,X516:BG516),{1,2,3,4,5,6,7,8})),BF517)","v":19.83806818181818},{"$f":"IF(BH516>0,AVERAGE(SMALL(IF(Y516:BH516>0,Y516:BH516),{1,2,3,4,5,6,7,8})),BG517)","v":19.83806818181818},{"$f":"IF(BI516>0,AVERAGE(SMALL(IF(Z516:BI516>0,Z516:BI516),{1,2,3,4,5,6,7,8})),BH517)","v":19.83806818181818},{"$f":"IF(BJ516>0,AVERAGE(SMALL(IF(AA516:BJ516>0,AA516:BJ516),{1,2,3,4,5,6,7,8})),BI517)","v":19.83806818181818},{"$f":"IF(BK516>0,AVERAGE(SMALL(IF(AB516:BK516>0,AB516:BK516),{1,2,3,4,5,6,7,8})),BJ517)","v":19.83806818181818},{"$f":"IF(BL516>0,AVERAGE(SMALL(IF(AC516:BL516>0,AC516:BL516),{1,2,3,4,5,6,7,8})),BK517)","v":19.83806818181818},{"$f":"IF(BM516>0,AVERAGE(SMALL(IF(AE516:BM516>0,AE516:BM516),{1,2,3,4,5,6,7,8})),BL517)","v":19.83806818181818},{"$f":"IF(BN516>0,AVERAGE(SMALL(IF(AI516:BN516>0,AI516:BN516),{1,2,3,4,5,6,7,8})),BM517)","v":19.83806818181818},{"$f":"IF(BO516>0,AVERAGE(SMALL(IF(AK516:BO516>0,AK516:BO516),{1,2,3,4,5,6,7,8})),BN517)","v":19.83806818181818},{"$f":"IF(BP516>0,AVERAGE(SMALL(IF(AN516:BP516>0,AN516:BP516),{1,2,3,4,5,6,7,8})),BO517)","v":19.83806818181818},{"$f":"IF(BQ516>0,AVERAGE(SMALL(IF(AR516:BQ516>0,AR516:BQ516),{1,2,3,4,5,6,7,8})),BP517)","v":19.83806818181818},{"$f":"IF(BR516>0,AVERAGE(SMALL(IF(AY516:BR516>0,AY516:BR516),{1,2,3,4,5,6,7,8})),BQ517)","v":19.83806818181818},{"$f":"IF(BS516>0,AVERAGE(SMALL(IF(AZ516:BS516>0,AZ516:BS516),{1,2,3,4,5,6,7,8})),BR517)","v":19.83806818181818},{"$f":"IF(BT516>0,AVERAGE(SMALL(IF(BA516:BT516>0,BA516:BT516),{1,2,3,4,5,6,7,8})),BS517)","v":19.83806818181818},{"$f":"IF(BU516>0,AVERAGE(SMALL(IF(BB516:BU516>0,BB516:BU516),{1,2,3,4,5,6,7,8})),BT517)","v":19.83806818181818},{"$f":"IF(BV516>0,AVERAGE(SMALL(IF(BC516:BV516>0,BC516:BV516),{1,2,3,4,5,6,7,8})),BU517)","v":19.83806818181818},{"$f":"IF(BW516>0,AVERAGE(SMALL(IF(BD516:BW516>0,BD516:BW516),{1,2,3,4,5,6,7,8})),BV517)","v":19.83806818181818},{"$f":"IF(BX516>0,AVERAGE(SMALL(IF(BE516:BX516>0,BE516:BX516),{1,2,3,4,5,6,7,8})),BW517)","v":19.83806818181818},{"$f":"IF(BY516>0,AVERAGE(SMALL(IF(BF516:BY516>0,BF516:BY516),{1,2,3,4,5,6,7,8})),BX517)","v":19.83806818181818},{"$f":"IF(BZ516>0,AVERAGE(SMALL(IF(BG516:BZ516>0,BG516:BZ516),{1,2,3,4,5,6,7,8})),BY517)","v":19.83806818181818},{"$f":"IF(CA516>0,AVERAGE(SMALL(IF(BH516:CA516>0,BH516:CA516),{1,2,3,4,5,6,7,8})),BZ517)","v":19.83806818181818},{"$f":"IF(CB516>0,AVERAGE(SMALL(IF(BI516:CB516>0,BI516:CB516),{1,2,3,4,5,6,7,8})),CA517)","v":19.83806818181818},{"$f":"IF(CC516>0,AVERAGE(SMALL(IF(BJ516:CC516>0,BJ516:CC516),{1,2,3,4,5,6,7,8})),CB517)","v":19.83806818181818},{"$f":"IF(CD516>0,AVERAGE(SMALL(IF(BK516:CD516>0,BK516:CD516),{1,2,3,4,5,6,7,8})),CC517)","v":19.83806818181818},{"$f":"IF(CE516>0,AVERAGE(SMALL(IF(BL516:CE516>0,BL516:CE516),{1,2,3,4,5,6,7,8})),CD517)","v":19.83806818181818},{"$f":"IF(CF516>0,AVERAGE(SMALL(IF(BM516:CF516>0,BM516:CF516),{1,2,3,4,5,6,7,8})),CE517)","v":19.83806818181818},{"$f":"IF(CG516>0,AVERAGE(SMALL(IF(BN516:CG516>0,BN516:CG516),{1,2,3,4,5,6,7,8})),CF517)","v":19.83806818181818},{"$f":"IF(CH516>0,AVERAGE(SMALL(IF(BO516:CH516>0,BO516:CH516),{1,2,3,4,5,6,7,8})),CG517)","v":19.83806818181818},{"$f":"IF(CI516>0,AVERAGE(SMALL(IF(BP516:CI516>0,BP516:CI516),{1,2,3,4,5,6,7,8})),CH517)","v":19.83806818181818},{"$f":"IF(CJ516>0,AVERAGE(SMALL(IF(BQ516:CJ516>0,BQ516:CJ516),{1,2,3,4,5,6,7,8})),CI517)","v":19.83806818181818},{"$f":"IF(CK516>0,AVERAGE(SMALL(IF(BR516:CK516>0,BR516:CK516),{1,2,3,4,5,6,7,8})),CJ517)","v":19.83806818181818},{"$f":"IF(CL516>0,AVERAGE(SMALL(IF(BS516:CL516>0,BS516:CL516),{1,2,3,4,5,6,7,8})),CK517)","v":19.83806818181818},{"$f":"IF(CM516>0,AVERAGE(SMALL(IF(BT516:CM516>0,BT516:CM516),{1,2,3,4,5,6,7,8})),CL517)","v":19.83806818181818},{"$f":"IF(CN516>0,AVERAGE(SMALL(IF(BU516:CN516>0,BU516:CN516),{1,2,3,4,5,6,7,8})),CM517)","v":19.83806818181818},{"$f":"IF(CO516>0,AVERAGE(SMALL(IF(BV516:CO516>0,BV516:CO516),{1,2,3,4,5,6,7,8})),CN517)","v":19.83806818181818},{"$f":"IF(CP516>0,AVERAGE(SMALL(IF(BW516:CP516>0,BW516:CP516),{1,2,3,4,5,6,7,8})),CO517)","v":19.83806818181818},{"$f":"IF(CQ516>0,AVERAGE(SMALL(IF(BX516:CQ516>0,BX516:CQ516),{1,2,3,4,5,6,7,8})),CP517)","v":19.83806818181818},{"$f":"IF(CR516>0,AVERAGE(SMALL(IF(BY516:CR516>0,BY516:CR516),{1,2,3,4,5,6,7,8})),CQ517)","v":19.83806818181818},{"$f":"IF(CS516>0,AVERAGE(SMALL(IF(BZ516:CS516>0,BZ516:CS516),{1,2,3,4,5,6,7,8})),CR517)","v":19.83806818181818},{"$f":"IF(CT516>0,AVERAGE(SMALL(IF(CA516:CT516>0,CA516:CT516),{1,2,3,4,5,6,7,8})),CS517)","v":19.83806818181818},{"$f":"IF(CU516>0,AVERAGE(SMALL(IF(CB516:CU516>0,CB516:CU516),{1,2,3,4,5,6,7,8})),CT517)","v":19.83806818181818},{"$f":"IF(CV516>0,AVERAGE(SMALL(IF(CC516:CV516>0,CC516:CV516),{1,2,3,4,5,6,7,8})),CU517)","v":19.83806818181818},{"$f":"IF(CW516>0,AVERAGE(SMALL(IF(CD516:CW516>0,CD516:CW516),{1,2,3,4,5,6,7,8})),CV517)","v":19.83806818181818}]
[null,null,null,null,null,null,null,null,"Low Hcap",null,null,null,null,null,null,null,null,null,null,null,null,null,null,null,null,null,null,null,{"$f":"MIN($P517:AC517)","v":22.456675533965608},{"$f":"MIN($P517:AD517)","v":22.456675533965608},{"$f":"MIN($R517:AE517)","v":22.456675533965608},{"$f":"MIN($R517:AF517)","v":22.456675533965608},{"$f":"MIN($R517:AG517)","v":22.456675533965608},{"$f":"MIN($S517:AH517)","v":22.456675533965608},{"$f":"MIN($S517:AI517)","v":22.456675533965608},{"$f":"MIN($S517:AJ517)","v":22.456675533965608},{"$f":"MIN($S517:AK517)","v":22.456675533965608},{"$f":"MIN($S517:AL517)","v":22.456675533965608},{"$f":"MIN($T517:AM517)","v":22.456675533965608},{"$f":"MIN($T517:AN517)","v":22.456675533965608},{"$f":"MIN($U517:AO517)","v":22.618231924416371},{"$f":"MIN($U517:AP517)","v":22.618231924416371},{"$f":"MIN($V517:AQ517)","v":22.143664205239872},{"$f":"MIN($V517:AR517)","v":22.132168218486392},{"$f":"MIN($X517:AS517)","v":21.230973365545214},{"$f":"MIN($Y517:AT517)","v":20.905973365545215},{"$f":"MIN($Y517:AU517)","v":20.555776515151514},{"$f":"MIN($Y517:AV517)","v":20.555776515151514},{"$f":"MIN($Z517:AW517)","v":20.555776515151514},{"$f":"MIN($Z517:AX517)","v":20.555776515151514},{"$f":"MIN($Z517:AY517)","v":20.555776515151514},{"$f":"MIN($AA517:AZ517)","v":20.555776515151514},{"$f":"MIN($AA517:BA517)","v":20.555776515151514},{"$f":"MIN($AA517:BB517)","v":20.555776515151514},{"$f":"MIN($AB517:BC517)","v":20.412500000000001},{"$f":"MIN($AC517:BD517)","v":19.880776515151513},{"$f":"MIN($AC517:BE517)","v":19.83806818181818},{"$f":"MIN($AC517:BF517)","v":19.83806818181818},{"$f":"MIN($AC517:BG517)","v":19.83806818181818},{"$f":"MIN($AC517:BH517)","v":19.83806818181818},{"$f":"MIN($AC517:BI517)","v":19.83806818181818},{"$f":"MIN($AC517:BJ517)","v":19.83806818181818},{"$f":"MIN($AC517:BK517)","v":19.83806818181818},{"$f":"MIN($AC517:BL517)","v":19.83806818181818},{"$f":"MIN($AC517:BM517)","v":19.83806818181818},{"$f":"MIN($AC517:BN517)","v":19.83806818181818},{"$f":"MIN($AC517:BO517)","v":19.83806818181818},{"$f":"MIN($AC517:BP517)","v":19.83806818181818},{"$f":"MIN($AC517:BQ517)","v":19.83806818181818},{"$f":"MIN($AC517:BR517)","v":19.83806818181818},{"$f":"MIN($AC517:BS517)","v":19.83806818181818},{"$f":"MIN($AC517:BT517)","v":19.83806818181818},{"$f":"MIN($AC517:BU517)","v":19.83806818181818},{"$f":"MIN($AC517:BV517)","v":19.83806818181818},{"$f":"MIN($AC517:BW517)","v":19.83806818181818},{"$f":"MIN($AC517:BX517)","v":19.83806818181818},{"$f":"MIN($AC517:BY517)","v":19.83806818181818},{"$f":"MIN($AC517:BZ517)","v":19.83806818181818},{"$f":"MIN($AC517:CA517)","v":19.83806818181818},{"$f":"MIN($AC517:CB517)","v":19.83806818181818},{"$f":"MIN($AC517:CC517)","v":19.83806818181818},{"$f":"MIN($AC517:CD517)","v":19.83806818181818},{"$f":"MIN($AC517:CE517)","v":19.83806818181818},{"$f":"MIN($AC517:CF517)","v":19.83806818181818},{"$f":"MIN($AC517:CG517)","v":19.83806818181818},{"$f":"MIN($AC517:CH517)","v":19.83806818181818},{"$f":"MIN($AC517:CI517)","v":19.83806818181818},{"$f":"MIN($AC517:CJ517)","v":19.83806818181818},{"$f":"MIN($AC517:CK517)","v":19.83806818181818},{"$f":"MIN($AC517:CL517)","v":19.83806818181818},{"$f":"MIN($AC517:CM517)","v":19.83806818181818},{"$f":"MIN($AC517:CN517)","v":19.83806818181818},{"$f":"MIN($AC517:CO517)","v":19.83806818181818},{"$f":"MIN($AC517:CP517)","v":19.83806818181818},{"$f":"MIN($AC517:CQ517)","v":19.83806818181818},{"$f":"MIN($AC517:CR517)","v":19.83806818181818},{"$f":"MIN($AC517:CS517)","v":19.83806818181818},{"$f":"MIN($AC517:CT517)","v":19.83806818181818},{"$f":"MIN($AC517:CU517)","v":19.83806818181818},{"$f":"MIN($AC517:CV517)","v":19.83806818181818},{"$f":"MIN($AC517:CW517)","v":19.83806818181818}]
[null,"Thom","Martin",19.5,null,{"$f":"IF(H519<4,\"Y\",)","v":0},null,{"$f":"COUNT(J519:CX519)","v":43},"Date","2018-06-03","2018-06-10","2019-04-28","2019-06-09","2020-05-20","2020-05-24","2020-05-31","2020-06-05","2020-06-14","2020-06-19","2020-06-28","2020-07-12","2020-07-26","2020-07-31","2020-08-09","2020-08-14","2020-08-23","2020-09-06","2020-10-04","2020-10-21","2020-11-01","2020-11-06","2020-11-15","2021-03-28","2021-04-11","2021-04-16","2021-04-25","2021-04-30","2021-05-14","2021-05-23","2021-05-30","2021-06-04","2021-06-13","2021-06-19","2021-07-25","2021-07-30","2021-08-08","2021-08-15","2021-09-03","2022-06-25","2022-06-26","2022-07-31","2022-08-12",null,null,null,null,null,null,null,null,null,null,null,null,null,null,null,null,null,null,null,null,null,null,null,null,null,null,null,null,null,null,null,null,null,null,null,null,null,null,null,null,null,null,null,null,null,null,null,null,null,null,{"$f":"IF(CW523>$DD$1,36,CW523)","v":19.183388483518417},19.183388483518417,{"$f":"CZ519-CY519","v":0}]
[null,null,null,null,null,null,null,null,"Course","OdelzhausenHG","TegernbachHG","PfaffingHG","OdelzhausenHG","GutThailingHG","PfaffingHG","ErdingHG","ErdingHG","OdelzhausenHG","StEurachHG","ErdingHG","PfaffingHG","OdelzhausenHG","StEurachHG","ErdingHG","EgmatingHG","PfaffingHG","OdelzhausenHG","OdelzhausenHG","GutThailingHG","ErdingHG","TegernbachHG","OdelzhausenHG","OdelzhausenHG","ErdingHR","TegernbachHG","PfaffingHG","TegernbachHG","StEurachHG","OdelzhausenHG","IffeldorfHG","EgmatingHG","PfaffingHG","TegernbachHG","OdelzhausenHG","MangfalltalHG","IffeldorfHG","ErdingHG","StEurachHG","AlgaeuerHG","AlgaeuerHG","HohenpaehlHG","ValleyHG"]
[null,null,null,null,null,null,null,null,"Ad Gr",97,101,105,102,108,106,95,96,99,106,100,95,105,99,95,97,95,114,99,98,97,98,103,102,91,103,104,107,91,102,91,106,96,88,107,97,101,99,97,100,97,96,98]
[null,null,null,null,null,null,null,null,"SD",{"$f":"IF(J521=\"\",0,(J521-INDIRECT(CONCATENATE(J520,\"CR\")))*113/INDIRECT(CONCATENATE(J520,\"SR\")))","v":22.42204724409449},{"$f":"IF(K521=\"\",0,(K521-INDIRECT(CONCATENATE(K520,\"CR\")))*113/INDIRECT(CONCATENATE(K520,\"SR\")))","v":25.082575757575754},28.684615384615384,26.870866141732286,32.347328244274806,29.553846153846155,20.861538461538462,21.73076923076923,24.201574803149608,29.414503816793889,25.207692307692309,19.992307692307691,29.540157480314964,23.376335877862591,20.861538461538462,21.306106870229012,19.992307692307691,37.548031496062997,24.201574803149608,23.721374045801525,22.6,22.514393939393937,27.760629921259845,26.870866141732286,22.884873949579827,26.794696969696968,27.815384615384616,30.21893939393939,16.475572519083965,26.870866141732286,17.344186046511624,29.069465648854965,20.861538461538462,13.953787878787876,31.319685039370082,21.4536231884058,26.103875968992245,24.338461538461537,21.651145038167932,23.807633587786253,21.219847328244271,21.823664122137401,20.507407407407406,0,0,0,0,0,0,0,0,0,0,0,0,0,0,0,0,0,0,0,0,0,0,{"$f":"IF(BW521=\"\",0,(BW521-INDIRECT(CONCATENATE(BW520,\"CR\")))*113/INDIRECT(CONCATENATE(BW520,\"SR\")))","v":0},0,0,0,0,0,0,0,0,0,0,0,0,0,0,0,{"$f":"IF(CM521=\"\",0,(CM521-INDIRECT(CONCATENATE(CM520,\"CR\")))*113/INDIRECT(CONCATENATE(CM520,\"SR\")))","v":0},0,{"$f":"IF(CO521=\"\",0,(CO521-INDIRECT(CONCATENATE(CO520,\"CR\")))*113/INDIRECT(CONCATENATE(CO520,\"SR\")))","v":0},0,{"$f":"IF(CQ521=\"\",0,(CQ521-INDIRECT(CONCATENATE(CQ520,\"CR\")))*113/INDIRECT(CONCATENATE(CQ520,\"SR\")))","v":0},0,{"$f":"IF(CS521=\"\",0,(CS521-INDIRECT(CONCATENATE(CS520,\"CR\")))*113/INDIRECT(CONCATENATE(CS520,\"SR\")))","v":0},0,{"$f":"IF(CU521=\"\",0,(CU521-INDIRECT(CONCATENATE(CU520,\"CR\")))*113/INDIRECT(CONCATENATE(CU520,\"SR\")))","v":0},0,{"$f":"IF(CW521=\"\",0,(CW521-INDIRECT(CONCATENATE(CW520,\"CR\")))*113/INDIRECT(CONCATENATE(CW520,\"SR\")))","v":0}]
[null,null,null,null,null,null,null,null,"New Hcap",{"$f":"J522-2","v":20.42204724409449},{"$f":"IF(K522>0,MIN(J522:K522)-2,J523)","v":20.42204724409449},{"$f":"IF(L522>0,MIN(J522:L522)-2,K523)","v":20.42204724409449},{"$f":"IF(M522>0,MIN(J522:M522)-1,L523)","v":21.42204724409449},{"$f":"IF(N522>0,MIN(J522:N522),M523)","v":22.42204724409449},{"$f":"IF(O522>0,AVERAGE(SMALL(IF(J522:O522>0,J522:O522),{1,2}))-1,N523)","v":22.75231150083512},{"$f":"IF(P522>0,AVERAGE(SMALL(IF(J522:P522>0,J522:P522),{1,2})),O523)","v":21.641792852816476},{"$f":"IF(Q522>0,AVERAGE(SMALL(IF(J522:Q522>0,J522:Q522),{1,2})),P523)","v":21.296153846153846},{"$f":"IF(R522>0,AVERAGE(SMALL(IF(J522:R522>0,J522:R522),{1,2,3})),Q523)","v":21.671451645467396},{"$f":"IF(S522>0,AVERAGE(SMALL(IF(J522:S522>0,J522:S522),{1,2,3})),R523)","v":21.671451645467396},{"$f":"IF(T522>0,AVERAGE(SMALL(IF(J522:T522>0,J522:T522),{1,2,3})),S523)","v":21.671451645467396},{"$f":"IF(U522>0,AVERAGE(SMALL(IF(J522:U522>0,J522:U522),{1,2,3,4})),T523)","v":21.251665657177465},{"$f":"IF(V522>0,AVERAGE(SMALL(IF(J522:V522>0,J522:V522),{1,2,3,4})),U523)","v":21.251665657177465},{"$f":"IF(W522>0,AVERAGE(SMALL(IF(J522:W522>0,J522:W522),{1,2,3,4})),V523)","v":21.251665657177465},{"$f":"IF(X522>0,AVERAGE(SMALL(IF(J522:X522>0,J522:X522),{1,2,3,4,5})),W523)","v":21.173640218049663},{"$f":"IF(Y522>0,AVERAGE(SMALL(IF(J522:Y522>0,J522:Y522),{1,2,3,4,5})),X523)","v":20.950452143276571},{"$f":"IF(Z522>0,AVERAGE(SMALL(IF(J522:Z522>0,J522:Z522),{1,2,3,4,5,6})),Y523)","v":20.790761401448425},{"$f":"IF(AA522>0,AVERAGE(SMALL(IF(J522:AA522>0,J522:AA522),{1,2,3,4,5,6})),Z523)","v":20.790761401448425},{"$f":"IF(AB522>0,AVERAGE(SMALL(IF(J522:AB522>0,J522:AB522),{1,2,3,4,5,6,7})),AA523)","v":21.023802236112147},{"$f":"IF(AC522>0,AVERAGE(SMALL(IF(J522:AC522>0,J522:AC522),{1,2,3,4,5,6,7,8})),AB523)","v":21.317868941330953},{"$f":"IF(AD522>0,AVERAGE(SMALL(IF(K522:AD522>0,K522:AD522),{1,2,3,4,5,6,7,8})),AC523)","v":21.340113035819144},{"$f":"IF(AE522>0,AVERAGE(SMALL(IF(L522:AE522>0,L522:AE522),{1,2,3,4,5,6,7,8})),AD523)","v":21.232370293510559},{"$f":"IF(AF522>0,AVERAGE(SMALL(IF(M522:AF522>0,M522:AF522),{1,2,3,4,5,6,7,8})),AE523)","v":21.232370293510559},{"$f":"IF(AG522>0,AVERAGE(SMALL(IF(N522:AG522>0,N522:AG522),{1,2,3,4,5,6,7,8})),AF523)","v":21.232370293510559},{"$f":"IF(AH522>0,AVERAGE(SMALL(IF(O522:AH522>0,O522:AH522),{1,2,3,4,5,6,7,8})),AG523)","v":21.232370293510559},{"$f":"IF(AI522>0,AVERAGE(SMALL(IF(P522:AI522>0,P522:AI522),{1,2,3,4,5,6,7,8})),AH523)","v":21.232370293510559},{"$f":"IF(AJ522>0,AVERAGE(SMALL(IF(Q522:AJ522>0,Q522:AJ522),{1,2,3,4,5,6,7,8})),AI523)","v":21.48528722951573},{"$f":"IF(AK522>0,AVERAGE(SMALL(IF(R522:AK522>0,R522:AK522),{1,2,3,4,5,6,7,8})),AJ523)","v":21.690983060402402},{"$f":"IF(AL522>0,AVERAGE(SMALL(IF(S522:AL522>0,S522:AL522),{1,2,3,4,5,6,7,8})),AK523)","v":20.828387640555075},{"$f":"IF(AM522>0,AVERAGE(SMALL(IF(T522:AM522>0,T522:AM522),{1,2,3,4,5,6,7,8})),AL523)","v":20.828387640555075},{"$f":"IF(AN522>0,AVERAGE(SMALL(IF(U522:AN522>0,U522:AN522),{1,2,3,4,5,6,7,8})),AM523)","v":20.135801652671546},{"$f":"IF(AO522>0,AVERAGE(SMALL(IF(V522:AO522>0,V522:AO522),{1,2,3,4,5,6,7,8})),AN523)","v":20.497372434830567},{"$f":"IF(AP522>0,AVERAGE(SMALL(IF(W522:AP522>0,W522:AP522),{1,2,3,4,5,6,7,8})),AO523)","v":20.244455498825392},{"$f":"IF(AQ522>0,AVERAGE(SMALL(IF(X522:AQ522>0,X522:AQ522),{1,2,3,4,5,6,7,8})),AP523)","v":19.163678983673876},{"$f":"IF(AR522>0,AVERAGE(SMALL(IF(Y522:AR522>0,Y522:AR522),{1,2,3,4,5,6,7,8})),AQ523)","v":19.380986675981571},{"$f":"IF(AS522>0,AVERAGE(SMALL(IF(Z522:AS522>0,Z522:AS522),{1,2,3,4,5,6,7,8})),AR523)","v":19.399426215753667},{"$f":"IF(AT522>0,AVERAGE(SMALL(IF(AA522:AT522>0,AA522:AT522),{1,2,3,4,5,6,7,8})),AS523)","v":19.760996997912688},{"$f":"IF(AU522>0,AVERAGE(SMALL(IF(AB522:AU522>0,AB522:AU522),{1,2,3,4,5,6,7,8})),AT523)","v":19.760996997912688},{"$f":"IF(AV522>0,AVERAGE(SMALL(IF(AC522:AV522>0,AC522:AV522),{1,2,3,4,5,6,7,8})),AU523)","v":19.606780883986197},{"$f":"IF(AW522>0,AVERAGE(SMALL(IF(AD522:AW522>0,AD522:AW522),{1,2,3,4,5,6,7,8})),AV523)","v":19.606780883986197},{"$f":"IF(AX522>0,AVERAGE(SMALL(IF(AE522:AX522>0,AE522:AX522),{1,2,3,4,5,6,7,8})),AW523)","v":19.434261800016731},{"$f":"IF(AY522>0,AVERAGE(SMALL(IF(AF522:AY522>0,AF522:AY522),{1,2,3,4,5,6,7,8})),AX523)","v":19.347920572859664},{"$f":"IF(AZ522>0,AVERAGE(SMALL(IF(AG522:AZ522>0,AG522:AZ522),{1,2,3,4,5,6,7,8})),AY523)","v":19.183388483518417},{"$f":"IF(BA522>0,AVERAGE(SMALL(IF(AH522:BA522>0,AH522:BA522),{1,2,3,4,5,6,7,8})),AZ523)","v":19.183388483518417},{"$f":"IF(BB522>0,AVERAGE(SMALL(IF(AI522:BB522>0,AI522:BB522),{1,2,3,4,5,6,7,8})),BA523)","v":19.183388483518417},{"$f":"IF(BC522>0,AVERAGE(SMALL(IF(AJ522:BC522>0,AJ522:BC522),{1,2,3,4,5,6,7,8})),BB523)","v":19.183388483518417},{"$f":"IF(BD522>0,AVERAGE(SMALL(IF(AK522:BD522>0,AK522:BD522),{1,2,3,4,5,6,7,8})),BC523)","v":19.183388483518417},{"$f":"IF(BE522>0,AVERAGE(SMALL(IF(AL522:BE522>0,AL522:BE522),{1,2,3,4,5,6,7,8})),BD523)","v":19.183388483518417},{"$f":"IF(BF522>0,AVERAGE(SMALL(IF(AM522:BF522>0,AM522:BF522),{1,2,3,4,5,6,7,8})),BE523)","v":19.183388483518417},{"$f":"IF(BG522>0,AVERAGE(SMALL(IF(AN522:BG522>0,AN522:BG522),{1,2,3,4,5,6,7,8})),BF523)","v":19.183388483518417},{"$f":"IF(BH522>0,AVERAGE(SMALL(IF(AO522:BH522>0,AO522:BH522),{1,2,3,4,5,6,7,8})),BG523)","v":19.183388483518417},{"$f":"IF(BI522>0,AVERAGE(SMALL(IF(AP522:BI522>0,AP522:BI522),{1,2,3,4,5,6,7,8})),BH523)","v":19.183388483518417},{"$f":"IF(BJ522>0,AVERAGE(SMALL(IF(AQ522:BJ522>0,AQ522:BJ522),{1,2,3,4,5,6,7,8})),BI523)","v":19.183388483518417},{"$f":"IF(BK522>0,AVERAGE(SMALL(IF(AR522:BK522>0,AR522:BK522),{1,2,3,4,5,6,7,8})),BJ523)","v":19.183388483518417},{"$f":"IF(BL522>0,AVERAGE(SMALL(IF(AS522:BL522>0,AS522:BL522),{1,2,3,4,5,6,7,8})),BK523)","v":19.183388483518417},{"$f":"IF(BM522>0,AVERAGE(SMALL(IF(AT522:BM522>0,AT522:BM522),{1,2,3,4,5,6,7,8})),BL523)","v":19.183388483518417},{"$f":"IF(BN522>0,AVERAGE(SMALL(IF(AU522:BN522>0,AU522:BN522),{1,2,3,4,5,6,7,8})),BM523)","v":19.183388483518417},{"$f":"IF(BO522>0,AVERAGE(SMALL(IF(AV522:BO522>0,AV522:BO522),{1,2,3,4,5,6,7,8})),BN523)","v":19.183388483518417},{"$f":"IF(BP522>0,AVERAGE(SMALL(IF(AW522:BP522>0,AW522:BP522),{1,2,3,4,5,6,7,8})),BO523)","v":19.183388483518417},{"$f":"IF(BQ522>0,AVERAGE(SMALL(IF(AX522:BQ522>0,AX522:BQ522),{1,2,3,4,5,6,7,8})),BP523)","v":19.183388483518417},{"$f":"IF(BR522>0,AVERAGE(SMALL(IF(AY522:BR522>0,AY522:BR522),{1,2,3,4,5,6,7,8})),BQ523)","v":19.183388483518417},{"$f":"IF(BS522>0,AVERAGE(SMALL(IF(AZ522:BS522>0,AZ522:BS522),{1,2,3,4,5,6,7,8})),BR523)","v":19.183388483518417},{"$f":"IF(BT522>0,AVERAGE(SMALL(IF(BA522:BT522>0,BA522:BT522),{1,2,3,4,5,6,7,8})),BS523)","v":19.183388483518417},{"$f":"IF(BU522>0,AVERAGE(SMALL(IF(BB522:BU522>0,BB522:BU522),{1,2,3,4,5,6,7,8})),BT523)","v":19.183388483518417},{"$f":"IF(BV522>0,AVERAGE(SMALL(IF(BC522:BV522>0,BC522:BV522),{1,2,3,4,5,6,7,8})),BU523)","v":19.183388483518417},{"$f":"IF(BW522>0,AVERAGE(SMALL(IF(BD522:BW522>0,BD522:BW522),{1,2,3,4,5,6,7,8})),BV523)","v":19.183388483518417},{"$f":"IF(BX522>0,AVERAGE(SMALL(IF(BE522:BX522>0,BE522:BX522),{1,2,3,4,5,6,7,8})),BW523)","v":19.183388483518417},{"$f":"IF(BY522>0,AVERAGE(SMALL(IF(BF522:BY522>0,BF522:BY522),{1,2,3,4,5,6,7,8})),BX523)","v":19.183388483518417},{"$f":"IF(BZ522>0,AVERAGE(SMALL(IF(BG522:BZ522>0,BG522:BZ522),{1,2,3,4,5,6,7,8})),BY523)","v":19.183388483518417},{"$f":"IF(CA522>0,AVERAGE(SMALL(IF(BH522:CA522>0,BH522:CA522),{1,2,3,4,5,6,7,8})),BZ523)","v":19.183388483518417},{"$f":"IF(CB522>0,AVERAGE(SMALL(IF(BI522:CB522>0,BI522:CB522),{1,2,3,4,5,6,7,8})),CA523)","v":19.183388483518417},{"$f":"IF(CC522>0,AVERAGE(SMALL(IF(BJ522:CC522>0,BJ522:CC522),{1,2,3,4,5,6,7,8})),CB523)","v":19.183388483518417},{"$f":"IF(CD522>0,AVERAGE(SMALL(IF(BK522:CD522>0,BK522:CD522),{1,2,3,4,5,6,7,8})),CC523)","v":19.183388483518417},{"$f":"IF(CE522>0,AVERAGE(SMALL(IF(BL522:CE522>0,BL522:CE522),{1,2,3,4,5,6,7,8})),CD523)","v":19.183388483518417},{"$f":"IF(CF522>0,AVERAGE(SMALL(IF(BM522:CF522>0,BM522:CF522),{1,2,3,4,5,6,7,8})),CE523)","v":19.183388483518417},{"$f":"IF(CG522>0,AVERAGE(SMALL(IF(BN522:CG522>0,BN522:CG522),{1,2,3,4,5,6,7,8})),CF523)","v":19.183388483518417},{"$f":"IF(CH522>0,AVERAGE(SMALL(IF(BO522:CH522>0,BO522:CH522),{1,2,3,4,5,6,7,8})),CG523)","v":19.183388483518417},{"$f":"IF(CI522>0,AVERAGE(SMALL(IF(BP522:CI522>0,BP522:CI522),{1,2,3,4,5,6,7,8})),CH523)","v":19.183388483518417},{"$f":"IF(CJ522>0,AVERAGE(SMALL(IF(BQ522:CJ522>0,BQ522:CJ522),{1,2,3,4,5,6,7,8})),CI523)","v":19.183388483518417},{"$f":"IF(CK522>0,AVERAGE(SMALL(IF(BR522:CK522>0,BR522:CK522),{1,2,3,4,5,6,7,8})),CJ523)","v":19.183388483518417},{"$f":"IF(CL522>0,AVERAGE(SMALL(IF(BS522:CL522>0,BS522:CL522),{1,2,3,4,5,6,7,8})),CK523)","v":19.183388483518417},{"$f":"IF(CM522>0,AVERAGE(SMALL(IF(BT522:CM522>0,BT522:CM522),{1,2,3,4,5,6,7,8})),CL523)","v":19.183388483518417},{"$f":"IF(CN522>0,AVERAGE(SMALL(IF(BU522:CN522>0,BU522:CN522),{1,2,3,4,5,6,7,8})),CM523)","v":19.183388483518417},{"$f":"IF(CO522>0,AVERAGE(SMALL(IF(BV522:CO522>0,BV522:CO522),{1,2,3,4,5,6,7,8})),CN523)","v":19.183388483518417},{"$f":"IF(CP522>0,AVERAGE(SMALL(IF(BW522:CP522>0,BW522:CP522),{1,2,3,4,5,6,7,8})),CO523)","v":19.183388483518417},{"$f":"IF(CQ522>0,AVERAGE(SMALL(IF(BX522:CQ522>0,BX522:CQ522),{1,2,3,4,5,6,7,8})),CP523)","v":19.183388483518417},{"$f":"IF(CR522>0,AVERAGE(SMALL(IF(BY522:CR522>0,BY522:CR522),{1,2,3,4,5,6,7,8})),CQ523)","v":19.183388483518417},{"$f":"IF(CS522>0,AVERAGE(SMALL(IF(BZ522:CS522>0,BZ522:CS522),{1,2,3,4,5,6,7,8})),CR523)","v":19.183388483518417},{"$f":"IF(CT522>0,AVERAGE(SMALL(IF(CA522:CT522>0,CA522:CT522),{1,2,3,4,5,6,7,8})),CS523)","v":19.183388483518417},{"$f":"IF(CU522>0,AVERAGE(SMALL(IF(CB522:CU522>0,CB522:CU522),{1,2,3,4,5,6,7,8})),CT523)","v":19.183388483518417},{"$f":"IF(CV522>0,AVERAGE(SMALL(IF(CC522:CV522>0,CC522:CV522),{1,2,3,4,5,6,7,8})),CU523)","v":19.183388483518417},{"$f":"IF(CW522>0,AVERAGE(SMALL(IF(CD522:CW522>0,CD522:CW522),{1,2,3,4,5,6,7,8})),CV523)","v":19.183388483518417}]
[null,null,null,null,null,null,null,null,"Low Hcap",null,null,null,null,null,null,null,null,null,null,null,null,null,null,null,null,null,null,null,{"$f":"MIN($N523:AC523)","v":20.790761401448425},{"$f":"MIN($N523:AD523)","v":20.790761401448425},{"$f":"MIN($N523:AE523)","v":20.790761401448425},{"$f":"MIN($N523:AF523)","v":20.790761401448425},{"$f":"MIN($N523:AG523)","v":20.790761401448425},{"$f":"MIN($N523:AH523)","v":20.790761401448425},{"$f":"MIN($N523:AI523)","v":20.790761401448425},{"$f":"MIN($N523:AJ523)","v":20.790761401448425},{"$f":"MIN($N523:AK523)","v":20.790761401448425},{"$f":"MIN($N523:AL523)","v":20.790761401448425},{"$f":"MIN($N523:AM523)","v":20.790761401448425},{"$f":"MIN($N523:AN523)","v":20.135801652671546},{"$f":"MIN($N523:AO523)","v":20.135801652671546},{"$f":"MIN($R523:AP523)","v":20.135801652671546},{"$f":"MIN($S523:AQ523)","v":19.163678983673876},{"$f":"MIN($V523:AR523)","v":19.163678983673876},{"$f":"MIN($W523:AS523)","v":19.163678983673876},{"$f":"MIN($W523:AT523)","v":19.163678983673876},{"$f":"MIN($Z523:AU523)","v":19.163678983673876},{"$f":"MIN($AA523:AV523)","v":19.163678983673876},{"$f":"MIN($AR523:AW523)","v":19.380986675981571},{"$f":"MIN($AR523:AX523)","v":19.380986675981571},{"$f":"MIN($AT523:AY523)","v":19.347920572859664},{"$f":"MIN($AU523:AZ523)","v":19.183388483518417},{"$f":"MIN($AU523:BA523)","v":19.183388483518417},{"$f":"MIN($AU523:BB523)","v":19.183388483518417},{"$f":"MIN($AU523:BC523)","v":19.183388483518417},{"$f":"MIN($AU523:BD523)","v":19.183388483518417},{"$f":"MIN($AU523:BE523)","v":19.183388483518417},{"$f":"MIN($AU523:BF523)","v":19.183388483518417},{"$f":"MIN($AU523:BG523)","v":19.183388483518417},{"$f":"MIN($AU523:BH523)","v":19.183388483518417},{"$f":"MIN($AU523:BI523)","v":19.183388483518417},{"$f":"MIN($AU523:BJ523)","v":19.183388483518417},{"$f":"MIN($AU523:BK523)","v":19.183388483518417},{"$f":"MIN($AU523:BL523)","v":19.183388483518417},{"$f":"MIN($AU523:BM523)","v":19.183388483518417},{"$f":"MIN($AU523:BN523)","v":19.183388483518417},{"$f":"MIN($AU523:BO523)","v":19.183388483518417},{"$f":"MIN($AU523:BP523)","v":19.183388483518417},{"$f":"MIN($AU523:BQ523)","v":19.183388483518417},{"$f":"MIN($AU523:BR523)","v":19.183388483518417},{"$f":"MIN($AU523:BS523)","v":19.183388483518417},{"$f":"MIN($AU523:BT523)","v":19.183388483518417},{"$f":"MIN($AU523:BU523)","v":19.183388483518417},{"$f":"MIN($AU523:BV523)","v":19.183388483518417},{"$f":"MIN($AU523:BW523)","v":19.183388483518417},{"$f":"MIN($AU523:BX523)","v":19.183388483518417},{"$f":"MIN($AU523:BY523)","v":19.183388483518417},{"$f":"MIN($AU523:BZ523)","v":19.183388483518417},{"$f":"MIN($AU523:CA523)","v":19.183388483518417},{"$f":"MIN($AU523:CB523)","v":19.183388483518417},{"$f":"MIN($AU523:CC523)","v":19.183388483518417},{"$f":"MIN($AU523:CD523)","v":19.183388483518417},{"$f":"MIN($AU523:CE523)","v":19.183388483518417},{"$f":"MIN($AU523:CF523)","v":19.183388483518417},{"$f":"MIN($AU523:CG523)","v":19.183388483518417},{"$f":"MIN($AU523:CH523)","v":19.183388483518417},{"$f":"MIN($AU523:CI523)","v":19.183388483518417},{"$f":"MIN($AU523:CJ523)","v":19.183388483518417},{"$f":"MIN($AU523:CK523)","v":19.183388483518417},{"$f":"MIN($AU523:CL523)","v":19.183388483518417},{"$f":"MIN($AU523:CM523)","v":19.183388483518417},{"$f":"MIN($AU523:CN523)","v":19.183388483518417},{"$f":"MIN($AU523:CO523)","v":19.183388483518417},{"$f":"MIN($AU523:CP523)","v":19.183388483518417},{"$f":"MIN($AU523:CQ523)","v":19.183388483518417},{"$f":"MIN($AU523:CR523)","v":19.183388483518417},{"$f":"MIN($AU523:CS523)","v":19.183388483518417},{"$f":"MIN($AU523:CT523)","v":19.183388483518417},{"$f":"MIN($AU523:CU523)","v":19.183388483518417},{"$f":"MIN($AU523:CV523)","v":19.183388483518417},{"$f":"MIN($AU523:CW523)","v":19.183388483518417}]
[null,"Turck","Chris",25.6,null,{"$f":"IF(H525<4,\"Y\",)","v":"Y"},2010,{"$f":"COUNT(J525:CX525)","v":0},"Date",null,null,null,null,null,null,null,null,null,null,null,null,null,null,null,null,null,null,null,null,null,null,null,null,null,null,null,null,null,null,null,null,null,null,null,null,null,null,null,null,null,null,null,null,null,null,null,null,null,null,null,null,null,null,null,null,null,null,null,null,null,null,null,null,null,null,null,null,null,null,null,null,null,null,null,null,null,null,null,null,null,null,null,null,null,null,null,null,null,null,null,null,null,{"$f":"IF(CW529>$DD$1,36,CW529)","v":23.6},23.6,{"$f":"CZ525-CY525","v":0}]
[null,null,null,null,null,null,null,null,"Course"]
[null,null,null,null,null,null,null,null,"Ad Gr"]
[null,null,null,null,null,null,null,null,"SD",{"$f":"D525","v":25.6},{"$f":"IF(K527=\"\",0,(K527-INDIRECT(CONCATENATE(K526,\"CR\")))*113/INDIRECT(CONCATENATE(K526,\"SR\")))","v":0},0,0,0,0,0,0,0,0,0,0,0,0,0,0,0,0,0,0,0,0,0,0,0,0,0,0,0,0,0,0,0,0,0,0,0,0,0,0,0,0,0,0,0,0,0,0,0,0,0,0,0,0,0,0,0,0,0,0,0,0,0,0,0,{"$f":"IF(BW527=\"\",0,(BW527-INDIRECT(CONCATENATE(BW526,\"CR\")))*113/INDIRECT(CONCATENATE(BW526,\"SR\")))","v":0},0,0,0,0,0,0,0,0,0,0,0,0,0,0,0,{"$f":"IF(CM527=\"\",0,(CM527-INDIRECT(CONCATENATE(CM526,\"CR\")))*113/INDIRECT(CONCATENATE(CM526,\"SR\")))","v":0},0,{"$f":"IF(CO527=\"\",0,(CO527-INDIRECT(CONCATENATE(CO526,\"CR\")))*113/INDIRECT(CONCATENATE(CO526,\"SR\")))","v":0},0,{"$f":"IF(CQ527=\"\",0,(CQ527-INDIRECT(CONCATENATE(CQ526,\"CR\")))*113/INDIRECT(CONCATENATE(CQ526,\"SR\")))","v":0},0,{"$f":"IF(CS527=\"\",0,(CS527-INDIRECT(CONCATENATE(CS526,\"CR\")))*113/INDIRECT(CONCATENATE(CS526,\"SR\")))","v":0},0,{"$f":"IF(CU527=\"\",0,(CU527-INDIRECT(CONCATENATE(CU526,\"CR\")))*113/INDIRECT(CONCATENATE(CU526,\"SR\")))","v":0},0,{"$f":"IF(CW527=\"\",0,(CW527-INDIRECT(CONCATENATE(CW526,\"CR\")))*113/INDIRECT(CONCATENATE(CW526,\"SR\")))","v":0}]
[null,null,null,null,null,null,null,null,"New Hcap",{"$f":"J528-2","v":23.6},{"$f":"IF(K528>0,MIN(J528:K528)-2,J529)","v":23.6},{"$f":"IF(L528>0,MIN(J528:L528)-2,K529)","v":23.6},{"$f":"IF(M528>0,MIN(J528:M528)-1,L529)","v":23.6},{"$f":"IF(N528>0,MIN(J528:N528),M529)","v":23.6},{"$f":"IF(O528>0,AVERAGE(SMALL(IF(J528:O528>0,J528:O528),{1,2}))-1,N529)","v":23.6},{"$f":"IF(P528>0,AVERAGE(SMALL(IF(J528:P528>0,J528:P528),{1,2})),O529)","v":23.6},{"$f":"IF(Q528>0,AVERAGE(SMALL(IF(J528:Q528>0,J528:Q528),{1,2})),P529)","v":23.6},{"$f":"IF(R528>0,AVERAGE(SMALL(IF(J528:R528>0,J528:R528),{1,2,3})),Q529)","v":23.6},{"$f":"IF(S528>0,AVERAGE(SMALL(IF(J528:S528>0,J528:S528),{1,2,3})),R529)","v":23.6},{"$f":"IF(T528>0,AVERAGE(SMALL(IF(J528:T528>0,J528:T528),{1,2,3})),S529)","v":23.6},{"$f":"IF(U528>0,AVERAGE(SMALL(IF(J528:U528>0,J528:U528),{1,2,3,4})),T529)","v":23.6},{"$f":"IF(V528>0,AVERAGE(SMALL(IF(J528:V528>0,J528:V528),{1,2,3,4})),U529)","v":23.6},{"$f":"IF(W528>0,AVERAGE(SMALL(IF(J528:W528>0,J528:W528),{1,2,3,4})),V529)","v":23.6},{"$f":"IF(X528>0,AVERAGE(SMALL(IF(J528:X528>0,J528:X528),{1,2,3,4,5})),W529)","v":23.6},{"$f":"IF(Y528>0,AVERAGE(SMALL(IF(J528:Y528>0,J528:Y528),{1,2,3,4,5})),X529)","v":23.6},{"$f":"IF(Z528>0,AVERAGE(SMALL(IF(J528:Z528>0,J528:Z528),{1,2,3,4,5,6})),Y529)","v":23.6},{"$f":"IF(AA528>0,AVERAGE(SMALL(IF(J528:AA528>0,J528:AA528),{1,2,3,4,5,6})),Z529)","v":23.6},{"$f":"IF(AB528>0,AVERAGE(SMALL(IF(J528:AB528>0,J528:AB528),{1,2,3,4,5,6,7})),AA529)","v":23.6},{"$f":"IF(AC528>0,AVERAGE(SMALL(IF(J528:AC528>0,J528:AC528),{1,2,3,4,5,6,7,8})),AB529)","v":23.6},{"$f":"IF(AD528>0,AVERAGE(SMALL(IF(K528:AD528>0,K528:AD528),{1,2,3,4,5,6,7,8})),AC529)","v":23.6},{"$f":"IF(AE528>0,AVERAGE(SMALL(IF(L528:AE528>0,L528:AE528),{1,2,3,4,5,6,7,8})),AD529)","v":23.6},{"$f":"IF(AF528>0,AVERAGE(SMALL(IF(M528:AF528>0,M528:AF528),{1,2,3,4,5,6,7,8})),AE529)","v":23.6},{"$f":"IF(AG528>0,AVERAGE(SMALL(IF(N528:AG528>0,N528:AG528),{1,2,3,4,5,6,7,8})),AF529)","v":23.6},{"$f":"IF(AH528>0,AVERAGE(SMALL(IF(O528:AH528>0,O528:AH528),{1,2,3,4,5,6,7,8})),AG529)","v":23.6},{"$f":"IF(AI528>0,AVERAGE(SMALL(IF(P528:AI528>0,P528:AI528),{1,2,3,4,5,6,7,8})),AH529)","v":23.6},{"$f":"IF(AJ528>0,AVERAGE(SMALL(IF(Q528:AJ528>0,Q528:AJ528),{1,2,3,4,5,6,7,8})),AI529)","v":23.6},{"$f":"IF(AK528>0,AVERAGE(SMALL(IF(R528:AK528>0,R528:AK528),{1,2,3,4,5,6,7,8})),AJ529)","v":23.6},{"$f":"IF(AL528>0,AVERAGE(SMALL(IF(S528:AL528>0,S528:AL528),{1,2,3,4,5,6,7,8})),AK529)","v":23.6},{"$f":"IF(AM528>0,AVERAGE(SMALL(IF(T528:AM528>0,T528:AM528),{1,2,3,4,5,6,7,8})),AL529)","v":23.6},{"$f":"IF(AN528>0,AVERAGE(SMALL(IF(U528:AN528>0,U528:AN528),{1,2,3,4,5,6,7,8})),AM529)","v":23.6},{"$f":"IF(AO528>0,AVERAGE(SMALL(IF(V528:AO528>0,V528:AO528),{1,2,3,4,5,6,7,8})),AN529)","v":23.6},{"$f":"IF(AP528>0,AVERAGE(SMALL(IF(W528:AP528>0,W528:AP528),{1,2,3,4,5,6,7,8})),AO529)","v":23.6},{"$f":"IF(AQ528>0,AVERAGE(SMALL(IF(X528:AQ528>0,X528:AQ528),{1,2,3,4,5,6,7,8})),AP529)","v":23.6},{"$f":"IF(AR528>0,AVERAGE(SMALL(IF(Y528:AR528>0,Y528:AR528),{1,2,3,4,5,6,7,8})),AQ529)","v":23.6},{"$f":"IF(AS528>0,AVERAGE(SMALL(IF(Z528:AS528>0,Z528:AS528),{1,2,3,4,5,6,7,8})),AR529)","v":23.6},{"$f":"IF(AT528>0,AVERAGE(SMALL(IF(AA528:AT528>0,AA528:AT528),{1,2,3,4,5,6,7,8})),AS529)","v":23.6},{"$f":"IF(AU528>0,AVERAGE(SMALL(IF(AB528:AU528>0,AB528:AU528),{1,2,3,4,5,6,7,8})),AT529)","v":23.6},{"$f":"IF(AV528>0,AVERAGE(SMALL(IF(AC528:AV528>0,AC528:AV528),{1,2,3,4,5,6,7,8})),AU529)","v":23.6},{"$f":"IF(AW528>0,AVERAGE(SMALL(IF(AD528:AW528>0,AD528:AW528),{1,2,3,4,5,6,7,8})),AV529)","v":23.6},{"$f":"IF(AX528>0,AVERAGE(SMALL(IF(AE528:AX528>0,AE528:AX528),{1,2,3,4,5,6,7,8})),AW529)","v":23.6},{"$f":"IF(AY528>0,AVERAGE(SMALL(IF(AF528:AY528>0,AF528:AY528),{1,2,3,4,5,6,7,8})),AX529)","v":23.6},{"$f":"IF(AZ528>0,AVERAGE(SMALL(IF(AG528:AZ528>0,AG528:AZ528),{1,2,3,4,5,6,7,8})),AY529)","v":23.6},{"$f":"IF(BA528>0,AVERAGE(SMALL(IF(AH528:BA528>0,AH528:BA528),{1,2,3,4,5,6,7,8})),AZ529)","v":23.6},{"$f":"IF(BB528>0,AVERAGE(SMALL(IF(AI528:BB528>0,AI528:BB528),{1,2,3,4,5,6,7,8})),BA529)","v":23.6},{"$f":"IF(BC528>0,AVERAGE(SMALL(IF(AJ528:BC528>0,AJ528:BC528),{1,2,3,4,5,6,7,8})),BB529)","v":23.6},{"$f":"IF(BD528>0,AVERAGE(SMALL(IF(AK528:BD528>0,AK528:BD528),{1,2,3,4,5,6,7,8})),BC529)","v":23.6},{"$f":"IF(BE528>0,AVERAGE(SMALL(IF(AL528:BE528>0,AL528:BE528),{1,2,3,4,5,6,7,8})),BD529)","v":23.6},{"$f":"IF(BF528>0,AVERAGE(SMALL(IF(AM528:BF528>0,AM528:BF528),{1,2,3,4,5,6,7,8})),BE529)","v":23.6},{"$f":"IF(BG528>0,AVERAGE(SMALL(IF(AN528:BG528>0,AN528:BG528),{1,2,3,4,5,6,7,8})),BF529)","v":23.6},{"$f":"IF(BH528>0,AVERAGE(SMALL(IF(AO528:BH528>0,AO528:BH528),{1,2,3,4,5,6,7,8})),BG529)","v":23.6},{"$f":"IF(BI528>0,AVERAGE(SMALL(IF(AP528:BI528>0,AP528:BI528),{1,2,3,4,5,6,7,8})),BH529)","v":23.6},{"$f":"IF(BJ528>0,AVERAGE(SMALL(IF(AQ528:BJ528>0,AQ528:BJ528),{1,2,3,4,5,6,7,8})),BI529)","v":23.6},{"$f":"IF(BK528>0,AVERAGE(SMALL(IF(AR528:BK528>0,AR528:BK528),{1,2,3,4,5,6,7,8})),BJ529)","v":23.6},{"$f":"IF(BL528>0,AVERAGE(SMALL(IF(AS528:BL528>0,AS528:BL528),{1,2,3,4,5,6,7,8})),BK529)","v":23.6},{"$f":"IF(BM528>0,AVERAGE(SMALL(IF(AT528:BM528>0,AT528:BM528),{1,2,3,4,5,6,7,8})),BL529)","v":23.6},{"$f":"IF(BN528>0,AVERAGE(SMALL(IF(AU528:BN528>0,AU528:BN528),{1,2,3,4,5,6,7,8})),BM529)","v":23.6},{"$f":"IF(BO528>0,AVERAGE(SMALL(IF(AV528:BO528>0,AV528:BO528),{1,2,3,4,5,6,7,8})),BN529)","v":23.6},{"$f":"IF(BP528>0,AVERAGE(SMALL(IF(AW528:BP528>0,AW528:BP528),{1,2,3,4,5,6,7,8})),BO529)","v":23.6},{"$f":"IF(BQ528>0,AVERAGE(SMALL(IF(AX528:BQ528>0,AX528:BQ528),{1,2,3,4,5,6,7,8})),BP529)","v":23.6},{"$f":"IF(BR528>0,AVERAGE(SMALL(IF(AY528:BR528>0,AY528:BR528),{1,2,3,4,5,6,7,8})),BQ529)","v":23.6},{"$f":"IF(BS528>0,AVERAGE(SMALL(IF(AZ528:BS528>0,AZ528:BS528),{1,2,3,4,5,6,7,8})),BR529)","v":23.6},{"$f":"IF(BT528>0,AVERAGE(SMALL(IF(BA528:BT528>0,BA528:BT528),{1,2,3,4,5,6,7,8})),BS529)","v":23.6},{"$f":"IF(BU528>0,AVERAGE(SMALL(IF(BB528:BU528>0,BB528:BU528),{1,2,3,4,5,6,7,8})),BT529)","v":23.6},{"$f":"IF(BV528>0,AVERAGE(SMALL(IF(BC528:BV528>0,BC528:BV528),{1,2,3,4,5,6,7,8})),BU529)","v":23.6},{"$f":"IF(BW528>0,AVERAGE(SMALL(IF(BD528:BW528>0,BD528:BW528),{1,2,3,4,5,6,7,8})),BV529)","v":23.6},{"$f":"IF(BX528>0,AVERAGE(SMALL(IF(BE528:BX528>0,BE528:BX528),{1,2,3,4,5,6,7,8})),BW529)","v":23.6},{"$f":"IF(BY528>0,AVERAGE(SMALL(IF(BF528:BY528>0,BF528:BY528),{1,2,3,4,5,6,7,8})),BX529)","v":23.6},{"$f":"IF(BZ528>0,AVERAGE(SMALL(IF(BG528:BZ528>0,BG528:BZ528),{1,2,3,4,5,6,7,8})),BY529)","v":23.6},{"$f":"IF(CA528>0,AVERAGE(SMALL(IF(BH528:CA528>0,BH528:CA528),{1,2,3,4,5,6,7,8})),BZ529)","v":23.6},{"$f":"IF(CB528>0,AVERAGE(SMALL(IF(BI528:CB528>0,BI528:CB528),{1,2,3,4,5,6,7,8})),CA529)","v":23.6},{"$f":"IF(CC528>0,AVERAGE(SMALL(IF(BJ528:CC528>0,BJ528:CC528),{1,2,3,4,5,6,7,8})),CB529)","v":23.6},{"$f":"IF(CD528>0,AVERAGE(SMALL(IF(BK528:CD528>0,BK528:CD528),{1,2,3,4,5,6,7,8})),CC529)","v":23.6},{"$f":"IF(CE528>0,AVERAGE(SMALL(IF(BL528:CE528>0,BL528:CE528),{1,2,3,4,5,6,7,8})),CD529)","v":23.6},{"$f":"IF(CF528>0,AVERAGE(SMALL(IF(BM528:CF528>0,BM528:CF528),{1,2,3,4,5,6,7,8})),CE529)","v":23.6},{"$f":"IF(CG528>0,AVERAGE(SMALL(IF(BN528:CG528>0,BN528:CG528),{1,2,3,4,5,6,7,8})),CF529)","v":23.6},{"$f":"IF(CH528>0,AVERAGE(SMALL(IF(BO528:CH528>0,BO528:CH528),{1,2,3,4,5,6,7,8})),CG529)","v":23.6},{"$f":"IF(CI528>0,AVERAGE(SMALL(IF(BP528:CI528>0,BP528:CI528),{1,2,3,4,5,6,7,8})),CH529)","v":23.6},{"$f":"IF(CJ528>0,AVERAGE(SMALL(IF(BQ528:CJ528>0,BQ528:CJ528),{1,2,3,4,5,6,7,8})),CI529)","v":23.6},{"$f":"IF(CK528>0,AVERAGE(SMALL(IF(BR528:CK528>0,BR528:CK528),{1,2,3,4,5,6,7,8})),CJ529)","v":23.6},{"$f":"IF(CL528>0,AVERAGE(SMALL(IF(BS528:CL528>0,BS528:CL528),{1,2,3,4,5,6,7,8})),CK529)","v":23.6},{"$f":"IF(CM528>0,AVERAGE(SMALL(IF(BT528:CM528>0,BT528:CM528),{1,2,3,4,5,6,7,8})),CL529)","v":23.6},{"$f":"IF(CN528>0,AVERAGE(SMALL(IF(BU528:CN528>0,BU528:CN528),{1,2,3,4,5,6,7,8})),CM529)","v":23.6},{"$f":"IF(CO528>0,AVERAGE(SMALL(IF(BV528:CO528>0,BV528:CO528),{1,2,3,4,5,6,7,8})),CN529)","v":23.6},{"$f":"IF(CP528>0,AVERAGE(SMALL(IF(BW528:CP528>0,BW528:CP528),{1,2,3,4,5,6,7,8})),CO529)","v":23.6},{"$f":"IF(CQ528>0,AVERAGE(SMALL(IF(BX528:CQ528>0,BX528:CQ528),{1,2,3,4,5,6,7,8})),CP529)","v":23.6},{"$f":"IF(CR528>0,AVERAGE(SMALL(IF(BY528:CR528>0,BY528:CR528),{1,2,3,4,5,6,7,8})),CQ529)","v":23.6},{"$f":"IF(CS528>0,AVERAGE(SMALL(IF(BZ528:CS528>0,BZ528:CS528),{1,2,3,4,5,6,7,8})),CR529)","v":23.6},{"$f":"IF(CT528>0,AVERAGE(SMALL(IF(CA528:CT528>0,CA528:CT528),{1,2,3,4,5,6,7,8})),CS529)","v":23.6},{"$f":"IF(CU528>0,AVERAGE(SMALL(IF(CB528:CU528>0,CB528:CU528),{1,2,3,4,5,6,7,8})),CT529)","v":23.6},{"$f":"IF(CV528>0,AVERAGE(SMALL(IF(CC528:CV528>0,CC528:CV528),{1,2,3,4,5,6,7,8})),CU529)","v":23.6},{"$f":"IF(CW528>0,AVERAGE(SMALL(IF(CD528:CW528>0,CD528:CW528),{1,2,3,4,5,6,7,8})),CV529)","v":23.6}]
[null,null,null,null,null,null,null,null,"Low Hcap",null,null,null,null,null,null,null,null,null,null,null,null,null,null,null,null,null,null,null,{"$f":"MIN($J529:AC529)","v":23.6},{"$f":"MIN($J529:AD529)","v":23.6},{"$f":"MIN($J529:AE529)","v":23.6},{"$f":"MIN($J529:AF529)","v":23.6},{"$f":"MIN($J529:AG529)","v":23.6},{"$f":"MIN($J529:AH529)","v":23.6},{"$f":"MIN($J529:AI529)","v":23.6},{"$f":"MIN($J529:AJ529)","v":23.6},{"$f":"MIN($J529:AK529)","v":23.6},{"$f":"MIN($J529:AL529)","v":23.6},{"$f":"MIN($J529:AM529)","v":23.6},{"$f":"MIN($J529:AN529)","v":23.6},{"$f":"MIN($J529:AO529)","v":23.6},{"$f":"MIN($J529:AP529)","v":23.6},{"$f":"MIN($J529:AQ529)","v":23.6},{"$f":"MIN($J529:AR529)","v":23.6},{"$f":"MIN($J529:AS529)","v":23.6},{"$f":"MIN($J529:AT529)","v":23.6},{"$f":"MIN($J529:AU529)","v":23.6},{"$f":"MIN($J529:AV529)","v":23.6},{"$f":"MIN($J529:AW529)","v":23.6},{"$f":"MIN($J529:AX529)","v":23.6},{"$f":"MIN($J529:AY529)","v":23.6},{"$f":"MIN($J529:AZ529)","v":23.6},{"$f":"MIN($J529:BA529)","v":23.6},{"$f":"MIN($J529:BB529)","v":23.6},{"$f":"MIN($J529:BC529)","v":23.6},{"$f":"MIN($J529:BD529)","v":23.6},{"$f":"MIN($J529:BE529)","v":23.6},{"$f":"MIN($J529:BF529)","v":23.6},{"$f":"MIN($J529:BG529)","v":23.6},{"$f":"MIN($J529:BH529)","v":23.6},{"$f":"MIN($J529:BI529)","v":23.6},{"$f":"MIN($J529:BJ529)","v":23.6},{"$f":"MIN($J529:BK529)","v":23.6},{"$f":"MIN($J529:BL529)","v":23.6},{"$f":"MIN($J529:BM529)","v":23.6},{"$f":"MIN($J529:BN529)","v":23.6},{"$f":"MIN($J529:BO529)","v":23.6},{"$f":"MIN($J529:BP529)","v":23.6},{"$f":"MIN($J529:BQ529)","v":23.6},{"$f":"MIN($J529:BR529)","v":23.6},{"$f":"MIN($J529:BS529)","v":23.6},{"$f":"MIN($J529:BT529)","v":23.6},{"$f":"MIN($J529:BU529)","v":23.6},{"$f":"MIN($J529:BV529)","v":23.6},{"$f":"MIN($J529:BW529)","v":23.6},{"$f":"MIN($J529:BX529)","v":23.6},{"$f":"MIN($J529:BY529)","v":23.6},{"$f":"MIN($J529:BZ529)","v":23.6},{"$f":"MIN($J529:CA529)","v":23.6},{"$f":"MIN($J529:CB529)","v":23.6},{"$f":"MIN($J529:CC529)","v":23.6},{"$f":"MIN($J529:CD529)","v":23.6},{"$f":"MIN($J529:CE529)","v":23.6},{"$f":"MIN($J529:CF529)","v":23.6},{"$f":"MIN($J529:CG529)","v":23.6},{"$f":"MIN($J529:CH529)","v":23.6},{"$f":"MIN($J529:CI529)","v":23.6},{"$f":"MIN($J529:CJ529)","v":23.6},{"$f":"MIN($J529:CK529)","v":23.6},{"$f":"MIN($J529:CL529)","v":23.6},{"$f":"MIN($J529:CM529)","v":23.6},{"$f":"MIN($J529:CN529)","v":23.6},{"$f":"MIN($J529:CO529)","v":23.6},{"$f":"MIN($J529:CP529)","v":23.6},{"$f":"MIN($J529:CQ529)","v":23.6},{"$f":"MIN($J529:CR529)","v":23.6},{"$f":"MIN($J529:CS529)","v":23.6},{"$f":"MIN($J529:CT529)","v":23.6},{"$f":"MIN($J529:CU529)","v":23.6},{"$f":"MIN($J529:CV529)","v":23.6},{"$f":"MIN($J529:CW529)","v":23.6}]
[null,"Turner","Tina",22.7,null,{"$f":"IF(H531<4,\"Y\",)","v":0},2021,{"$f":"COUNT(J531:CX531)","v":18},"Date",null,"2021-05-09","2021-05-23","2021-05-30","2021-07-11","2021-08-08","2021-09-19","2022-03-27","2022-05-15","2022-05-29","2022-06-25","2022-06-26","2022-07-03","2022-07-10","2022-07-24","2022-11-13","2022-11-27","2023-05-28","2023-06-04",null,null,null,null,null,null,null,null,null,null,null,null,null,null,null,null,null,null,null,null,null,null,null,null,null,null,null,null,null,null,null,null,null,null,null,null,null,null,null,null,null,null,null,null,null,null,null,null,null,null,null,null,null,null,null,null,null,null,null,null,null,null,null,null,null,null,null,null,null,null,null,null,null,null,{"$f":"IF(CW535>$DD$1,36,CW535)","v":23.227817804975782},22.63547247850849,{"$f":"CZ531-CY531","v":-0.59234532646729221}]
[null,null,null,null,null,null,null,null,"Course",null,"ErdingDR","OdelzhausenDR","IffeldorfDR","PfaffingDR","IffeldorfDR","ErdingDR","OdelzhausenDR","OdelzhausenDR","OdelzhausenDR","AlgaeuerDR","AlgaeuerDR","Pfaffing2022DR","IffeldorfDR","Pfaffing2022DR","ErdingDR","OdelzhausenDR","ErdingDR","IffeldorfDR"]
[null,null,null,null,null,null,null,null,"Ad Gr",null,108,107,105,112,103,113,97,107,102,110,92,109,102,98,111,117,107,106]
[null,null,null,null,null,null,null,null,"SD",24.7,{"$f":"IF(K533=\"\",0,(K533-INDIRECT(CONCATENATE(K532,\"CR\")))*113/INDIRECT(CONCATENATE(K532,\"SR\")))","v":32.363199999999999},31.121311475409829,28.56141732283464,34.438095238095244,26.781889763779521,36.883199999999995,21.859016393442616,31.121311475409829,26.490163934426224,31.92698412698412,15.784126984126978,30.874803149606301,25.892125984251962,21.087401574803152,35.075199999999995,40.383606557377043,31.459199999999996,29.451181102362199,0,0,0,0,0,0,0,0,0,0,0,0,0,0,0,0,0,0,0,0,0,0,0,0,0,0,0,0,0,0,0,0,0,0,0,0,0,0,0,0,0,0,0,0,0,0,{"$f":"IF(BW533=\"\",0,(BW533-INDIRECT(CONCATENATE(BW532,\"CR\")))*113/INDIRECT(CONCATENATE(BW532,\"SR\")))","v":0},0,0,0,0,0,0,0,0,0,0,0,0,0,0,0,{"$f":"IF(CM533=\"\",0,(CM533-INDIRECT(CONCATENATE(CM532,\"CR\")))*113/INDIRECT(CONCATENATE(CM532,\"SR\")))","v":0},0,{"$f":"IF(CO533=\"\",0,(CO533-INDIRECT(CONCATENATE(CO532,\"CR\")))*113/INDIRECT(CONCATENATE(CO532,\"SR\")))","v":0},0,{"$f":"IF(CQ533=\"\",0,(CQ533-INDIRECT(CONCATENATE(CQ532,\"CR\")))*113/INDIRECT(CONCATENATE(CQ532,\"SR\")))","v":0},0,{"$f":"IF(CS533=\"\",0,(CS533-INDIRECT(CONCATENATE(CS532,\"CR\")))*113/INDIRECT(CONCATENATE(CS532,\"SR\")))","v":0},0,{"$f":"IF(CU533=\"\",0,(CU533-INDIRECT(CONCATENATE(CU532,\"CR\")))*113/INDIRECT(CONCATENATE(CU532,\"SR\")))","v":0},0,{"$f":"IF(CW533=\"\",0,(CW533-INDIRECT(CONCATENATE(CW532,\"CR\")))*113/INDIRECT(CONCATENATE(CW532,\"SR\")))","v":0}]
[null,null,null,null,null,null,null,null,"New Hcap",{"$f":"J534-2","v":22.7},{"$f":"IF(K534>0,MIN(J534:K534)-2,J535)","v":22.7},{"$f":"IF(L534>0,MIN(J534:L534)-2,K535)","v":22.7},{"$f":"IF(M534>0,MIN(J534:M534)-1,L535)","v":23.7},{"$f":"IF(N534>0,MIN(J534:N534),M535)","v":24.7},{"$f":"IF(O534>0,AVERAGE(SMALL(IF(J534:O534>0,J534:O534),{1,2}))-1,N535)","v":24.74094488188976},{"$f":"IF(P534>0,AVERAGE(SMALL(IF(J534:P534>0,J534:P534),{1,2})),O535)","v":25.74094488188976},{"$f":"IF(Q534>0,AVERAGE(SMALL(IF(J534:Q534>0,J534:Q534),{1,2})),P535)","v":23.279508196721309},{"$f":"IF(R534>0,AVERAGE(SMALL(IF(J534:R534>0,J534:R534),{1,2,3})),Q535)","v":24.446968719074047},{"$f":"IF(S534>0,AVERAGE(SMALL(IF(J534:S534>0,J534:S534),{1,2,3})),R535)","v":24.349726775956281},{"$f":"IF(T534>0,AVERAGE(SMALL(IF(J534:T534>0,J534:T534),{1,2,3})),S535)","v":24.349726775956281},{"$f":"IF(U534>0,AVERAGE(SMALL(IF(J534:U534>0,J534:U534),{1,2,3,4})),T535)","v":22.208326827998953},{"$f":"IF(V534>0,AVERAGE(SMALL(IF(J534:V534>0,J534:V534),{1,2,3,4})),U535)","v":22.208326827998953},{"$f":"IF(W534>0,AVERAGE(SMALL(IF(J534:W534>0,J534:W534),{1,2,3,4})),V535)","v":22.058817340455388},{"$f":"IF(X534>0,AVERAGE(SMALL(IF(J534:X534>0,J534:X534),{1,2,3,4,5})),W535)","v":21.864534187324942},{"$f":"IF(Y534>0,AVERAGE(SMALL(IF(J534:Y534>0,J534:Y534),{1,2,3,4,5})),X535)","v":21.864534187324942},{"$f":"IF(Z534>0,AVERAGE(SMALL(IF(J534:Z534>0,J534:Z534),{1,2,3,4,5,6})),Y535)","v":22.63547247850849},{"$f":"IF(AA534>0,AVERAGE(SMALL(IF(J534:AA534>0,J534:AA534),{1,2,3,4,5,6})),Z535)","v":22.63547247850849},{"$f":"IF(AB534>0,AVERAGE(SMALL(IF(J534:AB534>0,J534:AB534),{1,2,3,4,5,6,7})),AA535)","v":23.227817804975782},{"$f":"IF(AC534>0,AVERAGE(SMALL(IF(J534:AC534>0,J534:AC534),{1,2,3,4,5,6,7,8})),AB535)","v":23.227817804975782},{"$f":"IF(AD534>0,AVERAGE(SMALL(IF(K534:AD534>0,K534:AD534),{1,2,3,4,5,6,7,8})),AC535)","v":23.227817804975782},{"$f":"IF(AE534>0,AVERAGE(SMALL(IF(L534:AE534>0,L534:AE534),{1,2,3,4,5,6,7,8})),AD535)","v":23.227817804975782},{"$f":"IF(AF534>0,AVERAGE(SMALL(IF(M534:AF534>0,M534:AF534),{1,2,3,4,5,6,7,8})),AE535)","v":23.227817804975782},{"$f":"IF(AG534>0,AVERAGE(SMALL(IF(N534:AG534>0,N534:AG534),{1,2,3,4,5,6,7,8})),AF535)","v":23.227817804975782},{"$f":"IF(AH534>0,AVERAGE(SMALL(IF(O534:AH534>0,O534:AH534),{1,2,3,4,5,6,7,8})),AG535)","v":23.227817804975782},{"$f":"IF(AI534>0,AVERAGE(SMALL(IF(P534:AI534>0,P534:AI534),{1,2,3,4,5,6,7,8})),AH535)","v":23.227817804975782},{"$f":"IF(AJ534>0,AVERAGE(SMALL(IF(Q534:AJ534>0,Q534:AJ534),{1,2,3,4,5,6,7,8})),AI535)","v":23.227817804975782},{"$f":"IF(AK534>0,AVERAGE(SMALL(IF(R534:AK534>0,R534:AK534),{1,2,3,4,5,6,7,8})),AJ535)","v":23.227817804975782},{"$f":"IF(AL534>0,AVERAGE(SMALL(IF(S534:AL534>0,S534:AL534),{1,2,3,4,5,6,7,8})),AK535)","v":23.227817804975782},{"$f":"IF(AM534>0,AVERAGE(SMALL(IF(T534:AM534>0,T534:AM534),{1,2,3,4,5,6,7,8})),AL535)","v":23.227817804975782},{"$f":"IF(AN534>0,AVERAGE(SMALL(IF(U534:AN534>0,U534:AN534),{1,2,3,4,5,6,7,8})),AM535)","v":23.227817804975782},{"$f":"IF(AO534>0,AVERAGE(SMALL(IF(V534:AO534>0,V534:AO534),{1,2,3,4,5,6,7,8})),AN535)","v":23.227817804975782},{"$f":"IF(AP534>0,AVERAGE(SMALL(IF(W534:AP534>0,W534:AP534),{1,2,3,4,5,6,7,8})),AO535)","v":23.227817804975782},{"$f":"IF(AQ534>0,AVERAGE(SMALL(IF(X534:AQ534>0,X534:AQ534),{1,2,3,4,5,6,7,8})),AP535)","v":23.227817804975782},{"$f":"IF(AR534>0,AVERAGE(SMALL(IF(Y534:AR534>0,Y534:AR534),{1,2,3,4,5,6,7,8})),AQ535)","v":23.227817804975782},{"$f":"IF(AS534>0,AVERAGE(SMALL(IF(Z534:AS534>0,Z534:AS534),{1,2,3,4,5,6,7,8})),AR535)","v":23.227817804975782},{"$f":"IF(AT534>0,AVERAGE(SMALL(IF(AA534:AT534>0,AA534:AT534),{1,2,3,4,5,6,7,8})),AS535)","v":23.227817804975782},{"$f":"IF(AU534>0,AVERAGE(SMALL(IF(AB534:AU534>0,AB534:AU534),{1,2,3,4,5,6,7,8})),AT535)","v":23.227817804975782},{"$f":"IF(AV534>0,AVERAGE(SMALL(IF(AC534:AV534>0,AC534:AV534),{1,2,3,4,5,6,7,8})),AU535)","v":23.227817804975782},{"$f":"IF(AW534>0,AVERAGE(SMALL(IF(AD534:AW534>0,AD534:AW534),{1,2,3,4,5,6,7,8})),AV535)","v":23.227817804975782},{"$f":"IF(AX534>0,AVERAGE(SMALL(IF(AE534:AX534>0,AE534:AX534),{1,2,3,4,5,6,7,8})),AW535)","v":23.227817804975782},{"$f":"IF(AY534>0,AVERAGE(SMALL(IF(AF534:AY534>0,AF534:AY534),{1,2,3,4,5,6,7,8})),AX535)","v":23.227817804975782},{"$f":"IF(AZ534>0,AVERAGE(SMALL(IF(AG534:AZ534>0,AG534:AZ534),{1,2,3,4,5,6,7,8})),AY535)","v":23.227817804975782},{"$f":"IF(BA534>0,AVERAGE(SMALL(IF(AH534:BA534>0,AH534:BA534),{1,2,3,4,5,6,7,8})),AZ535)","v":23.227817804975782},{"$f":"IF(BB534>0,AVERAGE(SMALL(IF(AI534:BB534>0,AI534:BB534),{1,2,3,4,5,6,7,8})),BA535)","v":23.227817804975782},{"$f":"IF(BC534>0,AVERAGE(SMALL(IF(AJ534:BC534>0,AJ534:BC534),{1,2,3,4,5,6,7,8})),BB535)","v":23.227817804975782},{"$f":"IF(BD534>0,AVERAGE(SMALL(IF(AK534:BD534>0,AK534:BD534),{1,2,3,4,5,6,7,8})),BC535)","v":23.227817804975782},{"$f":"IF(BE534>0,AVERAGE(SMALL(IF(AL534:BE534>0,AL534:BE534),{1,2,3,4,5,6,7,8})),BD535)","v":23.227817804975782},{"$f":"IF(BF534>0,AVERAGE(SMALL(IF(AM534:BF534>0,AM534:BF534),{1,2,3,4,5,6,7,8})),BE535)","v":23.227817804975782},{"$f":"IF(BG534>0,AVERAGE(SMALL(IF(AN534:BG534>0,AN534:BG534),{1,2,3,4,5,6,7,8})),BF535)","v":23.227817804975782},{"$f":"IF(BH534>0,AVERAGE(SMALL(IF(AO534:BH534>0,AO534:BH534),{1,2,3,4,5,6,7,8})),BG535)","v":23.227817804975782},{"$f":"IF(BI534>0,AVERAGE(SMALL(IF(AP534:BI534>0,AP534:BI534),{1,2,3,4,5,6,7,8})),BH535)","v":23.227817804975782},{"$f":"IF(BJ534>0,AVERAGE(SMALL(IF(AQ534:BJ534>0,AQ534:BJ534),{1,2,3,4,5,6,7,8})),BI535)","v":23.227817804975782},{"$f":"IF(BK534>0,AVERAGE(SMALL(IF(AR534:BK534>0,AR534:BK534),{1,2,3,4,5,6,7,8})),BJ535)","v":23.227817804975782},{"$f":"IF(BL534>0,AVERAGE(SMALL(IF(AS534:BL534>0,AS534:BL534),{1,2,3,4,5,6,7,8})),BK535)","v":23.227817804975782},{"$f":"IF(BM534>0,AVERAGE(SMALL(IF(AT534:BM534>0,AT534:BM534),{1,2,3,4,5,6,7,8})),BL535)","v":23.227817804975782},{"$f":"IF(BN534>0,AVERAGE(SMALL(IF(AU534:BN534>0,AU534:BN534),{1,2,3,4,5,6,7,8})),BM535)","v":23.227817804975782},{"$f":"IF(BO534>0,AVERAGE(SMALL(IF(AV534:BO534>0,AV534:BO534),{1,2,3,4,5,6,7,8})),BN535)","v":23.227817804975782},{"$f":"IF(BP534>0,AVERAGE(SMALL(IF(AW534:BP534>0,AW534:BP534),{1,2,3,4,5,6,7,8})),BO535)","v":23.227817804975782},{"$f":"IF(BQ534>0,AVERAGE(SMALL(IF(AX534:BQ534>0,AX534:BQ534),{1,2,3,4,5,6,7,8})),BP535)","v":23.227817804975782},{"$f":"IF(BR534>0,AVERAGE(SMALL(IF(AY534:BR534>0,AY534:BR534),{1,2,3,4,5,6,7,8})),BQ535)","v":23.227817804975782},{"$f":"IF(BS534>0,AVERAGE(SMALL(IF(AZ534:BS534>0,AZ534:BS534),{1,2,3,4,5,6,7,8})),BR535)","v":23.227817804975782},{"$f":"IF(BT534>0,AVERAGE(SMALL(IF(BA534:BT534>0,BA534:BT534),{1,2,3,4,5,6,7,8})),BS535)","v":23.227817804975782},{"$f":"IF(BU534>0,AVERAGE(SMALL(IF(BB534:BU534>0,BB534:BU534),{1,2,3,4,5,6,7,8})),BT535)","v":23.227817804975782},{"$f":"IF(BV534>0,AVERAGE(SMALL(IF(BC534:BV534>0,BC534:BV534),{1,2,3,4,5,6,7,8})),BU535)","v":23.227817804975782},{"$f":"IF(BW534>0,AVERAGE(SMALL(IF(BD534:BW534>0,BD534:BW534),{1,2,3,4,5,6,7,8})),BV535)","v":23.227817804975782},{"$f":"IF(BX534>0,AVERAGE(SMALL(IF(BE534:BX534>0,BE534:BX534),{1,2,3,4,5,6,7,8})),BW535)","v":23.227817804975782},{"$f":"IF(BY534>0,AVERAGE(SMALL(IF(BF534:BY534>0,BF534:BY534),{1,2,3,4,5,6,7,8})),BX535)","v":23.227817804975782},{"$f":"IF(BZ534>0,AVERAGE(SMALL(IF(BG534:BZ534>0,BG534:BZ534),{1,2,3,4,5,6,7,8})),BY535)","v":23.227817804975782},{"$f":"IF(CA534>0,AVERAGE(SMALL(IF(BH534:CA534>0,BH534:CA534),{1,2,3,4,5,6,7,8})),BZ535)","v":23.227817804975782},{"$f":"IF(CB534>0,AVERAGE(SMALL(IF(BI534:CB534>0,BI534:CB534),{1,2,3,4,5,6,7,8})),CA535)","v":23.227817804975782},{"$f":"IF(CC534>0,AVERAGE(SMALL(IF(BJ534:CC534>0,BJ534:CC534),{1,2,3,4,5,6,7,8})),CB535)","v":23.227817804975782},{"$f":"IF(CD534>0,AVERAGE(SMALL(IF(BK534:CD534>0,BK534:CD534),{1,2,3,4,5,6,7,8})),CC535)","v":23.227817804975782},{"$f":"IF(CE534>0,AVERAGE(SMALL(IF(BL534:CE534>0,BL534:CE534),{1,2,3,4,5,6,7,8})),CD535)","v":23.227817804975782},{"$f":"IF(CF534>0,AVERAGE(SMALL(IF(BM534:CF534>0,BM534:CF534),{1,2,3,4,5,6,7,8})),CE535)","v":23.227817804975782},{"$f":"IF(CG534>0,AVERAGE(SMALL(IF(BN534:CG534>0,BN534:CG534),{1,2,3,4,5,6,7,8})),CF535)","v":23.227817804975782},{"$f":"IF(CH534>0,AVERAGE(SMALL(IF(BO534:CH534>0,BO534:CH534),{1,2,3,4,5,6,7,8})),CG535)","v":23.227817804975782},{"$f":"IF(CI534>0,AVERAGE(SMALL(IF(BP534:CI534>0,BP534:CI534),{1,2,3,4,5,6,7,8})),CH535)","v":23.227817804975782},{"$f":"IF(CJ534>0,AVERAGE(SMALL(IF(BQ534:CJ534>0,BQ534:CJ534),{1,2,3,4,5,6,7,8})),CI535)","v":23.227817804975782},{"$f":"IF(CK534>0,AVERAGE(SMALL(IF(BR534:CK534>0,BR534:CK534),{1,2,3,4,5,6,7,8})),CJ535)","v":23.227817804975782},{"$f":"IF(CL534>0,AVERAGE(SMALL(IF(BS534:CL534>0,BS534:CL534),{1,2,3,4,5,6,7,8})),CK535)","v":23.227817804975782},{"$f":"IF(CM534>0,AVERAGE(SMALL(IF(BT534:CM534>0,BT534:CM534),{1,2,3,4,5,6,7,8})),CL535)","v":23.227817804975782},{"$f":"IF(CN534>0,AVERAGE(SMALL(IF(BU534:CN534>0,BU534:CN534),{1,2,3,4,5,6,7,8})),CM535)","v":23.227817804975782},{"$f":"IF(CO534>0,AVERAGE(SMALL(IF(BV534:CO534>0,BV534:CO534),{1,2,3,4,5,6,7,8})),CN535)","v":23.227817804975782},{"$f":"IF(CP534>0,AVERAGE(SMALL(IF(BW534:CP534>0,BW534:CP534),{1,2,3,4,5,6,7,8})),CO535)","v":23.227817804975782},{"$f":"IF(CQ534>0,AVERAGE(SMALL(IF(BX534:CQ534>0,BX534:CQ534),{1,2,3,4,5,6,7,8})),CP535)","v":23.227817804975782},{"$f":"IF(CR534>0,AVERAGE(SMALL(IF(BY534:CR534>0,BY534:CR534),{1,2,3,4,5,6,7,8})),CQ535)","v":23.227817804975782},{"$f":"IF(CS534>0,AVERAGE(SMALL(IF(BZ534:CS534>0,BZ534:CS534),{1,2,3,4,5,6,7,8})),CR535)","v":23.227817804975782},{"$f":"IF(CT534>0,AVERAGE(SMALL(IF(CA534:CT534>0,CA534:CT534),{1,2,3,4,5,6,7,8})),CS535)","v":23.227817804975782},{"$f":"IF(CU534>0,AVERAGE(SMALL(IF(CB534:CU534>0,CB534:CU534),{1,2,3,4,5,6,7,8})),CT535)","v":23.227817804975782},{"$f":"IF(CV534>0,AVERAGE(SMALL(IF(CC534:CV534>0,CC534:CV534),{1,2,3,4,5,6,7,8})),CU535)","v":23.227817804975782},{"$f":"IF(CW534>0,AVERAGE(SMALL(IF(CD534:CW534>0,CD534:CW534),{1,2,3,4,5,6,7,8})),CV535)","v":23.227817804975782}]
[null,null,null,null,null,null,null,null,"Low Hcap",null,null,null,null,null,null,null,null,null,null,null,null,null,null,null,null,null,null,null,{"$f":"MIN($T535:AC535)","v":21.864534187324942},{"$f":"MIN($T535:AD535)","v":21.864534187324942},{"$f":"MIN($T535:AE535)","v":21.864534187324942},{"$f":"MIN($T535:AF535)","v":21.864534187324942},{"$f":"MIN($T535:AG535)","v":21.864534187324942},{"$f":"MIN($T535:AH535)","v":21.864534187324942},{"$f":"MIN($T535:AI535)","v":21.864534187324942},{"$f":"MIN($T535:AJ535)","v":21.864534187324942},{"$f":"MIN($T535:AK535)","v":21.864534187324942},{"$f":"MIN($T535:AL535)","v":21.864534187324942},{"$f":"MIN($T535:AM535)","v":21.864534187324942},{"$f":"MIN($T535:AN535)","v":21.864534187324942},{"$f":"MIN($T535:AO535)","v":21.864534187324942},{"$f":"MIN($T535:AP535)","v":21.864534187324942},{"$f":"MIN($T535:AQ535)","v":21.864534187324942},{"$f":"MIN($T535:AR535)","v":21.864534187324942},{"$f":"MIN($T535:AS535)","v":21.864534187324942},{"$f":"MIN($T535:AT535)","v":21.864534187324942},{"$f":"MIN($T535:AU535)","v":21.864534187324942},{"$f":"MIN($T535:AV535)","v":21.864534187324942},{"$f":"MIN($T535:AW535)","v":21.864534187324942},{"$f":"MIN($T535:AX535)","v":21.864534187324942},{"$f":"MIN($T535:AY535)","v":21.864534187324942},{"$f":"MIN($T535:AZ535)","v":21.864534187324942},{"$f":"MIN($T535:BA535)","v":21.864534187324942},{"$f":"MIN($T535:BB535)","v":21.864534187324942},{"$f":"MIN($T535:BC535)","v":21.864534187324942},{"$f":"MIN($T535:BD535)","v":21.864534187324942},{"$f":"MIN($T535:BE535)","v":21.864534187324942},{"$f":"MIN($T535:BF535)","v":21.864534187324942},{"$f":"MIN($T535:BG535)","v":21.864534187324942},{"$f":"MIN($T535:BH535)","v":21.864534187324942},{"$f":"MIN($T535:BI535)","v":21.864534187324942},{"$f":"MIN($T535:BJ535)","v":21.864534187324942},{"$f":"MIN($T535:BK535)","v":21.864534187324942},{"$f":"MIN($T535:BL535)","v":21.864534187324942},{"$f":"MIN($T535:BM535)","v":21.864534187324942},{"$f":"MIN($T535:BN535)","v":21.864534187324942},{"$f":"MIN($T535:BO535)","v":21.864534187324942},{"$f":"MIN($T535:BP535)","v":21.864534187324942},{"$f":"MIN($T535:BQ535)","v":21.864534187324942},{"$f":"MIN($T535:BR535)","v":21.864534187324942},{"$f":"MIN($T535:BS535)","v":21.864534187324942},{"$f":"MIN($T535:BT535)","v":21.864534187324942},{"$f":"MIN($T535:BU535)","v":21.864534187324942},{"$f":"MIN($T535:BV535)","v":21.864534187324942},{"$f":"MIN($T535:BW535)","v":21.864534187324942},{"$f":"MIN($T535:BX535)","v":21.864534187324942},{"$f":"MIN($T535:BY535)","v":21.864534187324942},{"$f":"MIN($T535:BZ535)","v":21.864534187324942},{"$f":"MIN($T535:CA535)","v":21.864534187324942},{"$f":"MIN($T535:CB535)","v":21.864534187324942},{"$f":"MIN($T535:CC535)","v":21.864534187324942},{"$f":"MIN($T535:CD535)","v":21.864534187324942},{"$f":"MIN($T535:CE535)","v":21.864534187324942},{"$f":"MIN($T535:CF535)","v":21.864534187324942},{"$f":"MIN($T535:CG535)","v":21.864534187324942},{"$f":"MIN($T535:CH535)","v":21.864534187324942},{"$f":"MIN($T535:CI535)","v":21.864534187324942},{"$f":"MIN($T535:CJ535)","v":21.864534187324942},{"$f":"MIN($T535:CK535)","v":21.864534187324942},{"$f":"MIN($T535:CL535)","v":21.864534187324942},{"$f":"MIN($T535:CM535)","v":21.864534187324942},{"$f":"MIN($T535:CN535)","v":21.864534187324942},{"$f":"MIN($T535:CO535)","v":21.864534187324942},{"$f":"MIN($T535:CP535)","v":21.864534187324942},{"$f":"MIN($T535:CQ535)","v":21.864534187324942},{"$f":"MIN($T535:CR535)","v":21.864534187324942},{"$f":"MIN($T535:CS535)","v":21.864534187324942},{"$f":"MIN($T535:CT535)","v":21.864534187324942},{"$f":"MIN($T535:CU535)","v":21.864534187324942},{"$f":"MIN($T535:CV535)","v":21.864534187324942},{"$f":"MIN($T535:CW535)","v":21.864534187324942}]
[null,"Wallace","Steve",14.3,"Y",{"$f":"IF(H537<4,\"Y\",)","v":0},null,{"$f":"COUNT(J537:CX537)","v":79},"Date","2019-08-09","2019-08-28","2019-09-20","2019-09-25","2019-10-04","2019-10-23","2019-11-20","2020-05-20","2020-05-24","2020-05-31","2020-06-05","2020-06-10","2020-06-19","2020-07-03","2020-07-15","2020-07-31","2020-08-09","2020-08-26","2020-09-12","2020-09-16","2021-03-28","2021-04-11","2021-04-16","2021-04-30","2021-05-09","2021-05-14","2021-06-04","2021-06-13","2021-06-19","2021-06-23","2021-07-02","2021-07-11","2021-07-16","2021-07-21","2021-07-30","2021-08-15","2021-08-27","2021-09-08","2021-09-19","2021-09-24","2021-10-06","2021-10-22","2021-11-14","2022-04-15","2022-04-20","2022-05-01","2022-05-06","2022-05-11","2022-05-29","2022-06-12","2022-06-17","2022-06-22","2022-07-15","2022-07-20","2022-07-31","2022-08-03","2022-08-12","2022-08-17","2022-08-21","2022-08-26","2022-09-02","2022-09-07","2022-09-14","2022-09-23","2022-10-12","2022-10-21","2022-10-30","2022-11-09","2022-11-27","2023-03-26","2023-04-07","2023-04-14","2023-04-26","2023-05-07","2023-05-10","2023-05-19","2023-05-31","2023-06-04","2023-06-09",null,null,null,null,null,null,null,null,null,null,null,null,null,null,{"$f":"IF(CW541>$DD$1,36,CW541)","v":16.427708957708962},14.322528470610536,{"$f":"CZ537-CY537","v":-2.1051804870984263}]
[null,null,null,null,null,null,null,null,"Course","ErdingHG","GutThailingHG","OdelzhausenHG","GutThailingHG","ErdingHG","GutThailingHG","GutThailingHG","GutThailingHG","PfaffingHG","ErdingHG","ErdingHG","GutThailingHG","StEurachHG","TegernbachHG","GutThailingHG","StEurachHG","ErdingHG","GutThailingHG","TegernbachHG","GutThailingHG","OdelzhausenHG","ErdingHR","TegernbachHG","TegernbachHG","ErdingHG","StEurachHG","EgmatingHG","PfaffingHG","TegernbachHG","GutThailingHG","TegernbachHG","PfaffingHG","MaxlrainHG","GutThailingHG","MangfalltalHG","ErdingHG","AschheimHG","GutThailingHG","ErdingHG","TegernbachHG","GutThailingHG","TegernbachHG","OdelzhausenHG","ReichertshausenHG","GutThailing2022HG","ERdingHG","TegernbachHG","AschheimHG","OdelzhausenHG","ErdingHG","StEurachHG","GutThailing2022HG","MaxlrainHG","AschheimHG","HohenpaehlHG","GutThailingHG","ValleyHG","GutThailing2022HG","Pfaffing2022HG","EschenhofHG","StEurachHG","AschheimHG","GutThailing2022HG","ReichertshausenHG","GutThailing2022HG","TegernbachHG","OdelzhausenHB","GutThailing2022HG","OdelzhausenHB","Pfaffing2023HG","Reichertshausen2023HG","TegernbachHG","GutThailing2022HG","Odelzhausen2023HG","AschheimHG","GarmischHG","GutThailing2022HG","IffeldorfHG","TegernbachHG"]
[null,null,null,null,null,null,null,null,"Ad Gr",90,85,88,90,95,93,94,91,97,90,93,90,97,96,88,100,96,94,103,88,97,88,97,91,98,96,94,88,97,98,93,91,97,87,95,87,93,96,87,98,92,94,92,98,93,93,93,99,89,88,93,85,99,93,92,87,88,86,95,91,96,91,88,89,89,93,95,90,93,94,96,92,101,95,91,100,90,97,93]
[null,null,null,null,null,null,null,null,"SD",{"$f":"IF(J539=\"\",0,(J539-INDIRECT(CONCATENATE(J538,\"CR\")))*113/INDIRECT(CONCATENATE(J538,\"SR\")))","v":16.515384615384615},{"$f":"IF(K539=\"\",0,(K539-INDIRECT(CONCATENATE(K538,\"CR\")))*113/INDIRECT(CONCATENATE(K538,\"SR\")))","v":12.507633587786259},14.41417322834646,16.820610687022899,20.861538461538462,19.408396946564885,20.270992366412212,17.68320610687023,21.73076923076923,16.515384615384615,19.123076923076923,16.820610687022899,21.651145038167932,20.802272727272726,15.095419847328245,24.238931297709918,21.73076923076923,20.270992366412212,26.794696969696968,15.095419847328245,22.42204724409449,20.036134453781507,21.658333333333331,16.521969696969695,23.469230769230769,20.788549618320605,18.718320610687027,13.907692307692308,21.658333333333331,23.721374045801525,18.234090909090906,16.515384615384615,20.024264705882349,14.232824427480915,19.815942028985511,13.907692307692308,18.576515151515153,21.996183206106871,13.907692307692308,22.514393939393937,18.545801526717558,19.090151515151511,17.973228346456697,24.483333333333331,19.470769230769235,19.123076923076923,18.234090909090906,23.71287878787879,15.303937007874019,14.776923076923078,18.20076335877862,12.516923076923083,21.6860294117647,18.576515151515153,18.373282442748089,14.232824427480915,12.137037037037038,13.386153846153851,19.38384615384615,16.436363636363637,20.788549618320605,16.864393939393942,15.124615384615391,16.411904761904758,15.99384615384616,{"$f":"IF(BW539=\"\",0,(BW539-INDIRECT(CONCATENATE(BW538,\"CR\")))*113/INDIRECT(CONCATENATE(BW538,\"SR\")))","v":18.234090909090906},26.463247863247869,16.863076923076928,24.531623931623937,17.828888888888887,21.230303030303027,17.3780303030303,26.42461538461539,21.324193548387104,16.864393939393942,25.447244094488184,16.863076923076928,22.599999999999998,18.234090909090906,0,0,{"$f":"IF(CM539=\"\",0,(CM539-INDIRECT(CONCATENATE(CM538,\"CR\")))*113/INDIRECT(CONCATENATE(CM538,\"SR\")))","v":0},0,{"$f":"IF(CO539=\"\",0,(CO539-INDIRECT(CONCATENATE(CO538,\"CR\")))*113/INDIRECT(CONCATENATE(CO538,\"SR\")))","v":0},0,{"$f":"IF(CQ539=\"\",0,(CQ539-INDIRECT(CONCATENATE(CQ538,\"CR\")))*113/INDIRECT(CONCATENATE(CQ538,\"SR\")))","v":0},0,{"$f":"IF(CS539=\"\",0,(CS539-INDIRECT(CONCATENATE(CS538,\"CR\")))*113/INDIRECT(CONCATENATE(CS538,\"SR\")))","v":0},0,{"$f":"IF(CU539=\"\",0,(CU539-INDIRECT(CONCATENATE(CU538,\"CR\")))*113/INDIRECT(CONCATENATE(CU538,\"SR\")))","v":0},0,{"$f":"IF(CW539=\"\",0,(CW539-INDIRECT(CONCATENATE(CW538,\"CR\")))*113/INDIRECT(CONCATENATE(CW538,\"SR\")))","v":0}]
[null,null,null,null,null,null,null,null,"New Hcap",{"$f":"J540-2","v":14.515384615384615},{"$f":"IF(K540>0,MIN(J540:K540)-2,J541)","v":10.507633587786259},{"$f":"IF(L540>0,MIN(J540:L540)-2,K541)","v":10.507633587786259},{"$f":"IF(M540>0,MIN(J540:M540)-1,L541)","v":11.507633587786259},{"$f":"IF(N540>0,MIN(J540:N540),M541)","v":12.507633587786259},{"$f":"IF(O540>0,AVERAGE(SMALL(IF(J540:O540>0,J540:O540),{1,2}))-1,N541)","v":12.460903408066359},{"$f":"IF(P540>0,AVERAGE(SMALL(IF(J540:P540>0,J540:P540),{1,2})),O541)","v":13.460903408066359},{"$f":"IF(Q540>0,AVERAGE(SMALL(IF(J540:Q540>0,J540:Q540),{1,2})),P541)","v":13.460903408066359},{"$f":"IF(R540>0,AVERAGE(SMALL(IF(J540:R540>0,J540:R540),{1,2,3})),Q541)","v":14.479063810505778},{"$f":"IF(S540>0,AVERAGE(SMALL(IF(J540:S540>0,J540:S540),{1,2,3})),R541)","v":14.479063810505778},{"$f":"IF(T540>0,AVERAGE(SMALL(IF(J540:T540>0,J540:T540),{1,2,3})),S541)","v":14.479063810505778},{"$f":"IF(U540>0,AVERAGE(SMALL(IF(J540:U540>0,J540:U540),{1,2,3,4})),T541)","v":14.988144011725488},{"$f":"IF(V540>0,AVERAGE(SMALL(IF(J540:V540>0,J540:V540),{1,2,3,4})),U541)","v":14.988144011725488},{"$f":"IF(W540>0,AVERAGE(SMALL(IF(J540:W540>0,J540:W540),{1,2,3,4})),V541)","v":14.988144011725488},{"$f":"IF(X540>0,AVERAGE(SMALL(IF(J540:X540>0,J540:X540),{1,2,3,4,5})),W541)","v":15.00959917884604},{"$f":"IF(Y540>0,AVERAGE(SMALL(IF(J540:Y540>0,J540:Y540),{1,2,3,4,5})),X541)","v":15.00959917884604},{"$f":"IF(Z540>0,AVERAGE(SMALL(IF(J540:Z540>0,J540:Z540),{1,2,3,4,5,6})),Y541)","v":15.311434430208848},{"$f":"IF(AA540>0,AVERAGE(SMALL(IF(J540:AA540>0,J540:AA540),{1,2,3,4,5,6})),Z541)","v":15.311434430208848},{"$f":"IF(AB540>0,AVERAGE(SMALL(IF(J540:AB540>0,J540:AB540),{1,2,3,4,5,6,7})),AA541)","v":15.527031038325143},{"$f":"IF(AC540>0,AVERAGE(SMALL(IF(J540:AC540>0,J540:AC540),{1,2,3,4,5,6,7,8})),AB541)","v":15.473079639450532},{"$f":"IF(AD540>0,AVERAGE(SMALL(IF(K540:AD540>0,K540:AD540),{1,2,3,4,5,6,7,8})),AC541)","v":15.619057325886233},{"$f":"IF(AE540>0,AVERAGE(SMALL(IF(L540:AE540>0,L540:AE540),{1,2,3,4,5,6,7,8})),AD541)","v":16.445987742797563},{"$f":"IF(AF540>0,AVERAGE(SMALL(IF(M540:AF540>0,M540:AF540),{1,2,3,4,5,6,7,8})),AE541)","v":17.070265707574869},{"$f":"IF(AG540>0,AVERAGE(SMALL(IF(N540:AG540>0,N540:AG540),{1,2,3,4,5,6,7,8})),AF541)","v":17.032935583818215},{"$f":"IF(AH540>0,AVERAGE(SMALL(IF(O540:AH540>0,O540:AH540),{1,2,3,4,5,6,7,8})),AG541)","v":17.032935583818215},{"$f":"IF(AI540>0,AVERAGE(SMALL(IF(P540:AI540>0,P540:AI540),{1,2,3,4,5,6,7,8})),AH541)","v":17.111402772220295},{"$f":"IF(AJ540>0,AVERAGE(SMALL(IF(Q540:AJ540>0,Q540:AJ540),{1,2,3,4,5,6,7,8})),AI541)","v":16.946676041833484},{"$f":"IF(AK540>0,AVERAGE(SMALL(IF(R540:AK540>0,R540:AK540),{1,2,3,4,5,6,7,8})),AJ541)","v":16.474736816936243},{"$f":"IF(AL540>0,AVERAGE(SMALL(IF(S540:AL540>0,S540:AL540),{1,2,3,4,5,6,7,8})),AK541)","v":16.474736816936243},{"$f":"IF(AM540>0,AVERAGE(SMALL(IF(T540:AM540>0,T540:AM540),{1,2,3,4,5,6,7,8})),AL541)","v":16.914830546735857},{"$f":"IF(AN540>0,AVERAGE(SMALL(IF(U540:AN540>0,U540:AN540),{1,2,3,4,5,6,7,8})),AM541)","v":16.803707294987603},{"$f":"IF(AO540>0,AVERAGE(SMALL(IF(V540:AO540>0,V540:AO540),{1,2,3,4,5,6,7,8})),AN541)","v":16.765554036032817},{"$f":"IF(AP540>0,AVERAGE(SMALL(IF(W540:AP540>0,W540:AP540),{1,2,3,4,5,6,7,8})),AO541)","v":16.764070317545425},{"$f":"IF(AQ540>0,AVERAGE(SMALL(IF(X540:AQ540>0,X540:AQ540),{1,2,3,4,5,6,7,8})),AP541)","v":16.040140282745245},{"$f":"IF(AR540>0,AVERAGE(SMALL(IF(Y540:AR540>0,Y540:AR540),{1,2,3,4,5,6,7,8})),AQ541)","v":16.630205555452402},{"$f":"IF(AS540>0,AVERAGE(SMALL(IF(Z540:AS540>0,Z540:AS540),{1,2,3,4,5,6,7,8})),AR541)","v":15.891674340290752},{"$f":"IF(AT540>0,AVERAGE(SMALL(IF(AA540:AT540>0,AA540:AT540),{1,2,3,4,5,6,7,8})),AS541)","v":15.873948657894267},{"$f":"IF(AU540>0,AVERAGE(SMALL(IF(AB540:AU540>0,AB540:AU540),{1,2,3,4,5,6,7,8})),AT541)","v":15.873948657894267},{"$f":"IF(AV540>0,AVERAGE(SMALL(IF(AC540:AV540>0,AC540:AV540),{1,2,3,4,5,6,7,8})),AU541)","v":15.290345802416413},{"$f":"IF(AW540>0,AVERAGE(SMALL(IF(AD540:AW540>0,AD540:AW540),{1,2,3,4,5,6,7,8})),AV541)","v":15.725482715439776},{"$f":"IF(AX540>0,AVERAGE(SMALL(IF(AE540:AX540>0,AE540:AX540),{1,2,3,4,5,6,7,8})),AW541)","v":15.721643512340076},{"$f":"IF(AY540>0,AVERAGE(SMALL(IF(AF540:AY540>0,AF540:AY540),{1,2,3,4,5,6,7,8})),AX541)","v":15.721643512340076},{"$f":"IF(AZ540>0,AVERAGE(SMALL(IF(AG540:AZ540>0,AG540:AZ540),{1,2,3,4,5,6,7,8})),AY541)","v":15.650071864807469},{"$f":"IF(BA540>0,AVERAGE(SMALL(IF(AH540:BA540>0,AH540:BA540),{1,2,3,4,5,6,7,8})),AZ541)","v":15.903050843525952},{"$f":"IF(BB540>0,AVERAGE(SMALL(IF(AI540:BB540>0,AI540:BB540),{1,2,3,4,5,6,7,8})),BA541)","v":15.903050843525952},{"$f":"IF(BC540>0,AVERAGE(SMALL(IF(AJ540:BC540>0,AJ540:BC540),{1,2,3,4,5,6,7,8})),BB541)","v":15.903050843525952},{"$f":"IF(BD540>0,AVERAGE(SMALL(IF(AK540:BD540>0,AK540:BD540),{1,2,3,4,5,6,7,8})),BC541)","v":15.864087016322621},{"$f":"IF(BE540>0,AVERAGE(SMALL(IF(AL540:BE540>0,AL540:BE540),{1,2,3,4,5,6,7,8})),BD541)","v":16.443850668700776},{"$f":"IF(BF540>0,AVERAGE(SMALL(IF(AM540:BF540>0,AM540:BF540),{1,2,3,4,5,6,7,8})),BE541)","v":16.038617603845335},{"$f":"IF(BG540>0,AVERAGE(SMALL(IF(AN540:BG540>0,AN540:BG540),{1,2,3,4,5,6,7,8})),BF541)","v":15.606471624824357},{"$f":"IF(BH540>0,AVERAGE(SMALL(IF(AO540:BH540>0,AO540:BH540),{1,2,3,4,5,6,7,8})),BG541)","v":15.60230568103532},{"$f":"IF(BI540>0,AVERAGE(SMALL(IF(AP540:BI540>0,AP540:BI540),{1,2,3,4,5,6,7,8})),BH541)","v":15.102497988727629},{"$f":"IF(BJ540>0,AVERAGE(SMALL(IF(AQ540:BJ540>0,AQ540:BJ540),{1,2,3,4,5,6,7,8})),BI541)","v":15.102497988727629},{"$f":"IF(BK540>0,AVERAGE(SMALL(IF(AR540:BK540>0,AR540:BK540),{1,2,3,4,5,6,7,8})),BJ541)","v":15.602656298928878},{"$f":"IF(BL540>0,AVERAGE(SMALL(IF(AS540:BL540>0,AS540:BL540),{1,2,3,4,5,6,7,8})),BK541)","v":15.602656298928878},{"$f":"IF(BM540>0,AVERAGE(SMALL(IF(AT540:BM540>0,AT540:BM540),{1,2,3,4,5,6,7,8})),BL541)","v":15.643297813902453},{"$f":"IF(BN540>0,AVERAGE(SMALL(IF(AU540:BN540>0,AU540:BN540),{1,2,3,4,5,6,7,8})),BM541)","v":14.881166079895719},{"$f":"IF(BO540>0,AVERAGE(SMALL(IF(AV540:BO540>0,AV540:BO540),{1,2,3,4,5,6,7,8})),BN541)","v":14.279339890817624},{"$f":"IF(BP540>0,AVERAGE(SMALL(IF(AW540:BP540>0,AW540:BP540),{1,2,3,4,5,6,7,8})),BO541)","v":14.815973772203412},{"$f":"IF(BQ540>0,AVERAGE(SMALL(IF(AX540:BQ540>0,AX540:BQ540),{1,2,3,4,5,6,7,8})),BP541)","v":14.59542380690154},{"$f":"IF(BR540>0,AVERAGE(SMALL(IF(AY540:BR540>0,AY540:BR540),{1,2,3,4,5,6,7,8})),BQ541)","v":14.59542380690154},{"$f":"IF(BS540>0,AVERAGE(SMALL(IF(AZ540:BS540>0,AZ540:BS540),{1,2,3,4,5,6,7,8})),BR541)","v":14.456819506018697},{"$f":"IF(BT540>0,AVERAGE(SMALL(IF(BA540:BT540>0,BA540:BT540),{1,2,3,4,5,6,7,8})),BS541)","v":14.239347186671377},{"$f":"IF(BU540>0,AVERAGE(SMALL(IF(BB540:BU540>0,BB540:BU540),{1,2,3,4,5,6,7,8})),BT541)","v":14.236289827364018},{"$f":"IF(BV540>0,AVERAGE(SMALL(IF(BC540:BV540>0,BC540:BV540),{1,2,3,4,5,6,7,8})),BU541)","v":14.184032501356693},{"$f":"IF(BW540>0,AVERAGE(SMALL(IF(BD540:BW540>0,BD540:BW540),{1,2,3,4,5,6,7,8})),BV541)","v":14.184032501356693},{"$f":"IF(BX540>0,AVERAGE(SMALL(IF(BE540:BX540>0,BE540:BX540),{1,2,3,4,5,6,7,8})),BW541)","v":14.184032501356693},{"$f":"IF(BY540>0,AVERAGE(SMALL(IF(BF540:BY540>0,BF540:BY540),{1,2,3,4,5,6,7,8})),BX541)","v":14.184032501356693},{"$f":"IF(BZ540>0,AVERAGE(SMALL(IF(BG540:BZ540>0,BG540:BZ540),{1,2,3,4,5,6,7,8})),BY541)","v":14.322528470610536},{"$f":"IF(CA540>0,AVERAGE(SMALL(IF(BH540:CA540>0,BH540:CA540),{1,2,3,4,5,6,7,8})),BZ541)","v":14.529958540540605},{"$f":"IF(CB540>0,AVERAGE(SMALL(IF(BI540:CB540>0,BI540:CB540),{1,2,3,4,5,6,7,8})),CA541)","v":14.529958540540605},{"$f":"IF(CC540>0,AVERAGE(SMALL(IF(BJ540:CC540>0,BJ540:CC540),{1,2,3,4,5,6,7,8})),CB541)","v":15.073227771309835},{"$f":"IF(CD540>0,AVERAGE(SMALL(IF(BK540:CD540>0,BK540:CD540),{1,2,3,4,5,6,7,8})),CC541)","v":15.073227771309835},{"$f":"IF(CE540>0,AVERAGE(SMALL(IF(BL540:CE540>0,BL540:CE540),{1,2,3,4,5,6,7,8})),CD541)","v":15.073227771309835},{"$f":"IF(CF540>0,AVERAGE(SMALL(IF(BM540:CF540>0,BM540:CF540),{1,2,3,4,5,6,7,8})),CE541)","v":15.073227771309835},{"$f":"IF(CG540>0,AVERAGE(SMALL(IF(BN540:CG540>0,BN540:CG540),{1,2,3,4,5,6,7,8})),CF541)","v":15.402173960298963},{"$f":"IF(CH540>0,AVERAGE(SMALL(IF(BO540:CH540>0,BO540:CH540),{1,2,3,4,5,6,7,8})),CG541)","v":15.992928946053951},{"$f":"IF(CI540>0,AVERAGE(SMALL(IF(BP540:CI540>0,BP540:CI540),{1,2,3,4,5,6,7,8})),CH541)","v":16.427708957708962},{"$f":"IF(CJ540>0,AVERAGE(SMALL(IF(BQ540:CJ540>0,BQ540:CJ540),{1,2,3,4,5,6,7,8})),CI541)","v":16.427708957708962},{"$f":"IF(CK540>0,AVERAGE(SMALL(IF(BR540:CK540>0,BR540:CK540),{1,2,3,4,5,6,7,8})),CJ541)","v":16.427708957708962},{"$f":"IF(CL540>0,AVERAGE(SMALL(IF(BS540:CL540>0,BS540:CL540),{1,2,3,4,5,6,7,8})),CK541)","v":16.427708957708962},{"$f":"IF(CM540>0,AVERAGE(SMALL(IF(BT540:CM540>0,BT540:CM540),{1,2,3,4,5,6,7,8})),CL541)","v":16.427708957708962},{"$f":"IF(CN540>0,AVERAGE(SMALL(IF(BU540:CN540>0,BU540:CN540),{1,2,3,4,5,6,7,8})),CM541)","v":16.427708957708962},{"$f":"IF(CO540>0,AVERAGE(SMALL(IF(BV540:CO540>0,BV540:CO540),{1,2,3,4,5,6,7,8})),CN541)","v":16.427708957708962},{"$f":"IF(CP540>0,AVERAGE(SMALL(IF(BW540:CP540>0,BW540:CP540),{1,2,3,4,5,6,7,8})),CO541)","v":16.427708957708962},{"$f":"IF(CQ540>0,AVERAGE(SMALL(IF(BX540:CQ540>0,BX540:CQ540),{1,2,3,4,5,6,7,8})),CP541)","v":16.427708957708962},{"$f":"IF(CR540>0,AVERAGE(SMALL(IF(BY540:CR540>0,BY540:CR540),{1,2,3,4,5,6,7,8})),CQ541)","v":16.427708957708962},{"$f":"IF(CS540>0,AVERAGE(SMALL(IF(BZ540:CS540>0,BZ540:CS540),{1,2,3,4,5,6,7,8})),CR541)","v":16.427708957708962},{"$f":"IF(CT540>0,AVERAGE(SMALL(IF(CA540:CT540>0,CA540:CT540),{1,2,3,4,5,6,7,8})),CS541)","v":16.427708957708962},{"$f":"IF(CU540>0,AVERAGE(SMALL(IF(CB540:CU540>0,CB540:CU540),{1,2,3,4,5,6,7,8})),CT541)","v":16.427708957708962},{"$f":"IF(CV540>0,AVERAGE(SMALL(IF(CC540:CV540>0,CC540:CV540),{1,2,3,4,5,6,7,8})),CU541)","v":16.427708957708962},{"$f":"IF(CW540>0,AVERAGE(SMALL(IF(CD540:CW540>0,CD540:CW540),{1,2,3,4,5,6,7,8})),CV541)","v":16.427708957708962}]
[null,null,null,null,null,null,null,null,"Low Hcap",null,null,null,null,null,null,null,null,null,null,null,null,null,null,null,null,null,null,null,{"$f":"MIN($L541:AC541)","v":10.507633587786259},{"$f":"MIN($Q541:AD541)","v":13.460903408066359},{"$f":"MIN($Q541:AE541)","v":13.460903408066359},{"$f":"MIN($Q541:AF541)","v":13.460903408066359},{"$f":"MIN($Q541:AG541)","v":13.460903408066359},{"$f":"MIN($Q541:AH541)","v":13.460903408066359},{"$f":"MIN($Q541:AI541)","v":13.460903408066359},{"$f":"MIN($T541:AJ541)","v":14.479063810505778},{"$f":"MIN($V541:AK541)","v":14.988144011725488},{"$f":"MIN($V541:AL541)","v":14.988144011725488},{"$f":"MIN($W541:AM541)","v":14.988144011725488},{"$f":"MIN($W541:AN541)","v":14.988144011725488},{"$f":"MIN($X541:AO541)","v":15.00959917884604},{"$f":"MIN($Y541:AP541)","v":15.00959917884604},{"$f":"MIN($Y541:AQ541)","v":15.00959917884604},{"$f":"MIN($Y541:AR541)","v":15.00959917884604},{"$f":"MIN($AA541:AS541)","v":15.311434430208848},{"$f":"MIN($AB541:AT541)","v":15.473079639450532},{"$f":"MIN($AB541:AU541)","v":15.473079639450532},{"$f":"MIN($AD541:AV541)","v":15.290345802416413},{"$f":"MIN($AD541:AW541)","v":15.290345802416413},{"$f":"MIN($AD541:AX541)","v":15.290345802416413},{"$f":"MIN($AD541:AY541)","v":15.290345802416413},{"$f":"MIN($AD541:AZ541)","v":15.290345802416413},{"$f":"MIN($AF541:BA541)","v":15.290345802416413},{"$f":"MIN($AG541:BB541)","v":15.290345802416413},{"$f":"MIN($AG541:BC541)","v":15.290345802416413},{"$f":"MIN($AH541:BD541)","v":15.290345802416413},{"$f":"MIN($AI541:BE541)","v":15.290345802416413},{"$f":"MIN($AJ541:BF541)","v":15.290345802416413},{"$f":"MIN($AK541:BG541)","v":15.290345802416413},{"$f":"MIN($AL541:BH541)","v":15.290345802416413},{"$f":"MIN($AM541:BI541)","v":15.102497988727629},{"$f":"MIN($AP541:BJ541)","v":15.102497988727629},{"$f":"MIN($AQ541:BK541)","v":15.102497988727629},{"$f":"MIN($AS541:BL541)","v":15.102497988727629},{"$f":"MIN($AS541:BM541)","v":15.102497988727629},{"$f":"MIN($AS541:BN541)","v":14.881166079895719},{"$f":"MIN($AS541:BO541)","v":14.279339890817624},{"$f":"MIN($AS541:BP541)","v":14.279339890817624},{"$f":"MIN($AT541:BQ541)","v":14.279339890817624},{"$f":"MIN($AU541:BR541)","v":14.279339890817624},{"$f":"MIN($AU541:BS541)","v":14.279339890817624},{"$f":"MIN($AV541:BT541)","v":14.239347186671377},{"$f":"MIN($AW541:BU541)","v":14.236289827364018},{"$f":"MIN($AY541:BV541)","v":14.184032501356693},{"$f":"MIN($AY541:BW541)","v":14.184032501356693},{"$f":"MIN($AZ541:BX541)","v":14.184032501356693},{"$f":"MIN($AZ541:BY541)","v":14.184032501356693},{"$f":"MIN($BA541:BZ541)","v":14.184032501356693},{"$f":"MIN($BA541:CA541)","v":14.184032501356693},{"$f":"MIN($BA541:CB541)","v":14.184032501356693},{"$f":"MIN($BA541:CC541)","v":14.184032501356693},{"$f":"MIN($BA541:CD541)","v":14.184032501356693},{"$f":"MIN($BE541:CE541)","v":14.184032501356693},{"$f":"MIN($BE541:CF541)","v":14.184032501356693},{"$f":"MIN($BE541:CG541)","v":14.184032501356693},{"$f":"MIN($BG541:CH541)","v":14.184032501356693},{"$f":"MIN($BG541:CI541)","v":14.184032501356693},{"$f":"MIN($BG541:CJ541)","v":14.184032501356693},{"$f":"MIN($BG541:CK541)","v":14.184032501356693},{"$f":"MIN($BG541:CL541)","v":14.184032501356693},{"$f":"MIN($BG541:CM541)","v":14.184032501356693},{"$f":"MIN($BG541:CN541)","v":14.184032501356693},{"$f":"MIN($BG541:CO541)","v":14.184032501356693},{"$f":"MIN($BG541:CP541)","v":14.184032501356693},{"$f":"MIN($BG541:CQ541)","v":14.184032501356693},{"$f":"MIN($BG541:CR541)","v":14.184032501356693},{"$f":"MIN($BG541:CS541)","v":14.184032501356693},{"$f":"MIN($BG541:CT541)","v":14.184032501356693},{"$f":"MIN($BG541:CU541)","v":14.184032501356693},{"$f":"MIN($BG541:CV541)","v":14.184032501356693},{"$f":"MIN($BG541:CW541)","v":14.184032501356693}]
[null,"Wilde","William",8.3000000000000007,null,{"$f":"IF(H543<4,\"Y\",)","v":0},null,{"$f":"COUNT(J543:CX543)","v":35},"Date","2018-10-07","2018-10-12","2018-10-21","2019-03-31","2019-04-28","2019-07-12","2019-08-09","2020-05-20","2020-05-24","2020-05-31","2020-06-05","2020-06-10","2020-06-14","2020-06-19","2020-06-28","2020-07-03","2020-07-12","2020-09-06","2020-09-12","2020-09-16","2021-03-28","2021-04-11","2021-04-25","2021-05-09","2021-07-16","2021-07-21","2021-08-27","2021-09-08","2022-03-27","2022-07-31","2022-08-03","2022-08-07","2022-08-12","2023-05-28","2023-06-09",null,null,null,null,null,null,null,null,null,null,null,null,null,null,null,null,null,null,null,null,null,null,null,null,null,null,null,null,null,null,null,null,null,null,null,null,null,null,null,null,null,null,null,null,null,null,null,null,null,null,null,null,null,null,null,null,null,null,{"$f":"IF(CW547>$DD$1,36,CW547)","v":9.1496553559425582},9.1496553559425582,{"$f":"CZ543-CY543","v":0}]
[null,null,null,null,null,null,null,null,"Course","TegernbachHG","ErdingHG","PfaffingHG","ErdingHG","PfaffingHG","OdelzhausenHG","ErdingHG","GutThailingHG","PfaffingHG","ErdingHG","ErdingHG","GutThailingHG","OdelzhausenHG","StEurachHG","ErdingHG","TegernbachHG","PfaffingHG","OdelzhausenHG","TegernbachHG","GutThailingHG","OdelzhausenHG","ErdingHR","PfaffingHG","ErdingHG","MaxlrainHG","GutThailingHG","AschheimHG","GutThailingHG","OdelzhausenHG","HohenpaehlHG","GutThailingHG","IffeldorfHG","ValleyHG","ErdingHG","TegernbachHG"]
[null,null,null,null,null,null,null,null,"Ad Gr",91,88,93,84,92,88,88,93,89,85,82,81,83,93,92,76,86,82,86,85,97,80,86,85,95,80,91,85,93,91,86,82,81,93,93]
[null,null,null,null,null,null,null,null,"SD",{"$f":"IF(J545=\"\",0,(J545-INDIRECT(CONCATENATE(J544,\"CR\")))*113/INDIRECT(CONCATENATE(J544,\"SR\")))","v":16.521969696969695},{"$f":"IF(K545=\"\",0,(K545-INDIRECT(CONCATENATE(K544,\"CR\")))*113/INDIRECT(CONCATENATE(K544,\"SR\")))","v":14.776923076923078},18.253846153846155,11.3,17.384615384615383,14.41417322834646,14.776923076923078,19.408396946564885,14.776923076923078,12.169230769230769,9.5615384615384613,9.057251908396946,9.9653543307086636,18.20076335877862,18.253846153846155,3.6810606060606039,12.169230769230769,9.0755905511811044,12.241666666666664,12.507633587786259,22.42204724409449,12.439495798319321,12.169230769230769,12.169230769230769,18.362499999999994,8.1946564885496187,16.864393939393942,12.507633587786259,18.862992125984256,17.510687022900761,13.370229007633588,9.4604651162790674,6.2777777777777777,19.123076923076923,18.234090909090906,0,0,0,0,0,0,0,0,0,0,0,0,0,0,0,0,0,0,0,0,0,0,0,0,0,0,0,0,0,0,{"$f":"IF(BW545=\"\",0,(BW545-INDIRECT(CONCATENATE(BW544,\"CR\")))*113/INDIRECT(CONCATENATE(BW544,\"SR\")))","v":0},0,0,0,0,0,0,0,0,0,0,0,0,0,0,0,{"$f":"IF(CM545=\"\",0,(CM545-INDIRECT(CONCATENATE(CM544,\"CR\")))*113/INDIRECT(CONCATENATE(CM544,\"SR\")))","v":0},0,{"$f":"IF(CO545=\"\",0,(CO545-INDIRECT(CONCATENATE(CO544,\"CR\")))*113/INDIRECT(CONCATENATE(CO544,\"SR\")))","v":0},0,{"$f":"IF(CQ545=\"\",0,(CQ545-INDIRECT(CONCATENATE(CQ544,\"CR\")))*113/INDIRECT(CONCATENATE(CQ544,\"SR\")))","v":0},0,{"$f":"IF(CS545=\"\",0,(CS545-INDIRECT(CONCATENATE(CS544,\"CR\")))*113/INDIRECT(CONCATENATE(CS544,\"SR\")))","v":0},0,{"$f":"IF(CU545=\"\",0,(CU545-INDIRECT(CONCATENATE(CU544,\"CR\")))*113/INDIRECT(CONCATENATE(CU544,\"SR\")))","v":0},0,{"$f":"IF(CW545=\"\",0,(CW545-INDIRECT(CONCATENATE(CW544,\"CR\")))*113/INDIRECT(CONCATENATE(CW544,\"SR\")))","v":0}]
[null,null,null,null,null,null,null,null,"New Hcap",{"$f":"J546-2","v":14.521969696969695},{"$f":"IF(K546>0,MIN(J546:K546)-2,J547)","v":12.776923076923078},{"$f":"IF(L546>0,MIN(J546:L546)-2,K547)","v":12.776923076923078},{"$f":"IF(M546>0,MIN(J546:M546)-1,L547)","v":10.3},{"$f":"IF(N546>0,MIN(J546:N546),M547)","v":11.3},{"$f":"IF(O546>0,AVERAGE(SMALL(IF(J546:O546>0,J546:O546),{1,2}))-1,N547)","v":11.85708661417323},{"$f":"IF(P546>0,AVERAGE(SMALL(IF(J546:P546>0,J546:P546),{1,2})),O547)","v":12.85708661417323},{"$f":"IF(Q546>0,AVERAGE(SMALL(IF(J546:Q546>0,J546:Q546),{1,2})),P547)","v":12.85708661417323},{"$f":"IF(R546>0,AVERAGE(SMALL(IF(J546:R546>0,J546:R546),{1,2,3})),Q547)","v":13.497032101756512},{"$f":"IF(S546>0,AVERAGE(SMALL(IF(J546:S546>0,J546:S546),{1,2,3})),R547)","v":12.627801332525744},{"$f":"IF(T546>0,AVERAGE(SMALL(IF(J546:T546>0,J546:T546),{1,2,3})),S547)","v":11.01025641025641},{"$f":"IF(U546>0,AVERAGE(SMALL(IF(J546:U546>0,J546:U546),{1,2,3,4})),T547)","v":10.522005284791543},{"$f":"IF(V546>0,AVERAGE(SMALL(IF(J546:V546>0,J546:V546),{1,2,3,4})),U547)","v":9.9710361751610179},{"$f":"IF(W546>0,AVERAGE(SMALL(IF(J546:W546>0,J546:W546),{1,2,3,4})),V547)","v":9.9710361751610179},{"$f":"IF(X546>0,AVERAGE(SMALL(IF(J546:X546>0,J546:X546),{1,2,3,4,5})),W547)","v":10.410675093974968},{"$f":"IF(Y546>0,AVERAGE(SMALL(IF(J546:Y546>0,J546:Y546),{1,2,3,4,5})),X547)","v":8.7130410613409346},{"$f":"IF(Z546>0,AVERAGE(SMALL(IF(J546:Z546>0,J546:Z546),{1,2,3,4,5,6})),Y547)","v":9.2890726793225724},{"$f":"IF(AA546>0,AVERAGE(SMALL(IF(J546:AA546>0,J546:AA546),{1,2,3,4,5,6})),Z547)","v":8.7734659763142968},{"$f":"IF(AB546>0,AVERAGE(SMALL(IF(J546:AB546>0,J546:AB546),{1,2,3,4,5,6,7})),AA547)","v":9.2585752324452208},{"$f":"IF(AC546>0,AVERAGE(SMALL(IF(J546:AC546>0,J546:AC546),{1,2,3,4,5,6,7,8})),AB547)","v":9.6224071745434134},{"$f":"IF(AD546>0,AVERAGE(SMALL(IF(K546:AD546>0,K546:AD546),{1,2,3,4,5,6,7,8})),AC547)","v":9.6224071745434134},{"$f":"IF(AE546>0,AVERAGE(SMALL(IF(L546:AE546>0,L546:AE546),{1,2,3,4,5,6,7,8})),AD547)","v":9.6224071745434134},{"$f":"IF(AF546>0,AVERAGE(SMALL(IF(M546:AF546>0,M546:AF546),{1,2,3,4,5,6,7,8})),AE547)","v":9.6224071745434134},{"$f":"IF(AG546>0,AVERAGE(SMALL(IF(N546:AG546>0,N546:AG546),{1,2,3,4,5,6,7,8})),AF547)","v":9.7310610206972594},{"$f":"IF(AH546>0,AVERAGE(SMALL(IF(O546:AH546>0,O546:AH546),{1,2,3,4,5,6,7,8})),AG547)","v":9.7310610206972594},{"$f":"IF(AI546>0,AVERAGE(SMALL(IF(P546:AI546>0,P546:AI546),{1,2,3,4,5,6,7,8})),AH547)","v":9.234239235612117},{"$f":"IF(AJ546>0,AVERAGE(SMALL(IF(Q546:AJ546>0,Q546:AJ546),{1,2,3,4,5,6,7,8})),AI547)","v":9.234239235612117},{"$f":"IF(AK546>0,AVERAGE(SMALL(IF(R546:AK546>0,R546:AK546),{1,2,3,4,5,6,7,8})),AJ547)","v":9.234239235612117},{"$f":"IF(AL546>0,AVERAGE(SMALL(IF(S546:AL546>0,S546:AL546),{1,2,3,4,5,6,7,8})),AK547)","v":9.234239235612117},{"$f":"IF(AM546>0,AVERAGE(SMALL(IF(T546:AM546>0,T546:AM546),{1,2,3,4,5,6,7,8})),AL547)","v":9.234239235612117},{"$f":"IF(AN546>0,AVERAGE(SMALL(IF(U546:AN546>0,U546:AN546),{1,2,3,4,5,6,7,8})),AM547)","v":9.560200774073655},{"$f":"IF(AO546>0,AVERAGE(SMALL(IF(V546:AO546>0,V546:AO546),{1,2,3,4,5,6,7,8})),AN547)","v":9.6106024250589197},{"$f":"IF(AP546>0,AVERAGE(SMALL(IF(W546:AP546>0,W546:AP546),{1,2,3,4,5,6,7,8})),AO547)","v":9.1496553559425582},{"$f":"IF(AQ546>0,AVERAGE(SMALL(IF(X546:AQ546>0,X546:AQ546),{1,2,3,4,5,6,7,8})),AP547)","v":9.1496553559425582},{"$f":"IF(AR546>0,AVERAGE(SMALL(IF(Y546:AR546>0,Y546:AR546),{1,2,3,4,5,6,7,8})),AQ547)","v":9.1496553559425582},{"$f":"IF(AS546>0,AVERAGE(SMALL(IF(Z546:AS546>0,Z546:AS546),{1,2,3,4,5,6,7,8})),AR547)","v":9.1496553559425582},{"$f":"IF(AT546>0,AVERAGE(SMALL(IF(AA546:AT546>0,AA546:AT546),{1,2,3,4,5,6,7,8})),AS547)","v":9.1496553559425582},{"$f":"IF(AU546>0,AVERAGE(SMALL(IF(AB546:AU546>0,AB546:AU546),{1,2,3,4,5,6,7,8})),AT547)","v":9.1496553559425582},{"$f":"IF(AV546>0,AVERAGE(SMALL(IF(AC546:AV546>0,AC546:AV546),{1,2,3,4,5,6,7,8})),AU547)","v":9.1496553559425582},{"$f":"IF(AW546>0,AVERAGE(SMALL(IF(AD546:AW546>0,AD546:AW546),{1,2,3,4,5,6,7,8})),AV547)","v":9.1496553559425582},{"$f":"IF(AX546>0,AVERAGE(SMALL(IF(AE546:AX546>0,AE546:AX546),{1,2,3,4,5,6,7,8})),AW547)","v":9.1496553559425582},{"$f":"IF(AY546>0,AVERAGE(SMALL(IF(AF546:AY546>0,AF546:AY546),{1,2,3,4,5,6,7,8})),AX547)","v":9.1496553559425582},{"$f":"IF(AZ546>0,AVERAGE(SMALL(IF(AG546:AZ546>0,AG546:AZ546),{1,2,3,4,5,6,7,8})),AY547)","v":9.1496553559425582},{"$f":"IF(BA546>0,AVERAGE(SMALL(IF(AH546:BA546>0,AH546:BA546),{1,2,3,4,5,6,7,8})),AZ547)","v":9.1496553559425582},{"$f":"IF(BB546>0,AVERAGE(SMALL(IF(AI546:BB546>0,AI546:BB546),{1,2,3,4,5,6,7,8})),BA547)","v":9.1496553559425582},{"$f":"IF(BC546>0,AVERAGE(SMALL(IF(AJ546:BC546>0,AJ546:BC546),{1,2,3,4,5,6,7,8})),BB547)","v":9.1496553559425582},{"$f":"IF(BD546>0,AVERAGE(SMALL(IF(AK546:BD546>0,AK546:BD546),{1,2,3,4,5,6,7,8})),BC547)","v":9.1496553559425582},{"$f":"IF(BE546>0,AVERAGE(SMALL(IF(AL546:BE546>0,AL546:BE546),{1,2,3,4,5,6,7,8})),BD547)","v":9.1496553559425582},{"$f":"IF(BF546>0,AVERAGE(SMALL(IF(AM546:BF546>0,AM546:BF546),{1,2,3,4,5,6,7,8})),BE547)","v":9.1496553559425582},{"$f":"IF(BG546>0,AVERAGE(SMALL(IF(AN546:BG546>0,AN546:BG546),{1,2,3,4,5,6,7,8})),BF547)","v":9.1496553559425582},{"$f":"IF(BH546>0,AVERAGE(SMALL(IF(AO546:BH546>0,AO546:BH546),{1,2,3,4,5,6,7,8})),BG547)","v":9.1496553559425582},{"$f":"IF(BI546>0,AVERAGE(SMALL(IF(AP546:BI546>0,AP546:BI546),{1,2,3,4,5,6,7,8})),BH547)","v":9.1496553559425582},{"$f":"IF(BJ546>0,AVERAGE(SMALL(IF(AQ546:BJ546>0,AQ546:BJ546),{1,2,3,4,5,6,7,8})),BI547)","v":9.1496553559425582},{"$f":"IF(BK546>0,AVERAGE(SMALL(IF(AR546:BK546>0,AR546:BK546),{1,2,3,4,5,6,7,8})),BJ547)","v":9.1496553559425582},{"$f":"IF(BL546>0,AVERAGE(SMALL(IF(AS546:BL546>0,AS546:BL546),{1,2,3,4,5,6,7,8})),BK547)","v":9.1496553559425582},{"$f":"IF(BM546>0,AVERAGE(SMALL(IF(AT546:BM546>0,AT546:BM546),{1,2,3,4,5,6,7,8})),BL547)","v":9.1496553559425582},{"$f":"IF(BN546>0,AVERAGE(SMALL(IF(AU546:BN546>0,AU546:BN546),{1,2,3,4,5,6,7,8})),BM547)","v":9.1496553559425582},{"$f":"IF(BO546>0,AVERAGE(SMALL(IF(AV546:BO546>0,AV546:BO546),{1,2,3,4,5,6,7,8})),BN547)","v":9.1496553559425582},{"$f":"IF(BP546>0,AVERAGE(SMALL(IF(AW546:BP546>0,AW546:BP546),{1,2,3,4,5,6,7,8})),BO547)","v":9.1496553559425582},{"$f":"IF(BQ546>0,AVERAGE(SMALL(IF(AX546:BQ546>0,AX546:BQ546),{1,2,3,4,5,6,7,8})),BP547)","v":9.1496553559425582},{"$f":"IF(BR546>0,AVERAGE(SMALL(IF(AY546:BR546>0,AY546:BR546),{1,2,3,4,5,6,7,8})),BQ547)","v":9.1496553559425582},{"$f":"IF(BS546>0,AVERAGE(SMALL(IF(AZ546:BS546>0,AZ546:BS546),{1,2,3,4,5,6,7,8})),BR547)","v":9.1496553559425582},{"$f":"IF(BT546>0,AVERAGE(SMALL(IF(BA546:BT546>0,BA546:BT546),{1,2,3,4,5,6,7,8})),BS547)","v":9.1496553559425582},{"$f":"IF(BU546>0,AVERAGE(SMALL(IF(BB546:BU546>0,BB546:BU546),{1,2,3,4,5,6,7,8})),BT547)","v":9.1496553559425582},{"$f":"IF(BV546>0,AVERAGE(SMALL(IF(BC546:BV546>0,BC546:BV546),{1,2,3,4,5,6,7,8})),BU547)","v":9.1496553559425582},{"$f":"IF(BW546>0,AVERAGE(SMALL(IF(BD546:BW546>0,BD546:BW546),{1,2,3,4,5,6,7,8})),BV547)","v":9.1496553559425582},{"$f":"IF(BX546>0,AVERAGE(SMALL(IF(BE546:BX546>0,BE546:BX546),{1,2,3,4,5,6,7,8})),BW547)","v":9.1496553559425582},{"$f":"IF(BY546>0,AVERAGE(SMALL(IF(BF546:BY546>0,BF546:BY546),{1,2,3,4,5,6,7,8})),BX547)","v":9.1496553559425582},{"$f":"IF(BZ546>0,AVERAGE(SMALL(IF(BG546:BZ546>0,BG546:BZ546),{1,2,3,4,5,6,7,8})),BY547)","v":9.1496553559425582},{"$f":"IF(CA546>0,AVERAGE(SMALL(IF(BH546:CA546>0,BH546:CA546),{1,2,3,4,5,6,7,8})),BZ547)","v":9.1496553559425582},{"$f":"IF(CB546>0,AVERAGE(SMALL(IF(BI546:CB546>0,BI546:CB546),{1,2,3,4,5,6,7,8})),CA547)","v":9.1496553559425582},{"$f":"IF(CC546>0,AVERAGE(SMALL(IF(BJ546:CC546>0,BJ546:CC546),{1,2,3,4,5,6,7,8})),CB547)","v":9.1496553559425582},{"$f":"IF(CD546>0,AVERAGE(SMALL(IF(BK546:CD546>0,BK546:CD546),{1,2,3,4,5,6,7,8})),CC547)","v":9.1496553559425582},{"$f":"IF(CE546>0,AVERAGE(SMALL(IF(BL546:CE546>0,BL546:CE546),{1,2,3,4,5,6,7,8})),CD547)","v":9.1496553559425582},{"$f":"IF(CF546>0,AVERAGE(SMALL(IF(BM546:CF546>0,BM546:CF546),{1,2,3,4,5,6,7,8})),CE547)","v":9.1496553559425582},{"$f":"IF(CG546>0,AVERAGE(SMALL(IF(BN546:CG546>0,BN546:CG546),{1,2,3,4,5,6,7,8})),CF547)","v":9.1496553559425582},{"$f":"IF(CH546>0,AVERAGE(SMALL(IF(BO546:CH546>0,BO546:CH546),{1,2,3,4,5,6,7,8})),CG547)","v":9.1496553559425582},{"$f":"IF(CI546>0,AVERAGE(SMALL(IF(BP546:CI546>0,BP546:CI546),{1,2,3,4,5,6,7,8})),CH547)","v":9.1496553559425582},{"$f":"IF(CJ546>0,AVERAGE(SMALL(IF(BQ546:CJ546>0,BQ546:CJ546),{1,2,3,4,5,6,7,8})),CI547)","v":9.1496553559425582},{"$f":"IF(CK546>0,AVERAGE(SMALL(IF(BR546:CK546>0,BR546:CK546),{1,2,3,4,5,6,7,8})),CJ547)","v":9.1496553559425582},{"$f":"IF(CL546>0,AVERAGE(SMALL(IF(BS546:CL546>0,BS546:CL546),{1,2,3,4,5,6,7,8})),CK547)","v":9.1496553559425582},{"$f":"IF(CM546>0,AVERAGE(SMALL(IF(BT546:CM546>0,BT546:CM546),{1,2,3,4,5,6,7,8})),CL547)","v":9.1496553559425582},{"$f":"IF(CN546>0,AVERAGE(SMALL(IF(BU546:CN546>0,BU546:CN546),{1,2,3,4,5,6,7,8})),CM547)","v":9.1496553559425582},{"$f":"IF(CO546>0,AVERAGE(SMALL(IF(BV546:CO546>0,BV546:CO546),{1,2,3,4,5,6,7,8})),CN547)","v":9.1496553559425582},{"$f":"IF(CP546>0,AVERAGE(SMALL(IF(BW546:CP546>0,BW546:CP546),{1,2,3,4,5,6,7,8})),CO547)","v":9.1496553559425582},{"$f":"IF(CQ546>0,AVERAGE(SMALL(IF(BX546:CQ546>0,BX546:CQ546),{1,2,3,4,5,6,7,8})),CP547)","v":9.1496553559425582},{"$f":"IF(CR546>0,AVERAGE(SMALL(IF(BY546:CR546>0,BY546:CR546),{1,2,3,4,5,6,7,8})),CQ547)","v":9.1496553559425582},{"$f":"IF(CS546>0,AVERAGE(SMALL(IF(BZ546:CS546>0,BZ546:CS546),{1,2,3,4,5,6,7,8})),CR547)","v":9.1496553559425582},{"$f":"IF(CT546>0,AVERAGE(SMALL(IF(CA546:CT546>0,CA546:CT546),{1,2,3,4,5,6,7,8})),CS547)","v":9.1496553559425582},{"$f":"IF(CU546>0,AVERAGE(SMALL(IF(CB546:CU546>0,CB546:CU546),{1,2,3,4,5,6,7,8})),CT547)","v":9.1496553559425582},{"$f":"IF(CV546>0,AVERAGE(SMALL(IF(CC546:CV546>0,CC546:CV546),{1,2,3,4,5,6,7,8})),CU547)","v":9.1496553559425582},{"$f":"IF(CW546>0,AVERAGE(SMALL(IF(CD546:CW546>0,CD546:CW546),{1,2,3,4,5,6,7,8})),CV547)","v":9.1496553559425582}]
[null,null,null,null,null,null,null,null,"Low Hcap",null,null,null,null,null,null,null,null,null,null,null,null,null,null,null,null,null,null,null,{"$f":"MIN($Q547:AC547)","v":8.7130410613409346},{"$f":"MIN($Q547:AD547)","v":8.7130410613409346},{"$f":"MIN($Q547:AE547)","v":8.7130410613409346},{"$f":"MIN($Q547:AF547)","v":8.7130410613409346},{"$f":"MIN($Q547:AG547)","v":8.7130410613409346},{"$f":"MIN($AA547:AH547)","v":8.7734659763142968},{"$f":"MIN($AA547:AI547)","v":8.7734659763142968},{"$f":"MIN($AA547:AJ547)","v":8.7734659763142968},{"$f":"MIN($AB547:AK547)","v":9.234239235612117},{"$f":"MIN($AD547:AL547)","v":9.234239235612117},{"$f":"MIN($AJ547:AM547)","v":9.234239235612117},{"$f":"MIN($AJ547:AN547)","v":9.234239235612117},{"$f":"MIN($AJ547:AO547)","v":9.234239235612117},{"$f":"MIN($AJ547:AP547)","v":9.1496553559425582},{"$f":"MIN($AM547:AQ547)","v":9.1496553559425582},{"$f":"MIN($AM547:AR547)","v":9.1496553559425582},{"$f":"MIN($AM547:AS547)","v":9.1496553559425582},{"$f":"MIN($AM547:AT547)","v":9.1496553559425582},{"$f":"MIN($AM547:AU547)","v":9.1496553559425582},{"$f":"MIN($AM547:AV547)","v":9.1496553559425582},{"$f":"MIN($AM547:AW547)","v":9.1496553559425582},{"$f":"MIN($AM547:AX547)","v":9.1496553559425582},{"$f":"MIN($AM547:AY547)","v":9.1496553559425582},{"$f":"MIN($AM547:AZ547)","v":9.1496553559425582},{"$f":"MIN($AM547:BA547)","v":9.1496553559425582},{"$f":"MIN($AM547:BB547)","v":9.1496553559425582},{"$f":"MIN($AM547:BC547)","v":9.1496553559425582},{"$f":"MIN($AM547:BD547)","v":9.1496553559425582},{"$f":"MIN($AM547:BE547)","v":9.1496553559425582},{"$f":"MIN($AM547:BF547)","v":9.1496553559425582},{"$f":"MIN($AM547:BG547)","v":9.1496553559425582},{"$f":"MIN($AM547:BH547)","v":9.1496553559425582},{"$f":"MIN($AM547:BI547)","v":9.1496553559425582},{"$f":"MIN($AM547:BJ547)","v":9.1496553559425582},{"$f":"MIN($AM547:BK547)","v":9.1496553559425582},{"$f":"MIN($AM547:BL547)","v":9.1496553559425582},{"$f":"MIN($AM547:BM547)","v":9.1496553559425582},{"$f":"MIN($AM547:BN547)","v":9.1496553559425582},{"$f":"MIN($AM547:BO547)","v":9.1496553559425582},{"$f":"MIN($AM547:BP547)","v":9.1496553559425582},{"$f":"MIN($AM547:BQ547)","v":9.1496553559425582},{"$f":"MIN($AM547:BR547)","v":9.1496553559425582},{"$f":"MIN($AM547:BS547)","v":9.1496553559425582},{"$f":"MIN($AM547:BT547)","v":9.1496553559425582},{"$f":"MIN($AM547:BU547)","v":9.1496553559425582},{"$f":"MIN($AM547:BV547)","v":9.1496553559425582},{"$f":"MIN($AM547:BW547)","v":9.1496553559425582},{"$f":"MIN($AM547:BX547)","v":9.1496553559425582},{"$f":"MIN($AM547:BY547)","v":9.1496553559425582},{"$f":"MIN($AM547:BZ547)","v":9.1496553559425582},{"$f":"MIN($AM547:CA547)","v":9.1496553559425582},{"$f":"MIN($AM547:CB547)","v":9.1496553559425582},{"$f":"MIN($AM547:CC547)","v":9.1496553559425582},{"$f":"MIN($AM547:CD547)","v":9.1496553559425582},{"$f":"MIN($AM547:CE547)","v":9.1496553559425582},{"$f":"MIN($AM547:CF547)","v":9.1496553559425582},{"$f":"MIN($AM547:CG547)","v":9.1496553559425582},{"$f":"MIN($AM547:CH547)","v":9.1496553559425582},{"$f":"MIN($AM547:CI547)","v":9.1496553559425582},{"$f":"MIN($AM547:CJ547)","v":9.1496553559425582},{"$f":"MIN($AM547:CK547)","v":9.1496553559425582},{"$f":"MIN($AM547:CL547)","v":9.1496553559425582},{"$f":"MIN($AM547:CM547)","v":9.1496553559425582},{"$f":"MIN($AM547:CN547)","v":9.1496553559425582},{"$f":"MIN($AM547:CO547)","v":9.1496553559425582},{"$f":"MIN($AM547:CP547)","v":9.1496553559425582},{"$f":"MIN($AM547:CQ547)","v":9.1496553559425582},{"$f":"MIN($AM547:CR547)","v":9.1496553559425582},{"$f":"MIN($AM547:CS547)","v":9.1496553559425582},{"$f":"MIN($AM547:CT547)","v":9.1496553559425582},{"$f":"MIN($AM547:CU547)","v":9.1496553559425582},{"$f":"MIN($AM547:CV547)","v":9.1496553559425582},{"$f":"MIN($AM547:CW547)","v":9.1496553559425582}]
[null,"Zieder-Gurman","Anne",38,null,{"$f":"IF(H549<4,\"Y\",)","v":"Y"},2021,{"$f":"COUNT(J549:CX549)","v":0},"Date",null,null,null,null,null,null,null,null,null,null,null,null,null,null,null,null,null,null,null,null,null,null,null,null,null,null,null,null,null,null,null,null,null,null,null,null,null,null,null,null,null,null,null,null,null,null,null,null,null,null,null,null,null,null,null,null,null,null,null,null,null,null,null,null,null,null,null,null,null,null,null,null,null,null,null,null,null,null,null,null,null,null,null,null,null,null,null,null,null,null,null,null,null,{"$f":"IF(CW553>$DD$1,36,CW553)","v":36},36,{"$f":"CZ549-CY549","v":0}]
[null,null,null,null,null,null,null,null,"Course"]
[null,null,null,null,null,null,null,null,"Ad Gr"]
[null,null,null,null,null,null,null,null,"SD",{"$f":"D549","v":38},{"$f":"IF(K551=\"\",0,(K551-INDIRECT(CONCATENATE(K550,\"CR\")))*113/INDIRECT(CONCATENATE(K550,\"SR\")))","v":0},0,0,0,0,0,0,0,0,0,0,0,0,0,0,0,0,0,0,0,0,0,0,0,0,0,0,0,0,0,0,0,0,0,0,0,0,0,0,0,0,0,0,0,0,0,0,0,0,0,0,0,0,0,0,0,0,0,0,0,0,0,0,0,{"$f":"IF(BW551=\"\",0,(BW551-INDIRECT(CONCATENATE(BW550,\"CR\")))*113/INDIRECT(CONCATENATE(BW550,\"SR\")))","v":0},0,0,0,0,0,0,0,0,0,0,0,0,0,0,0,{"$f":"IF(CM551=\"\",0,(CM551-INDIRECT(CONCATENATE(CM550,\"CR\")))*113/INDIRECT(CONCATENATE(CM550,\"SR\")))","v":0},0,{"$f":"IF(CO551=\"\",0,(CO551-INDIRECT(CONCATENATE(CO550,\"CR\")))*113/INDIRECT(CONCATENATE(CO550,\"SR\")))","v":0},0,{"$f":"IF(CQ551=\"\",0,(CQ551-INDIRECT(CONCATENATE(CQ550,\"CR\")))*113/INDIRECT(CONCATENATE(CQ550,\"SR\")))","v":0},0,{"$f":"IF(CS551=\"\",0,(CS551-INDIRECT(CONCATENATE(CS550,\"CR\")))*113/INDIRECT(CONCATENATE(CS550,\"SR\")))","v":0},0,{"$f":"IF(CU551=\"\",0,(CU551-INDIRECT(CONCATENATE(CU550,\"CR\")))*113/INDIRECT(CONCATENATE(CU550,\"SR\")))","v":0},0,{"$f":"IF(CW551=\"\",0,(CW551-INDIRECT(CONCATENATE(CW550,\"CR\")))*113/INDIRECT(CONCATENATE(CW550,\"SR\")))","v":0}]
[null,null,null,null,null,null,null,null,"New Hcap",{"$f":"J552-2","v":36},{"$f":"IF(K552>0,MIN(J552:K552)-2,J553)","v":36},{"$f":"IF(L552>0,MIN(J552:L552)-2,K553)","v":36},{"$f":"IF(M552>0,MIN(J552:M552)-1,L553)","v":36},{"$f":"IF(N552>0,MIN(J552:N552),M553)","v":36},{"$f":"IF(O552>0,AVERAGE(SMALL(IF(J552:O552>0,J552:O552),{1,2}))-1,N553)","v":36},{"$f":"IF(P552>0,AVERAGE(SMALL(IF(J552:P552>0,J552:P552),{1,2})),O553)","v":36},{"$f":"IF(Q552>0,AVERAGE(SMALL(IF(J552:Q552>0,J552:Q552),{1,2})),P553)","v":36},{"$f":"IF(R552>0,AVERAGE(SMALL(IF(J552:R552>0,J552:R552),{1,2,3})),Q553)","v":36},{"$f":"IF(S552>0,AVERAGE(SMALL(IF(J552:S552>0,J552:S552),{1,2,3})),R553)","v":36},{"$f":"IF(T552>0,AVERAGE(SMALL(IF(J552:T552>0,J552:T552),{1,2,3})),S553)","v":36},{"$f":"IF(U552>0,AVERAGE(SMALL(IF(J552:U552>0,J552:U552),{1,2,3,4})),T553)","v":36},{"$f":"IF(V552>0,AVERAGE(SMALL(IF(J552:V552>0,J552:V552),{1,2,3,4})),U553)","v":36},{"$f":"IF(W552>0,AVERAGE(SMALL(IF(J552:W552>0,J552:W552),{1,2,3,4})),V553)","v":36},{"$f":"IF(X552>0,AVERAGE(SMALL(IF(J552:X552>0,J552:X552),{1,2,3,4,5})),W553)","v":36},{"$f":"IF(Y552>0,AVERAGE(SMALL(IF(J552:Y552>0,J552:Y552),{1,2,3,4,5})),X553)","v":36},{"$f":"IF(Z552>0,AVERAGE(SMALL(IF(J552:Z552>0,J552:Z552),{1,2,3,4,5,6})),Y553)","v":36},{"$f":"IF(AA552>0,AVERAGE(SMALL(IF(J552:AA552>0,J552:AA552),{1,2,3,4,5,6})),Z553)","v":36},{"$f":"IF(AB552>0,AVERAGE(SMALL(IF(J552:AB552>0,J552:AB552),{1,2,3,4,5,6,7})),AA553)","v":36},{"$f":"IF(AC552>0,AVERAGE(SMALL(IF(J552:AC552>0,J552:AC552),{1,2,3,4,5,6,7,8})),AB553)","v":36},{"$f":"IF(AD552>0,AVERAGE(SMALL(IF(K552:AD552>0,K552:AD552),{1,2,3,4,5,6,7,8})),AC553)","v":36},{"$f":"IF(AE552>0,AVERAGE(SMALL(IF(L552:AE552>0,L552:AE552),{1,2,3,4,5,6,7,8})),AD553)","v":36},{"$f":"IF(AF552>0,AVERAGE(SMALL(IF(M552:AF552>0,M552:AF552),{1,2,3,4,5,6,7,8})),AE553)","v":36},{"$f":"IF(AG552>0,AVERAGE(SMALL(IF(N552:AG552>0,N552:AG552),{1,2,3,4,5,6,7,8})),AF553)","v":36},{"$f":"IF(AH552>0,AVERAGE(SMALL(IF(O552:AH552>0,O552:AH552),{1,2,3,4,5,6,7,8})),AG553)","v":36},{"$f":"IF(AI552>0,AVERAGE(SMALL(IF(P552:AI552>0,P552:AI552),{1,2,3,4,5,6,7,8})),AH553)","v":36},{"$f":"IF(AJ552>0,AVERAGE(SMALL(IF(Q552:AJ552>0,Q552:AJ552),{1,2,3,4,5,6,7,8})),AI553)","v":36},{"$f":"IF(AK552>0,AVERAGE(SMALL(IF(R552:AK552>0,R552:AK552),{1,2,3,4,5,6,7,8})),AJ553)","v":36},{"$f":"IF(AL552>0,AVERAGE(SMALL(IF(S552:AL552>0,S552:AL552),{1,2,3,4,5,6,7,8})),AK553)","v":36},{"$f":"IF(AM552>0,AVERAGE(SMALL(IF(T552:AM552>0,T552:AM552),{1,2,3,4,5,6,7,8})),AL553)","v":36},{"$f":"IF(AN552>0,AVERAGE(SMALL(IF(U552:AN552>0,U552:AN552),{1,2,3,4,5,6,7,8})),AM553)","v":36},{"$f":"IF(AO552>0,AVERAGE(SMALL(IF(V552:AO552>0,V552:AO552),{1,2,3,4,5,6,7,8})),AN553)","v":36},{"$f":"IF(AP552>0,AVERAGE(SMALL(IF(W552:AP552>0,W552:AP552),{1,2,3,4,5,6,7,8})),AO553)","v":36},{"$f":"IF(AQ552>0,AVERAGE(SMALL(IF(X552:AQ552>0,X552:AQ552),{1,2,3,4,5,6,7,8})),AP553)","v":36},{"$f":"IF(AR552>0,AVERAGE(SMALL(IF(Y552:AR552>0,Y552:AR552),{1,2,3,4,5,6,7,8})),AQ553)","v":36},{"$f":"IF(AS552>0,AVERAGE(SMALL(IF(Z552:AS552>0,Z552:AS552),{1,2,3,4,5,6,7,8})),AR553)","v":36},{"$f":"IF(AT552>0,AVERAGE(SMALL(IF(AA552:AT552>0,AA552:AT552),{1,2,3,4,5,6,7,8})),AS553)","v":36},{"$f":"IF(AU552>0,AVERAGE(SMALL(IF(AB552:AU552>0,AB552:AU552),{1,2,3,4,5,6,7,8})),AT553)","v":36},{"$f":"IF(AV552>0,AVERAGE(SMALL(IF(AC552:AV552>0,AC552:AV552),{1,2,3,4,5,6,7,8})),AU553)","v":36},{"$f":"IF(AW552>0,AVERAGE(SMALL(IF(AD552:AW552>0,AD552:AW552),{1,2,3,4,5,6,7,8})),AV553)","v":36},{"$f":"IF(AX552>0,AVERAGE(SMALL(IF(AE552:AX552>0,AE552:AX552),{1,2,3,4,5,6,7,8})),AW553)","v":36},{"$f":"IF(AY552>0,AVERAGE(SMALL(IF(AF552:AY552>0,AF552:AY552),{1,2,3,4,5,6,7,8})),AX553)","v":36},{"$f":"IF(AZ552>0,AVERAGE(SMALL(IF(AG552:AZ552>0,AG552:AZ552),{1,2,3,4,5,6,7,8})),AY553)","v":36},{"$f":"IF(BA552>0,AVERAGE(SMALL(IF(AH552:BA552>0,AH552:BA552),{1,2,3,4,5,6,7,8})),AZ553)","v":36},{"$f":"IF(BB552>0,AVERAGE(SMALL(IF(AI552:BB552>0,AI552:BB552),{1,2,3,4,5,6,7,8})),BA553)","v":36},{"$f":"IF(BC552>0,AVERAGE(SMALL(IF(AJ552:BC552>0,AJ552:BC552),{1,2,3,4,5,6,7,8})),BB553)","v":36},{"$f":"IF(BD552>0,AVERAGE(SMALL(IF(AK552:BD552>0,AK552:BD552),{1,2,3,4,5,6,7,8})),BC553)","v":36},{"$f":"IF(BE552>0,AVERAGE(SMALL(IF(AL552:BE552>0,AL552:BE552),{1,2,3,4,5,6,7,8})),BD553)","v":36},{"$f":"IF(BF552>0,AVERAGE(SMALL(IF(AM552:BF552>0,AM552:BF552),{1,2,3,4,5,6,7,8})),BE553)","v":36},{"$f":"IF(BG552>0,AVERAGE(SMALL(IF(AN552:BG552>0,AN552:BG552),{1,2,3,4,5,6,7,8})),BF553)","v":36},{"$f":"IF(BH552>0,AVERAGE(SMALL(IF(AO552:BH552>0,AO552:BH552),{1,2,3,4,5,6,7,8})),BG553)","v":36},{"$f":"IF(BI552>0,AVERAGE(SMALL(IF(AP552:BI552>0,AP552:BI552),{1,2,3,4,5,6,7,8})),BH553)","v":36},{"$f":"IF(BJ552>0,AVERAGE(SMALL(IF(AQ552:BJ552>0,AQ552:BJ552),{1,2,3,4,5,6,7,8})),BI553)","v":36},{"$f":"IF(BK552>0,AVERAGE(SMALL(IF(AR552:BK552>0,AR552:BK552),{1,2,3,4,5,6,7,8})),BJ553)","v":36},{"$f":"IF(BL552>0,AVERAGE(SMALL(IF(AS552:BL552>0,AS552:BL552),{1,2,3,4,5,6,7,8})),BK553)","v":36},{"$f":"IF(BM552>0,AVERAGE(SMALL(IF(AT552:BM552>0,AT552:BM552),{1,2,3,4,5,6,7,8})),BL553)","v":36},{"$f":"IF(BN552>0,AVERAGE(SMALL(IF(AU552:BN552>0,AU552:BN552),{1,2,3,4,5,6,7,8})),BM553)","v":36},{"$f":"IF(BO552>0,AVERAGE(SMALL(IF(AV552:BO552>0,AV552:BO552),{1,2,3,4,5,6,7,8})),BN553)","v":36},{"$f":"IF(BP552>0,AVERAGE(SMALL(IF(AW552:BP552>0,AW552:BP552),{1,2,3,4,5,6,7,8})),BO553)","v":36},{"$f":"IF(BQ552>0,AVERAGE(SMALL(IF(AX552:BQ552>0,AX552:BQ552),{1,2,3,4,5,6,7,8})),BP553)","v":36},{"$f":"IF(BR552>0,AVERAGE(SMALL(IF(AY552:BR552>0,AY552:BR552),{1,2,3,4,5,6,7,8})),BQ553)","v":36},{"$f":"IF(BS552>0,AVERAGE(SMALL(IF(AZ552:BS552>0,AZ552:BS552),{1,2,3,4,5,6,7,8})),BR553)","v":36},{"$f":"IF(BT552>0,AVERAGE(SMALL(IF(BA552:BT552>0,BA552:BT552),{1,2,3,4,5,6,7,8})),BS553)","v":36},{"$f":"IF(BU552>0,AVERAGE(SMALL(IF(BB552:BU552>0,BB552:BU552),{1,2,3,4,5,6,7,8})),BT553)","v":36},{"$f":"IF(BV552>0,AVERAGE(SMALL(IF(BC552:BV552>0,BC552:BV552),{1,2,3,4,5,6,7,8})),BU553)","v":36},{"$f":"IF(BW552>0,AVERAGE(SMALL(IF(BD552:BW552>0,BD552:BW552),{1,2,3,4,5,6,7,8})),BV553)","v":36},{"$f":"IF(BX552>0,AVERAGE(SMALL(IF(BE552:BX552>0,BE552:BX552),{1,2,3,4,5,6,7,8})),BW553)","v":36},{"$f":"IF(BY552>0,AVERAGE(SMALL(IF(BF552:BY552>0,BF552:BY552),{1,2,3,4,5,6,7,8})),BX553)","v":36},{"$f":"IF(BZ552>0,AVERAGE(SMALL(IF(BG552:BZ552>0,BG552:BZ552),{1,2,3,4,5,6,7,8})),BY553)","v":36},{"$f":"IF(CA552>0,AVERAGE(SMALL(IF(BH552:CA552>0,BH552:CA552),{1,2,3,4,5,6,7,8})),BZ553)","v":36},{"$f":"IF(CB552>0,AVERAGE(SMALL(IF(BI552:CB552>0,BI552:CB552),{1,2,3,4,5,6,7,8})),CA553)","v":36},{"$f":"IF(CC552>0,AVERAGE(SMALL(IF(BJ552:CC552>0,BJ552:CC552),{1,2,3,4,5,6,7,8})),CB553)","v":36},{"$f":"IF(CD552>0,AVERAGE(SMALL(IF(BK552:CD552>0,BK552:CD552),{1,2,3,4,5,6,7,8})),CC553)","v":36},{"$f":"IF(CE552>0,AVERAGE(SMALL(IF(BL552:CE552>0,BL552:CE552),{1,2,3,4,5,6,7,8})),CD553)","v":36},{"$f":"IF(CF552>0,AVERAGE(SMALL(IF(BM552:CF552>0,BM552:CF552),{1,2,3,4,5,6,7,8})),CE553)","v":36},{"$f":"IF(CG552>0,AVERAGE(SMALL(IF(BN552:CG552>0,BN552:CG552),{1,2,3,4,5,6,7,8})),CF553)","v":36},{"$f":"IF(CH552>0,AVERAGE(SMALL(IF(BO552:CH552>0,BO552:CH552),{1,2,3,4,5,6,7,8})),CG553)","v":36},{"$f":"IF(CI552>0,AVERAGE(SMALL(IF(BP552:CI552>0,BP552:CI552),{1,2,3,4,5,6,7,8})),CH553)","v":36},{"$f":"IF(CJ552>0,AVERAGE(SMALL(IF(BQ552:CJ552>0,BQ552:CJ552),{1,2,3,4,5,6,7,8})),CI553)","v":36},{"$f":"IF(CK552>0,AVERAGE(SMALL(IF(BR552:CK552>0,BR552:CK552),{1,2,3,4,5,6,7,8})),CJ553)","v":36},{"$f":"IF(CL552>0,AVERAGE(SMALL(IF(BS552:CL552>0,BS552:CL552),{1,2,3,4,5,6,7,8})),CK553)","v":36},{"$f":"IF(CM552>0,AVERAGE(SMALL(IF(BT552:CM552>0,BT552:CM552),{1,2,3,4,5,6,7,8})),CL553)","v":36},{"$f":"IF(CN552>0,AVERAGE(SMALL(IF(BU552:CN552>0,BU552:CN552),{1,2,3,4,5,6,7,8})),CM553)","v":36},{"$f":"IF(CO552>0,AVERAGE(SMALL(IF(BV552:CO552>0,BV552:CO552),{1,2,3,4,5,6,7,8})),CN553)","v":36},{"$f":"IF(CP552>0,AVERAGE(SMALL(IF(BW552:CP552>0,BW552:CP552),{1,2,3,4,5,6,7,8})),CO553)","v":36},{"$f":"IF(CQ552>0,AVERAGE(SMALL(IF(BX552:CQ552>0,BX552:CQ552),{1,2,3,4,5,6,7,8})),CP553)","v":36},{"$f":"IF(CR552>0,AVERAGE(SMALL(IF(BY552:CR552>0,BY552:CR552),{1,2,3,4,5,6,7,8})),CQ553)","v":36},{"$f":"IF(CS552>0,AVERAGE(SMALL(IF(BZ552:CS552>0,BZ552:CS552),{1,2,3,4,5,6,7,8})),CR553)","v":36},{"$f":"IF(CT552>0,AVERAGE(SMALL(IF(CA552:CT552>0,CA552:CT552),{1,2,3,4,5,6,7,8})),CS553)","v":36},{"$f":"IF(CU552>0,AVERAGE(SMALL(IF(CB552:CU552>0,CB552:CU552),{1,2,3,4,5,6,7,8})),CT553)","v":36},{"$f":"IF(CV552>0,AVERAGE(SMALL(IF(CC552:CV552>0,CC552:CV552),{1,2,3,4,5,6,7,8})),CU553)","v":36},{"$f":"IF(CW552>0,AVERAGE(SMALL(IF(CD552:CW552>0,CD552:CW552),{1,2,3,4,5,6,7,8})),CV553)","v":36}]
[null,null,null,null,null,null,null,null,"Low Hcap",null,null,null,null,null,null,null,null,null,null,null,null,null,null,null,null,null,null,null,{"$f":"MIN($J553:AC553)","v":36},{"$f":"MIN($J553:AD553)","v":36},{"$f":"MIN($J553:AE553)","v":36},{"$f":"MIN($J553:AF553)","v":36},{"$f":"MIN($J553:AG553)","v":36},{"$f":"MIN($J553:AH553)","v":36},{"$f":"MIN($J553:AI553)","v":36},{"$f":"MIN($J553:AJ553)","v":36},{"$f":"MIN($J553:AK553)","v":36},{"$f":"MIN($J553:AL553)","v":36},{"$f":"MIN($J553:AM553)","v":36},{"$f":"MIN($J553:AN553)","v":36},{"$f":"MIN($J553:AO553)","v":36},{"$f":"MIN($J553:AP553)","v":36},{"$f":"MIN($J553:AQ553)","v":36},{"$f":"MIN($J553:AR553)","v":36},{"$f":"MIN($J553:AS553)","v":36},{"$f":"MIN($J553:AT553)","v":36},{"$f":"MIN($J553:AU553)","v":36},{"$f":"MIN($J553:AV553)","v":36},{"$f":"MIN($J553:AW553)","v":36},{"$f":"MIN($J553:AX553)","v":36},{"$f":"MIN($J553:AY553)","v":36},{"$f":"MIN($J553:AZ553)","v":36},{"$f":"MIN($J553:BA553)","v":36},{"$f":"MIN($J553:BB553)","v":36},{"$f":"MIN($J553:BC553)","v":36},{"$f":"MIN($J553:BD553)","v":36},{"$f":"MIN($J553:BE553)","v":36},{"$f":"MIN($J553:BF553)","v":36},{"$f":"MIN($J553:BG553)","v":36},{"$f":"MIN($J553:BH553)","v":36},{"$f":"MIN($J553:BI553)","v":36},{"$f":"MIN($J553:BJ553)","v":36},{"$f":"MIN($J553:BK553)","v":36},{"$f":"MIN($J553:BL553)","v":36},{"$f":"MIN($J553:BM553)","v":36},{"$f":"MIN($J553:BN553)","v":36},{"$f":"MIN($J553:BO553)","v":36},{"$f":"MIN($J553:BP553)","v":36},{"$f":"MIN($J553:BQ553)","v":36},{"$f":"MIN($J553:BR553)","v":36},{"$f":"MIN($J553:BS553)","v":36},{"$f":"MIN($J553:BT553)","v":36},{"$f":"MIN($J553:BU553)","v":36},{"$f":"MIN($J553:BV553)","v":36},{"$f":"MIN($J553:BW553)","v":36},{"$f":"MIN($J553:BX553)","v":36},{"$f":"MIN($J553:BY553)","v":36},{"$f":"MIN($J553:BZ553)","v":36},{"$f":"MIN($J553:CA553)","v":36},{"$f":"MIN($J553:CB553)","v":36},{"$f":"MIN($J553:CC553)","v":36},{"$f":"MIN($J553:CD553)","v":36},{"$f":"MIN($J553:CE553)","v":36},{"$f":"MIN($J553:CF553)","v":36},{"$f":"MIN($J553:CG553)","v":36},{"$f":"MIN($J553:CH553)","v":36},{"$f":"MIN($J553:CI553)","v":36},{"$f":"MIN($J553:CJ553)","v":36},{"$f":"MIN($J553:CK553)","v":36},{"$f":"MIN($J553:CL553)","v":36},{"$f":"MIN($J553:CM553)","v":36},{"$f":"MIN($J553:CN553)","v":36},{"$f":"MIN($J553:CO553)","v":36},{"$f":"MIN($J553:CP553)","v":36},{"$f":"MIN($J553:CQ553)","v":36},{"$f":"MIN($J553:CR553)","v":36},{"$f":"MIN($J553:CS553)","v":36},{"$f":"MIN($J553:CT553)","v":36},{"$f":"MIN($J553:CU553)","v":36},{"$f":"MIN($J553:CV553)","v":36},{"$f":"MIN($J553:CW553)","v":36}]
[]
[null,"Members",{"$f":"COUNTA(C3:C554)","v":92},"DGV Hcap","Indicates if the member has an official handicap from a DGV or overseas club. If so the lower of the 2 handicaps should be used in all EGS competitions (rule rescrinded in 2021)"]
[null,null,null,"Prov","Indicates a provisional handicap. A member must submit 3 cards before they are eligible for any competition or daily prizes"]

{"sheet":"Club Championship Standings","index":2,"n_rows":47,"n_cols":7,"rows_kept":47,"cut":false,"hidden":false,"merged":[]}
["Place","Score","Name","s1","s2","s3","s4"]
[{"$f":"'Results 2023'!BM225","v":1},{"$f":"SUM(D2:G2)","v":149},"Martin Reilly",{"$f":"'Results 2023'!BF225","v":40},{"$f":"'Results 2023'!BG225","v":37},{"$f":"'Results 2023'!BH225","v":37},{"$f":"'Results 2023'!BI225","v":35}]
[{"$f":"'Results 2023'!BM108","v":2},{"$f":"SUM(D3:G3)","v":137},"Andy Gill",{"$f":"'Results 2023'!BF108","v":37},{"$f":"'Results 2023'!BG108","v":37},{"$f":"'Results 2023'!BH108","v":37},{"$f":"'Results 2023'!BI108","v":26}]
[{"$f":"'Results 2023'!BM102","v":3},{"$f":"SUM(D4:G4)","v":134},"David Fyans",{"$f":"'Results 2023'!BF102","v":42},{"$f":"'Results 2023'!BG102","v":36},{"$f":"'Results 2023'!BH102","v":29},{"$f":"'Results 2023'!BI102","v":27}]
[{"$f":"'Results 2023'!BM270","v":4},{"$f":"SUM(D5:G5)","v":133},"Steve Wallace",{"$f":"'Results 2023'!BF270","v":35},{"$f":"'Results 2023'!BG270","v":34},{"$f":"'Results 2023'!BH270","v":33},{"$f":"'Results 2023'!BI270","v":31}]
[{"$f":"'Results 2023'!BM57","v":5},{"$f":"SUM(D6:G6)","v":132},"John Craig",{"$f":"'Results 2023'!BF57","v":39},{"$f":"'Results 2023'!BG57","v":33},{"$f":"'Results 2023'!BH57","v":33},{"$f":"'Results 2023'!BI57","v":27}]
[{"$f":"'Results 2023'!BM75","v":6},{"$f":"SUM(D7:G7)","v":129},"Simon Dean",{"$f":"'Results 2023'!BF75","v":35},{"$f":"'Results 2023'!BG75","v":35},{"$f":"'Results 2023'!BH75","v":30},{"$f":"'Results 2023'!BI75","v":29}]
[{"$f":"'Results 2023'!BM171","v":6},{"$f":"SUM(D8:G8)","v":129},"Svenja Lechner",{"$f":"'Results 2023'!BF171","v":36},{"$f":"'Results 2023'!BG171","v":34},{"$f":"'Results 2023'!BH171","v":30},{"$f":"'Results 2023'!BI171","v":29}]
[{"$f":"'Results 2023'!BM12","v":8},{"$f":"SUM(D9:G9)","v":128},"David Bargna",{"$f":"'Results 2023'!BF12","v":35},{"$f":"'Results 2023'!BG12","v":34},{"$f":"'Results 2023'!BH12","v":31},{"$f":"'Results 2023'!BI12","v":28}]
[{"$f":"'Results 2023'!BM96","v":8},{"$f":"SUM(D10:G10)","v":128},"Markus Fraunholz",{"$f":"'Results 2023'!BF96","v":34},{"$f":"'Results 2023'!BG96","v":32},{"$f":"'Results 2023'!BH96","v":31},{"$f":"'Results 2023'!BI96","v":31}]
[{"$f":"'Results 2023'!BM204","v":10},{"$f":"SUM(D11:G11)","v":126},"Derek O'Reilly",{"$f":"'Results 2023'!BF204","v":34},{"$f":"'Results 2023'!BG204","v":34},{"$f":"'Results 2023'!BH204","v":31},{"$f":"'Results 2023'!BI204","v":27}]
[{"$f":"'Results 2023'!BM168","v":11},{"$f":"SUM(D12:G12)","v":114},"Mike Lawrence",{"$f":"'Results 2023'!BF168","v":34},{"$f":"'Results 2023'!BG168","v":34},{"$f":"'Results 2023'!BH168","v":26},{"$f":"'Results 2023'!BI168","v":20}]
[{"$f":"'Results 2023'!BM21","v":12},{"$f":"SUM(D13:G13)","v":102},"Simon Britnell",{"$f":"'Results 2023'!BF21","v":38},{"$f":"'Results 2023'!BG21","v":32},{"$f":"'Results 2023'!BH21","v":32},{"$f":"'Results 2023'!BI21","v":0}]
[{"$f":"'Results 2023'!BM177","v":13},{"$f":"SUM(D14:G14)","v":101},"Matthew Lightfoot",{"$f":"'Results 2023'!BF177","v":40},{"$f":"'Results 2023'!BG177","v":32},{"$f":"'Results 2023'!BH177","v":29},{"$f":"'Results 2023'!BI177","v":0}]
[{"$f":"'Results 2023'!BM48","v":14},{"$f":"SUM(D15:G15)","v":91},"Adam Cockill",{"$f":"'Results 2023'!BF48","v":35},{"$f":"'Results 2023'!BG48","v":30},{"$f":"'Results 2023'!BH48","v":26},{"$f":"'Results 2023'!BI48","v":0}]
[{"$f":"'Results 2023'!BM258","v":14},{"$f":"SUM(D16:G16)","v":91},"Paul Synnott",{"$f":"'Results 2023'!BF258","v":34},{"$f":"'Results 2023'!BG258","v":32},{"$f":"'Results 2023'!BH258","v":25},{"$f":"'Results 2023'!BI258","v":0}]
[{"$f":"'Results 2023'!BM162","v":16},{"$f":"SUM(D17:G17)","v":89},"Stephen Klapdor",{"$f":"'Results 2023'!BF162","v":42},{"$f":"'Results 2023'!BG162","v":28},{"$f":"'Results 2023'!BH162","v":19},{"$f":"'Results 2023'!BI162","v":0}]
[{"$f":"'Results 2023'!BM252","v":17},{"$f":"SUM(D18:G18)","v":83},"Bruwer Swanepoel",{"$f":"'Results 2023'!BF252","v":32},{"$f":"'Results 2023'!BG252","v":26},{"$f":"'Results 2023'!BH252","v":25},{"$f":"'Results 2023'!BI252","v":0}]
[{"$f":"'Results 2023'!BM78","v":18},{"$f":"SUM(D19:G19)","v":82},"Ronan Doyle",{"$f":"'Results 2023'!BF78","v":39},{"$f":"'Results 2023'!BG78","v":34},{"$f":"'Results 2023'!BH78","v":9},{"$f":"'Results 2023'!BI78","v":0}]
[{"$f":"'Results 2023'!BM54","v":19},{"$f":"SUM(D20:G20)","v":79},"Patrick Cox",{"$f":"'Results 2023'!BF54","v":34},{"$f":"'Results 2023'!BG54","v":25},{"$f":"'Results 2023'!BH54","v":20},{"$f":"'Results 2023'!BI54","v":0}]
[{"$f":"'Results 2023'!BM39","v":20},{"$f":"SUM(D21:G21)","v":78},"Allan Chester",{"$f":"'Results 2023'!BF39","v":34},{"$f":"'Results 2023'!BG39","v":25},{"$f":"'Results 2023'!BH39","v":19},{"$f":"'Results 2023'!BI39","v":0}]
[{"$f":"'Results 2023'!BM45","v":20},{"$f":"SUM(D22:G22)","v":78},"Gonjin Chung",{"$f":"'Results 2023'!BF45","v":41},{"$f":"'Results 2023'!BG45","v":37},{"$f":"'Results 2023'!BH45","v":0},{"$f":"'Results 2023'!BI45","v":0}]
[{"$f":"'Results 2023'!BM24","v":22},{"$f":"SUM(D23:G23)","v":76},"Padraig Brogan",{"$f":"'Results 2023'!BF24","v":39},{"$f":"'Results 2023'!BG24","v":37},{"$f":"'Results 2023'!BH24","v":0},{"$f":"'Results 2023'!BI24","v":0}]
[{"$f":"'Results 2023'!BM147","v":23},{"$f":"SUM(D24:G24)","v":64},"Chris Jagger",{"$f":"'Results 2023'!BF147","v":34},{"$f":"'Results 2023'!BG147","v":30},{"$f":"'Results 2023'!BH147","v":0},{"$f":"'Results 2023'!BI147","v":0}]
[{"$f":"'Results 2023'!BM99","v":23},{"$f":"SUM(D25:G25)","v":64},"Ian Furlong",{"$f":"'Results 2023'!BF99","v":33},{"$f":"'Results 2023'!BG99","v":31},{"$f":"'Results 2023'!BH99","v":0},{"$f":"'Results 2023'!BI99","v":0}]
[{"$f":"'Results 2023'!BM150","v":25},{"$f":"SUM(D26:G26)","v":62},"Adam Johnson",{"$f":"'Results 2023'!BF150","v":31},{"$f":"'Results 2023'!BG150","v":31},{"$f":"'Results 2023'!BH150","v":0},{"$f":"'Results 2023'!BI150","v":0}]
[{"$f":"'Results 2023'!BM237","v":26},{"$f":"SUM(D27:G27)","v":59},"Andrew Ruppli",{"$f":"'Results 2023'!BF237","v":32},{"$f":"'Results 2023'!BG237","v":27},{"$f":"'Results 2023'!BH237","v":0},{"$f":"'Results 2023'!BI237","v":0}]
[{"$f":"'Results 2023'!BM267","v":27},{"$f":"SUM(D28:G28)","v":51},"Tina Turner",{"$f":"'Results 2023'!BF267","v":28},{"$f":"'Results 2023'!BG267","v":23},{"$f":"'Results 2023'!BH267","v":0},{"$f":"'Results 2023'!BI267","v":0}]
[{"$f":"'Results 2023'!BM144","v":28},{"$f":"SUM(D29:G29)","v":50},"Ian Hunt",{"$f":"'Results 2023'!BF144","v":30},{"$f":"'Results 2023'!BG144","v":20},{"$f":"'Results 2023'!BH144","v":0},{"$f":"'Results 2023'!BI144","v":0}]
[{"$f":"'Results 2023'!BM273","v":29},{"$f":"SUM(D30:G30)","v":49},"William Wilde",{"$f":"'Results 2023'!BF273","v":26},{"$f":"'Results 2023'!BG273","v":23},{"$f":"'Results 2023'!BH273","v":0},{"$f":"'Results 2023'!BI273","v":0}]
[{"$f":"'Results 2023'!BM111","v":30},{"$f":"SUM(D31:G31)","v":42},"David Girdler",{"$f":"'Results 2023'!BF111","v":21},{"$f":"'Results 2023'!BG111","v":21},{"$f":"'Results 2023'!BH111","v":0},{"$f":"'Results 2023'!BI111","v":0}]
[{"$f":"'Results 2023'!BM249","v":31},{"$f":"SUM(D32:G32)","v":33},"Carl Storey",{"$f":"'Results 2023'!BF249","v":33},{"$f":"'Results 2023'!BG249","v":0},{"$f":"'Results 2023'!BH249","v":0},{"$f":"'Results 2023'!BI249","v":0}]
[{"$f":"'Results 2023'!BM183","v":32},{"$f":"SUM(D33:G33)","v":32},"Neil McCorley",{"$f":"'Results 2023'!BF183","v":32},{"$f":"'Results 2023'!BG183","v":0},{"$f":"'Results 2023'!BH183","v":0},{"$f":"'Results 2023'!BI183","v":0}]
[{"$f":"'Results 2023'!BM228","v":33},{"$f":"SUM(D34:G34)","v":29},"Sean Roe",{"$f":"'Results 2023'!BF228","v":29},{"$f":"'Results 2023'!BG228","v":0},{"$f":"'Results 2023'!BH228","v":0},{"$f":"'Results 2023'!BI228","v":0}]
[{"$f":"'Results 2023'!BM198","v":33},{"$f":"SUM(D35:G35)","v":29},"Thomas Naudet",{"$f":"'Results 2023'!BF198","v":29},{"$f":"'Results 2023'!BG198","v":0},{"$f":"'Results 2023'!BH198","v":0},{"$f":"'Results 2023'!BI198","v":0}]
[{"$f":"'Results 2023'!BM234","v":35},{"$f":"SUM(D36:G36)","v":28},"Petra Roeckl",{"$f":"'Results 2023'!BF234","v":28},{"$f":"'Results 2023'!BG234","v":0},{"$f":"'Results 2023'!BH234","v":0},{"$f":"'Results 2023'!BI234","v":0}]
[{"$f":"'Results 2023'!BM195","v":36},{"$f":"SUM(D37:G37)","v":25},"Clyde Moss",{"$f":"'Results 2023'!BF195","v":25},{"$f":"'Results 2023'!BG195","v":0},{"$f":"'Results 2023'!BH195","v":0},{"$f":"'Results 2023'!BI195","v":0}]
[{"$f":"'Results 2023'!BM51","v":37},{"$f":"SUM(D38:G38)","v":15},"John Cottrell",{"$f":"'Results 2023'!BF51","v":15},{"$f":"'Results 2023'!BG51","v":0},{"$f":"'Results 2023'!BH51","v":0},{"$f":"'Results 2023'!BI51","v":0}]
[{"$f":"'Results 2023'!BM255","v":38},{"$f":"SUM(D39:G39)","v":6},"Elvira Swanepoel",{"$f":"'Results 2023'!BF255","v":6},{"$f":"'Results 2023'!BG255","v":0},{"$f":"'Results 2023'!BH255","v":0},{"$f":"'Results 2023'!BI255","v":0}]
[{"$f":"'Results 2023'!BM9","v":39},{"$f":"SUM(D40:G40)","v":0},"Danijel Bacelic",{"$f":"'Results 2023'!BF9","v":0},{"$f":"'Results 2023'!BG9","v":0},{"$f":"'Results 2023'!BH9","v":0},{"$f":"'Results 2023'!BI9","v":0}]
[{"$f":"'Results 2023'!BM15","v":39},{"$f":"SUM(D41:G41)","v":0},"Lee Bennett",{"$f":"'Results 2023'!BF15","v":0},{"$f":"'Results 2023'!BG15","v":0},{"$f":"'Results 2023'!BH15","v":0},{"$f":"'Results 2023'!BI15","v":0}]
[{"$f":"'Results 2023'!BM117","v":39},{"$f":"SUM(D42:G42)","v":0},"Lindsay Gomer",{"$f":"'Results 2023'!BF117","v":0},{"$f":"'Results 2023'!BG117","v":0},{"$f":"'Results 2023'!BH117","v":0},{"$f":"'Results 2023'!BI117","v":0}]
[{"$f":"'Results 2023'!BM123","v":39},{"$f":"SUM(D43:G43)","v":0},"Marc Gurman",{"$f":"'Results 2023'!BF123","v":0},{"$f":"'Results 2023'!BG123","v":0},{"$f":"'Results 2023'!BH123","v":0},{"$f":"'Results 2023'!BI123","v":0}]
[{"$f":"'Results 2023'!BM261","v":39},{"$f":"SUM(D44:G44)","v":0},"Martin Thom",{"$f":"'Results 2023'!BF261","v":0},{"$f":"'Results 2023'!BG261","v":0},{"$f":"'Results 2023'!BH261","v":0},{"$f":"'Results 2023'!BI261","v":0}]
[{"$f":"'Results 2023'!BM180","v":39},{"$f":"SUM(D45:G45)","v":0},"Robin Longworth",{"$f":"'Results 2023'!BF180","v":0},{"$f":"'Results 2023'!BG180","v":0},{"$f":"'Results 2023'!BH180","v":0},{"$f":"'Results 2023'!BI180","v":0}]
[{"$f":"'Results 2023'!BM219","v":39},{"$f":"SUM(D46:G46)","v":0},"Steve Pritchard",{"$f":"'Results 2023'!BF219","v":0},{"$f":"'Results 2023'!BG219","v":0},{"$f":"'Results 2023'!BH219","v":0},{"$f":"'Results 2023'!BI219","v":0}]
[{"$f":"'Results 2023'!BM240","v":39},{"$f":"SUM(D47:G47)","v":0},"Vijay Singh",{"$f":"'Results 2023'!BF240","v":0},{"$f":"'Results 2023'!BG240","v":0},{"$f":"'Results 2023'!BH240","v":0},{"$f":"'Results 2023'!BI240","v":0}]

{"sheet":"Team Competition Standings","index":3,"n_rows":8,"n_cols":11,"rows_kept":8,"cut":false,"hidden":false,"merged":[]}
["Place","Score","Team Name","s1","s2","s3","s4","Player1","Player2","Player3","Player4"]
[1,{"$f":"SUM(D2:G2)","v":522},"The Fore of us!",{"$f":"'Results 2023'!BL12","v":128},{"$f":"'Results 2023'!BL57","v":132},{"$f":"'Results 2023'!BL171","v":129},{"$f":"'Results 2023'!BL270","v":133},"David Bargna","John Craig","Svenja Lechner","Steve Wallace"]
[2,{"$f":"SUM(D3:G3)","v":430},"The Roughians",{"$f":"'Results 2023'!BL54","v":79},{"$f":"'Results 2023'!BL102","v":134},{"$f":"'Results 2023'!BL204","v":126},{"$f":"'Results 2023'!BL258","v":91},"Pat Cox","David Fyans","Derek O'Reilly","Paul Synnott"]
[3,{"$f":"SUM(D4:G4)","v":340},"The Parfect Fourball",{"$f":"'Results 2023'!BL24","v":76},{"$f":"'Results 2023'!BL99","v":64},{"$f":"'Results 2023'!BL225","v":149},{"$f":"'Results 2023'!BL267","v":51},"Padraig Brogan","Ian Furlong","Martin Reilly","Tina Turner"]
[4,{"$f":"SUM(D5:G5)","v":298},"Shanks for the Memories",{"$f":"'Results 2023'!BL15","v":0},{"$f":"'Results 2023'!BL75","v":129},{"$f":"'Results 2023'!BL108","v":137},{"$f":"'Results 2023'!BL183","v":32},"Lee Bennett","Simon Dean","Andy Gill","Niall McCorley"]
[5,{"$f":"SUM(D6:G6)","v":211},"The Hookers",{"$f":"'Results 2023'!BL39","v":78},{"$f":"'Results 2023'!BL48","v":91},{"$f":"'Results 2023'!BL111","v":42},{"$f":"'Results 2023'!BL117","v":0},"Allan Chester","Adam Cockill","David Girdler","Lindsay Gomer"]
[6,{"$f":"SUM(D7:G7)","v":172},"The Pinseekers",{"$f":"'Results 2023'!BL162","v":89},{"$f":"'Results 2023'!BL174","v":0},{"$f":"'Results 2023'!BL222","v":0},{"$f":"'Results 2023'!BL252","v":83},"Stephan Klapdor","David Leigh","Daniela Ptok","Bruwer Swanepoel"]
[7,{"$f":"SUM(D8:G8)","v":152},"kNIVeS out",{"$f":"'Results 2023'!BL21","v":102},{"$f":"'Results 2023'!BL240","v":0},{"$f":"'Results 2023'!BL243","v":0},{"$f":"'Results 2023'!BL144","v":50},"Simon Britnell","Vijay Singh","Nick Skelton","Ian Hunt"]

{"sheet":"WHS","index":4,"n_rows":22,"n_cols":6,"rows_kept":22,"cut":false,"hidden":false,"merged":[[0,4,0,5]]}
[null,null,null,null,"Exceptional Scores"]
["Number of Results","Calculation of WHI","Adjustment",null,"Number of strokes the Score Differential is lower than a player’s Handicap Index in effect when the round was played","Exceptional score reduction"]
["3","Use the lowest result","-2.0",null,"7.0 – 9.9","-1.0"]
["4","Use the lowest result","-1.0",null,"10.0 or more","-2.0"]
["5","Use the lowest result",0]
["6","Average of the best 2","-1.0",null,"1. A reduction can be applied based on a single exceptional score."]
["7-8","Average of the best 2",0,null,"2. Reductions for multiple exceptional scores are applied cumulatively."]
["9-11","Average of the best 3",0,null,"3. A reduction is automatically applied within the calculation of a player’s updated Handicap Index following the submission of an exceptional score."]
["12-14","Average of the best 4",0,null,"4. A reduction for an exceptional score is applied by adjusting each of the most"]
["15-16","Average of the best 5",0,null,"recent 20 Score Differentials recorded in the player’s scoring record, which"]
["17-18","Average of the best 6",0,null,"includes the exceptional score. As a result, the impact of the reduction will"]
[19,"Average of the best 7",0,null,"remain after the next score is submitted but will dilute over time as new scores"]
[20,"Average of the best 8",0,null,"are submitted."]
[null,null,null,null,"5. Adjustments as described above in 4 must be made manually and highlighted with a bold box"]
[]
["Soft Cap",3]
["Hard Cap",5]
[]
[]
[null,null,null,null,"Low Handicap Index: The lowest Handicap Index achieved by a player during the 365-day period (one year) preceding the day on which the most recent score in their scoring record was played.\nA Low Handicap Index is established once a player has at least 20 acceptable scores in their scoring record.","Rule 5.7"]
[null,null,null,null,"Soft Cap: The soft cap is triggered when the difference between a player’s newly calculated Handicap Index and their Low Handicap Index is greater than 3.0 strokes.\nWhen a calculated Handicap Index increase is greater than 3.0 strokes, the value above 3.0 strokes is restricted to 50% of the increase.\nSuch HIs are highlighted in ORANGE on the \"New Hcap\" line in the Handicaps tab\nAdjustments are made manually and highlighted with a bold box","Rule 5.8"]
[null,null,null,null,"Hard Cap: The hard cap triggers to restrict the amount by which a\nplayer’s Handicap Index can increase, after application of the soft cap, to no more than 5.0 strokes above their Low Handicap Index.\nSuch HIs are highlighted in RED on the \"New Hcap\" line in the Handicaps tab\nAdjustments are made manually and highlighted with a bold box","Rule 5.8"]

{"sheet":"Courses","index":5,"n_rows":27,"n_cols":19,"rows_kept":27,"cut":false,"hidden":false,"merged":[]}
["Course Name","SR Herren Gelb","CR Herren Gelb","Par Herren Gelb","SR Damen Rot","CR Damen Rot","Par Damen Rot","SR Herren Rot","CR Herren Rot","Par Herren Rot","SR Herren Blau","CR Herren Blau","Par Herren Blau","SR Damen Blau","CR Damen Blau","Par Damen Blau","SR Damen Orange","CR Damen Orange","Par Damen Orange"]
["Algaeuer",131,72.400000000000006,72,126,74.400000000000006,72]
["Aschheim",132,71.3,72,129,72.599999999999994,72]
["Aschheim 2022",132,70.8,72,132,71.8,72,"Wrong numbers printed on scorecards since 2022"]
["Egmating",131,72.3,72,125,73.7,72,123,68.2,70]
["Egmating 2022",null,null,null,125,73.8,72]
["Erding",130,71,71,125,72.2,71,119,66.900000000000006,69]
["Eschenhof",132,71.8,72,131,73.7,72]
["Garmisch",127,71.400000000000006,72,125,73.400000000000006,72]
["Gut Haeusen",127,71.8,72,125,72.3,72]
["Gut Thailing",131,70.5,72,125,72,72]
["Gut Thailing 2022",130,70.599999999999994,72]
["Hohenpaehl",131,70.7,71,129,72.599999999999994,71]
["Iffeldorf",129,71.2,72,127,72.900000000000006,72]
["Mangfalltal",138,70.8,72,128,73.2,72]
["Maxlrain",136,72.900000000000006,72,132,74.900000000000006,72]
["Odelzhausen",127,71.8,72,122,73.400000000000006,72,118,67.5,70,117,67.599999999999994,70]
["Odelzhausen 2023",124,71.599999999999994,72,123,73.5,72]
["Pfaffing",130,72,73,126,73.599999999999994,73,null,null,null,128,70.900000000000006,72,133,77.400000000000006,74,127,72.099999999999994,72]
["Pfaffing 2022",130,72.7,73,127,74.3,73]
["Pfaffing 2023",135,72.7,73]
["Reichertshausen",126,70.7,71,126,72.7,71]
["Reichertshausen 2023",132,71.2,71,125,72.3,71]
["St Eurach",131,71.900000000000006,71,125,74.2,71]
["St Eurach 2022",null,null,null,127,74.099999999999994,71]
["Tegernbach",132,71.7,73,129,72.7,73,124,67.400000000000006,70]
["Valley",135,73.5,72,133,74.8,72]

{"sheet":"Matchplay Tournament 2023","index":6,"n_rows":76,"n_cols":12,"rows_kept":76,"cut":false,"hidden":false,"merged":[[71,1,71,9],[73,1,73,9],[0,1,0,11]]}
[null,"EGS Matchplay Competition 2023"]
[]
[null,"1st Round",null,"2nd Round",null,"1/4 Final",null,"Semi-Final",null,"Final",null,"Winner"]
[null,"to be completed by 31st May",null,"to be completed by 15th July",null,"to be completed by 31st August",null,"to be completed by 30th Sept",null,"to be completed by 31st October"]
[]
[]
[null,"Andy Gill"]
[null,null,null,"Andy Gill"]
[null,"bye"]
[]
[null,"Adam Cockill"]
[null,null,null,"Adam Cockill"]
[null,"Vijay Singh",null,"5&4"]
[]
[null,"Gonjin Chung"]
[null,null,null,"Gonjin Chung"]
[null,"Bruwer Swanepoel",null,"6&5"]
[]
[null,"Niall McCorley"]
[null,null,null,"Niall McCorley"]
[null,"Ian Hunt",null,"6&5"]
[]
[null,"Chris Jagger"]
[null,null,null,"Chris Jagger"]
[null,"bye"]
[]
[null,"Padraig Brogan"]
[null,null,null,"Padraig Brogan"]
[null,"David Leigh",null,"6&5"]
[]
[null,"Andrew Ruppli"]
[null,null,null,"Andrew Ruppli"]
[null,"David Bargna",null,"4&3"]
[]
[null,"Jonathan Smith"]
[null,null,null,"Jonathan Smith"]
[null,"Tina Turner",null,"1 up after 19"]
[]
[null,"Marc Gurman"]
[null,null,null,"Marc Gurman"]
[null,"bye"]
[]
[null,"Steven Pritchard"]
[null,null,null,"Stephan Klapdor"]
[null,"Stephan Klapdor",null,"6&5"]
[]
[null,"Ian Furlong"]
[null,null,null,"Ian Furlong"]
[null,"Thomas Naudet",null,"bye"]
[]
[null,"Steve Wallace"]
[null,null,null,"Steve Wallace"]
[null,"bye"]
[]
[null,"Clyde Moss"]
[null,null,null,"David Fyans"]
[null,"David Fyans",null,"2 up"]
[]
[null,"Derek O'Reilly"]
[null,null,null,"Derek O'Reilly"]
[null,"Patrick Cox",null,"1 up after 19"]
[]
[null,"Svenja Lechner"]
[null,null,null,"Allan Chester"]
[null,"Allan Chester",null,"4&3"]
[]
[null,"Martin Reilly"]
[null,null,null,"Martin Reilly"]
[null,"bye"]
[]
[]
[null,"To be played at full difference  of playing handicaps"]
[]
[null,"First named player to take the initiative in arranging dates and venues for each match."]
[]
[null,null,null,null,"SD = Sudden Death"]